{"text_format":"2","workbook":"xlsx","n_sheets":1,"sheets":["Sheet1"],"not_rendered":{"charts":0,"images":0,"macros":0,"external_links":0,"defined_names":0,"comments":0,"pivot_tables":0},"unopened":[],"bounds":{"document_bytes":16777216,"sheet_cells":100000,"run_cost":"one","rows_first":2000,"rows_last":500,"rows_between":2000,"halvings":0,"cell_chars":16384,"cell_head_chars":4096},"cells_cut":0,"cells_raw":0,"read":"whole","date_system":"1900"}

{"sheet":"Sheet1","index":0,"n_rows":127,"n_cols":9,"rows_kept":127,"cut":false,"hidden":false,"merged":[]}
["Suppl. Table S6: Genomic coordinates of flowering time and vernalization genes. Twelve gene models map within regions of interest (ROI)."]
["ROI are shown in Suppl. Table S2 and Figure 1."]
["* Genomic coordinates of FLC gene copies were taken from Chalhoub et al. (2014)."]
["Genomic coordinates of genes described in Schiessl et al. (2014) were obtained with BLASTn (see methods)."]
["“New” refers to additional BLAST results of genes listed in Schiessl et al. (2014) that yielded a lower E-value than the hits on the chromosomes reported by the authors."]
["For example, TEM1 was identified by Schiessl et al. (2014) on A02, C02, A08, A09. The BLASTn search retrieved these 4 copies with E-values ranging from 6e-178 to 5e-141."]
["One additional match for the TEM1 sequence was found on C05 with an E-value of zero. This putative TEM1 copy on C05 was labeled “new”."]
[]
[]
["Chromosome","Start (bp)","End (bp)","Gene name","Source*","Gene length (bp)","ROI start (bp)","ROI end (bp)","Gene fully included"]
["A01",869070,869717,"FD","Schiessl et al.",{"$f":"Sheet1!C11-Sheet1!B11","v":647}]
["A01",7071225,7071407,"AGL24","Schiessl et al.",{"$f":"Sheet1!C12-Sheet1!B12","v":182}]
["A01",9599321,9599452,"VRN2","Schiessl et al.",{"$f":"Sheet1!C13-Sheet1!B13","v":131}]
["A01",17556836,17557042,"FT","Schiessl et al.",{"$f":"Sheet1!C14-Sheet1!B14","v":206}]
["A02",134262,138112,"FLC","Chalhoub et al.",{"$f":"Sheet1!C15-Sheet1!B15","v":3850}]
["A02",1277033,1277983,"COL2","Schiessl et al.",{"$f":"Sheet1!C16-Sheet1!B16","v":950}]
["A02",3863594,3864691,"VIN3","Schiessl et al.",{"$f":"Sheet1!C17-Sheet1!B17","v":1097}]
["A02",6378550,6378768,"FT","Schiessl et al.",{"$f":"Sheet1!C18-Sheet1!B18","v":218},6033602,9195754,"yes"]
["A02",7870216,7871148,"TEM1","Schiessl et al.",{"$f":"Sheet1!C19-Sheet1!B19","v":932},6033602,9195754,"yes"]
["A02",9980647,9982224,"ZTL","Schiessl et al.",{"$f":"Sheet1!C20-Sheet1!B20","v":1577}]
["A03",514560,514778,"TFL1","Schiessl et al.",{"$f":"Sheet1!C21-Sheet1!B21","v":218}]
["A03",1360871,1364259,"FLC","Chalhoub et al.",{"$f":"Sheet1!C22-Sheet1!B22","v":3388}]
["A03",2994162,2994536,"TFL2","Schiessl et al.",{"$f":"Sheet1!C23-Sheet1!B23","v":374}]
["A03",4639860,4640972,"VIN3","Schiessl et al.",{"$f":"Sheet1!C24-Sheet1!B24","v":1112}]
["A03",6054401,6055219,"FRI","Schiessl et al.",{"$f":"Sheet1!C25-Sheet1!B25","v":818}]
["A03",6239956,6245205,"FLC","Chalhoub et al.",{"$f":"Sheet1!C26-Sheet1!B26","v":5249}]
["A03",7215803,7216306,"SPL3","Schiessl et al.",{"$f":"Sheet1!C27-Sheet1!B27","v":503}]
["A03",13671623,13672333,"CO","Schiessl et al.",{"$f":"Sheet1!C28-Sheet1!B28","v":710}]
["A03",19893854,19894036,"FUL","Schiessl et al.",{"$f":"Sheet1!C29-Sheet1!B29","v":182}]
["A03",23993314,23993496,"AGL24","Schiessl et al.",{"$f":"Sheet1!C30-Sheet1!B30","v":182}]
["A04",12323272,12324132,"CO","new",{"$f":"Sheet1!C31-Sheet1!B31","v":860},11686783,13678612,"yes"]
["A04",12695500,12696480,"ELF3","Schiessl et al.",{"$f":"Sheet1!C32-Sheet1!B32","v":980},11686783,13678612,"yes"]
["A04",13111775,13111993,"TFL1","Schiessl et al.",{"$f":"Sheet1!C33-Sheet1!B33","v":218},11686783,13678612,"yes"]
["A04",15462653,15462982,"SPL3","Schiessl et al.",{"$f":"Sheet1!C34-Sheet1!B34","v":329}]
["A04",18734958,18735137,"SOC1","Schiessl et al.",{"$f":"Sheet1!C35-Sheet1!B35","v":179}]
["A05",2629579,2629758,"SOC1","Schiessl et al.",{"$f":"Sheet1!C36-Sheet1!B36","v":179}]
["A05",5425566,5425874,"SPL3","Schiessl et al.",{"$f":"Sheet1!C37-Sheet1!B37","v":308}]
["A05",17434698,17436776,"PHYB","Schiessl et al.",{"$f":"Sheet1!C38-Sheet1!B38","v":2078}]
["A06",3100616,3102679,"PHYA","Schiessl et al.",{"$f":"Sheet1!C39-Sheet1!B39","v":2063}]
["A06",5423944,5424528,"GA3ox1","Schiessl et al.",{"$f":"Sheet1!C40-Sheet1!B40","v":584}]
["A06",14924798,14925160,"TFL1","new",{"$f":"Sheet1!C41-Sheet1!B41","v":362}]
["A06",15286043,15286765,"CDF1","Schiessl et al.",{"$f":"Sheet1!C42-Sheet1!B42","v":722}]
["A07",875116,876699,"ZTL","Schiessl et al.",{"$f":"Sheet1!C43-Sheet1!B43","v":1583}]
["A07",18230499,18230681,"AP1","Schiessl et al.",{"$f":"Sheet1!C44-Sheet1!B44","v":182}]
["A07",18857375,18857593,"FT","Schiessl et al.",{"$f":"Sheet1!C45-Sheet1!B45","v":218}]
["A07",20119520,20119702,"AP1","Schiessl et al.",{"$f":"Sheet1!C46-Sheet1!B46","v":182}]
["A07",22787816,22788034,"FT","Schiessl et al.",{"$f":"Sheet1!C47-Sheet1!B47","v":218}]
["A07",22952795,22954942,"EFS","Schiessl et al.",{"$f":"Sheet1!C48-Sheet1!B48","v":2147}]
["A08",8025123,8025428,"VRN2","Schiessl et al.",{"$f":"Sheet1!C49-Sheet1!B49","v":305},7556456,10000000,"yes"]
["A08",12447382,12448026,"FD","Schiessl et al.",{"$f":"Sheet1!C50-Sheet1!B50","v":644}]
["A08",14983079,14984155,"TEM1","Schiessl et al.",{"$f":"Sheet1!C51-Sheet1!B51","v":1076}]
["A08",15080266,15080346,"CAL","Schiessl et al.",{"$f":"Sheet1!C52-Sheet1!B52","v":80}]
["A08",18440826,18441932,"CRY2","Schiessl et al.",{"$f":"Sheet1!C53-Sheet1!B53","v":1106}]
["A09",2721912,2722094,"FUL","Schiessl et al.",{"$f":"Sheet1!C54-Sheet1!B54","v":182}]
["A09",18550493,18551500,"SUF4","Schiessl et al.",{"$f":"Sheet1!C55-Sheet1!B55","v":1007}]
["A09",21598512,21599627,"TEM1","Schiessl et al.",{"$f":"Sheet1!C56-Sheet1!B56","v":1115}]
["A09",22589413,22591698,"GI","Schiessl et al.",{"$f":"Sheet1!C57-Sheet1!B57","v":2285}]
["A09",28572739,28573539,"ELF3","Schiessl et al.",{"$f":"Sheet1!C58-Sheet1!B58","v":800}]
["A09",29593989,29594168,"SVP","Schiessl et al.",{"$f":"Sheet1!C59-Sheet1!B59","v":179}]
["A09",32434847,32436826,"PHYA","Schiessl et al.",{"$f":"Sheet1!C60-Sheet1!B60","v":1979},30667322,32917262,"yes"]
["A10",1356923,1357678,"CRY2","Schiessl et al.",{"$f":"Sheet1!C61-Sheet1!B61","v":755}]
["A10",4020806,4021609,"FRI","Schiessl et al.",{"$f":"Sheet1!C62-Sheet1!B62","v":803}]
["A10",12774668,12775363,"TFL2","Schiessl et al.",{"$f":"Sheet1!C63-Sheet1!B63","v":695}]
["A10",13354572,13355582,"COL2","Schiessl et al.",{"$f":"Sheet1!C64-Sheet1!B64","v":1010}]
["A10",13358777,13359523,"CO","Schiessl et al.",{"$f":"Sheet1!C65-Sheet1!B65","v":746}]
["A10",14998517,15003097,"FLC","Chalhoub et al.",{"$f":"Sheet1!C66-Sheet1!B66","v":4580}]
["A10",16767409,16767621,"TFL1","Schiessl et al.",{"$f":"Sheet1!C67-Sheet1!B67","v":212}]
["A10",17106220,17107080,"ELF7","Schiessl et al.",{"$f":"Sheet1!C68-Sheet1!B68","v":860}]
["C01",1447474,1448112,"FD","Schiessl et al.",{"$f":"Sheet1!C69-Sheet1!B69","v":638}]
["C01",11245514,11245696,"AGL24","Schiessl et al.",{"$f":"Sheet1!C70-Sheet1!B70","v":182}]
["C01",15024518,15024649,"VRN2","Schiessl et al.",{"$f":"Sheet1!C71-Sheet1!B71","v":131},14092276,21747261,"yes"]
["C02",208462,212039,"FLC","Chalhoub et al.",{"$f":"Sheet1!C72-Sheet1!B72","v":3577}]
["C02",1320757,1320975,"TFL1","Schiessl et al.",{"$f":"Sheet1!C73-Sheet1!B73","v":218}]
["C02",3343868,3344830,"COL2","Schiessl et al.",{"$f":"Sheet1!C74-Sheet1!B74","v":962}]
["C02",3990265,3990873,"TFL2","Schiessl et al.",{"$f":"Sheet1!C75-Sheet1!B75","v":608}]
["C02",6689076,6690143,"CO","new",{"$f":"Sheet1!C76-Sheet1!B76","v":1067}]
["C02",6854825,6855958,"VIN3","Schiessl et al.",{"$f":"Sheet1!C77-Sheet1!B77","v":1133}]
["C02",14843905,14844828,"TEM1","Schiessl et al.",{"$f":"Sheet1!C78-Sheet1!B78","v":923}]
["C02",20907509,20907727,"FT","Schiessl et al.",{"$f":"Sheet1!C79-Sheet1!B79","v":218}]
["C02",44722768,44722950,"AP1","Schiessl et al.",{"$f":"Sheet1!C80-Sheet1!B80","v":182}]
["C02",44722768,44722950,"FUL","Schiessl et al.",{"$f":"Sheet1!C81-Sheet1!B81","v":182}]
["C03",673488,673706,"TFL1","Schiessl et al.",{"$f":"Sheet1!C82-Sheet1!B82","v":218}]
["C03",2000958,2004565,"FLC","Chalhoub et al.",{"$f":"Sheet1!C83-Sheet1!B83","v":3607}]
["C03",4053405,4053779,"TFL2","Schiessl et al.",{"$f":"Sheet1!C84-Sheet1!B84","v":374}]
["C03",6233207,6233743,"VIN3","Schiessl et al.",{"$f":"Sheet1!C85-Sheet1!B85","v":536}]
["C03",8150947,8151738,"FRI","Schiessl et al.",{"$f":"Sheet1!C86-Sheet1!B86","v":791}]
["C03",8403212,8409962,"FLC","Chalhoub et al.",{"$f":"Sheet1!C87-Sheet1!B87","v":6750}]
["C03",9629428,9629934,"SPL3","Schiessl et al.",{"$f":"Sheet1!C88-Sheet1!B88","v":506}]
["C03",20155956,20156570,"CO","Schiessl et al.",{"$f":"Sheet1!C89-Sheet1!B89","v":614}]
["C03",24845795,24847852,"PHYB","Schiessl et al.",{"$f":"Sheet1!C90-Sheet1!B90","v":2057}]
["C03",36769293,36769664,"TFL1","Schiessl et al.",{"$f":"Sheet1!C91-Sheet1!B91","v":371}]
["C03",45939287,45939469,"CAL","Schiessl et al.",{"$f":"Sheet1!C92-Sheet1!B92","v":182}]
["C03",53895464,53895682,"TFL1","Schiessl et al.",{"$f":"Sheet1!C93-Sheet1!B93","v":218}]
["C03",57629963,57631882,"VIN3","Schiessl et al.",{"$f":"Sheet1!C94-Sheet1!B94","v":1919}]
["C04",12437420,12437638,"FT","Schiessl et al.",{"$f":"Sheet1!C95-Sheet1!B95","v":218}]
["C04",36478832,36479011,"SVP","Schiessl et al.",{"$f":"Sheet1!C96-Sheet1!B96","v":179}]
["C04",38676293,38677237,"CO","new",{"$f":"Sheet1!C97-Sheet1!B97","v":944}]
["C04",40250082,40250300,"TFL1","Schiessl et al.",{"$f":"Sheet1!C98-Sheet1!B98","v":218}]
["C04",44354584,44355087,"SPL3","Schiessl et al.",{"$f":"Sheet1!C99-Sheet1!B99","v":503}]
["C04",48077398,48077577,"SOC1","Schiessl et al.",{"$f":"Sheet1!C100-Sheet1!B100","v":179}]
["C05",1232182,1232937,"CRY2","Schiessl et al.",{"$f":"Sheet1!C101-Sheet1!B101","v":755}]
["C05",6900970,6901554,"GA3ox1","Schiessl et al.",{"$f":"Sheet1!C102-Sheet1!B102","v":584}]
["C05",11781365,11783095,"GI","Schiessl et al.",{"$f":"Sheet1!C103-Sheet1!B103","v":1730},9757714,12827428,"yes"]
["C05",13975457,13976569,"TEM1","new",{"$f":"Sheet1!C104-Sheet1!B104","v":1112}]
["C05",35605741,35608698,"PHYB","Schiessl et al.",{"$f":"Sheet1!C105-Sheet1!B105","v":2957}]
["C06",27150436,27150618,"AP1","Schiessl et al.",{"$f":"Sheet1!C106-Sheet1!B106","v":182},23004201,31831743,"yes"]
["C06",28554992,28555210,"FT","Schiessl et al.",{"$f":"Sheet1!C107-Sheet1!B107","v":218},23004201,31831743,"yes"]
["C06",30793611,30793727,"AP1","Schiessl et al.",{"$f":"Sheet1!C108-Sheet1!B108","v":116},23004201,31831743,"yes"]
["C06",35777727,35779988,"EFS","Schiessl et al.",{"$f":"Sheet1!C109-Sheet1!B109","v":2261}]
["C07",3537190,3538767,"ZTL","Schiessl et al.",{"$f":"Sheet1!C110-Sheet1!B110","v":1577}]
["C07",40106231,40106413,"AGL24","Schiessl et al.",{"$f":"Sheet1!C111-Sheet1!B111","v":182}]
["C07",41868675,41870567,"VIN3","new",{"$f":"Sheet1!C112-Sheet1!B112","v":1892}]
["C07",43707334,43708080,"FD","Schiessl et al.",{"$f":"Sheet1!C113-Sheet1!B113","v":746}]
["C08",475793,476512,"CRY2","Schiessl et al.",{"$f":"Sheet1!C114-Sheet1!B114","v":719}]
["C08",14154276,14154584,"SUF4","Schiessl et al.",{"$f":"Sheet1!C115-Sheet1!B115","v":308}]
["C08",16196255,16196659,"VRN2","Schiessl et al.",{"$f":"Sheet1!C116-Sheet1!B116","v":404}]
["C08",31769447,31769908,"ELF3","Schiessl et al.",{"$f":"Sheet1!C117-Sheet1!B117","v":461}]
["C08",32998508,32998687,"SVP","Schiessl et al.",{"$f":"Sheet1!C118-Sheet1!B118","v":179}]
["C08",34908148,34908732,"GA3ox1","Schiessl et al.",{"$f":"Sheet1!C119-Sheet1!B119","v":584}]
["C08",36747190,36749247,"PHYA","Schiessl et al.",{"$f":"Sheet1!C120-Sheet1!B120","v":2057}]
["C08",36747259,36749250,"PHYB","Schiessl et al.",{"$f":"Sheet1!C121-Sheet1!B121","v":1991}]
["C09",29041913,29042740,"FRI","Schiessl et al.",{"$f":"Sheet1!C122-Sheet1!B122","v":827}]
["C09",42752576,42753451,"TFL2","Schiessl et al.",{"$f":"Sheet1!C123-Sheet1!B123","v":875}]
["C09",43739067,43740065,"COL2","Schiessl et al.",{"$f":"Sheet1!C124-Sheet1!B124","v":998}]
["C09",43745679,43746938,"CO","Schiessl et al.",{"$f":"Sheet1!C125-Sheet1!B125","v":1259}]
["C09",46345250,46349992,"FLC","Chalhoub et al.",{"$f":"Sheet1!C126-Sheet1!B126","v":4742}]
["C09",46366545,46371080,"FLC","Chalhoub et al.",{"$f":"Sheet1!C127-Sheet1!B127","v":4535}]