{"text_format":"2","workbook":"xlsx","n_sheets":29,"sheets":["Notes","Mean errors","References for IC50s","Results","Cqinward Results","Dendrogram ranking errors","LDA 1","SVM 1","LDA 5","SVM 5","LDA 1 errors","SVM 1 errors","LDA 5 errors","SVM 5 errors","Cqinward LDA 1","Cqinward SVM 1","Cqinward LDA 5","Cqinward SVM 5","Cqinward LDA 1 errors","Cqinward SVM 1 errors","Cqinward LDA 5 errors","Cqinward SVM 5 errors","Epi vs endo O'Hara Lancaster-So","Binary LDA 1","Binary SVM 1","Binary LDA 1 errors","Binary SVM 1 errors","EAD thresholds at faster pacing","Hypokalemia"],"not_rendered":{"charts":0,"images":0,"macros":0,"external_links":0,"defined_names":0,"comments":0,"pivot_tables":0},"unopened":[],"bounds":{"document_bytes":16777216,"sheet_cells":100000,"run_cost":"one","rows_first":2000,"rows_last":500,"rows_between":2000,"halvings":0,"cell_chars":16384,"cell_head_chars":4096},"cells_cut":0,"cells_raw":0,"read":"whole","date_system":"1900"}

{"sheet":"Notes","index":0,"n_rows":27,"n_cols":4,"rows_kept":27,"cut":false,"hidden":false,"merged":[]}
["Sheet name","Contents","Relevant paper section","Relevant figures, tables, and equations"]
["References for IC50s","References to papers where each IC50 value was found","Drug inclusion criteria","Table 1"]
["Results","Simulation results for each drug: Grandi APD90, Grandi APD50, Grandi [Ca]i, OHara APD50, OHara [Ca]i, OHara INa inactivation curve shift EAD threshold, OHara ICaL increase EAD threshold, OHara IKr decrease threshold,  and Herg block / Cmax. Tested concentration: EFTPC_max","EAD thresholds","Figure 3"]
["Cqinward Results","Simulation results calculating the Cqinward metric from Li et al 2017, for each -fold EFTPC_max of each drug.","Previously suggested measures"]
["Dendrogram ranking errors","The ranking errors between the ideal dendrogram ordering and the actual dendrogram ordering, as described in Equation 2","Linkage analysis","Equation 2, Figure 4"]
["LDA 1","Leave-one-out classifications for each drug using linear discriminant analysis for Grandi APD90, Grandi Lancaster-Sobie, OHara Lancaster-Sobie, OHara EAD metrics, Herg block / Cmax, and combinations of these","Pro-arrhythmic risk classification","Table 2"]
["SVM 1","Leave-one-out classifications for each drug using support vector machines for Grandi APD90, Grandi Lancaster-Sobie, OHara Lancaster-Sobie, OHara EAD metrics, Herg block / Cmax, and combinations of these","Pro-arrhythmic risk classification","Table 2"]
["LDA 5","Five-group classifications for each drug using linear discriminant analysis for Grandi APD90, Grandi Lancaster-Sobie, OHara Lancaster-Sobie, OHara EAD metrics, Herg block / Cmax, and combinations of these","Pro-arrhythmic risk classification","Table 2"]
["SVM 5","Five-group classifications for each drug using support vector machines for Grandi APD90, Grandi Lancaster-Sobie, OHara Lancaster-Sobie, OHara EAD metrics, Herg block / Cmax, and combinations of these","Pro-arrhythmic risk classification","Table 2"]
["LDA 1 errors","Errors from eave-one-out classifications for each drug using linear discriminant analysis for Grandi APD90, Grandi Lancaster-Sobie, OHara Lancaster-Sobie, OHara EAD metrics, Herg block / Cmax, and combinations of these","Pro-arrhythmic risk classification","Table 2"]
["SVM 1 errors","Errors from leave-one-out classifications for each drug using support vector machines for Grandi APD90, Grandi Lancaster-Sobie, OHara Lancaster-Sobie, OHara EAD metrics, Herg block / Cmax, and combinations of these","Pro-arrhythmic risk classification","Table 2"]
["LDA 5 errors","Errors from five-group classifications for each drug using linear discriminant analysis for Grandi APD90, Grandi Lancaster-Sobie, OHara Lancaster-Sobie, OHara EAD metrics, Herg block / Cmax, and combinations of these","Pro-arrhythmic risk classification","Table 2"]
["SVM 5 errors","Errors from five-group classifications for each drug using support vector machines for Grandi APD90, Grandi Lancaster-Sobie, OHara Lancaster-Sobie, OHara EAD metrics, Herg block / Cmax, and combinations of these","Pro-arrhythmic risk classification","Table 2"]
["Cqinward LDA1","Leave-one-out classifications for each drug using linear discriminant analysis for Cqinward metric","Pro-arrhythmic risk classification","Table 2"]
["Cqinward SVM1","Leave-one-out classifications for each drug using support vector machines for Cqinward metric","Pro-arrhythmic risk classification","Table 2"]
["Cqinward LDA5","Five-group classifications for each drug using linear discriminant analysis for Cqinward metric","Pro-arrhythmic risk classification","Table 2"]
["Cqinward SVM5","Five-group classifications for each drug using support vector machines for Cqinward metric","Pro-arrhythmic risk classification","Table 2"]
["Cqinward LDA1 errors","Errors from leave-one-out classifications for each drug using linear discriminant analysis for Cqinward metric","Pro-arrhythmic risk classification","Table 2"]
["Cqinward SVM1 errors","Errors from leave-one-out classifications for each drug using support vector machines for Cqinward metric","Pro-arrhythmic risk classification","Table 2"]
["Cqinward LDA5 errors","Errors from five-group classifications for each drug using linear discriminant analysis for Cqinward metric","Pro-arrhythmic risk classification","Table 2"]
["Cqinward SVM5 errors","Errors from five-group classifications for each drug using support vector machines for Cqinward metric","Pro-arrhythmic risk classification","Table 2"]
["Binary LDA 1","Leave-one-out classifications for each drug using linear discriminant analysis for Grandi APD90, Grandi Lancaster-Sobie, OHara Lancaster-Sobie, OHara EAD metrics, Herg block / Cmax, and combinations of these, using a 2-category risk classification system"]
["Binary SVM 1","Leave-one-out classifications for each drug using support vector machines for Grandi APD90, Grandi Lancaster-Sobie, OHara Lancaster-Sobie, OHara EAD metrics, Herg block / Cmax, and combinations of these, using a 2-category risk classification system"]
["Binary LDA 1 errors","Errors from eave-one-out classifications for each drug using linear discriminant analysis for Grandi APD90, Grandi Lancaster-Sobie, OHara Lancaster-Sobie, OHara EAD metrics, Herg block / Cmax, and combinations of these, using a 2-category risk classification system"]
["Binary SVM 1 errors","Errors from leave-one-out classifications for each drug using support vector machines for Grandi APD90, Grandi Lancaster-Sobie, OHara Lancaster-Sobie, OHara EAD metrics, Herg block / Cmax, and combinations of these, using a 2-category risk classification system"]
["EAD thresholds at faster pacing rates","Thresholds for EAD-provoking protocols using 500, 1000, and 2000-ms pacing rates."]
["Hypokalemia","Thresholds for EAD-provoking protocols when extracellular potassium concentration is set to 3/4 its original value"]

{"sheet":"Mean errors","index":1,"n_rows":7,"n_cols":12,"rows_kept":7,"cut":false,"hidden":false,"merged":[]}
[null,"APD90 +ICaL increase","APD90","Grandi Lancaster-Sobie","ICaL increase","APD90 +INa shift +ICaL increase +IKr block","INa shift +ICaL increase +IKr block","Herg block / Cmax","OHara Lancaster-Sobie","INa shift","Cqinward","IKr block"]
["LDA 1",0.7804878048780488,0.8048780487804879,0.9512195121951219,0.7804878048780488,0.9512195121951219,1.0,1.170731707317073,0.9512195121951219,1.048780487804878,1.1951219512195121,0.9024390243902439]
["SVM 1",0.7804878048780488,0.7073170731707317,0.6829268292682927,1.0731707317073171,0.975609756097561,1.170731707317073,0.8536585365853658,1.0731707317073171,1.1951219512195121,1.0975609756097562,1.2926829268292683]
["LDA 5",0.8292682926829268,0.975609756097561,0.926829268292683,0.926829268292683,0.8780487804878049,1.0,1.170731707317073,1.2682926829268293,1.0731707317073171,1.024390243902439,1.0]
["SVM 5",0.9024390243902439,0.9024390243902439,0.8780487804878049,0.8536585365853658,0.8536585365853658,1.0,0.975609756097561,1.024390243902439,1.0,1.048780487804878,1.6585365853658536]
[]
["Sum",{"$f":"sum(B2:B5)","v":3.292682927},3.390243902,3.43902439,3.634146341,3.658536585,4.170731707,4.170731707,4.317073171,4.317073171,4.365853659,4.853658537]

{"sheet":"References for IC50s","index":2,"n_rows":42,"n_cols":9,"rows_kept":42,"cut":false,"hidden":false,"merged":[]}
["Name","INa","ICaL","hERG","IKs","IpNa","Ito","IK1","EFTPC_max"]
["ajmaline","Bahnikova et al. 2002","PMID: 16308426","PMID: 15599706",null,null,"PMID: 23832378",null,"PMID: 21480866"]
["amiodarone","PMID: 23341577","PMID: 7532747","PMID: 21300721","PMID:15817093\n","PMID: 11343415","PMID: 16626588","PMID: 16626588","PMID: 12667944"]
["amitriptyline","PMID: 21480866","PMID: 18048694","PMID: 10742304","PMID: 27060526","PMID: 27060526","PMID: 10333718",null,"PMID: 12667944"]
["azimilide","PMID:9048249","PMID:11033107\n","PMID: 12667944","PMID:15817095",null,null,null,"PMID: 12667944"]
["bepridil","PMID: 21300721","PMID: 21300721","PMID: 12667944","PMID:9765513\n","PMID: 27060526","PMID: 11711026",null,"PMID: 12667944"]
["chlorpromazine","PMID: 21480866","PMID: 2571988","PMID: 18448342","PMID: 15071359","PMID: 27060526","PMID:  7965778","PMID:  7965778","PMID: 12667944"]
["cibenzoline","PMID: 7527502","PMID: 2050292","PMID: 19673885","PMID:11050299","PMID: 27060526",null,null,"PMID: 12667944"]
["cisapride","PMID: 21480866","PMID: 21300721 and PMID: 14975710","PMID: 9374794","DOI: 10.1016/S1520-765X(01)90003-3",null,"DOI: 10.1016/S1520-765X(01)90003-3",null,"PMID: 12667944"]
["clozapine",null,"PMID: 2571988","PMID: 16633353","PMID: 16633353",null,null,null,"PMID: 21422906"]
["desipramine","PMID: 21300721","PMID: 21300721","PMID: 11961040",{"$nulls":4},"PMID: 12667944"]
["diltiazem","PMID: 21480866","PMID: 8709127","PMID: 15936217",null,null,"PMID: 15678082",null,"PMID: 12667944"]
["disopyramide",null,null,"PMID: 12667944","PMID:11050299",null,"PMID:12906757",null,"PMID: 12667944"]
["dl-sotalol",null,"PMID:21224008","PMID: 15385083","PMID:21224008",null,null,null,"PMID: 12667944"]
["dofetilide","PMID: 7629795","PMID: 23812503","PMID: 15637086",{"$nulls":4},"PMID: 12667944"]
["flecainide","PMID: 20601018","PMID: 27060526","PMID: 19673885","PMID: 8762029","PMID: 24291413","PMID: 12875427",null,"PMID: 12667944"]
["fluvoxamine","PMID: 21300721","PMID: 21300721","PMID: 12839862",{"$nulls":4},"PMID: 10379420"]
["halofantrine",null,null,"PMID: 12176129, poland list","PMID: 15558243",null,"PMID: 15558243",null,"PMID: 17031389"]
["imipramine","PMID: 21480866","PMID: 18048694","PMID: 12667944",null,null,"PMID: 10333718",null,"PMID: 12667944"]
["loratadine",null,null,"PMID: 19673885",null,null,"PMID:10604956","PMID:10604956","PMID: 12667944"]
["methadone","PMID: 20930594","PMID: 20930594","PMID:20467834",{"$nulls":4},"PMID: 16289016 and PMID:23812503"]
["mexiletine","PMID: 21480866 & manual PMID: 20601018","PMID: 11743888","PMID: 12007180","PMID: 8762029","PMID: 23580742",null,null,"PMID: 12667944"]
["mibefradil","PMID: 15790762","PMID: 10769189","PMID: 19673885",null,"PMID: 27060526",null,null,"PMID: 12667944"]
["nifedipine","PMID: 21480866","PMID: 19004630","PMID: 10924918","PMID: 10924918",null,"Gotoh et al. 1991",null,"PMID: 12667944"]
["nitrendipine","PMID: 23812503","PMID: 23812503","PMID: 19673885",null,null,"Gotoh et al. 1991",null,"PMID: 12667944"]
["ondansetron","PMID:11046096","PMID: 27060526","PMID:11046096","PMID:11046096","PMID: 27060526",null,null,"PMID: 16675509"]
["pentamidine",null,"PMID: 23625347","PMID: 16278312",null,null,null,"PMID: 20180941","PMID: 17031389"]
["phenytoin","PMID: 21300721","PMID: 21300721","PMID: 15716081",{"$nulls":4},"PMID: 12667944"]
["pimozide","PMID: 2426120","PMID: 23812503","PMID: 12667944","PMID: 10762666",null,null,null,"PMID: 12667944"]
["prenylamine","PMID: 21300721","PMID: 21300721","PMID: 21300721",{"$nulls":4},"PMID: 2373134"]
["propafenone","PMID: 21300721","PMID: 21300721","PMID: 12086981",null,"PMID: 27060526","PMID: 9602427","PMID: 8450455","PMID: 12667944"]
["propranolol","PMID: 21300721","PMID: 21300721","PMID: 16843688",{"$nulls":4},"PMID: 1175271"]
["quetiapine","PMID: 21300721","PMID: 21300721","PMID: 12176106",{"$nulls":4},"PMID: 12667944"]
["quinidine","PMID: 21480866 & manual PMID: 21300721","PMID: 21300721","PMID: 10028924","PMID: 21224008",null,"PMID: 8330377","PMID: 10716610","PMID: 12667944"]
["ranolazine","PMID: 16686675","PMID: 15302796","PMID: 15302796","PMID: 16686675","PMID: 16686675",null,null,"PMID: 25054430"]
["risperidone","PMID: 21480866 & manual PMID: 21300721","PMID: 21300721","PMID: 19673885","PMID: 21224008",null,null,null,"PMID: 12667944"]
["sertindole","PMID: 12966159","PMID: 12966159","PMID: 12667944","DOI: 10.1016/S1520-765X(01)90003-3",null,"DOI: 10.1016/S1520-765X(01)90003-3",null,"PMID: 12667944"]
["tedisamil","DOI:10.1111/j.1527-3466.1995.tb00212",null,"PMID: 9831899",null,null,"PMID: 9831899",null,"PMID: 12667944"]
["terfenadine","PMID: 21300721","PMID: 21300721","PMID: 16843688","PMID: 21224008",null,"PMID: 10528990",null,"PMID: 17031389"]
["terodiline",null,"PMID: 10482914","PMID: 12667944","PMID: 10991917",null,null,"PMID:10334509","PMID: 12667944"]
["thioridazine","PMID: 21300721","PMID: 21300721","PMID: 12667944","PMID:10027867",null,null,null,"PMID: 12667944"]
["verapamil","PMID: 21480866 & manual PMID: 21300721","PMID: 21300721","PMID: 21300721","PMID: 21224008",null,"PMID: 18604993",null,"PMID: 12667944"]

{"sheet":"Results","index":3,"n_rows":43,"n_cols":11,"rows_kept":43,"cut":false,"hidden":false,"merged":[]}
["Drug","Redferns","APD90 (ms)","Grandi APD50 (ms)","Grandi Cai (mM)","OHara APD50 (ms)","OHara Cai (mM)","INa shift (mV)","ICaL (factor)","Ikr (factor)","Herg block / Cmax"]
["ajmaline",2.0,305.561,254.314,8.58E-5,498.986,8.89E-5,0.0,1.0,1.0,0.060808]
["amiodarone",2.0,286.891,230.937,8.82E-5,183.474,7.67E-5,17.343,23.5371,0.155823,60.0]
["amitriptyline",4.0,286.477,230.583,8.82E-5,183.096,7.66E-5,17.315,21.5954,0.2146,80.0]
["azimilide",2.0,305.041,244.491,8.91E-5,272.705,8.8E-5,15.5453,8.71754,0.267517,1.4285714]
["bepridil",3.0,269.302,212.947,8.56E-5,184.385,7.57E-5,17.2983,28.2542,0.121887,18.1818182]
["chlorpromazine",3.0,285.921,229.804,8.8E-5,184.196,7.65E-5,17.3991,25.9516,0.134521,38.9473684]
["cibenzoline",5.0,284.627,229.343,8.76E-5,187.185,7.57E-5,17.7438,25.3166,0.143188,23.1557377]
["cisapride",2.0,306.517,245.701,8.92E-5,275.023,8.81E-5,15.4476,8.23491,0.271484,1.3265306]
["clozapine",4.0,304.571,244.253,8.91E-5,267.327,8.8E-5,15.639,9.54702,0.253662,1.5595758]
["desipramine",4.0,281.018,225.057,8.71E-5,216.048,8.55E-5,17.3661,22.2873,0.156067,12.8703704]
["diltiazem",5.0,180.563,120.504,8.19E-5,160.966,6.67E-5,17.4928,78.9644,0.0174561,60.5737705]
["disopyramide",2.0,299.65,240.555,8.89E-5,249.811,8.75E-5,16.1108,11.8337,0.218628,2.425876]
["dl-sotalol",2.0,288.603,232.282,8.83E-5,214.35,8.63E-5,17.1974,21.9496,0.161255,18.8692052]
["dofetilide",2.0,299.337,240.321,8.89E-5,248.658,8.75E-5,16.1411,12.0452,0.215637,2.5]
["flecainide",3.0,297.029,238.627,8.83E-5,221.701,7.74E-5,15.2134,10.9586,0.221619,2.124834]
["fluvoxamine",4.0,281.366,224.964,8.73E-5,213.983,8.56E-5,17.1658,22.4524,0.156189,14.3939394]
["halofantrine",3.0,287.42,231.397,8.83E-5,210.846,8.62E-5,17.3161,23.2025,0.156616,43.2]
["imipramine",4.0,286.0,230.154,8.8E-5,211.882,8.6E-5,17.3935,23.152,0.155945,32.0754717]
["loratadine",5.0,286.468,230.686,8.82E-5,208.09,8.61E-5,17.4119,24.1234,0.153015,18444.44444]
["methadone",2.0,288.034,231.619,8.8E-5,220.494,8.63E-5,17.1677,20.2873,0.166504,9.4674556]
["mexiletine",4.0,284.389,228.554,8.75E-5,214.258,8.56E-5,17.44,22.0928,0.155823,12.1094696]
["mibefradil",4.0,276.213,220.457,8.67E-5,181.014,7.59E-5,16.9751,27.809,0.134216,150.0]
["nifedipine",4.0,270.196,214.336,8.59E-5,202.065,8.41E-5,17.4283,27.4276,0.136963,35714.28571]
["nitrendipine",5.0,270.942,215.093,8.6E-5,202.463,8.42E-5,17.426,27.2255,0.137878,3311.258278]
["ondansetron",2.0,304.356,242.479,8.85E-5,262.229,8.09E-5,8.25319,5.86808,0.327759,0.90012]
["pentamidine",3.0,288.677,231.126,8.83E-5,208.112,8.61E-5,17.2831,24.1217,0.154297,20500.0]
["phenytoin",5.0,280.815,225.418,8.7E-5,216.403,8.53E-5,17.6376,22.6862,0.154114,14.2857143]
["pimozide",3.0,287.443,231.439,8.82E-5,211.622,8.62E-5,17.3235,23.0042,0.157166,34.8837209]
["prenylamine",2.0,293.361,235.359,8.84E-5,235.805,8.7E-5,16.5292,15.5918,0.191528,3.8235294]
["propafenone",4.0,286.089,226.852,8.65E-5,228.136,7.67E-5,16.3479,9.44046,0.213745,1.8257261]
["propranolol",5.0,286.752,230.983,8.82E-5,209.378,8.61E-5,17.4197,23.8308,0.154175,108.7692308]
["quetiapine",5.0,286.258,230.437,8.82E-5,208.651,8.6E-5,17.3958,24.0295,0.153442,174.6969697]
["quinidine",2.0,302.627,236.767,8.64E-5,493.419,7.68E-5,0.0,1.0,1.0,0.0926784]
["ranolazine",4.0,294.395,236.306,8.85E-5,230.731,8.67E-5,16.5067,15.574,0.186157,3.59375]
["risperidone",5.0,286.589,230.777,8.82E-5,208.448,8.61E-5,17.3994,24.0603,0.153442,331.4917127]
["sertindole",2.0,290.831,233.948,8.84E-5,221.196,8.66E-5,16.9756,19.6266,0.170837,8.8050314]
["tedisamil",2.0,287.903,231.811,8.83E-5,212.221,8.62E-5,17.2881,22.7387,0.158386,29.4117647]
["terfenadine",2.0,305.962,244.346,8.88E-5,289.854,8.8E-5,15.1138,6.58048,0.30603,0.9888889]
["terodiline",2.0,324.885,259.496,9.01E-5,360.858,8.81E-5,13.7461,1.81126,0.623901,0.3333333]
["thioridazine",3.0,264.994,202.505,8.23E-5,542.087,8.36E-5,0.0,1.0,1.0,0.0337079]
["verapamil",5.0,242.617,181.114,8.18E-5,233.627,7.69E-5,15.8472,17.9764,0.125305,1.7654321]
["control",null,286.466,230.688,8.82E-5,208.083,8.61E-5,17.4121,24.1268,0.153015]

{"sheet":"Cqinward Results","index":4,"n_rows":42,"n_cols":27,"rows_kept":42,"cut":false,"hidden":false,"merged":[]}
["Concentration","0 (control)",1.0,2.0,3.0,4.0,5.0,6.0,7.0,8.0,9.0,10.0,11.0,12.0,13.0,14.0,15.0,16.0,17.0,18.0,19.0,20.0,21.0,22.0,23.0,24.0,25.0]
["ajmaline",1.0,1.0052,1.0095,1.0136,1.017,1.0202,1.023,1.0258,1.0283,1.0308,1.0331,1.0354,1.0376,1.0397,1.042,1.0441,1.046,1.0483,1.0505,1.0525,1.0547,1.0568,1.0589,1.0611,1.0633,1.0655]
["amiodarone",1.0,1.001030801,1.002072943,1.003048241,1.004052992,1.00487762,1.005717079,1.006459914,1.007200557,1.00800415,1.008648684,1.009271133,1.009973482,1.010498321,1.010941248,1.011505239,1.012041395,1.012527006,1.012919567,1.013416543,1.013836262,1.014138364,1.014340258,1.01489917,1.015274172,1.015422119]
["amitriptyline",1.0,0.9979483809,0.9958988019,0.9938254597,0.9917657644,0.9897057443,0.9877288557,0.9856517139,0.9836416919,0.9816159632,0.9796979903,0.9776693229,0.9756462651,0.9737378912,0.9716003637,0.9698692957,0.9678997692,0.9660480463,0.9641817231,0.9622699184,0.9602953949,0.9585843173,0.9567978562,0.9549571784,0.9531082039,0.9514170287]
["azimilide",1.0,1.0313,1.0502,1.066,1.081,1.0961,1.1125,1.1302,1.15,1.1726,1.2006,1.2393,1.3117,1.2487,2.1785,1.9988,2.093,4.1039,0.31448,3.8468,0.3337,3.7589,0.35166,3.6938,0.37989,3.6416]
["bepridil",1.0,0.9463951351,0.9032998995,0.8673367897,0.8366351691,0.8105683459,0.7873851321,0.7667406119,0.7484865047,0.7319815109,0.7167408234,0.7029603818,0.6900805579,0.6782150441,0.6671393959,0.6568041818,0.6471681236,0.6380063895,0.6292547931,0.6211695218,0.6132725291,0.6059153635,0.5987116155,0.5919073807,0.5854125375,0.5792025148]
["chlorpromazine",1.0,0.9976719518,0.9951982137,0.9929050021,0.990517958,0.9880470219,0.9856003848,0.9831769438,0.9807567777,0.978346336,0.975918562,0.9735037397,0.971005819,0.9687171273,0.9663756597,0.964006012,0.9616097297,0.9592704382,0.9568959512,0.9546229675,0.9523307051,0.9500504038,0.9476601164,0.9455083597,0.9432057315,0.941063846]
["cibenzoline",1.0,1.005980913,1.010610545,1.014071385,1.016837084,1.01884069,1.020017387,1.020739527,1.020908936,1.020757369,1.020199044,1.018966235,1.017725842,1.016237262,1.014341425,1.012300736,1.01003879,1.007630835,1.005149258,1.002518112,0.9997298769,0.9969464862,0.9940463318,0.991058909,0.9879186013,0.9848679806]
["cisapride",1.0,1.0314,1.0503,1.0659,1.0805,1.0952,1.1101,1.1259,1.1428,1.1611,1.1819,1.2065,1.2386,1.2887,1.4324,1.3288,2.0801,1.9944,1.9784,2.0284,2.7507,1.9607,3.8833,0.36461,4.0152,0.33481]
["clozapine",1.0,1.0395,1.0628,1.0833,1.1038,1.1254,1.1492,1.1762,1.21,1.2601,1.3988,2.0968,2.015,1.978,2.0722,2.6699,0.89423,4.0552,0.3357,3.965,0.33107,3.9146,0.33493,3.8795,0.34089,3.8524]
["desipramine",1.0,0.99856,0.99717,0.99582,0.9946,0.99324,0.99204,0.9908,0.98962,0.98858,0.9874,0.98638,0.98537,0.98432,0.98342,0.98236,0.98143,0.98041,0.97968,0.97872,0.97783,0.97703,0.97613,0.97531,0.97443,0.97362]
["diltiazem",1.0,0.74827,0.61947,0.54309,0.49456,0.46159,0.43785,0.41992,0.406,0.39493,0.38577,0.37819,0.3718,0.36629,0.36157,0.35758,0.35402,0.35088,0.3482,0.34577,0.3436,0.34167,0.34007,0.33844,0.33722,0.33607]
["disopyramide",1.0,1.0122,1.0217,1.0292,1.0353,1.0409,1.0459,1.0507,1.0553,1.0598,1.0644,1.0688,1.0733,1.0779,1.0825,1.0871,1.092,1.0967,1.1018,1.1069,1.1123,1.1177,1.1234,1.1292,1.1355,1.142]
["dl-sotalol",1.0,1.0006,1.0015,1.0021,1.0027,1.0036,1.0043,1.0047,1.0057,1.0064,1.0071,1.0077,1.0081,1.0088,1.0096,1.0102,1.0107,1.0113,1.0119,1.0124,1.013,1.0137,1.0142,1.0147,1.0152,1.0158]
["dofetilide",1.0,1.0083,1.0153,1.0214,1.0266,1.0314,1.0357,1.0396,1.0434,1.0469,1.0504,1.0536,1.0568,1.0598,1.0628,1.0659,1.0688,1.0719,1.0748,1.0777,1.0806,1.0835,1.0864,1.0893,1.0923,1.0953]
["flecainide",1.0,0.9875822981,0.9723013491,0.960621904,0.9527453185,0.9477292033,0.9451432864,0.9441820571,0.9445818538,0.9457886391,0.9478688431,0.9505299129,0.953697346,0.9573211852,0.9612613932,0.9656320474,0.9703416729,0.9754348107,0.9809224289,0.9868836397,0.9930043584,0.9998068106,1.00703936,1.014864517,1.023348096,1.032437148]
["fluvoxamine",1.0,0.99955,0.99905,0.99853,0.9981,0.99741,0.9972,0.99657,0.9962,0.99581,0.99504,0.99475,0.99434,0.99387,0.9935,0.99294,0.9925,0.99202,0.99166,0.9912,0.99063,0.99023,0.98988,0.98936,0.98905,0.9885]
["halofantrine",1.0,1.001,1.0021,1.003,1.004,1.005,1.006,1.0069,1.0076,1.0086,1.0094,1.0101,1.0112,1.0119,1.0127,1.0136,1.0143,1.0151,1.0159,1.0165,1.0173,1.018,1.0187,1.0192,1.0201,1.0207]
["imipramine",1.0,1.0008,1.0017,1.0024,1.0032,1.004,1.0045,1.0051,1.0061,1.0068,1.0073,1.0079,1.0086,1.0092,1.0096,1.0103,1.0108,1.0114,1.0118,1.0125,1.0127,1.0135,1.0139,1.0142,1.0148,1.0153]
["loratadine",1.0,1.0,1.0,0.99986,0.99994,0.99994,0.9999,1.0,0.99999,0.99994,0.99999,0.99995,0.99999,0.99997,0.9999,0.99988,0.99987,0.99999,0.99991,1.0001,0.99999,0.99999,1.0,0.99991,0.99996,1.0]
["methadone",1.0,1.0002,1.0004,1.0004,1.0009,1.001,1.0013,1.0015,1.0018,1.002,1.0022,1.0023,1.0027,1.0028,1.003,1.003,1.0034,1.0036,1.0038,1.0041,1.0041,1.0045,1.0048,1.0049,1.0049,1.0052]
["mexiletine",1.0,0.98435,0.97105,0.95912,0.94915,0.93982,0.93161,0.92418,0.91738,0.91121,0.9055,0.90016,0.89528,0.89074,0.8864,0.88238,0.87852,0.87487,0.87138,0.8683,0.86518,0.8619,0.85922,0.8566,0.85396,0.85142]
["mibefradil",1.0,0.9723157851,0.9472557921,0.9245265983,0.9036947418,0.8844621725,0.8666341262,0.8500933314,0.8347176174,0.8201231761,0.8064018021,0.7937263345,0.7817934613,0.7704866937,0.7595558665,0.7495881783,0.7398809983,0.7309380554,0.7223001866,0.7141579847,0.7065078188,0.6989072321,0.6920037452,0.6854016095,0.6789403234,0.6728402108]
["nifedipine",1.0,0.9798,0.9609,0.94314,0.92642,0.91056,0.89533,0.88088,0.86703,0.85384,0.84126,0.82908,0.81739,0.80605,0.79526,0.78463,0.77442,0.76471,0.75514,0.7459,0.73706,0.7284,0.72011,0.71193,0.70413,0.69627]
["nitrendipine",1.0,0.99827,0.99643,0.99472,0.99307,0.99123,0.98959,0.98777,0.98609,0.98456,0.98276,0.98093,0.97929,0.97774,0.97613,0.97453,0.97288,0.97125,0.9694,0.968,0.96643,0.96485,0.9631,0.96173,0.96014,0.95852]
["ondansetron",1.0,1.038916284,1.054852215,1.070526371,1.089411666,1.115935546,1.164076713,2.020399819,1.208703159,1.212495135,1.800716408,1.788695892,3.250497302,0.8250849922,3.406302237,0.2915045463,3.308649782,0.2899169862,3.23248108,0.2891435536,3.167339744,0.2878935741,3.109390608,0.2859413565,3.05679919,0.2831343386]
["pentamidine",1.0,0.99981,0.99959,0.99946,0.99935,0.99926,0.99922,0.99897,0.99887,0.99869,0.99876,0.99861,0.99849,0.99849,0.9982,0.99826,0.99824,0.99817,0.99808,0.9979,0.99798,0.99794,0.99786,0.99775,0.99765,0.99751]
["phenytoin",1.0,1.0012,1.002,1.0028,1.0032,1.0034,1.0035,1.0035,1.0033,1.0031,1.0028,1.0024,1.0018,1.0013,1.0006,0.99981,0.99922,0.99822,0.99753,0.99666,0.99573,0.99482,0.99382,0.99278,0.99185,0.99086]
["pimozide",1.0,1.0007,1.0016,1.0023,1.003,1.0038,1.0045,1.0053,1.0059,1.0067,1.0073,1.0081,1.0088,1.0092,1.0101,1.0108,1.0113,1.0121,1.0128,1.0132,1.0138,1.0145,1.0152,1.0159,1.0164,1.017]
["prenylamine",1.0,1.0113,1.0196,1.0258,1.0313,1.0358,1.0398,1.0435,1.0469,1.0502,1.0534,1.0565,1.0596,1.0626,1.0656,1.0685,1.0715,1.0745,1.0773,1.0803,1.0833,1.0862,1.0891,1.0922,1.0951,1.098]
["propafenone",1.0,1.002714912,0.9931576634,0.981803019,0.970111635,0.9586673287,0.9474402299,0.9363543754,0.9256777093,0.9150113338,0.9046429442,0.894514737,0.8845509757,0.8748485371,0.8652904113,0.8560534926,0.8468462865,0.8378591582,0.82911636,0.8206186025,0.8120986965,0.8041486714,0.7961840867,0.7883541215,0.7807967665,0.7733098673]
["propranolol",1.0,1.0011,1.0024,1.0032,1.0041,1.0053,1.0063,1.0074,1.0084,1.0095,1.0104,1.0114,1.0124,1.0134,1.0143,1.0153,1.0163,1.0173,1.0182,1.0192,1.0201,1.021,1.022,1.0228,1.0238,1.0246]
["quetiapine",1.0,0.9999,0.99976,0.99964,0.99949,0.99943,0.99933,0.99941,0.99926,0.9991,0.99901,0.99893,0.99883,0.99874,0.99854,0.99845,0.99837,0.99841,0.9982,0.99816,0.99794,0.99782,0.99786,0.99771,0.99752,0.99747]
["quinidine",1.0,3.5373666,2.382369268,1.924467906,1.69732664,1.549782791,1.442515747,1.359378103,1.292230609,1.236464579,1.189060938,1.148129802,1.11225202,1.080456717,1.051927359,1.026149069,1.002665498,0.9814549006,0.9621461058,0.9446398749,0.9286625221,0.9141709064,0.9008913877,0.8889883694,0.8787862106,0.8708717434]
["ranolazine",1.0,0.96232,0.93742,0.91968,0.90622,0.89572,0.88762,0.88103,0.87563,0.87121,0.86776,0.86498,0.86263,0.86086,0.85945,0.85851,0.85773,0.85736,0.85728,0.85726,0.85755,0.85801,0.85864,0.85941,0.86037,0.86151]
["risperidone",1.0,0.99992,1.0,1.0002,1.0005,1.0005,1.0006,1.0008,1.0009,1.001,1.0011,1.0012,1.0013,1.0015,1.0016,1.0016,1.0017,1.0016,1.002,1.002,1.0022,1.0023,1.0024,1.0023,1.0025,1.0027]
["sertindole",1.0,1.0002,1.0002,1.0005,1.0007,1.0008,1.001,1.0011,1.0012,1.0015,1.0016,1.0017,1.0019,1.002,1.0022,1.0024,1.0026,1.0027,1.0029,1.0029,1.0032,1.0033,1.0035,1.0035,1.0037,1.0039]
["tedisamil",1.0,1.0023,1.0043,1.0063,1.0081,1.0098,1.0114,1.0131,1.0144,1.016,1.0174,1.0186,1.0201,1.0213,1.0225,1.0238,1.0249,1.026,1.0273,1.0284,1.0295,1.0306,1.0317,1.0328,1.0339,1.0351]
["terfenadine",1.0,1.0093,1.0171,1.0234,1.0288,1.0337,1.0378,1.0416,1.0452,1.0487,1.0519,1.0552,1.0583,1.0614,1.0643,1.0673,1.0703,1.0732,1.0763,1.0791,1.082,1.085,1.0882,1.0911,1.0941,1.0971]
["terodiline",1.0,1.0952,1.1814,2.1075,2.79,3.9993,0.33376,3.846,0.35888,3.7838,0.4018,3.7558,0.29057,3.5668,3.6099,0.33912,3.3152,3.6302,0.3797,3.2279,3.342,0.37014,3.5588,3.1246,3.2556,0.40099]
["thioridazine",1.0,1.3091,3.6744,0.29962,3.3334,0.29558,3.1499,0.28398,3.0114,0.27144,2.8966,0.26183,2.7948,0.25661,2.6997,0.25051,2.6142,0.23541,2.536,0.26115,2.3558,0.99121,1.1885,1.1524,1.1249,1.1031]
["verapamil",1.0,0.93544,0.89216,0.86065,0.8361,0.81626,0.80006,0.78604,0.77386,0.76316,0.75354,0.74491,0.73698,0.72987,0.72323,0.71705,0.71132,0.70586,0.70093,0.69616,0.69166,0.68739,0.68332,0.67942,0.67575,0.67221]

{"sheet":"Dendrogram ranking errors","index":5,"n_rows":11,"n_cols":2,"rows_kept":11,"cut":false,"hidden":false,"merged":[]}
["Intervention","Distance metric"]
["APD90 & EADs",32.0]
["APD90",46.0]
["ICaL EADs",46.0]
["IKr EADs",52.0]
["APD90 & ICaL",54.0]
["hERG/Cmax",54.0]
["Grandi LS",56.0]
["INa EADs",80.0]
["OHara LS",88.0]
["EADs",102.0]

{"sheet":"LDA 1","index":6,"n_rows":42,"n_cols":11,"rows_kept":42,"cut":false,"hidden":false,"merged":[]}
["Drug name","Grandi Lancaster-Sobie","OHara Lancaster-Sobie","APD90","INa shift","ICaL increase","IKr block","Herg block / Cmax","INa shift +ICaL increase +IKr block","APD90 +INa shift +ICaL increase +IKr block","APD90 +ICaL increase"]
["ajmaline",3.0,2.0,2.0,2.0,2.0,2.0,2.0,3.0,2.0,2.0]
["amiodarone",4.0,5.0,4.0,5.0,4.0,4.0,2.0,4.0,4.0,4.0]
["amitriptyline",4.0,5.0,4.0,5.0,4.0,4.0,2.0,4.0,4.0,4.0]
["azimilide",2.0,2.0,2.0,3.0,2.0,3.0,2.0,2.0,2.0,2.0]
["bepridil",5.0,5.0,5.0,5.0,5.0,5.0,2.0,5.0,5.0,5.0]
["chlorpromazine",4.0,5.0,4.0,5.0,5.0,5.0,2.0,5.0,4.0,4.0]
["cibenzoline",4.0,5.0,4.0,5.0,5.0,5.0,2.0,4.0,4.0,4.0]
["cisapride",2.0,2.0,2.0,3.0,2.0,3.0,2.0,2.0,2.0,2.0]
["clozapine",2.0,2.0,2.0,3.0,2.0,3.0,2.0,2.0,2.0,2.0]
["desipramine",3.0,4.0,3.0,5.0,4.0,4.0,2.0,4.0,4.0,4.0]
["diltiazem",5.0,3.0,5.0,5.0,5.0,5.0,2.0,5.0,5.0,5.0]
["disopyramide",2.0,2.0,2.0,4.0,2.0,4.0,2.0,2.0,4.0,2.0]
["dl-sotalol",4.0,4.0,4.0,5.0,4.0,4.0,2.0,4.0,4.0,4.0]
["dofetilide",2.0,2.0,2.0,4.0,2.0,4.0,2.0,2.0,4.0,2.0]
["flecainide",2.0,5.0,2.0,3.0,2.0,4.0,2.0,2.0,2.0,2.0]
["fluvoxamine",4.0,4.0,3.0,5.0,4.0,4.0,2.0,4.0,4.0,4.0]
["halofantrine",4.0,4.0,4.0,5.0,4.0,4.0,2.0,4.0,4.0,4.0]
["imipramine",4.0,4.0,4.0,5.0,4.0,4.0,2.0,4.0,4.0,4.0]
["loratadine",4.0,4.0,4.0,5.0,4.0,5.0,4.0,4.0,4.0,4.0]
["methadone",4.0,4.0,4.0,5.0,4.0,4.0,2.0,4.0,4.0,4.0]
["mexiletine",4.0,4.0,4.0,5.0,4.0,4.0,2.0,4.0,4.0,4.0]
["mibefradil",3.0,5.0,3.0,4.0,5.0,5.0,2.0,5.0,5.0,5.0]
["nifedipine",3.0,4.0,5.0,5.0,5.0,5.0,3.0,5.0,5.0,5.0]
["nitrendipine",3.0,4.0,5.0,5.0,5.0,5.0,4.0,5.0,5.0,5.0]
["ondansetron",2.0,3.0,2.0,2.0,2.0,2.0,2.0,3.0,3.0,2.0]
["pentamidine",4.0,4.0,4.0,5.0,4.0,5.0,4.0,4.0,4.0,4.0]
["phenytoin",3.0,4.0,3.0,5.0,4.0,4.0,2.0,4.0,4.0,4.0]
["pimozide",4.0,4.0,4.0,5.0,4.0,4.0,2.0,4.0,4.0,4.0]
["prenylamine",2.0,2.0,2.0,4.0,2.0,4.0,2.0,4.0,4.0,2.0]
["propafenone",3.0,3.0,4.0,4.0,2.0,4.0,2.0,2.0,4.0,3.0]
["propranolol",4.0,4.0,4.0,5.0,4.0,4.0,2.0,4.0,4.0,4.0]
["quetiapine",4.0,4.0,4.0,5.0,4.0,4.0,2.0,4.0,4.0,4.0]
["quinidine",3.0,3.0,2.0,2.0,2.0,2.0,2.0,3.0,2.0,2.0]
["ranolazine",2.0,2.0,2.0,4.0,2.0,4.0,2.0,4.0,4.0,2.0]
["risperidone",4.0,4.0,4.0,5.0,4.0,4.0,2.0,4.0,4.0,4.0]
["sertindole",4.0,4.0,4.0,4.0,3.0,4.0,2.0,4.0,4.0,4.0]
["tedisamil",4.0,4.0,4.0,5.0,4.0,4.0,2.0,4.0,4.0,4.0]
["terfenadine",2.0,2.0,2.0,3.0,2.0,3.0,2.0,2.0,2.0,2.0]
["terodiline",2.0,2.0,2.0,2.0,2.0,2.0,2.0,4.0,4.0,2.0]
["thioridazine",5.0,2.0,5.0,2.0,2.0,2.0,2.0,2.0,2.0,4.0]
["verapamil",3.0,3.0,5.0,4.0,3.0,5.0,2.0,3.0,4.0,3.0]

{"sheet":"SVM 1","index":7,"n_rows":42,"n_cols":11,"rows_kept":42,"cut":false,"hidden":false,"merged":[]}
["Drug name","Grandi Lancaster-Sobie","OHara Lancaster-Sobie","APD90","INa shift","ICaL increase","IKr block","Herg block / Cmax","INa shift +ICaL increase +IKr block","APD90 +INa shift +ICaL increase +IKr block","APD90 +ICaL increase"]
["ajmaline",2.0,2.0,2.0,2.0,2.0,2.0,2.0,3.0,2.0,2.0]
["amiodarone",4.0,5.0,4.0,5.0,5.0,2.0,4.0,5.0,5.0,5.0]
["amitriptyline",4.0,5.0,4.0,5.0,4.0,2.0,5.0,4.0,2.0,2.0]
["azimilide",2.0,2.0,2.0,2.0,2.0,2.0,2.0,2.0,2.0,2.0]
["bepridil",4.0,5.0,4.0,5.0,5.0,2.0,2.0,5.0,5.0,5.0]
["chlorpromazine",4.0,5.0,4.0,5.0,5.0,2.0,2.0,5.0,5.0,5.0]
["cibenzoline",4.0,5.0,4.0,4.0,4.0,2.0,2.0,4.0,3.0,4.0]
["cisapride",2.0,2.0,2.0,2.0,2.0,2.0,2.0,2.0,2.0,2.0]
["clozapine",2.0,2.0,2.0,2.0,2.0,2.0,2.0,2.0,2.0,2.0]
["desipramine",4.0,5.0,4.0,5.0,5.0,2.0,2.0,5.0,5.0,5.0]
["diltiazem",5.0,4.0,5.0,4.0,5.0,2.0,5.0,5.0,5.0,5.0]
["disopyramide",2.0,2.0,2.0,2.0,2.0,2.0,2.0,2.0,2.0,2.0]
["dl-sotalol",4.0,4.0,4.0,5.0,4.0,2.0,2.0,4.0,2.0,2.0]
["dofetilide",2.0,2.0,2.0,2.0,2.0,2.0,2.0,2.0,2.0,2.0]
["flecainide",2.0,4.0,2.0,2.0,2.0,2.0,2.0,2.0,4.0,2.0]
["fluvoxamine",4.0,5.0,4.0,5.0,5.0,2.0,2.0,5.0,5.0,5.0]
["halofantrine",4.0,4.0,4.0,5.0,5.0,2.0,4.0,5.0,2.0,2.0]
["imipramine",4.0,5.0,4.0,5.0,5.0,2.0,4.0,5.0,5.0,5.0]
["loratadine",4.0,4.0,4.0,4.0,4.0,2.0,5.0,4.0,3.0,4.0]
["methadone",4.0,4.0,4.0,4.0,4.0,2.0,2.0,4.0,4.0,2.0]
["mexiletine",4.0,5.0,4.0,5.0,5.0,2.0,2.0,5.0,5.0,5.0]
["mibefradil",4.0,5.0,4.0,4.0,5.0,2.0,4.0,5.0,5.0,5.0]
["nifedipine",5.0,5.0,5.0,5.0,5.0,2.0,5.0,5.0,5.0,5.0]
["nitrendipine",4.0,4.0,4.0,4.0,4.0,2.0,4.0,4.0,4.0,4.0]
["ondansetron",2.0,2.0,2.0,2.0,2.0,2.0,2.0,2.0,2.0,2.0]
["pentamidine",4.0,4.0,4.0,5.0,5.0,2.0,5.0,5.0,2.0,2.0]
["phenytoin",4.0,4.0,4.0,4.0,4.0,2.0,2.0,4.0,4.0,4.0]
["pimozide",4.0,4.0,4.0,5.0,5.0,2.0,2.0,5.0,2.0,2.0]
["prenylamine",2.0,4.0,2.0,4.0,4.0,2.0,2.0,4.0,4.0,2.0]
["propafenone",4.0,2.0,4.0,2.0,2.0,2.0,2.0,2.0,4.0,4.0]
["propranolol",4.0,4.0,4.0,4.0,4.0,2.0,5.0,4.0,3.0,4.0]
["quetiapine",4.0,4.0,4.0,4.0,4.0,2.0,5.0,4.0,3.0,4.0]
["quinidine",2.0,2.0,2.0,2.0,2.0,2.0,2.0,3.0,2.0,2.0]
["ranolazine",2.0,2.0,2.0,2.0,2.0,2.0,2.0,2.0,2.0,2.0]
["risperidone",4.0,4.0,4.0,4.0,4.0,2.0,5.0,4.0,3.0,4.0]
["sertindole",2.0,4.0,4.0,4.0,4.0,2.0,2.0,4.0,2.0,2.0]
["tedisamil",4.0,4.0,4.0,5.0,4.0,2.0,4.0,4.0,2.0,2.0]
["terfenadine",2.0,2.0,2.0,2.0,2.0,2.0,2.0,2.0,2.0,2.0]
["terodiline",2.0,2.0,2.0,2.0,2.0,2.0,2.0,2.0,2.0,2.0]
["thioridazine",5.0,2.0,4.0,2.0,2.0,2.0,2.0,2.0,4.0,4.0]
["verapamil",4.0,2.0,4.0,2.0,4.0,2.0,2.0,2.0,4.0,3.0]

{"sheet":"LDA 5","index":8,"n_rows":42,"n_cols":11,"rows_kept":42,"cut":false,"hidden":false,"merged":[]}
["Drug name","Grandi Lancaster-Sobie","OHara Lancaster-Sobie","APD90","INa shift","ICaL increase","IKr block","Herg block / Cmax","INa shift +ICaL increase +IKr block","APD90 +INa shift +ICaL increase +IKr block","APD90 +ICaL increase"]
["ajmaline",3.0,3.0,2.0,3.0,2.0,3.0,2.0,3.0,3.0,2.0]
["amiodarone",4.0,5.0,3.0,5.0,4.0,4.0,2.0,4.0,4.0,4.0]
["amitriptyline",4.0,5.0,3.0,5.0,4.0,4.0,2.0,4.0,4.0,4.0]
["azimilide",2.0,2.0,2.0,4.0,2.0,3.0,2.0,4.0,2.0,2.0]
["bepridil",3.0,3.0,5.0,5.0,5.0,5.0,2.0,5.0,5.0,5.0]
["chlorpromazine",3.0,5.0,4.0,5.0,3.0,5.0,3.0,3.0,3.0,3.0]
["cibenzoline",4.0,5.0,3.0,5.0,4.0,4.0,2.0,4.0,4.0,4.0]
["cisapride",2.0,2.0,2.0,2.0,2.0,3.0,2.0,2.0,2.0,2.0]
["clozapine",2.0,2.0,2.0,3.0,2.0,3.0,2.0,2.0,2.0,2.0]
["desipramine",4.0,4.0,3.0,5.0,3.0,3.0,2.0,4.0,4.0,4.0]
["diltiazem",5.0,3.0,5.0,5.0,5.0,5.0,2.0,5.0,5.0,5.0]
["disopyramide",2.0,2.0,2.0,3.0,2.0,4.0,2.0,4.0,4.0,2.0]
["dl-sotalol",4.0,4.0,4.0,5.0,4.0,4.0,2.0,4.0,4.0,4.0]
["dofetilide",2.0,2.0,2.0,4.0,2.0,4.0,2.0,2.0,2.0,2.0]
["flecainide",2.0,5.0,2.0,2.0,2.0,2.0,2.0,2.0,2.0,2.0]
["fluvoxamine",4.0,2.0,3.0,5.0,3.0,4.0,2.0,4.0,4.0,3.0]
["halofantrine",4.0,4.0,4.0,5.0,4.0,4.0,4.0,4.0,4.0,4.0]
["imipramine",4.0,4.0,3.0,5.0,4.0,4.0,2.0,4.0,4.0,4.0]
["loratadine",2.0,2.0,4.0,5.0,3.0,5.0,4.0,4.0,4.0,4.0]
["methadone",4.0,5.0,4.0,4.0,4.0,4.0,2.0,4.0,4.0,4.0]
["mexiletine",4.0,2.0,4.0,5.0,3.0,4.0,2.0,4.0,4.0,4.0]
["mibefradil",3.0,3.0,5.0,4.0,5.0,5.0,2.0,5.0,5.0,5.0]
["nifedipine",3.0,4.0,5.0,5.0,5.0,5.0,3.0,5.0,5.0,5.0]
["nitrendipine",5.0,4.0,5.0,5.0,5.0,5.0,5.0,5.0,5.0,5.0]
["ondansetron",2.0,3.0,2.0,2.0,2.0,3.0,2.0,3.0,3.0,2.0]
["pentamidine",3.0,4.0,4.0,5.0,3.0,3.0,4.0,3.0,3.0,3.0]
["phenytoin",4.0,4.0,3.0,5.0,3.0,3.0,2.0,4.0,4.0,4.0]
["pimozide",5.0,5.0,4.0,5.0,5.0,5.0,2.0,5.0,5.0,5.0]
["prenylamine",4.0,4.0,4.0,4.0,3.0,4.0,2.0,4.0,4.0,4.0]
["propafenone",3.0,5.0,3.0,4.0,2.0,4.0,2.0,2.0,4.0,3.0]
["propranolol",4.0,4.0,3.0,5.0,4.0,4.0,2.0,4.0,4.0,4.0]
["quetiapine",2.0,2.0,4.0,5.0,3.0,5.0,2.0,4.0,4.0,4.0]
["quinidine",3.0,3.0,2.0,3.0,2.0,3.0,2.0,3.0,3.0,2.0]
["ranolazine",2.0,5.0,2.0,4.0,3.0,4.0,2.0,2.0,2.0,2.0]
["risperidone",4.0,4.0,3.0,5.0,4.0,4.0,2.0,4.0,4.0,4.0]
["sertindole",4.0,5.0,4.0,4.0,4.0,4.0,2.0,4.0,4.0,4.0]
["tedisamil",4.0,4.0,4.0,5.0,4.0,4.0,4.0,4.0,4.0,4.0]
["terfenadine",2.0,2.0,2.0,2.0,2.0,3.0,2.0,2.0,2.0,2.0]
["terodiline",2.0,2.0,2.0,3.0,2.0,2.0,2.0,2.0,2.0,2.0]
["thioridazine",5.0,2.0,5.0,2.0,2.0,2.0,2.0,2.0,2.0,4.0]
["verapamil",3.0,3.0,5.0,4.0,3.0,5.0,2.0,3.0,4.0,3.0]

{"sheet":"SVM 5","index":9,"n_rows":42,"n_cols":11,"rows_kept":42,"cut":false,"hidden":false,"merged":[]}
["Drug name","Grandi Lancaster-Sobie","OHara Lancaster-Sobie","APD90","INa shift","ICaL increase","IKr block","Herg block / Cmax","INa shift +ICaL increase +IKr block","APD90 +INa shift +ICaL increase +IKr block","APD90 +ICaL increase"]
["ajmaline",2.0,2.0,2.0,2.0,2.0,2.0,2.0,3.0,2.0,2.0]
["amiodarone",3.0,3.0,3.0,4.0,4.0,2.0,3.0,4.0,3.0,3.0]
["amitriptyline",3.0,3.0,3.0,4.0,4.0,2.0,3.0,4.0,4.0,3.0]
["azimilide",2.0,2.0,2.0,2.0,2.0,5.0,2.0,2.0,2.0,2.0]
["bepridil",4.0,5.0,4.0,5.0,5.0,2.0,2.0,5.0,5.0,5.0]
["chlorpromazine",4.0,5.0,4.0,4.0,4.0,2.0,4.0,4.0,5.0,4.0]
["cibenzoline",3.0,3.0,3.0,5.0,4.0,2.0,3.0,4.0,3.0,4.0]
["cisapride",2.0,2.0,2.0,2.0,2.0,2.0,2.0,2.0,2.0,2.0]
["clozapine",2.0,2.0,2.0,2.0,2.0,2.0,2.0,2.0,2.0,2.0]
["desipramine",4.0,4.0,4.0,4.0,4.0,2.0,2.0,4.0,4.0,4.0]
["diltiazem",4.0,5.0,4.0,5.0,5.0,2.0,5.0,5.0,5.0,5.0]
["disopyramide",2.0,2.0,2.0,2.0,2.0,2.0,2.0,2.0,2.0,2.0]
["dl-sotalol",4.0,4.0,4.0,5.0,4.0,5.0,2.0,4.0,2.0,4.0]
["dofetilide",2.0,2.0,2.0,2.0,2.0,2.0,2.0,2.0,2.0,2.0]
["flecainide",2.0,2.0,2.0,2.0,2.0,2.0,2.0,2.0,4.0,2.0]
["fluvoxamine",4.0,4.0,4.0,2.0,4.0,2.0,2.0,5.0,4.0,4.0]
["halofantrine",4.0,4.0,4.0,5.0,5.0,5.0,4.0,5.0,5.0,4.0]
["imipramine",3.0,3.0,3.0,4.0,4.0,2.0,3.0,4.0,3.0,3.0]
["loratadine",4.0,4.0,4.0,5.0,5.0,2.0,5.0,5.0,3.0,3.0]
["methadone",4.0,4.0,4.0,5.0,4.0,2.0,2.0,4.0,4.0,2.0]
["mexiletine",4.0,4.0,4.0,5.0,4.0,2.0,2.0,5.0,5.0,4.0]
["mibefradil",4.0,5.0,4.0,4.0,5.0,2.0,5.0,5.0,5.0,5.0]
["nifedipine",5.0,5.0,5.0,5.0,5.0,5.0,5.0,5.0,5.0,5.0]
["nitrendipine",4.0,4.0,4.0,4.0,4.0,2.0,4.0,4.0,4.0,4.0]
["ondansetron",2.0,2.0,2.0,2.0,2.0,5.0,2.0,2.0,2.0,2.0]
["pentamidine",4.0,4.0,4.0,4.0,4.0,2.0,4.0,4.0,2.0,2.0]
["phenytoin",4.0,4.0,4.0,4.0,4.0,2.0,2.0,4.0,4.0,4.0]
["pimozide",4.0,4.0,4.0,5.0,4.0,2.0,2.0,4.0,2.0,2.0]
["prenylamine",4.0,4.0,4.0,4.0,4.0,5.0,2.0,4.0,4.0,4.0]
["propafenone",3.0,2.0,3.0,2.0,2.0,2.0,2.0,2.0,4.0,3.0]
["propranolol",3.0,3.0,3.0,4.0,4.0,2.0,3.0,4.0,3.0,3.0]
["quetiapine",4.0,4.0,4.0,5.0,5.0,2.0,3.0,5.0,3.0,3.0]
["quinidine",2.0,2.0,2.0,2.0,2.0,2.0,2.0,3.0,2.0,4.0]
["ranolazine",2.0,4.0,2.0,4.0,2.0,2.0,2.0,4.0,2.0,2.0]
["risperidone",3.0,3.0,3.0,4.0,4.0,2.0,3.0,4.0,3.0,3.0]
["sertindole",2.0,4.0,4.0,4.0,4.0,2.0,2.0,4.0,2.0,2.0]
["tedisamil",4.0,4.0,4.0,5.0,5.0,5.0,4.0,5.0,2.0,4.0]
["terfenadine",2.0,2.0,2.0,2.0,2.0,2.0,2.0,2.0,2.0,2.0]
["terodiline",2.0,2.0,2.0,2.0,2.0,2.0,2.0,2.0,2.0,2.0]
["thioridazine",5.0,2.0,4.0,2.0,2.0,2.0,2.0,2.0,4.0,4.0]
["verapamil",4.0,2.0,4.0,2.0,4.0,2.0,2.0,2.0,4.0,4.0]

{"sheet":"LDA 1 errors","index":10,"n_rows":46,"n_cols":14,"rows_kept":46,"cut":false,"hidden":false,"merged":[]}
["Drug name","Grandi Lancaster-Sobie","OHara Lancaster-Sobie","APD90","INa shift","ICaL increase","IKr block","Herg block / Cmax","INa shift +ICaL increase +IKr block","APD90 +INa shift +ICaL increase +IKr block","APD90 +ICaL increase","Avg","Redferns","abs"]
["ajmaline",{"$f":"$M2 - 'LDA 1'!B2","v":-1},{"$f":"$M2 - 'LDA 1'!C2","v":0},{"$f":"$M2 - 'LDA 1'!D2","v":0},{"$f":"$M2 - 'LDA 1'!E2","v":0},{"$f":"$M2 - 'LDA 1'!F2","v":0},{"$f":"$M2 - 'LDA 1'!G2","v":0},{"$f":"$M2 - 'LDA 1'!H2","v":0},{"$f":"$M2 - 'LDA 1'!I2","v":-1},{"$f":"$M2 - 'LDA 1'!J2","v":0},{"$f":"$M2 - 'LDA 1'!K2","v":0},{"$f":"average(B2:K2)","v":-0.2},2.0,{"$f":"average(abs(B2:K2))","v":0.2}]
["amiodarone",{"$f":"$M3 - 'LDA 1'!B3","v":-2},{"$f":"$M3 - 'LDA 1'!C3","v":-3},{"$f":"$M3 - 'LDA 1'!D3","v":-2},{"$f":"$M3 - 'LDA 1'!E3","v":-3},{"$f":"$M3 - 'LDA 1'!F3","v":-2},{"$f":"$M3 - 'LDA 1'!G3","v":-2},{"$f":"$M3 - 'LDA 1'!H3","v":0},{"$f":"$M3 - 'LDA 1'!I3","v":-2},{"$f":"$M3 - 'LDA 1'!J3","v":-2},{"$f":"$M3 - 'LDA 1'!K3","v":-2},-2,2.0,2]
["amitriptyline",{"$f":"$M4 - 'LDA 1'!B4","v":0},{"$f":"$M4 - 'LDA 1'!C4","v":-1},{"$f":"$M4 - 'LDA 1'!D4","v":0},{"$f":"$M4 - 'LDA 1'!E4","v":-1},{"$f":"$M4 - 'LDA 1'!F4","v":0},{"$f":"$M4 - 'LDA 1'!G4","v":0},{"$f":"$M4 - 'LDA 1'!H4","v":2},{"$f":"$M4 - 'LDA 1'!I4","v":0},{"$f":"$M4 - 'LDA 1'!J4","v":0},{"$f":"$M4 - 'LDA 1'!K4","v":0},0,4.0,0.4]
["azimilide",{"$f":"$M5 - 'LDA 1'!B5","v":0},{"$f":"$M5 - 'LDA 1'!C5","v":0},{"$f":"$M5 - 'LDA 1'!D5","v":0},{"$f":"$M5 - 'LDA 1'!E5","v":-1},{"$f":"$M5 - 'LDA 1'!F5","v":0},{"$f":"$M5 - 'LDA 1'!G5","v":-1},{"$f":"$M5 - 'LDA 1'!H5","v":0},{"$f":"$M5 - 'LDA 1'!I5","v":0},{"$f":"$M5 - 'LDA 1'!J5","v":0},{"$f":"$M5 - 'LDA 1'!K5","v":0},-0.2,2.0,0.2]
["bepridil",{"$f":"$M6 - 'LDA 1'!B6","v":-2},{"$f":"$M6 - 'LDA 1'!C6","v":-2},{"$f":"$M6 - 'LDA 1'!D6","v":-2},{"$f":"$M6 - 'LDA 1'!E6","v":-2},{"$f":"$M6 - 'LDA 1'!F6","v":-2},{"$f":"$M6 - 'LDA 1'!G6","v":-2},{"$f":"$M6 - 'LDA 1'!H6","v":1},{"$f":"$M6 - 'LDA 1'!I6","v":-2},{"$f":"$M6 - 'LDA 1'!J6","v":-2},{"$f":"$M6 - 'LDA 1'!K6","v":-2},-1.7,3.0,1.9]
["chlorpromazine",{"$f":"$M7 - 'LDA 1'!B7","v":-1},{"$f":"$M7 - 'LDA 1'!C7","v":-2},{"$f":"$M7 - 'LDA 1'!D7","v":-1},{"$f":"$M7 - 'LDA 1'!E7","v":-2},{"$f":"$M7 - 'LDA 1'!F7","v":-2},{"$f":"$M7 - 'LDA 1'!G7","v":-2},{"$f":"$M7 - 'LDA 1'!H7","v":1},{"$f":"$M7 - 'LDA 1'!I7","v":-2},{"$f":"$M7 - 'LDA 1'!J7","v":-1},{"$f":"$M7 - 'LDA 1'!K7","v":-1},-1.3,3.0,1.5]
["cibenzoline",{"$f":"$M8 - 'LDA 1'!B8","v":1},{"$f":"$M8 - 'LDA 1'!C8","v":0},{"$f":"$M8 - 'LDA 1'!D8","v":1},{"$f":"$M8 - 'LDA 1'!E8","v":0},{"$f":"$M8 - 'LDA 1'!F8","v":0},{"$f":"$M8 - 'LDA 1'!G8","v":0},{"$f":"$M8 - 'LDA 1'!H8","v":3},{"$f":"$M8 - 'LDA 1'!I8","v":1},{"$f":"$M8 - 'LDA 1'!J8","v":1},{"$f":"$M8 - 'LDA 1'!K8","v":1},0.8,5.0,0.8]
["cisapride",{"$f":"$M9 - 'LDA 1'!B9","v":0},{"$f":"$M9 - 'LDA 1'!C9","v":0},{"$f":"$M9 - 'LDA 1'!D9","v":0},{"$f":"$M9 - 'LDA 1'!E9","v":-1},{"$f":"$M9 - 'LDA 1'!F9","v":0},{"$f":"$M9 - 'LDA 1'!G9","v":-1},{"$f":"$M9 - 'LDA 1'!H9","v":0},{"$f":"$M9 - 'LDA 1'!I9","v":0},{"$f":"$M9 - 'LDA 1'!J9","v":0},{"$f":"$M9 - 'LDA 1'!K9","v":0},-0.2,2.0,0.2]
["clozapine",{"$f":"$M10 - 'LDA 1'!B10","v":2},{"$f":"$M10 - 'LDA 1'!C10","v":2},{"$f":"$M10 - 'LDA 1'!D10","v":2},{"$f":"$M10 - 'LDA 1'!E10","v":1},{"$f":"$M10 - 'LDA 1'!F10","v":2},{"$f":"$M10 - 'LDA 1'!G10","v":1},{"$f":"$M10 - 'LDA 1'!H10","v":2},{"$f":"$M10 - 'LDA 1'!I10","v":2},{"$f":"$M10 - 'LDA 1'!J10","v":2},{"$f":"$M10 - 'LDA 1'!K10","v":2},1.8,4.0,1.8]
["desipramine",{"$f":"$M11 - 'LDA 1'!B11","v":1},{"$f":"$M11 - 'LDA 1'!C11","v":0},{"$f":"$M11 - 'LDA 1'!D11","v":1},{"$f":"$M11 - 'LDA 1'!E11","v":-1},{"$f":"$M11 - 'LDA 1'!F11","v":0},{"$f":"$M11 - 'LDA 1'!G11","v":0},{"$f":"$M11 - 'LDA 1'!H11","v":2},{"$f":"$M11 - 'LDA 1'!I11","v":0},{"$f":"$M11 - 'LDA 1'!J11","v":0},{"$f":"$M11 - 'LDA 1'!K11","v":0},0.3,4.0,0.5]
["diltiazem",{"$f":"$M12 - 'LDA 1'!B12","v":0},{"$f":"$M12 - 'LDA 1'!C12","v":2},{"$f":"$M12 - 'LDA 1'!D12","v":0},{"$f":"$M12 - 'LDA 1'!E12","v":0},{"$f":"$M12 - 'LDA 1'!F12","v":0},{"$f":"$M12 - 'LDA 1'!G12","v":0},{"$f":"$M12 - 'LDA 1'!H12","v":3},{"$f":"$M12 - 'LDA 1'!I12","v":0},{"$f":"$M12 - 'LDA 1'!J12","v":0},{"$f":"$M12 - 'LDA 1'!K12","v":0},0.5,5.0,0.5]
["disopyramide",{"$f":"$M13 - 'LDA 1'!B13","v":0},{"$f":"$M13 - 'LDA 1'!C13","v":0},{"$f":"$M13 - 'LDA 1'!D13","v":0},{"$f":"$M13 - 'LDA 1'!E13","v":-2},{"$f":"$M13 - 'LDA 1'!F13","v":0},{"$f":"$M13 - 'LDA 1'!G13","v":-2},{"$f":"$M13 - 'LDA 1'!H13","v":0},{"$f":"$M13 - 'LDA 1'!I13","v":0},{"$f":"$M13 - 'LDA 1'!J13","v":-2},{"$f":"$M13 - 'LDA 1'!K13","v":0},-0.6,2.0,0.6]
["dl-sotalol",{"$f":"$M14 - 'LDA 1'!B14","v":-2},{"$f":"$M14 - 'LDA 1'!C14","v":-2},{"$f":"$M14 - 'LDA 1'!D14","v":-2},{"$f":"$M14 - 'LDA 1'!E14","v":-3},{"$f":"$M14 - 'LDA 1'!F14","v":-2},{"$f":"$M14 - 'LDA 1'!G14","v":-2},{"$f":"$M14 - 'LDA 1'!H14","v":0},{"$f":"$M14 - 'LDA 1'!I14","v":-2},{"$f":"$M14 - 'LDA 1'!J14","v":-2},{"$f":"$M14 - 'LDA 1'!K14","v":-2},-1.9,2.0,1.9]
["dofetilide",{"$f":"$M15 - 'LDA 1'!B15","v":0},{"$f":"$M15 - 'LDA 1'!C15","v":0},{"$f":"$M15 - 'LDA 1'!D15","v":0},{"$f":"$M15 - 'LDA 1'!E15","v":-2},{"$f":"$M15 - 'LDA 1'!F15","v":0},{"$f":"$M15 - 'LDA 1'!G15","v":-2},{"$f":"$M15 - 'LDA 1'!H15","v":0},{"$f":"$M15 - 'LDA 1'!I15","v":0},{"$f":"$M15 - 'LDA 1'!J15","v":-2},{"$f":"$M15 - 'LDA 1'!K15","v":0},-0.6,2.0,0.6]
["flecainide",{"$f":"$M16 - 'LDA 1'!B16","v":1},{"$f":"$M16 - 'LDA 1'!C16","v":-2},{"$f":"$M16 - 'LDA 1'!D16","v":1},{"$f":"$M16 - 'LDA 1'!E16","v":0},{"$f":"$M16 - 'LDA 1'!F16","v":1},{"$f":"$M16 - 'LDA 1'!G16","v":-1},{"$f":"$M16 - 'LDA 1'!H16","v":1},{"$f":"$M16 - 'LDA 1'!I16","v":1},{"$f":"$M16 - 'LDA 1'!J16","v":1},{"$f":"$M16 - 'LDA 1'!K16","v":1},0.4,3.0,1]
["fluvoxamine",{"$f":"$M17 - 'LDA 1'!B17","v":0},{"$f":"$M17 - 'LDA 1'!C17","v":0},{"$f":"$M17 - 'LDA 1'!D17","v":1},{"$f":"$M17 - 'LDA 1'!E17","v":-1},{"$f":"$M17 - 'LDA 1'!F17","v":0},{"$f":"$M17 - 'LDA 1'!G17","v":0},{"$f":"$M17 - 'LDA 1'!H17","v":2},{"$f":"$M17 - 'LDA 1'!I17","v":0},{"$f":"$M17 - 'LDA 1'!J17","v":0},{"$f":"$M17 - 'LDA 1'!K17","v":0},0.2,4.0,0.4]
["halofantrine",{"$f":"$M18 - 'LDA 1'!B18","v":-1},{"$f":"$M18 - 'LDA 1'!C18","v":-1},{"$f":"$M18 - 'LDA 1'!D18","v":-1},{"$f":"$M18 - 'LDA 1'!E18","v":-2},{"$f":"$M18 - 'LDA 1'!F18","v":-1},{"$f":"$M18 - 'LDA 1'!G18","v":-1},{"$f":"$M18 - 'LDA 1'!H18","v":1},{"$f":"$M18 - 'LDA 1'!I18","v":-1},{"$f":"$M18 - 'LDA 1'!J18","v":-1},{"$f":"$M18 - 'LDA 1'!K18","v":-1},-0.9,3.0,1.1]
["imipramine",{"$f":"$M19 - 'LDA 1'!B19","v":0},{"$f":"$M19 - 'LDA 1'!C19","v":0},{"$f":"$M19 - 'LDA 1'!D19","v":0},{"$f":"$M19 - 'LDA 1'!E19","v":-1},{"$f":"$M19 - 'LDA 1'!F19","v":0},{"$f":"$M19 - 'LDA 1'!G19","v":0},{"$f":"$M19 - 'LDA 1'!H19","v":2},{"$f":"$M19 - 'LDA 1'!I19","v":0},{"$f":"$M19 - 'LDA 1'!J19","v":0},{"$f":"$M19 - 'LDA 1'!K19","v":0},0.1,4.0,0.3]
["loratadine",{"$f":"$M20 - 'LDA 1'!B20","v":1},{"$f":"$M20 - 'LDA 1'!C20","v":1},{"$f":"$M20 - 'LDA 1'!D20","v":1},{"$f":"$M20 - 'LDA 1'!E20","v":0},{"$f":"$M20 - 'LDA 1'!F20","v":1},{"$f":"$M20 - 'LDA 1'!G20","v":0},{"$f":"$M20 - 'LDA 1'!H20","v":1},{"$f":"$M20 - 'LDA 1'!I20","v":1},{"$f":"$M20 - 'LDA 1'!J20","v":1},{"$f":"$M20 - 'LDA 1'!K20","v":1},0.8,5.0,0.8]
["methadone",{"$f":"$M21 - 'LDA 1'!B21","v":-2},{"$f":"$M21 - 'LDA 1'!C21","v":-2},{"$f":"$M21 - 'LDA 1'!D21","v":-2},{"$f":"$M21 - 'LDA 1'!E21","v":-3},{"$f":"$M21 - 'LDA 1'!F21","v":-2},{"$f":"$M21 - 'LDA 1'!G21","v":-2},{"$f":"$M21 - 'LDA 1'!H21","v":0},{"$f":"$M21 - 'LDA 1'!I21","v":-2},{"$f":"$M21 - 'LDA 1'!J21","v":-2},{"$f":"$M21 - 'LDA 1'!K21","v":-2},-1.9,2.0,1.9]
["mexiletine",{"$f":"$M22 - 'LDA 1'!B22","v":0},{"$f":"$M22 - 'LDA 1'!C22","v":0},{"$f":"$M22 - 'LDA 1'!D22","v":0},{"$f":"$M22 - 'LDA 1'!E22","v":-1},{"$f":"$M22 - 'LDA 1'!F22","v":0},{"$f":"$M22 - 'LDA 1'!G22","v":0},{"$f":"$M22 - 'LDA 1'!H22","v":2},{"$f":"$M22 - 'LDA 1'!I22","v":0},{"$f":"$M22 - 'LDA 1'!J22","v":0},{"$f":"$M22 - 'LDA 1'!K22","v":0},0.1,4.0,0.3]
["mibefradil",{"$f":"$M23 - 'LDA 1'!B23","v":1},{"$f":"$M23 - 'LDA 1'!C23","v":-1},{"$f":"$M23 - 'LDA 1'!D23","v":1},{"$f":"$M23 - 'LDA 1'!E23","v":0},{"$f":"$M23 - 'LDA 1'!F23","v":-1},{"$f":"$M23 - 'LDA 1'!G23","v":-1},{"$f":"$M23 - 'LDA 1'!H23","v":2},{"$f":"$M23 - 'LDA 1'!I23","v":-1},{"$f":"$M23 - 'LDA 1'!J23","v":-1},{"$f":"$M23 - 'LDA 1'!K23","v":-1},-0.2,4.0,1]
["nifedipine",{"$f":"$M24 - 'LDA 1'!B24","v":1},{"$f":"$M24 - 'LDA 1'!C24","v":0},{"$f":"$M24 - 'LDA 1'!D24","v":-1},{"$f":"$M24 - 'LDA 1'!E24","v":-1},{"$f":"$M24 - 'LDA 1'!F24","v":-1},{"$f":"$M24 - 'LDA 1'!G24","v":-1},{"$f":"$M24 - 'LDA 1'!H24","v":1},{"$f":"$M24 - 'LDA 1'!I24","v":-1},{"$f":"$M24 - 'LDA 1'!J24","v":-1},{"$f":"$M24 - 'LDA 1'!K24","v":-1},-0.5,4.0,0.9]
["nitrendipine",{"$f":"$M25 - 'LDA 1'!B25","v":2},{"$f":"$M25 - 'LDA 1'!C25","v":1},{"$f":"$M25 - 'LDA 1'!D25","v":0},{"$f":"$M25 - 'LDA 1'!E25","v":0},{"$f":"$M25 - 'LDA 1'!F25","v":0},{"$f":"$M25 - 'LDA 1'!G25","v":0},{"$f":"$M25 - 'LDA 1'!H25","v":1},{"$f":"$M25 - 'LDA 1'!I25","v":0},{"$f":"$M25 - 'LDA 1'!J25","v":0},{"$f":"$M25 - 'LDA 1'!K25","v":0},0.4,5.0,0.4]
["ondansetron",{"$f":"$M26 - 'LDA 1'!B26","v":0},{"$f":"$M26 - 'LDA 1'!C26","v":-1},{"$f":"$M26 - 'LDA 1'!D26","v":0},{"$f":"$M26 - 'LDA 1'!E26","v":0},{"$f":"$M26 - 'LDA 1'!F26","v":0},{"$f":"$M26 - 'LDA 1'!G26","v":0},{"$f":"$M26 - 'LDA 1'!H26","v":0},{"$f":"$M26 - 'LDA 1'!I26","v":-1},{"$f":"$M26 - 'LDA 1'!J26","v":-1},{"$f":"$M26 - 'LDA 1'!K26","v":0},-0.3,2.0,0.3]
["pentamidine",{"$f":"$M27 - 'LDA 1'!B27","v":-1},{"$f":"$M27 - 'LDA 1'!C27","v":-1},{"$f":"$M27 - 'LDA 1'!D27","v":-1},{"$f":"$M27 - 'LDA 1'!E27","v":-2},{"$f":"$M27 - 'LDA 1'!F27","v":-1},{"$f":"$M27 - 'LDA 1'!G27","v":-2},{"$f":"$M27 - 'LDA 1'!H27","v":-1},{"$f":"$M27 - 'LDA 1'!I27","v":-1},{"$f":"$M27 - 'LDA 1'!J27","v":-1},{"$f":"$M27 - 'LDA 1'!K27","v":-1},-1.2,3.0,1.2]
["phenytoin",{"$f":"$M28 - 'LDA 1'!B28","v":2},{"$f":"$M28 - 'LDA 1'!C28","v":1},{"$f":"$M28 - 'LDA 1'!D28","v":2},{"$f":"$M28 - 'LDA 1'!E28","v":0},{"$f":"$M28 - 'LDA 1'!F28","v":1},{"$f":"$M28 - 'LDA 1'!G28","v":1},{"$f":"$M28 - 'LDA 1'!H28","v":3},{"$f":"$M28 - 'LDA 1'!I28","v":1},{"$f":"$M28 - 'LDA 1'!J28","v":1},{"$f":"$M28 - 'LDA 1'!K28","v":1},1.3,5.0,1.3]
["pimozide",{"$f":"$M29 - 'LDA 1'!B29","v":-1},{"$f":"$M29 - 'LDA 1'!C29","v":-1},{"$f":"$M29 - 'LDA 1'!D29","v":-1},{"$f":"$M29 - 'LDA 1'!E29","v":-2},{"$f":"$M29 - 'LDA 1'!F29","v":-1},{"$f":"$M29 - 'LDA 1'!G29","v":-1},{"$f":"$M29 - 'LDA 1'!H29","v":1},{"$f":"$M29 - 'LDA 1'!I29","v":-1},{"$f":"$M29 - 'LDA 1'!J29","v":-1},{"$f":"$M29 - 'LDA 1'!K29","v":-1},-0.9,3.0,1.1]
["prenylamine",{"$f":"$M30 - 'LDA 1'!B30","v":0},{"$f":"$M30 - 'LDA 1'!C30","v":0},{"$f":"$M30 - 'LDA 1'!D30","v":0},{"$f":"$M30 - 'LDA 1'!E30","v":-2},{"$f":"$M30 - 'LDA 1'!F30","v":0},{"$f":"$M30 - 'LDA 1'!G30","v":-2},{"$f":"$M30 - 'LDA 1'!H30","v":0},{"$f":"$M30 - 'LDA 1'!I30","v":-2},{"$f":"$M30 - 'LDA 1'!J30","v":-2},{"$f":"$M30 - 'LDA 1'!K30","v":0},-0.8,2.0,0.8]
["propafenone",{"$f":"$M31 - 'LDA 1'!B31","v":1},{"$f":"$M31 - 'LDA 1'!C31","v":1},{"$f":"$M31 - 'LDA 1'!D31","v":0},{"$f":"$M31 - 'LDA 1'!E31","v":0},{"$f":"$M31 - 'LDA 1'!F31","v":2},{"$f":"$M31 - 'LDA 1'!G31","v":0},{"$f":"$M31 - 'LDA 1'!H31","v":2},{"$f":"$M31 - 'LDA 1'!I31","v":2},{"$f":"$M31 - 'LDA 1'!J31","v":0},{"$f":"$M31 - 'LDA 1'!K31","v":1},0.9,4.0,0.9]
["propranolol",{"$f":"$M32 - 'LDA 1'!B32","v":1},{"$f":"$M32 - 'LDA 1'!C32","v":1},{"$f":"$M32 - 'LDA 1'!D32","v":1},{"$f":"$M32 - 'LDA 1'!E32","v":0},{"$f":"$M32 - 'LDA 1'!F32","v":1},{"$f":"$M32 - 'LDA 1'!G32","v":1},{"$f":"$M32 - 'LDA 1'!H32","v":3},{"$f":"$M32 - 'LDA 1'!I32","v":1},{"$f":"$M32 - 'LDA 1'!J32","v":1},{"$f":"$M32 - 'LDA 1'!K32","v":1},1.1,5.0,1.1]
["quetiapine",{"$f":"$M33 - 'LDA 1'!B33","v":1},{"$f":"$M33 - 'LDA 1'!C33","v":1},{"$f":"$M33 - 'LDA 1'!D33","v":1},{"$f":"$M33 - 'LDA 1'!E33","v":0},{"$f":"$M33 - 'LDA 1'!F33","v":1},{"$f":"$M33 - 'LDA 1'!G33","v":1},{"$f":"$M33 - 'LDA 1'!H33","v":3},{"$f":"$M33 - 'LDA 1'!I33","v":1},{"$f":"$M33 - 'LDA 1'!J33","v":1},{"$f":"$M33 - 'LDA 1'!K33","v":1},1.1,5.0,1.1]
["quinidine",{"$f":"$M34 - 'LDA 1'!B34","v":-1},{"$f":"$M34 - 'LDA 1'!C34","v":-1},{"$f":"$M34 - 'LDA 1'!D34","v":0},{"$f":"$M34 - 'LDA 1'!E34","v":0},{"$f":"$M34 - 'LDA 1'!F34","v":0},{"$f":"$M34 - 'LDA 1'!G34","v":0},{"$f":"$M34 - 'LDA 1'!H34","v":0},{"$f":"$M34 - 'LDA 1'!I34","v":-1},{"$f":"$M34 - 'LDA 1'!J34","v":0},{"$f":"$M34 - 'LDA 1'!K34","v":0},-0.3,2.0,0.3]
["ranolazine",{"$f":"$M35 - 'LDA 1'!B35","v":1},{"$f":"$M35 - 'LDA 1'!C35","v":1},{"$f":"$M35 - 'LDA 1'!D35","v":1},{"$f":"$M35 - 'LDA 1'!E35","v":-1},{"$f":"$M35 - 'LDA 1'!F35","v":1},{"$f":"$M35 - 'LDA 1'!G35","v":-1},{"$f":"$M35 - 'LDA 1'!H35","v":1},{"$f":"$M35 - 'LDA 1'!I35","v":-1},{"$f":"$M35 - 'LDA 1'!J35","v":-1},{"$f":"$M35 - 'LDA 1'!K35","v":1},0.2,3.0,1]
["risperidone",{"$f":"$M36 - 'LDA 1'!B36","v":1},{"$f":"$M36 - 'LDA 1'!C36","v":1},{"$f":"$M36 - 'LDA 1'!D36","v":1},{"$f":"$M36 - 'LDA 1'!E36","v":0},{"$f":"$M36 - 'LDA 1'!F36","v":1},{"$f":"$M36 - 'LDA 1'!G36","v":1},{"$f":"$M36 - 'LDA 1'!H36","v":3},{"$f":"$M36 - 'LDA 1'!I36","v":1},{"$f":"$M36 - 'LDA 1'!J36","v":1},{"$f":"$M36 - 'LDA 1'!K36","v":1},1.1,5.0,1.1]
["sertindole",{"$f":"$M37 - 'LDA 1'!B37","v":-2},{"$f":"$M37 - 'LDA 1'!C37","v":-2},{"$f":"$M37 - 'LDA 1'!D37","v":-2},{"$f":"$M37 - 'LDA 1'!E37","v":-2},{"$f":"$M37 - 'LDA 1'!F37","v":-1},{"$f":"$M37 - 'LDA 1'!G37","v":-2},{"$f":"$M37 - 'LDA 1'!H37","v":0},{"$f":"$M37 - 'LDA 1'!I37","v":-2},{"$f":"$M37 - 'LDA 1'!J37","v":-2},{"$f":"$M37 - 'LDA 1'!K37","v":-2},-1.7,2.0,1.7]
["tedisamil",{"$f":"$M38 - 'LDA 1'!B38","v":-2},{"$f":"$M38 - 'LDA 1'!C38","v":-2},{"$f":"$M38 - 'LDA 1'!D38","v":-2},{"$f":"$M38 - 'LDA 1'!E38","v":-3},{"$f":"$M38 - 'LDA 1'!F38","v":-2},{"$f":"$M38 - 'LDA 1'!G38","v":-2},{"$f":"$M38 - 'LDA 1'!H38","v":0},{"$f":"$M38 - 'LDA 1'!I38","v":-2},{"$f":"$M38 - 'LDA 1'!J38","v":-2},{"$f":"$M38 - 'LDA 1'!K38","v":-2},-1.9,2.0,1.9]
["terfenadine",{"$f":"$M39 - 'LDA 1'!B39","v":0},{"$f":"$M39 - 'LDA 1'!C39","v":0},{"$f":"$M39 - 'LDA 1'!D39","v":0},{"$f":"$M39 - 'LDA 1'!E39","v":-1},{"$f":"$M39 - 'LDA 1'!F39","v":0},{"$f":"$M39 - 'LDA 1'!G39","v":-1},{"$f":"$M39 - 'LDA 1'!H39","v":0},{"$f":"$M39 - 'LDA 1'!I39","v":0},{"$f":"$M39 - 'LDA 1'!J39","v":0},{"$f":"$M39 - 'LDA 1'!K39","v":0},-0.2,2.0,0.2]
["terodiline",{"$f":"$M40 - 'LDA 1'!B40","v":0},{"$f":"$M40 - 'LDA 1'!C40","v":0},{"$f":"$M40 - 'LDA 1'!D40","v":0},{"$f":"$M40 - 'LDA 1'!E40","v":0},{"$f":"$M40 - 'LDA 1'!F40","v":0},{"$f":"$M40 - 'LDA 1'!G40","v":0},{"$f":"$M40 - 'LDA 1'!H40","v":0},{"$f":"$M40 - 'LDA 1'!I40","v":-2},{"$f":"$M40 - 'LDA 1'!J40","v":-2},{"$f":"$M40 - 'LDA 1'!K40","v":0},-0.4,2.0,0.4]
["thioridazine",{"$f":"$M41 - 'LDA 1'!B41","v":-2},{"$f":"$M41 - 'LDA 1'!C41","v":1},{"$f":"$M41 - 'LDA 1'!D41","v":-2},{"$f":"$M41 - 'LDA 1'!E41","v":1},{"$f":"$M41 - 'LDA 1'!F41","v":1},{"$f":"$M41 - 'LDA 1'!G41","v":1},{"$f":"$M41 - 'LDA 1'!H41","v":1},{"$f":"$M41 - 'LDA 1'!I41","v":1},{"$f":"$M41 - 'LDA 1'!J41","v":1},{"$f":"$M41 - 'LDA 1'!K41","v":-1},0.2,3.0,1.2]
["verapamil",{"$f":"$M42 - 'LDA 1'!B42","v":2},{"$f":"$M42 - 'LDA 1'!C42","v":2},{"$f":"$M42 - 'LDA 1'!D42","v":0},{"$f":"$M42 - 'LDA 1'!E42","v":1},{"$f":"$M42 - 'LDA 1'!F42","v":2},{"$f":"$M42 - 'LDA 1'!G42","v":0},{"$f":"$M42 - 'LDA 1'!H42","v":3},{"$f":"$M42 - 'LDA 1'!I42","v":2},{"$f":"$M42 - 'LDA 1'!J42","v":1},{"$f":"$M42 - 'LDA 1'!K42","v":2},1.5,5.0,1.5]
["Total (abs)",{"$f":"sum(abs(B$2:B$42))","v":39},39,33,43,32,37,48,41,39,32]
["Mean (abs)",{"$f":"sum(abs(B$2:B$42))/count(B$2:B$42)","v":0.9512195122},0.9512195122,0.8048780488,1.048780488,0.7804878049,0.9024390244,1.170731707,1,0.9512195122,0.7804878049]
["SD (abs)",{"$f":"STDEV(abs(B$2:B$42))","v":0.7730206825},0.8352011588,0.7816492882,0.9987797433,0.7909549646,0.8001524245,1.115850327,0.7745966692,0.7730206825,0.7586894991]
["Total",{"$f":"sum(B$2:B$42)","v":-1},-9,-5,-37,-4,-25,46,-13,-17,-6]

{"sheet":"SVM 1 errors","index":11,"n_rows":46,"n_cols":14,"rows_kept":46,"cut":false,"hidden":false,"merged":[]}
["Drug name","Grandi Lancaster-Sobie","OHara Lancaster-Sobie","APD90","INa shift","ICaL increase","IKr block","Herg block / Cmax","INa shift +ICaL increase +IKr block","APD90 +INa shift +ICaL increase +IKr block","APD90 +ICaL increase","Avg","Redferns"]
["ajmaline",{"$f":"$M2 - 'SVM 1'!B2","v":0},{"$f":"$M2 - 'SVM 1'!C2","v":0},{"$f":"$M2 - 'SVM 1'!D2","v":0},{"$f":"$M2 - 'SVM 1'!E2","v":0},{"$f":"$M2 - 'SVM 1'!F2","v":0},{"$f":"$M2 - 'SVM 1'!G2","v":0},{"$f":"$M2 - 'SVM 1'!H2","v":0},{"$f":"$M2 - 'SVM 1'!I2","v":-1},{"$f":"$M2 - 'SVM 1'!J2","v":0},{"$f":"$M2 - 'SVM 1'!K2","v":0},{"$f":"average(B2:K2)","v":-0.1},2.0,{"$f":"average(abs(B2:K2))","v":0.1}]
["amiodarone",{"$f":"$M3 - 'SVM 1'!B3","v":-2},{"$f":"$M3 - 'SVM 1'!C3","v":-3},{"$f":"$M3 - 'SVM 1'!D3","v":-2},{"$f":"$M3 - 'SVM 1'!E3","v":-3},{"$f":"$M3 - 'SVM 1'!F3","v":-3},{"$f":"$M3 - 'SVM 1'!G3","v":0},{"$f":"$M3 - 'SVM 1'!H3","v":-2},{"$f":"$M3 - 'SVM 1'!I3","v":-3},{"$f":"$M3 - 'SVM 1'!J3","v":-3},{"$f":"$M3 - 'SVM 1'!K3","v":-3},-2.4,2.0,2.4]
["amitriptyline",{"$f":"$M4 - 'SVM 1'!B4","v":0},{"$f":"$M4 - 'SVM 1'!C4","v":-1},{"$f":"$M4 - 'SVM 1'!D4","v":0},{"$f":"$M4 - 'SVM 1'!E4","v":-1},{"$f":"$M4 - 'SVM 1'!F4","v":0},{"$f":"$M4 - 'SVM 1'!G4","v":2},{"$f":"$M4 - 'SVM 1'!H4","v":-1},{"$f":"$M4 - 'SVM 1'!I4","v":0},{"$f":"$M4 - 'SVM 1'!J4","v":2},{"$f":"$M4 - 'SVM 1'!K4","v":2},0.3,4.0,0.9]
["azimilide",{"$f":"$M5 - 'SVM 1'!B5","v":0},{"$f":"$M5 - 'SVM 1'!C5","v":0},{"$f":"$M5 - 'SVM 1'!D5","v":0},{"$f":"$M5 - 'SVM 1'!E5","v":0},{"$f":"$M5 - 'SVM 1'!F5","v":0},{"$f":"$M5 - 'SVM 1'!G5","v":0},{"$f":"$M5 - 'SVM 1'!H5","v":0},{"$f":"$M5 - 'SVM 1'!I5","v":0},{"$f":"$M5 - 'SVM 1'!J5","v":0},{"$f":"$M5 - 'SVM 1'!K5","v":0},0,2.0,0]
["bepridil",{"$f":"$M6 - 'SVM 1'!B6","v":-1},{"$f":"$M6 - 'SVM 1'!C6","v":-2},{"$f":"$M6 - 'SVM 1'!D6","v":-1},{"$f":"$M6 - 'SVM 1'!E6","v":-2},{"$f":"$M6 - 'SVM 1'!F6","v":-2},{"$f":"$M6 - 'SVM 1'!G6","v":1},{"$f":"$M6 - 'SVM 1'!H6","v":1},{"$f":"$M6 - 'SVM 1'!I6","v":-2},{"$f":"$M6 - 'SVM 1'!J6","v":-2},{"$f":"$M6 - 'SVM 1'!K6","v":-2},-1.2,3.0,1.6]
["chlorpromazine",{"$f":"$M7 - 'SVM 1'!B7","v":-1},{"$f":"$M7 - 'SVM 1'!C7","v":-2},{"$f":"$M7 - 'SVM 1'!D7","v":-1},{"$f":"$M7 - 'SVM 1'!E7","v":-2},{"$f":"$M7 - 'SVM 1'!F7","v":-2},{"$f":"$M7 - 'SVM 1'!G7","v":1},{"$f":"$M7 - 'SVM 1'!H7","v":1},{"$f":"$M7 - 'SVM 1'!I7","v":-2},{"$f":"$M7 - 'SVM 1'!J7","v":-2},{"$f":"$M7 - 'SVM 1'!K7","v":-2},-1.2,3.0,1.6]
["cibenzoline",{"$f":"$M8 - 'SVM 1'!B8","v":1},{"$f":"$M8 - 'SVM 1'!C8","v":0},{"$f":"$M8 - 'SVM 1'!D8","v":1},{"$f":"$M8 - 'SVM 1'!E8","v":1},{"$f":"$M8 - 'SVM 1'!F8","v":1},{"$f":"$M8 - 'SVM 1'!G8","v":3},{"$f":"$M8 - 'SVM 1'!H8","v":3},{"$f":"$M8 - 'SVM 1'!I8","v":1},{"$f":"$M8 - 'SVM 1'!J8","v":2},{"$f":"$M8 - 'SVM 1'!K8","v":1},1.4,5.0,1.4]
["cisapride",{"$f":"$M9 - 'SVM 1'!B9","v":0},{"$f":"$M9 - 'SVM 1'!C9","v":0},{"$f":"$M9 - 'SVM 1'!D9","v":0},{"$f":"$M9 - 'SVM 1'!E9","v":0},{"$f":"$M9 - 'SVM 1'!F9","v":0},{"$f":"$M9 - 'SVM 1'!G9","v":0},{"$f":"$M9 - 'SVM 1'!H9","v":0},{"$f":"$M9 - 'SVM 1'!I9","v":0},{"$f":"$M9 - 'SVM 1'!J9","v":0},{"$f":"$M9 - 'SVM 1'!K9","v":0},0,2.0,0]
["clozapine",{"$f":"$M10 - 'SVM 1'!B10","v":2},{"$f":"$M10 - 'SVM 1'!C10","v":2},{"$f":"$M10 - 'SVM 1'!D10","v":2},{"$f":"$M10 - 'SVM 1'!E10","v":2},{"$f":"$M10 - 'SVM 1'!F10","v":2},{"$f":"$M10 - 'SVM 1'!G10","v":2},{"$f":"$M10 - 'SVM 1'!H10","v":2},{"$f":"$M10 - 'SVM 1'!I10","v":2},{"$f":"$M10 - 'SVM 1'!J10","v":2},{"$f":"$M10 - 'SVM 1'!K10","v":2},2,4.0,2]
["desipramine",{"$f":"$M11 - 'SVM 1'!B11","v":0},{"$f":"$M11 - 'SVM 1'!C11","v":-1},{"$f":"$M11 - 'SVM 1'!D11","v":0},{"$f":"$M11 - 'SVM 1'!E11","v":-1},{"$f":"$M11 - 'SVM 1'!F11","v":-1},{"$f":"$M11 - 'SVM 1'!G11","v":2},{"$f":"$M11 - 'SVM 1'!H11","v":2},{"$f":"$M11 - 'SVM 1'!I11","v":-1},{"$f":"$M11 - 'SVM 1'!J11","v":-1},{"$f":"$M11 - 'SVM 1'!K11","v":-1},-0.2,4.0,1]
["diltiazem",{"$f":"$M12 - 'SVM 1'!B12","v":0},{"$f":"$M12 - 'SVM 1'!C12","v":1},{"$f":"$M12 - 'SVM 1'!D12","v":0},{"$f":"$M12 - 'SVM 1'!E12","v":1},{"$f":"$M12 - 'SVM 1'!F12","v":0},{"$f":"$M12 - 'SVM 1'!G12","v":3},{"$f":"$M12 - 'SVM 1'!H12","v":0},{"$f":"$M12 - 'SVM 1'!I12","v":0},{"$f":"$M12 - 'SVM 1'!J12","v":0},{"$f":"$M12 - 'SVM 1'!K12","v":0},0.5,5.0,0.5]
["disopyramide",{"$f":"$M13 - 'SVM 1'!B13","v":0},{"$f":"$M13 - 'SVM 1'!C13","v":0},{"$f":"$M13 - 'SVM 1'!D13","v":0},{"$f":"$M13 - 'SVM 1'!E13","v":0},{"$f":"$M13 - 'SVM 1'!F13","v":0},{"$f":"$M13 - 'SVM 1'!G13","v":0},{"$f":"$M13 - 'SVM 1'!H13","v":0},{"$f":"$M13 - 'SVM 1'!I13","v":0},{"$f":"$M13 - 'SVM 1'!J13","v":0},{"$f":"$M13 - 'SVM 1'!K13","v":0},0,2.0,0]
["dl-sotalol",{"$f":"$M14 - 'SVM 1'!B14","v":-2},{"$f":"$M14 - 'SVM 1'!C14","v":-2},{"$f":"$M14 - 'SVM 1'!D14","v":-2},{"$f":"$M14 - 'SVM 1'!E14","v":-3},{"$f":"$M14 - 'SVM 1'!F14","v":-2},{"$f":"$M14 - 'SVM 1'!G14","v":0},{"$f":"$M14 - 'SVM 1'!H14","v":0},{"$f":"$M14 - 'SVM 1'!I14","v":-2},{"$f":"$M14 - 'SVM 1'!J14","v":0},{"$f":"$M14 - 'SVM 1'!K14","v":0},-1.3,2.0,1.3]
["dofetilide",{"$f":"$M15 - 'SVM 1'!B15","v":0},{"$f":"$M15 - 'SVM 1'!C15","v":0},{"$f":"$M15 - 'SVM 1'!D15","v":0},{"$f":"$M15 - 'SVM 1'!E15","v":0},{"$f":"$M15 - 'SVM 1'!F15","v":0},{"$f":"$M15 - 'SVM 1'!G15","v":0},{"$f":"$M15 - 'SVM 1'!H15","v":0},{"$f":"$M15 - 'SVM 1'!I15","v":0},{"$f":"$M15 - 'SVM 1'!J15","v":0},{"$f":"$M15 - 'SVM 1'!K15","v":0},0,2.0,0]
["flecainide",{"$f":"$M16 - 'SVM 1'!B16","v":1},{"$f":"$M16 - 'SVM 1'!C16","v":-1},{"$f":"$M16 - 'SVM 1'!D16","v":1},{"$f":"$M16 - 'SVM 1'!E16","v":1},{"$f":"$M16 - 'SVM 1'!F16","v":1},{"$f":"$M16 - 'SVM 1'!G16","v":1},{"$f":"$M16 - 'SVM 1'!H16","v":1},{"$f":"$M16 - 'SVM 1'!I16","v":1},{"$f":"$M16 - 'SVM 1'!J16","v":-1},{"$f":"$M16 - 'SVM 1'!K16","v":1},0.6,3.0,1]
["fluvoxamine",{"$f":"$M17 - 'SVM 1'!B17","v":0},{"$f":"$M17 - 'SVM 1'!C17","v":-1},{"$f":"$M17 - 'SVM 1'!D17","v":0},{"$f":"$M17 - 'SVM 1'!E17","v":-1},{"$f":"$M17 - 'SVM 1'!F17","v":-1},{"$f":"$M17 - 'SVM 1'!G17","v":2},{"$f":"$M17 - 'SVM 1'!H17","v":2},{"$f":"$M17 - 'SVM 1'!I17","v":-1},{"$f":"$M17 - 'SVM 1'!J17","v":-1},{"$f":"$M17 - 'SVM 1'!K17","v":-1},-0.2,4.0,1]
["halofantrine",{"$f":"$M18 - 'SVM 1'!B18","v":-1},{"$f":"$M18 - 'SVM 1'!C18","v":-1},{"$f":"$M18 - 'SVM 1'!D18","v":-1},{"$f":"$M18 - 'SVM 1'!E18","v":-2},{"$f":"$M18 - 'SVM 1'!F18","v":-2},{"$f":"$M18 - 'SVM 1'!G18","v":1},{"$f":"$M18 - 'SVM 1'!H18","v":-1},{"$f":"$M18 - 'SVM 1'!I18","v":-2},{"$f":"$M18 - 'SVM 1'!J18","v":1},{"$f":"$M18 - 'SVM 1'!K18","v":1},-0.7,3.0,1.3]
["imipramine",{"$f":"$M19 - 'SVM 1'!B19","v":0},{"$f":"$M19 - 'SVM 1'!C19","v":-1},{"$f":"$M19 - 'SVM 1'!D19","v":0},{"$f":"$M19 - 'SVM 1'!E19","v":-1},{"$f":"$M19 - 'SVM 1'!F19","v":-1},{"$f":"$M19 - 'SVM 1'!G19","v":2},{"$f":"$M19 - 'SVM 1'!H19","v":0},{"$f":"$M19 - 'SVM 1'!I19","v":-1},{"$f":"$M19 - 'SVM 1'!J19","v":-1},{"$f":"$M19 - 'SVM 1'!K19","v":-1},-0.4,4.0,0.8]
["loratadine",{"$f":"$M20 - 'SVM 1'!B20","v":1},{"$f":"$M20 - 'SVM 1'!C20","v":1},{"$f":"$M20 - 'SVM 1'!D20","v":1},{"$f":"$M20 - 'SVM 1'!E20","v":1},{"$f":"$M20 - 'SVM 1'!F20","v":1},{"$f":"$M20 - 'SVM 1'!G20","v":3},{"$f":"$M20 - 'SVM 1'!H20","v":0},{"$f":"$M20 - 'SVM 1'!I20","v":1},{"$f":"$M20 - 'SVM 1'!J20","v":2},{"$f":"$M20 - 'SVM 1'!K20","v":1},1.2,5.0,1.2]
["methadone",{"$f":"$M21 - 'SVM 1'!B21","v":-2},{"$f":"$M21 - 'SVM 1'!C21","v":-2},{"$f":"$M21 - 'SVM 1'!D21","v":-2},{"$f":"$M21 - 'SVM 1'!E21","v":-2},{"$f":"$M21 - 'SVM 1'!F21","v":-2},{"$f":"$M21 - 'SVM 1'!G21","v":0},{"$f":"$M21 - 'SVM 1'!H21","v":0},{"$f":"$M21 - 'SVM 1'!I21","v":-2},{"$f":"$M21 - 'SVM 1'!J21","v":-2},{"$f":"$M21 - 'SVM 1'!K21","v":0},-1.4,2.0,1.4]
["mexiletine",{"$f":"$M22 - 'SVM 1'!B22","v":0},{"$f":"$M22 - 'SVM 1'!C22","v":-1},{"$f":"$M22 - 'SVM 1'!D22","v":0},{"$f":"$M22 - 'SVM 1'!E22","v":-1},{"$f":"$M22 - 'SVM 1'!F22","v":-1},{"$f":"$M22 - 'SVM 1'!G22","v":2},{"$f":"$M22 - 'SVM 1'!H22","v":2},{"$f":"$M22 - 'SVM 1'!I22","v":-1},{"$f":"$M22 - 'SVM 1'!J22","v":-1},{"$f":"$M22 - 'SVM 1'!K22","v":-1},-0.2,4.0,1]
["mibefradil",{"$f":"$M23 - 'SVM 1'!B23","v":0},{"$f":"$M23 - 'SVM 1'!C23","v":-1},{"$f":"$M23 - 'SVM 1'!D23","v":0},{"$f":"$M23 - 'SVM 1'!E23","v":0},{"$f":"$M23 - 'SVM 1'!F23","v":-1},{"$f":"$M23 - 'SVM 1'!G23","v":2},{"$f":"$M23 - 'SVM 1'!H23","v":0},{"$f":"$M23 - 'SVM 1'!I23","v":-1},{"$f":"$M23 - 'SVM 1'!J23","v":-1},{"$f":"$M23 - 'SVM 1'!K23","v":-1},-0.3,4.0,0.7]
["nifedipine",{"$f":"$M24 - 'SVM 1'!B24","v":-1},{"$f":"$M24 - 'SVM 1'!C24","v":-1},{"$f":"$M24 - 'SVM 1'!D24","v":-1},{"$f":"$M24 - 'SVM 1'!E24","v":-1},{"$f":"$M24 - 'SVM 1'!F24","v":-1},{"$f":"$M24 - 'SVM 1'!G24","v":2},{"$f":"$M24 - 'SVM 1'!H24","v":-1},{"$f":"$M24 - 'SVM 1'!I24","v":-1},{"$f":"$M24 - 'SVM 1'!J24","v":-1},{"$f":"$M24 - 'SVM 1'!K24","v":-1},-0.7,4.0,1.1]
["nitrendipine",{"$f":"$M25 - 'SVM 1'!B25","v":1},{"$f":"$M25 - 'SVM 1'!C25","v":1},{"$f":"$M25 - 'SVM 1'!D25","v":1},{"$f":"$M25 - 'SVM 1'!E25","v":1},{"$f":"$M25 - 'SVM 1'!F25","v":1},{"$f":"$M25 - 'SVM 1'!G25","v":3},{"$f":"$M25 - 'SVM 1'!H25","v":1},{"$f":"$M25 - 'SVM 1'!I25","v":1},{"$f":"$M25 - 'SVM 1'!J25","v":1},{"$f":"$M25 - 'SVM 1'!K25","v":1},1.2,5.0,1.2]
["ondansetron",{"$f":"$M26 - 'SVM 1'!B26","v":0},{"$f":"$M26 - 'SVM 1'!C26","v":0},{"$f":"$M26 - 'SVM 1'!D26","v":0},{"$f":"$M26 - 'SVM 1'!E26","v":0},{"$f":"$M26 - 'SVM 1'!F26","v":0},{"$f":"$M26 - 'SVM 1'!G26","v":0},{"$f":"$M26 - 'SVM 1'!H26","v":0},{"$f":"$M26 - 'SVM 1'!I26","v":0},{"$f":"$M26 - 'SVM 1'!J26","v":0},{"$f":"$M26 - 'SVM 1'!K26","v":0},0,2.0,0]
["pentamidine",{"$f":"$M27 - 'SVM 1'!B27","v":-1},{"$f":"$M27 - 'SVM 1'!C27","v":-1},{"$f":"$M27 - 'SVM 1'!D27","v":-1},{"$f":"$M27 - 'SVM 1'!E27","v":-2},{"$f":"$M27 - 'SVM 1'!F27","v":-2},{"$f":"$M27 - 'SVM 1'!G27","v":1},{"$f":"$M27 - 'SVM 1'!H27","v":-2},{"$f":"$M27 - 'SVM 1'!I27","v":-2},{"$f":"$M27 - 'SVM 1'!J27","v":1},{"$f":"$M27 - 'SVM 1'!K27","v":1},-0.8,3.0,1.4]
["phenytoin",{"$f":"$M28 - 'SVM 1'!B28","v":1},{"$f":"$M28 - 'SVM 1'!C28","v":1},{"$f":"$M28 - 'SVM 1'!D28","v":1},{"$f":"$M28 - 'SVM 1'!E28","v":1},{"$f":"$M28 - 'SVM 1'!F28","v":1},{"$f":"$M28 - 'SVM 1'!G28","v":3},{"$f":"$M28 - 'SVM 1'!H28","v":3},{"$f":"$M28 - 'SVM 1'!I28","v":1},{"$f":"$M28 - 'SVM 1'!J28","v":1},{"$f":"$M28 - 'SVM 1'!K28","v":1},1.4,5.0,1.4]
["pimozide",{"$f":"$M29 - 'SVM 1'!B29","v":-1},{"$f":"$M29 - 'SVM 1'!C29","v":-1},{"$f":"$M29 - 'SVM 1'!D29","v":-1},{"$f":"$M29 - 'SVM 1'!E29","v":-2},{"$f":"$M29 - 'SVM 1'!F29","v":-2},{"$f":"$M29 - 'SVM 1'!G29","v":1},{"$f":"$M29 - 'SVM 1'!H29","v":1},{"$f":"$M29 - 'SVM 1'!I29","v":-2},{"$f":"$M29 - 'SVM 1'!J29","v":1},{"$f":"$M29 - 'SVM 1'!K29","v":1},-0.5,3.0,1.3]
["prenylamine",{"$f":"$M30 - 'SVM 1'!B30","v":0},{"$f":"$M30 - 'SVM 1'!C30","v":-2},{"$f":"$M30 - 'SVM 1'!D30","v":0},{"$f":"$M30 - 'SVM 1'!E30","v":-2},{"$f":"$M30 - 'SVM 1'!F30","v":-2},{"$f":"$M30 - 'SVM 1'!G30","v":0},{"$f":"$M30 - 'SVM 1'!H30","v":0},{"$f":"$M30 - 'SVM 1'!I30","v":-2},{"$f":"$M30 - 'SVM 1'!J30","v":-2},{"$f":"$M30 - 'SVM 1'!K30","v":0},-1,2.0,1]
["propafenone",{"$f":"$M31 - 'SVM 1'!B31","v":0},{"$f":"$M31 - 'SVM 1'!C31","v":2},{"$f":"$M31 - 'SVM 1'!D31","v":0},{"$f":"$M31 - 'SVM 1'!E31","v":2},{"$f":"$M31 - 'SVM 1'!F31","v":2},{"$f":"$M31 - 'SVM 1'!G31","v":2},{"$f":"$M31 - 'SVM 1'!H31","v":2},{"$f":"$M31 - 'SVM 1'!I31","v":2},{"$f":"$M31 - 'SVM 1'!J31","v":0},{"$f":"$M31 - 'SVM 1'!K31","v":0},1.2,4.0,1.2]
["propranolol",{"$f":"$M32 - 'SVM 1'!B32","v":1},{"$f":"$M32 - 'SVM 1'!C32","v":1},{"$f":"$M32 - 'SVM 1'!D32","v":1},{"$f":"$M32 - 'SVM 1'!E32","v":1},{"$f":"$M32 - 'SVM 1'!F32","v":1},{"$f":"$M32 - 'SVM 1'!G32","v":3},{"$f":"$M32 - 'SVM 1'!H32","v":0},{"$f":"$M32 - 'SVM 1'!I32","v":1},{"$f":"$M32 - 'SVM 1'!J32","v":2},{"$f":"$M32 - 'SVM 1'!K32","v":1},1.2,5.0,1.2]
["quetiapine",{"$f":"$M33 - 'SVM 1'!B33","v":1},{"$f":"$M33 - 'SVM 1'!C33","v":1},{"$f":"$M33 - 'SVM 1'!D33","v":1},{"$f":"$M33 - 'SVM 1'!E33","v":1},{"$f":"$M33 - 'SVM 1'!F33","v":1},{"$f":"$M33 - 'SVM 1'!G33","v":3},{"$f":"$M33 - 'SVM 1'!H33","v":0},{"$f":"$M33 - 'SVM 1'!I33","v":1},{"$f":"$M33 - 'SVM 1'!J33","v":2},{"$f":"$M33 - 'SVM 1'!K33","v":1},1.2,5.0,1.2]
["quinidine",{"$f":"$M34 - 'SVM 1'!B34","v":0},{"$f":"$M34 - 'SVM 1'!C34","v":0},{"$f":"$M34 - 'SVM 1'!D34","v":0},{"$f":"$M34 - 'SVM 1'!E34","v":0},{"$f":"$M34 - 'SVM 1'!F34","v":0},{"$f":"$M34 - 'SVM 1'!G34","v":0},{"$f":"$M34 - 'SVM 1'!H34","v":0},{"$f":"$M34 - 'SVM 1'!I34","v":-1},{"$f":"$M34 - 'SVM 1'!J34","v":0},{"$f":"$M34 - 'SVM 1'!K34","v":0},-0.1,2.0,0.1]
["ranolazine",{"$f":"$M35 - 'SVM 1'!B35","v":1},{"$f":"$M35 - 'SVM 1'!C35","v":1},{"$f":"$M35 - 'SVM 1'!D35","v":1},{"$f":"$M35 - 'SVM 1'!E35","v":1},{"$f":"$M35 - 'SVM 1'!F35","v":1},{"$f":"$M35 - 'SVM 1'!G35","v":1},{"$f":"$M35 - 'SVM 1'!H35","v":1},{"$f":"$M35 - 'SVM 1'!I35","v":1},{"$f":"$M35 - 'SVM 1'!J35","v":1},{"$f":"$M35 - 'SVM 1'!K35","v":1},1,3.0,1]
["risperidone",{"$f":"$M36 - 'SVM 1'!B36","v":1},{"$f":"$M36 - 'SVM 1'!C36","v":1},{"$f":"$M36 - 'SVM 1'!D36","v":1},{"$f":"$M36 - 'SVM 1'!E36","v":1},{"$f":"$M36 - 'SVM 1'!F36","v":1},{"$f":"$M36 - 'SVM 1'!G36","v":3},{"$f":"$M36 - 'SVM 1'!H36","v":0},{"$f":"$M36 - 'SVM 1'!I36","v":1},{"$f":"$M36 - 'SVM 1'!J36","v":2},{"$f":"$M36 - 'SVM 1'!K36","v":1},1.2,5.0,1.2]
["sertindole",{"$f":"$M37 - 'SVM 1'!B37","v":0},{"$f":"$M37 - 'SVM 1'!C37","v":-2},{"$f":"$M37 - 'SVM 1'!D37","v":-2},{"$f":"$M37 - 'SVM 1'!E37","v":-2},{"$f":"$M37 - 'SVM 1'!F37","v":-2},{"$f":"$M37 - 'SVM 1'!G37","v":0},{"$f":"$M37 - 'SVM 1'!H37","v":0},{"$f":"$M37 - 'SVM 1'!I37","v":-2},{"$f":"$M37 - 'SVM 1'!J37","v":0},{"$f":"$M37 - 'SVM 1'!K37","v":0},-1,2.0,1]
["tedisamil",{"$f":"$M38 - 'SVM 1'!B38","v":-2},{"$f":"$M38 - 'SVM 1'!C38","v":-2},{"$f":"$M38 - 'SVM 1'!D38","v":-2},{"$f":"$M38 - 'SVM 1'!E38","v":-3},{"$f":"$M38 - 'SVM 1'!F38","v":-2},{"$f":"$M38 - 'SVM 1'!G38","v":0},{"$f":"$M38 - 'SVM 1'!H38","v":-2},{"$f":"$M38 - 'SVM 1'!I38","v":-2},{"$f":"$M38 - 'SVM 1'!J38","v":0},{"$f":"$M38 - 'SVM 1'!K38","v":0},-1.5,2.0,1.5]
["terfenadine",{"$f":"$M39 - 'SVM 1'!B39","v":0},{"$f":"$M39 - 'SVM 1'!C39","v":0},{"$f":"$M39 - 'SVM 1'!D39","v":0},{"$f":"$M39 - 'SVM 1'!E39","v":0},{"$f":"$M39 - 'SVM 1'!F39","v":0},{"$f":"$M39 - 'SVM 1'!G39","v":0},{"$f":"$M39 - 'SVM 1'!H39","v":0},{"$f":"$M39 - 'SVM 1'!I39","v":0},{"$f":"$M39 - 'SVM 1'!J39","v":0},{"$f":"$M39 - 'SVM 1'!K39","v":0},0,2.0,0]
["terodiline",{"$f":"$M40 - 'SVM 1'!B40","v":0},{"$f":"$M40 - 'SVM 1'!C40","v":0},{"$f":"$M40 - 'SVM 1'!D40","v":0},{"$f":"$M40 - 'SVM 1'!E40","v":0},{"$f":"$M40 - 'SVM 1'!F40","v":0},{"$f":"$M40 - 'SVM 1'!G40","v":0},{"$f":"$M40 - 'SVM 1'!H40","v":0},{"$f":"$M40 - 'SVM 1'!I40","v":0},{"$f":"$M40 - 'SVM 1'!J40","v":0},{"$f":"$M40 - 'SVM 1'!K40","v":0},0,2.0,0]
["thioridazine",{"$f":"$M41 - 'SVM 1'!B41","v":-2},{"$f":"$M41 - 'SVM 1'!C41","v":1},{"$f":"$M41 - 'SVM 1'!D41","v":-1},{"$f":"$M41 - 'SVM 1'!E41","v":1},{"$f":"$M41 - 'SVM 1'!F41","v":1},{"$f":"$M41 - 'SVM 1'!G41","v":1},{"$f":"$M41 - 'SVM 1'!H41","v":1},{"$f":"$M41 - 'SVM 1'!I41","v":1},{"$f":"$M41 - 'SVM 1'!J41","v":-1},{"$f":"$M41 - 'SVM 1'!K41","v":-1},0.1,3.0,1.1]
["verapamil",{"$f":"$M42 - 'SVM 1'!B42","v":1},{"$f":"$M42 - 'SVM 1'!C42","v":3},{"$f":"$M42 - 'SVM 1'!D42","v":1},{"$f":"$M42 - 'SVM 1'!E42","v":3},{"$f":"$M42 - 'SVM 1'!F42","v":1},{"$f":"$M42 - 'SVM 1'!G42","v":3},{"$f":"$M42 - 'SVM 1'!H42","v":3},{"$f":"$M42 - 'SVM 1'!I42","v":3},{"$f":"$M42 - 'SVM 1'!J42","v":1},{"$f":"$M42 - 'SVM 1'!K42","v":2},2.1,5.0,2.1]
["Total (abs)",{"$f":"sum(abs(B$2:B$42))","v":28},44,29,49,44,53,35,48,40,32]
["Mean (abs)",{"$f":"sum(abs(B$2:B$42))/count(B$2:B$42)","v":0.6829268293},1.073170732,0.7073170732,1.195121951,1.073170732,1.292682927,0.8536585366,1.170731707,0.9756097561,0.7804878049]
["SD (abs)",{"$f":"STDEV(abs(B$2:B$42))","v":0.7224619156},0.8182372487,0.7156780854,0.927887714,0.8182372487,1.188358162,0.9889634879,0.8337397383,0.8511111819,0.7586894991]
["Total",{"$f":"sum(B$2:B$42)","v":-4},-12,-5,-13,-14,53,17,-14,2,4]

{"sheet":"LDA 5 errors","index":12,"n_rows":46,"n_cols":14,"rows_kept":46,"cut":false,"hidden":false,"merged":[]}
["Drug name","Grandi Lancaster-Sobie","OHara Lancaster-Sobie","APD90","INa shift","ICaL increase","IKr block","Herg block / Cmax","INa shift +ICaL increase +IKr block","APD90 +INa shift +ICaL increase +IKr block","APD90 +ICaL increase","Avg","Redferns"]
["ajmaline",{"$f":"$M2 - 'LDA 5'!B2","v":-1},{"$f":"$M2 - 'LDA 5'!C2","v":-1},{"$f":"$M2 - 'LDA 5'!D2","v":0},{"$f":"$M2 - 'LDA 5'!E2","v":-1},{"$f":"$M2 - 'LDA 5'!F2","v":0},{"$f":"$M2 - 'LDA 5'!G2","v":-1},{"$f":"$M2 - 'LDA 5'!H2","v":0},{"$f":"$M2 - 'LDA 5'!I2","v":-1},{"$f":"$M2 - 'LDA 5'!J2","v":-1},{"$f":"$M2 - 'LDA 5'!K2","v":0},{"$f":"average(B2:K2)","v":-0.6},2.0,{"$f":"average(abs(B2:K2))","v":0.6}]
["amiodarone",{"$f":"$M3 - 'LDA 5'!B3","v":-2},{"$f":"$M3 - 'LDA 5'!C3","v":-3},{"$f":"$M3 - 'LDA 5'!D3","v":-1},{"$f":"$M3 - 'LDA 5'!E3","v":-3},{"$f":"$M3 - 'LDA 5'!F3","v":-2},{"$f":"$M3 - 'LDA 5'!G3","v":-2},{"$f":"$M3 - 'LDA 5'!H3","v":0},{"$f":"$M3 - 'LDA 5'!I3","v":-2},{"$f":"$M3 - 'LDA 5'!J3","v":-2},{"$f":"$M3 - 'LDA 5'!K3","v":-2},-1.9,2.0,1.9]
["amitriptyline",{"$f":"$M4 - 'LDA 5'!B4","v":0},{"$f":"$M4 - 'LDA 5'!C4","v":-1},{"$f":"$M4 - 'LDA 5'!D4","v":1},{"$f":"$M4 - 'LDA 5'!E4","v":-1},{"$f":"$M4 - 'LDA 5'!F4","v":0},{"$f":"$M4 - 'LDA 5'!G4","v":0},{"$f":"$M4 - 'LDA 5'!H4","v":2},{"$f":"$M4 - 'LDA 5'!I4","v":0},{"$f":"$M4 - 'LDA 5'!J4","v":0},{"$f":"$M4 - 'LDA 5'!K4","v":0},0.1,4.0,0.5]
["azimilide",{"$f":"$M5 - 'LDA 5'!B5","v":0},{"$f":"$M5 - 'LDA 5'!C5","v":0},{"$f":"$M5 - 'LDA 5'!D5","v":0},{"$f":"$M5 - 'LDA 5'!E5","v":-2},{"$f":"$M5 - 'LDA 5'!F5","v":0},{"$f":"$M5 - 'LDA 5'!G5","v":-1},{"$f":"$M5 - 'LDA 5'!H5","v":0},{"$f":"$M5 - 'LDA 5'!I5","v":-2},{"$f":"$M5 - 'LDA 5'!J5","v":0},{"$f":"$M5 - 'LDA 5'!K5","v":0},-0.5,2.0,0.5]
["bepridil",{"$f":"$M6 - 'LDA 5'!B6","v":0},{"$f":"$M6 - 'LDA 5'!C6","v":0},{"$f":"$M6 - 'LDA 5'!D6","v":-2},{"$f":"$M6 - 'LDA 5'!E6","v":-2},{"$f":"$M6 - 'LDA 5'!F6","v":-2},{"$f":"$M6 - 'LDA 5'!G6","v":-2},{"$f":"$M6 - 'LDA 5'!H6","v":1},{"$f":"$M6 - 'LDA 5'!I6","v":-2},{"$f":"$M6 - 'LDA 5'!J6","v":-2},{"$f":"$M6 - 'LDA 5'!K6","v":-2},-1.3,3.0,1.5]
["chlorpromazine",{"$f":"$M7 - 'LDA 5'!B7","v":0},{"$f":"$M7 - 'LDA 5'!C7","v":-2},{"$f":"$M7 - 'LDA 5'!D7","v":-1},{"$f":"$M7 - 'LDA 5'!E7","v":-2},{"$f":"$M7 - 'LDA 5'!F7","v":0},{"$f":"$M7 - 'LDA 5'!G7","v":-2},{"$f":"$M7 - 'LDA 5'!H7","v":0},{"$f":"$M7 - 'LDA 5'!I7","v":0},{"$f":"$M7 - 'LDA 5'!J7","v":0},{"$f":"$M7 - 'LDA 5'!K7","v":0},-0.7,3.0,0.7]
["cibenzoline",{"$f":"$M8 - 'LDA 5'!B8","v":1},{"$f":"$M8 - 'LDA 5'!C8","v":0},{"$f":"$M8 - 'LDA 5'!D8","v":2},{"$f":"$M8 - 'LDA 5'!E8","v":0},{"$f":"$M8 - 'LDA 5'!F8","v":1},{"$f":"$M8 - 'LDA 5'!G8","v":1},{"$f":"$M8 - 'LDA 5'!H8","v":3},{"$f":"$M8 - 'LDA 5'!I8","v":1},{"$f":"$M8 - 'LDA 5'!J8","v":1},{"$f":"$M8 - 'LDA 5'!K8","v":1},1.1,5.0,1.1]
["cisapride",{"$f":"$M9 - 'LDA 5'!B9","v":0},{"$f":"$M9 - 'LDA 5'!C9","v":0},{"$f":"$M9 - 'LDA 5'!D9","v":0},{"$f":"$M9 - 'LDA 5'!E9","v":0},{"$f":"$M9 - 'LDA 5'!F9","v":0},{"$f":"$M9 - 'LDA 5'!G9","v":-1},{"$f":"$M9 - 'LDA 5'!H9","v":0},{"$f":"$M9 - 'LDA 5'!I9","v":0},{"$f":"$M9 - 'LDA 5'!J9","v":0},{"$f":"$M9 - 'LDA 5'!K9","v":0},-0.1,2.0,0.1]
["clozapine",{"$f":"$M10 - 'LDA 5'!B10","v":2},{"$f":"$M10 - 'LDA 5'!C10","v":2},{"$f":"$M10 - 'LDA 5'!D10","v":2},{"$f":"$M10 - 'LDA 5'!E10","v":1},{"$f":"$M10 - 'LDA 5'!F10","v":2},{"$f":"$M10 - 'LDA 5'!G10","v":1},{"$f":"$M10 - 'LDA 5'!H10","v":2},{"$f":"$M10 - 'LDA 5'!I10","v":2},{"$f":"$M10 - 'LDA 5'!J10","v":2},{"$f":"$M10 - 'LDA 5'!K10","v":2},1.8,4.0,1.8]
["desipramine",{"$f":"$M11 - 'LDA 5'!B11","v":0},{"$f":"$M11 - 'LDA 5'!C11","v":0},{"$f":"$M11 - 'LDA 5'!D11","v":1},{"$f":"$M11 - 'LDA 5'!E11","v":-1},{"$f":"$M11 - 'LDA 5'!F11","v":1},{"$f":"$M11 - 'LDA 5'!G11","v":1},{"$f":"$M11 - 'LDA 5'!H11","v":2},{"$f":"$M11 - 'LDA 5'!I11","v":0},{"$f":"$M11 - 'LDA 5'!J11","v":0},{"$f":"$M11 - 'LDA 5'!K11","v":0},0.4,4.0,0.6]
["diltiazem",{"$f":"$M12 - 'LDA 5'!B12","v":0},{"$f":"$M12 - 'LDA 5'!C12","v":2},{"$f":"$M12 - 'LDA 5'!D12","v":0},{"$f":"$M12 - 'LDA 5'!E12","v":0},{"$f":"$M12 - 'LDA 5'!F12","v":0},{"$f":"$M12 - 'LDA 5'!G12","v":0},{"$f":"$M12 - 'LDA 5'!H12","v":3},{"$f":"$M12 - 'LDA 5'!I12","v":0},{"$f":"$M12 - 'LDA 5'!J12","v":0},{"$f":"$M12 - 'LDA 5'!K12","v":0},0.5,5.0,0.5]
["disopyramide",{"$f":"$M13 - 'LDA 5'!B13","v":0},{"$f":"$M13 - 'LDA 5'!C13","v":0},{"$f":"$M13 - 'LDA 5'!D13","v":0},{"$f":"$M13 - 'LDA 5'!E13","v":-1},{"$f":"$M13 - 'LDA 5'!F13","v":0},{"$f":"$M13 - 'LDA 5'!G13","v":-2},{"$f":"$M13 - 'LDA 5'!H13","v":0},{"$f":"$M13 - 'LDA 5'!I13","v":-2},{"$f":"$M13 - 'LDA 5'!J13","v":-2},{"$f":"$M13 - 'LDA 5'!K13","v":0},-0.7,2.0,0.7]
["dl-sotalol",{"$f":"$M14 - 'LDA 5'!B14","v":-2},{"$f":"$M14 - 'LDA 5'!C14","v":-2},{"$f":"$M14 - 'LDA 5'!D14","v":-2},{"$f":"$M14 - 'LDA 5'!E14","v":-3},{"$f":"$M14 - 'LDA 5'!F14","v":-2},{"$f":"$M14 - 'LDA 5'!G14","v":-2},{"$f":"$M14 - 'LDA 5'!H14","v":0},{"$f":"$M14 - 'LDA 5'!I14","v":-2},{"$f":"$M14 - 'LDA 5'!J14","v":-2},{"$f":"$M14 - 'LDA 5'!K14","v":-2},-1.9,2.0,1.9]
["dofetilide",{"$f":"$M15 - 'LDA 5'!B15","v":0},{"$f":"$M15 - 'LDA 5'!C15","v":0},{"$f":"$M15 - 'LDA 5'!D15","v":0},{"$f":"$M15 - 'LDA 5'!E15","v":-2},{"$f":"$M15 - 'LDA 5'!F15","v":0},{"$f":"$M15 - 'LDA 5'!G15","v":-2},{"$f":"$M15 - 'LDA 5'!H15","v":0},{"$f":"$M15 - 'LDA 5'!I15","v":0},{"$f":"$M15 - 'LDA 5'!J15","v":0},{"$f":"$M15 - 'LDA 5'!K15","v":0},-0.4,2.0,0.4]
["flecainide",{"$f":"$M16 - 'LDA 5'!B16","v":1},{"$f":"$M16 - 'LDA 5'!C16","v":-2},{"$f":"$M16 - 'LDA 5'!D16","v":1},{"$f":"$M16 - 'LDA 5'!E16","v":1},{"$f":"$M16 - 'LDA 5'!F16","v":1},{"$f":"$M16 - 'LDA 5'!G16","v":1},{"$f":"$M16 - 'LDA 5'!H16","v":1},{"$f":"$M16 - 'LDA 5'!I16","v":1},{"$f":"$M16 - 'LDA 5'!J16","v":1},{"$f":"$M16 - 'LDA 5'!K16","v":1},0.7,3.0,1.1]
["fluvoxamine",{"$f":"$M17 - 'LDA 5'!B17","v":0},{"$f":"$M17 - 'LDA 5'!C17","v":2},{"$f":"$M17 - 'LDA 5'!D17","v":1},{"$f":"$M17 - 'LDA 5'!E17","v":-1},{"$f":"$M17 - 'LDA 5'!F17","v":1},{"$f":"$M17 - 'LDA 5'!G17","v":0},{"$f":"$M17 - 'LDA 5'!H17","v":2},{"$f":"$M17 - 'LDA 5'!I17","v":0},{"$f":"$M17 - 'LDA 5'!J17","v":0},{"$f":"$M17 - 'LDA 5'!K17","v":1},0.6,4.0,0.8]
["halofantrine",{"$f":"$M18 - 'LDA 5'!B18","v":-1},{"$f":"$M18 - 'LDA 5'!C18","v":-1},{"$f":"$M18 - 'LDA 5'!D18","v":-1},{"$f":"$M18 - 'LDA 5'!E18","v":-2},{"$f":"$M18 - 'LDA 5'!F18","v":-1},{"$f":"$M18 - 'LDA 5'!G18","v":-1},{"$f":"$M18 - 'LDA 5'!H18","v":-1},{"$f":"$M18 - 'LDA 5'!I18","v":-1},{"$f":"$M18 - 'LDA 5'!J18","v":-1},{"$f":"$M18 - 'LDA 5'!K18","v":-1},-1.1,3.0,1.1]
["imipramine",{"$f":"$M19 - 'LDA 5'!B19","v":0},{"$f":"$M19 - 'LDA 5'!C19","v":0},{"$f":"$M19 - 'LDA 5'!D19","v":1},{"$f":"$M19 - 'LDA 5'!E19","v":-1},{"$f":"$M19 - 'LDA 5'!F19","v":0},{"$f":"$M19 - 'LDA 5'!G19","v":0},{"$f":"$M19 - 'LDA 5'!H19","v":2},{"$f":"$M19 - 'LDA 5'!I19","v":0},{"$f":"$M19 - 'LDA 5'!J19","v":0},{"$f":"$M19 - 'LDA 5'!K19","v":0},0.2,4.0,0.4]
["loratadine",{"$f":"$M20 - 'LDA 5'!B20","v":3},{"$f":"$M20 - 'LDA 5'!C20","v":3},{"$f":"$M20 - 'LDA 5'!D20","v":1},{"$f":"$M20 - 'LDA 5'!E20","v":0},{"$f":"$M20 - 'LDA 5'!F20","v":2},{"$f":"$M20 - 'LDA 5'!G20","v":0},{"$f":"$M20 - 'LDA 5'!H20","v":1},{"$f":"$M20 - 'LDA 5'!I20","v":1},{"$f":"$M20 - 'LDA 5'!J20","v":1},{"$f":"$M20 - 'LDA 5'!K20","v":1},1.3,5.0,1.3]
["methadone",{"$f":"$M21 - 'LDA 5'!B21","v":-2},{"$f":"$M21 - 'LDA 5'!C21","v":-3},{"$f":"$M21 - 'LDA 5'!D21","v":-2},{"$f":"$M21 - 'LDA 5'!E21","v":-2},{"$f":"$M21 - 'LDA 5'!F21","v":-2},{"$f":"$M21 - 'LDA 5'!G21","v":-2},{"$f":"$M21 - 'LDA 5'!H21","v":0},{"$f":"$M21 - 'LDA 5'!I21","v":-2},{"$f":"$M21 - 'LDA 5'!J21","v":-2},{"$f":"$M21 - 'LDA 5'!K21","v":-2},-1.9,2.0,1.9]
["mexiletine",{"$f":"$M22 - 'LDA 5'!B22","v":0},{"$f":"$M22 - 'LDA 5'!C22","v":2},{"$f":"$M22 - 'LDA 5'!D22","v":0},{"$f":"$M22 - 'LDA 5'!E22","v":-1},{"$f":"$M22 - 'LDA 5'!F22","v":1},{"$f":"$M22 - 'LDA 5'!G22","v":0},{"$f":"$M22 - 'LDA 5'!H22","v":2},{"$f":"$M22 - 'LDA 5'!I22","v":0},{"$f":"$M22 - 'LDA 5'!J22","v":0},{"$f":"$M22 - 'LDA 5'!K22","v":0},0.4,4.0,0.6]
["mibefradil",{"$f":"$M23 - 'LDA 5'!B23","v":1},{"$f":"$M23 - 'LDA 5'!C23","v":1},{"$f":"$M23 - 'LDA 5'!D23","v":-1},{"$f":"$M23 - 'LDA 5'!E23","v":0},{"$f":"$M23 - 'LDA 5'!F23","v":-1},{"$f":"$M23 - 'LDA 5'!G23","v":-1},{"$f":"$M23 - 'LDA 5'!H23","v":2},{"$f":"$M23 - 'LDA 5'!I23","v":-1},{"$f":"$M23 - 'LDA 5'!J23","v":-1},{"$f":"$M23 - 'LDA 5'!K23","v":-1},-0.2,4.0,1]
["nifedipine",{"$f":"$M24 - 'LDA 5'!B24","v":1},{"$f":"$M24 - 'LDA 5'!C24","v":0},{"$f":"$M24 - 'LDA 5'!D24","v":-1},{"$f":"$M24 - 'LDA 5'!E24","v":-1},{"$f":"$M24 - 'LDA 5'!F24","v":-1},{"$f":"$M24 - 'LDA 5'!G24","v":-1},{"$f":"$M24 - 'LDA 5'!H24","v":1},{"$f":"$M24 - 'LDA 5'!I24","v":-1},{"$f":"$M24 - 'LDA 5'!J24","v":-1},{"$f":"$M24 - 'LDA 5'!K24","v":-1},-0.5,4.0,0.9]
["nitrendipine",{"$f":"$M25 - 'LDA 5'!B25","v":0},{"$f":"$M25 - 'LDA 5'!C25","v":1},{"$f":"$M25 - 'LDA 5'!D25","v":0},{"$f":"$M25 - 'LDA 5'!E25","v":0},{"$f":"$M25 - 'LDA 5'!F25","v":0},{"$f":"$M25 - 'LDA 5'!G25","v":0},{"$f":"$M25 - 'LDA 5'!H25","v":0},{"$f":"$M25 - 'LDA 5'!I25","v":0},{"$f":"$M25 - 'LDA 5'!J25","v":0},{"$f":"$M25 - 'LDA 5'!K25","v":0},0.1,5.0,0.1]
["ondansetron",{"$f":"$M26 - 'LDA 5'!B26","v":0},{"$f":"$M26 - 'LDA 5'!C26","v":-1},{"$f":"$M26 - 'LDA 5'!D26","v":0},{"$f":"$M26 - 'LDA 5'!E26","v":0},{"$f":"$M26 - 'LDA 5'!F26","v":0},{"$f":"$M26 - 'LDA 5'!G26","v":-1},{"$f":"$M26 - 'LDA 5'!H26","v":0},{"$f":"$M26 - 'LDA 5'!I26","v":-1},{"$f":"$M26 - 'LDA 5'!J26","v":-1},{"$f":"$M26 - 'LDA 5'!K26","v":0},-0.4,2.0,0.4]
["pentamidine",{"$f":"$M27 - 'LDA 5'!B27","v":0},{"$f":"$M27 - 'LDA 5'!C27","v":-1},{"$f":"$M27 - 'LDA 5'!D27","v":-1},{"$f":"$M27 - 'LDA 5'!E27","v":-2},{"$f":"$M27 - 'LDA 5'!F27","v":0},{"$f":"$M27 - 'LDA 5'!G27","v":0},{"$f":"$M27 - 'LDA 5'!H27","v":-1},{"$f":"$M27 - 'LDA 5'!I27","v":0},{"$f":"$M27 - 'LDA 5'!J27","v":0},{"$f":"$M27 - 'LDA 5'!K27","v":0},-0.5,3.0,0.5]
["phenytoin",{"$f":"$M28 - 'LDA 5'!B28","v":1},{"$f":"$M28 - 'LDA 5'!C28","v":1},{"$f":"$M28 - 'LDA 5'!D28","v":2},{"$f":"$M28 - 'LDA 5'!E28","v":0},{"$f":"$M28 - 'LDA 5'!F28","v":2},{"$f":"$M28 - 'LDA 5'!G28","v":2},{"$f":"$M28 - 'LDA 5'!H28","v":3},{"$f":"$M28 - 'LDA 5'!I28","v":1},{"$f":"$M28 - 'LDA 5'!J28","v":1},{"$f":"$M28 - 'LDA 5'!K28","v":1},1.4,5.0,1.4]
["pimozide",{"$f":"$M29 - 'LDA 5'!B29","v":-2},{"$f":"$M29 - 'LDA 5'!C29","v":-2},{"$f":"$M29 - 'LDA 5'!D29","v":-1},{"$f":"$M29 - 'LDA 5'!E29","v":-2},{"$f":"$M29 - 'LDA 5'!F29","v":-2},{"$f":"$M29 - 'LDA 5'!G29","v":-2},{"$f":"$M29 - 'LDA 5'!H29","v":1},{"$f":"$M29 - 'LDA 5'!I29","v":-2},{"$f":"$M29 - 'LDA 5'!J29","v":-2},{"$f":"$M29 - 'LDA 5'!K29","v":-2},-1.6,3.0,1.8]
["prenylamine",{"$f":"$M30 - 'LDA 5'!B30","v":-2},{"$f":"$M30 - 'LDA 5'!C30","v":-2},{"$f":"$M30 - 'LDA 5'!D30","v":-2},{"$f":"$M30 - 'LDA 5'!E30","v":-2},{"$f":"$M30 - 'LDA 5'!F30","v":-1},{"$f":"$M30 - 'LDA 5'!G30","v":-2},{"$f":"$M30 - 'LDA 5'!H30","v":0},{"$f":"$M30 - 'LDA 5'!I30","v":-2},{"$f":"$M30 - 'LDA 5'!J30","v":-2},{"$f":"$M30 - 'LDA 5'!K30","v":-2},-1.7,2.0,1.7]
["propafenone",{"$f":"$M31 - 'LDA 5'!B31","v":1},{"$f":"$M31 - 'LDA 5'!C31","v":-1},{"$f":"$M31 - 'LDA 5'!D31","v":1},{"$f":"$M31 - 'LDA 5'!E31","v":0},{"$f":"$M31 - 'LDA 5'!F31","v":2},{"$f":"$M31 - 'LDA 5'!G31","v":0},{"$f":"$M31 - 'LDA 5'!H31","v":2},{"$f":"$M31 - 'LDA 5'!I31","v":2},{"$f":"$M31 - 'LDA 5'!J31","v":0},{"$f":"$M31 - 'LDA 5'!K31","v":1},0.8,4.0,1]
["propranolol",{"$f":"$M32 - 'LDA 5'!B32","v":1},{"$f":"$M32 - 'LDA 5'!C32","v":1},{"$f":"$M32 - 'LDA 5'!D32","v":2},{"$f":"$M32 - 'LDA 5'!E32","v":0},{"$f":"$M32 - 'LDA 5'!F32","v":1},{"$f":"$M32 - 'LDA 5'!G32","v":1},{"$f":"$M32 - 'LDA 5'!H32","v":3},{"$f":"$M32 - 'LDA 5'!I32","v":1},{"$f":"$M32 - 'LDA 5'!J32","v":1},{"$f":"$M32 - 'LDA 5'!K32","v":1},1.2,5.0,1.2]
["quetiapine",{"$f":"$M33 - 'LDA 5'!B33","v":3},{"$f":"$M33 - 'LDA 5'!C33","v":3},{"$f":"$M33 - 'LDA 5'!D33","v":1},{"$f":"$M33 - 'LDA 5'!E33","v":0},{"$f":"$M33 - 'LDA 5'!F33","v":2},{"$f":"$M33 - 'LDA 5'!G33","v":0},{"$f":"$M33 - 'LDA 5'!H33","v":3},{"$f":"$M33 - 'LDA 5'!I33","v":1},{"$f":"$M33 - 'LDA 5'!J33","v":1},{"$f":"$M33 - 'LDA 5'!K33","v":1},1.5,5.0,1.5]
["quinidine",{"$f":"$M34 - 'LDA 5'!B34","v":-1},{"$f":"$M34 - 'LDA 5'!C34","v":-1},{"$f":"$M34 - 'LDA 5'!D34","v":0},{"$f":"$M34 - 'LDA 5'!E34","v":-1},{"$f":"$M34 - 'LDA 5'!F34","v":0},{"$f":"$M34 - 'LDA 5'!G34","v":-1},{"$f":"$M34 - 'LDA 5'!H34","v":0},{"$f":"$M34 - 'LDA 5'!I34","v":-1},{"$f":"$M34 - 'LDA 5'!J34","v":-1},{"$f":"$M34 - 'LDA 5'!K34","v":0},-0.6,2.0,0.6]
["ranolazine",{"$f":"$M35 - 'LDA 5'!B35","v":1},{"$f":"$M35 - 'LDA 5'!C35","v":-2},{"$f":"$M35 - 'LDA 5'!D35","v":1},{"$f":"$M35 - 'LDA 5'!E35","v":-1},{"$f":"$M35 - 'LDA 5'!F35","v":0},{"$f":"$M35 - 'LDA 5'!G35","v":-1},{"$f":"$M35 - 'LDA 5'!H35","v":1},{"$f":"$M35 - 'LDA 5'!I35","v":1},{"$f":"$M35 - 'LDA 5'!J35","v":1},{"$f":"$M35 - 'LDA 5'!K35","v":1},0.2,3.0,1]
["risperidone",{"$f":"$M36 - 'LDA 5'!B36","v":1},{"$f":"$M36 - 'LDA 5'!C36","v":1},{"$f":"$M36 - 'LDA 5'!D36","v":2},{"$f":"$M36 - 'LDA 5'!E36","v":0},{"$f":"$M36 - 'LDA 5'!F36","v":1},{"$f":"$M36 - 'LDA 5'!G36","v":1},{"$f":"$M36 - 'LDA 5'!H36","v":3},{"$f":"$M36 - 'LDA 5'!I36","v":1},{"$f":"$M36 - 'LDA 5'!J36","v":1},{"$f":"$M36 - 'LDA 5'!K36","v":1},1.2,5.0,1.2]
["sertindole",{"$f":"$M37 - 'LDA 5'!B37","v":-2},{"$f":"$M37 - 'LDA 5'!C37","v":-3},{"$f":"$M37 - 'LDA 5'!D37","v":-2},{"$f":"$M37 - 'LDA 5'!E37","v":-2},{"$f":"$M37 - 'LDA 5'!F37","v":-2},{"$f":"$M37 - 'LDA 5'!G37","v":-2},{"$f":"$M37 - 'LDA 5'!H37","v":0},{"$f":"$M37 - 'LDA 5'!I37","v":-2},{"$f":"$M37 - 'LDA 5'!J37","v":-2},{"$f":"$M37 - 'LDA 5'!K37","v":-2},-1.9,2.0,1.9]
["tedisamil",{"$f":"$M38 - 'LDA 5'!B38","v":-2},{"$f":"$M38 - 'LDA 5'!C38","v":-2},{"$f":"$M38 - 'LDA 5'!D38","v":-2},{"$f":"$M38 - 'LDA 5'!E38","v":-3},{"$f":"$M38 - 'LDA 5'!F38","v":-2},{"$f":"$M38 - 'LDA 5'!G38","v":-2},{"$f":"$M38 - 'LDA 5'!H38","v":-2},{"$f":"$M38 - 'LDA 5'!I38","v":-2},{"$f":"$M38 - 'LDA 5'!J38","v":-2},{"$f":"$M38 - 'LDA 5'!K38","v":-2},-2.1,2.0,2.1]
["terfenadine",{"$f":"$M39 - 'LDA 5'!B39","v":0},{"$f":"$M39 - 'LDA 5'!C39","v":0},{"$f":"$M39 - 'LDA 5'!D39","v":0},{"$f":"$M39 - 'LDA 5'!E39","v":0},{"$f":"$M39 - 'LDA 5'!F39","v":0},{"$f":"$M39 - 'LDA 5'!G39","v":-1},{"$f":"$M39 - 'LDA 5'!H39","v":0},{"$f":"$M39 - 'LDA 5'!I39","v":0},{"$f":"$M39 - 'LDA 5'!J39","v":0},{"$f":"$M39 - 'LDA 5'!K39","v":0},-0.1,2.0,0.1]
["terodiline",{"$f":"$M40 - 'LDA 5'!B40","v":0},{"$f":"$M40 - 'LDA 5'!C40","v":0},{"$f":"$M40 - 'LDA 5'!D40","v":0},{"$f":"$M40 - 'LDA 5'!E40","v":-1},{"$f":"$M40 - 'LDA 5'!F40","v":0},{"$f":"$M40 - 'LDA 5'!G40","v":0},{"$f":"$M40 - 'LDA 5'!H40","v":0},{"$f":"$M40 - 'LDA 5'!I40","v":0},{"$f":"$M40 - 'LDA 5'!J40","v":0},{"$f":"$M40 - 'LDA 5'!K40","v":0},-0.1,2.0,0.1]
["thioridazine",{"$f":"$M41 - 'LDA 5'!B41","v":-2},{"$f":"$M41 - 'LDA 5'!C41","v":1},{"$f":"$M41 - 'LDA 5'!D41","v":-2},{"$f":"$M41 - 'LDA 5'!E41","v":1},{"$f":"$M41 - 'LDA 5'!F41","v":1},{"$f":"$M41 - 'LDA 5'!G41","v":1},{"$f":"$M41 - 'LDA 5'!H41","v":1},{"$f":"$M41 - 'LDA 5'!I41","v":1},{"$f":"$M41 - 'LDA 5'!J41","v":1},{"$f":"$M41 - 'LDA 5'!K41","v":-1},0.2,3.0,1.2]
["verapamil",{"$f":"$M42 - 'LDA 5'!B42","v":2},{"$f":"$M42 - 'LDA 5'!C42","v":2},{"$f":"$M42 - 'LDA 5'!D42","v":0},{"$f":"$M42 - 'LDA 5'!E42","v":1},{"$f":"$M42 - 'LDA 5'!F42","v":2},{"$f":"$M42 - 'LDA 5'!G42","v":0},{"$f":"$M42 - 'LDA 5'!H42","v":3},{"$f":"$M42 - 'LDA 5'!I42","v":2},{"$f":"$M42 - 'LDA 5'!J42","v":1},{"$f":"$M42 - 'LDA 5'!K42","v":2},1.5,5.0,1.5]
["Total (abs)",{"$f":"sum(abs(B$2:B$42))","v":38},52,40,44,38,41,48,41,36,34]
["Mean (abs)",{"$f":"sum(abs(B$2:B$42))/count(B$2:B$42)","v":0.9268292683},1.268292683,0.9756097561,1.073170732,0.9268292683,1,1.170731707,1,0.8780487805,0.8292682927]
["SD (abs)",{"$f":"STDEV(abs(B$2:B$42))","v":0.9324763778},1.00060957,0.7901836773,0.9324763778,0.8482406469,0.7745966692,1.138034249,0.8062257748,0.7808688094,0.8031948401]
["Total",{"$f":"sum(B$2:B$42)","v":0},-8,-2,-36,2,-23,40,-11,-12,-6]

{"sheet":"SVM 5 errors","index":13,"n_rows":46,"n_cols":14,"rows_kept":46,"cut":false,"hidden":false,"merged":[]}
["Drug name","Grandi Lancaster-Sobie","OHara Lancaster-Sobie","APD90","INa shift","ICaL increase","IKr block","Herg block / Cmax","INa shift +ICaL increase +IKr block","APD90 +INa shift +ICaL increase +IKr block","APD90 +ICaL increase","Avg","Redferns"]
["ajmaline",{"$f":"$M2 - 'SVM 5'!B2","v":0},{"$f":"$M2 - 'SVM 5'!C2","v":0},{"$f":"$M2 - 'SVM 5'!D2","v":0},{"$f":"$M2 - 'SVM 5'!E2","v":0},{"$f":"$M2 - 'SVM 5'!F2","v":0},{"$f":"$M2 - 'SVM 5'!G2","v":0},{"$f":"$M2 - 'SVM 5'!H2","v":0},{"$f":"$M2 - 'SVM 5'!I2","v":-1},{"$f":"$M2 - 'SVM 5'!J2","v":0},{"$f":"$M2 - 'SVM 5'!K2","v":0},{"$f":"average(B2:K2)","v":-0.1},2.0,{"$f":"average(abs(B2:K2))","v":0.1}]
["amiodarone",{"$f":"$M3 - 'SVM 5'!B3","v":-1},{"$f":"$M3 - 'SVM 5'!C3","v":-1},{"$f":"$M3 - 'SVM 5'!D3","v":-1},{"$f":"$M3 - 'SVM 5'!E3","v":-2},{"$f":"$M3 - 'SVM 5'!F3","v":-2},{"$f":"$M3 - 'SVM 5'!G3","v":0},{"$f":"$M3 - 'SVM 5'!H3","v":-1},{"$f":"$M3 - 'SVM 5'!I3","v":-2},{"$f":"$M3 - 'SVM 5'!J3","v":-1},{"$f":"$M3 - 'SVM 5'!K3","v":-1},-1.2,2.0,1.2]
["amitriptyline",{"$f":"$M4 - 'SVM 5'!B4","v":1},{"$f":"$M4 - 'SVM 5'!C4","v":1},{"$f":"$M4 - 'SVM 5'!D4","v":1},{"$f":"$M4 - 'SVM 5'!E4","v":0},{"$f":"$M4 - 'SVM 5'!F4","v":0},{"$f":"$M4 - 'SVM 5'!G4","v":2},{"$f":"$M4 - 'SVM 5'!H4","v":1},{"$f":"$M4 - 'SVM 5'!I4","v":0},{"$f":"$M4 - 'SVM 5'!J4","v":0},{"$f":"$M4 - 'SVM 5'!K4","v":1},0.7,4.0,0.7]
["azimilide",{"$f":"$M5 - 'SVM 5'!B5","v":0},{"$f":"$M5 - 'SVM 5'!C5","v":0},{"$f":"$M5 - 'SVM 5'!D5","v":0},{"$f":"$M5 - 'SVM 5'!E5","v":0},{"$f":"$M5 - 'SVM 5'!F5","v":0},{"$f":"$M5 - 'SVM 5'!G5","v":-3},{"$f":"$M5 - 'SVM 5'!H5","v":0},{"$f":"$M5 - 'SVM 5'!I5","v":0},{"$f":"$M5 - 'SVM 5'!J5","v":0},{"$f":"$M5 - 'SVM 5'!K5","v":0},-0.3,2.0,0.3]
["bepridil",{"$f":"$M6 - 'SVM 5'!B6","v":-1},{"$f":"$M6 - 'SVM 5'!C6","v":-2},{"$f":"$M6 - 'SVM 5'!D6","v":-1},{"$f":"$M6 - 'SVM 5'!E6","v":-2},{"$f":"$M6 - 'SVM 5'!F6","v":-2},{"$f":"$M6 - 'SVM 5'!G6","v":1},{"$f":"$M6 - 'SVM 5'!H6","v":1},{"$f":"$M6 - 'SVM 5'!I6","v":-2},{"$f":"$M6 - 'SVM 5'!J6","v":-2},{"$f":"$M6 - 'SVM 5'!K6","v":-2},-1.2,3.0,1.6]
["chlorpromazine",{"$f":"$M7 - 'SVM 5'!B7","v":-1},{"$f":"$M7 - 'SVM 5'!C7","v":-2},{"$f":"$M7 - 'SVM 5'!D7","v":-1},{"$f":"$M7 - 'SVM 5'!E7","v":-1},{"$f":"$M7 - 'SVM 5'!F7","v":-1},{"$f":"$M7 - 'SVM 5'!G7","v":1},{"$f":"$M7 - 'SVM 5'!H7","v":-1},{"$f":"$M7 - 'SVM 5'!I7","v":-1},{"$f":"$M7 - 'SVM 5'!J7","v":-2},{"$f":"$M7 - 'SVM 5'!K7","v":-1},-1,3.0,1.2]
["cibenzoline",{"$f":"$M8 - 'SVM 5'!B8","v":2},{"$f":"$M8 - 'SVM 5'!C8","v":2},{"$f":"$M8 - 'SVM 5'!D8","v":2},{"$f":"$M8 - 'SVM 5'!E8","v":0},{"$f":"$M8 - 'SVM 5'!F8","v":1},{"$f":"$M8 - 'SVM 5'!G8","v":3},{"$f":"$M8 - 'SVM 5'!H8","v":2},{"$f":"$M8 - 'SVM 5'!I8","v":1},{"$f":"$M8 - 'SVM 5'!J8","v":2},{"$f":"$M8 - 'SVM 5'!K8","v":1},1.6,5.0,1.6]
["cisapride",{"$f":"$M9 - 'SVM 5'!B9","v":0},{"$f":"$M9 - 'SVM 5'!C9","v":0},{"$f":"$M9 - 'SVM 5'!D9","v":0},{"$f":"$M9 - 'SVM 5'!E9","v":0},{"$f":"$M9 - 'SVM 5'!F9","v":0},{"$f":"$M9 - 'SVM 5'!G9","v":0},{"$f":"$M9 - 'SVM 5'!H9","v":0},{"$f":"$M9 - 'SVM 5'!I9","v":0},{"$f":"$M9 - 'SVM 5'!J9","v":0},{"$f":"$M9 - 'SVM 5'!K9","v":0},0,2.0,0]
["clozapine",{"$f":"$M10 - 'SVM 5'!B10","v":2},{"$f":"$M10 - 'SVM 5'!C10","v":2},{"$f":"$M10 - 'SVM 5'!D10","v":2},{"$f":"$M10 - 'SVM 5'!E10","v":2},{"$f":"$M10 - 'SVM 5'!F10","v":2},{"$f":"$M10 - 'SVM 5'!G10","v":2},{"$f":"$M10 - 'SVM 5'!H10","v":2},{"$f":"$M10 - 'SVM 5'!I10","v":2},{"$f":"$M10 - 'SVM 5'!J10","v":2},{"$f":"$M10 - 'SVM 5'!K10","v":2},2,4.0,2]
["desipramine",{"$f":"$M11 - 'SVM 5'!B11","v":0},{"$f":"$M11 - 'SVM 5'!C11","v":0},{"$f":"$M11 - 'SVM 5'!D11","v":0},{"$f":"$M11 - 'SVM 5'!E11","v":0},{"$f":"$M11 - 'SVM 5'!F11","v":0},{"$f":"$M11 - 'SVM 5'!G11","v":2},{"$f":"$M11 - 'SVM 5'!H11","v":2},{"$f":"$M11 - 'SVM 5'!I11","v":0},{"$f":"$M11 - 'SVM 5'!J11","v":0},{"$f":"$M11 - 'SVM 5'!K11","v":0},0.4,4.0,0.4]
["diltiazem",{"$f":"$M12 - 'SVM 5'!B12","v":1},{"$f":"$M12 - 'SVM 5'!C12","v":0},{"$f":"$M12 - 'SVM 5'!D12","v":1},{"$f":"$M12 - 'SVM 5'!E12","v":0},{"$f":"$M12 - 'SVM 5'!F12","v":0},{"$f":"$M12 - 'SVM 5'!G12","v":3},{"$f":"$M12 - 'SVM 5'!H12","v":0},{"$f":"$M12 - 'SVM 5'!I12","v":0},{"$f":"$M12 - 'SVM 5'!J12","v":0},{"$f":"$M12 - 'SVM 5'!K12","v":0},0.5,5.0,0.5]
["disopyramide",{"$f":"$M13 - 'SVM 5'!B13","v":0},{"$f":"$M13 - 'SVM 5'!C13","v":0},{"$f":"$M13 - 'SVM 5'!D13","v":0},{"$f":"$M13 - 'SVM 5'!E13","v":0},{"$f":"$M13 - 'SVM 5'!F13","v":0},{"$f":"$M13 - 'SVM 5'!G13","v":0},{"$f":"$M13 - 'SVM 5'!H13","v":0},{"$f":"$M13 - 'SVM 5'!I13","v":0},{"$f":"$M13 - 'SVM 5'!J13","v":0},{"$f":"$M13 - 'SVM 5'!K13","v":0},0,2.0,0]
["dl-sotalol",{"$f":"$M14 - 'SVM 5'!B14","v":-2},{"$f":"$M14 - 'SVM 5'!C14","v":-2},{"$f":"$M14 - 'SVM 5'!D14","v":-2},{"$f":"$M14 - 'SVM 5'!E14","v":-3},{"$f":"$M14 - 'SVM 5'!F14","v":-2},{"$f":"$M14 - 'SVM 5'!G14","v":-3},{"$f":"$M14 - 'SVM 5'!H14","v":0},{"$f":"$M14 - 'SVM 5'!I14","v":-2},{"$f":"$M14 - 'SVM 5'!J14","v":0},{"$f":"$M14 - 'SVM 5'!K14","v":-2},-1.8,2.0,1.8]
["dofetilide",{"$f":"$M15 - 'SVM 5'!B15","v":0},{"$f":"$M15 - 'SVM 5'!C15","v":0},{"$f":"$M15 - 'SVM 5'!D15","v":0},{"$f":"$M15 - 'SVM 5'!E15","v":0},{"$f":"$M15 - 'SVM 5'!F15","v":0},{"$f":"$M15 - 'SVM 5'!G15","v":0},{"$f":"$M15 - 'SVM 5'!H15","v":0},{"$f":"$M15 - 'SVM 5'!I15","v":0},{"$f":"$M15 - 'SVM 5'!J15","v":0},{"$f":"$M15 - 'SVM 5'!K15","v":0},0,2.0,0]
["flecainide",{"$f":"$M16 - 'SVM 5'!B16","v":1},{"$f":"$M16 - 'SVM 5'!C16","v":1},{"$f":"$M16 - 'SVM 5'!D16","v":1},{"$f":"$M16 - 'SVM 5'!E16","v":1},{"$f":"$M16 - 'SVM 5'!F16","v":1},{"$f":"$M16 - 'SVM 5'!G16","v":1},{"$f":"$M16 - 'SVM 5'!H16","v":1},{"$f":"$M16 - 'SVM 5'!I16","v":1},{"$f":"$M16 - 'SVM 5'!J16","v":-1},{"$f":"$M16 - 'SVM 5'!K16","v":1},0.8,3.0,1]
["fluvoxamine",{"$f":"$M17 - 'SVM 5'!B17","v":0},{"$f":"$M17 - 'SVM 5'!C17","v":0},{"$f":"$M17 - 'SVM 5'!D17","v":0},{"$f":"$M17 - 'SVM 5'!E17","v":2},{"$f":"$M17 - 'SVM 5'!F17","v":0},{"$f":"$M17 - 'SVM 5'!G17","v":2},{"$f":"$M17 - 'SVM 5'!H17","v":2},{"$f":"$M17 - 'SVM 5'!I17","v":-1},{"$f":"$M17 - 'SVM 5'!J17","v":0},{"$f":"$M17 - 'SVM 5'!K17","v":0},0.5,4.0,0.7]
["halofantrine",{"$f":"$M18 - 'SVM 5'!B18","v":-1},{"$f":"$M18 - 'SVM 5'!C18","v":-1},{"$f":"$M18 - 'SVM 5'!D18","v":-1},{"$f":"$M18 - 'SVM 5'!E18","v":-2},{"$f":"$M18 - 'SVM 5'!F18","v":-2},{"$f":"$M18 - 'SVM 5'!G18","v":-2},{"$f":"$M18 - 'SVM 5'!H18","v":-1},{"$f":"$M18 - 'SVM 5'!I18","v":-2},{"$f":"$M18 - 'SVM 5'!J18","v":-2},{"$f":"$M18 - 'SVM 5'!K18","v":-1},-1.5,3.0,1.5]
["imipramine",{"$f":"$M19 - 'SVM 5'!B19","v":1},{"$f":"$M19 - 'SVM 5'!C19","v":1},{"$f":"$M19 - 'SVM 5'!D19","v":1},{"$f":"$M19 - 'SVM 5'!E19","v":0},{"$f":"$M19 - 'SVM 5'!F19","v":0},{"$f":"$M19 - 'SVM 5'!G19","v":2},{"$f":"$M19 - 'SVM 5'!H19","v":1},{"$f":"$M19 - 'SVM 5'!I19","v":0},{"$f":"$M19 - 'SVM 5'!J19","v":1},{"$f":"$M19 - 'SVM 5'!K19","v":1},0.8,4.0,0.8]
["loratadine",{"$f":"$M20 - 'SVM 5'!B20","v":1},{"$f":"$M20 - 'SVM 5'!C20","v":1},{"$f":"$M20 - 'SVM 5'!D20","v":1},{"$f":"$M20 - 'SVM 5'!E20","v":0},{"$f":"$M20 - 'SVM 5'!F20","v":0},{"$f":"$M20 - 'SVM 5'!G20","v":3},{"$f":"$M20 - 'SVM 5'!H20","v":0},{"$f":"$M20 - 'SVM 5'!I20","v":0},{"$f":"$M20 - 'SVM 5'!J20","v":2},{"$f":"$M20 - 'SVM 5'!K20","v":2},1,5.0,1]
["methadone",{"$f":"$M21 - 'SVM 5'!B21","v":-2},{"$f":"$M21 - 'SVM 5'!C21","v":-2},{"$f":"$M21 - 'SVM 5'!D21","v":-2},{"$f":"$M21 - 'SVM 5'!E21","v":-3},{"$f":"$M21 - 'SVM 5'!F21","v":-2},{"$f":"$M21 - 'SVM 5'!G21","v":0},{"$f":"$M21 - 'SVM 5'!H21","v":0},{"$f":"$M21 - 'SVM 5'!I21","v":-2},{"$f":"$M21 - 'SVM 5'!J21","v":-2},{"$f":"$M21 - 'SVM 5'!K21","v":0},-1.5,2.0,1.5]
["mexiletine",{"$f":"$M22 - 'SVM 5'!B22","v":0},{"$f":"$M22 - 'SVM 5'!C22","v":0},{"$f":"$M22 - 'SVM 5'!D22","v":0},{"$f":"$M22 - 'SVM 5'!E22","v":-1},{"$f":"$M22 - 'SVM 5'!F22","v":0},{"$f":"$M22 - 'SVM 5'!G22","v":2},{"$f":"$M22 - 'SVM 5'!H22","v":2},{"$f":"$M22 - 'SVM 5'!I22","v":-1},{"$f":"$M22 - 'SVM 5'!J22","v":-1},{"$f":"$M22 - 'SVM 5'!K22","v":0},0.1,4.0,0.7]
["mibefradil",{"$f":"$M23 - 'SVM 5'!B23","v":0},{"$f":"$M23 - 'SVM 5'!C23","v":-1},{"$f":"$M23 - 'SVM 5'!D23","v":0},{"$f":"$M23 - 'SVM 5'!E23","v":0},{"$f":"$M23 - 'SVM 5'!F23","v":-1},{"$f":"$M23 - 'SVM 5'!G23","v":2},{"$f":"$M23 - 'SVM 5'!H23","v":-1},{"$f":"$M23 - 'SVM 5'!I23","v":-1},{"$f":"$M23 - 'SVM 5'!J23","v":-1},{"$f":"$M23 - 'SVM 5'!K23","v":-1},-0.4,4.0,0.8]
["nifedipine",{"$f":"$M24 - 'SVM 5'!B24","v":-1},{"$f":"$M24 - 'SVM 5'!C24","v":-1},{"$f":"$M24 - 'SVM 5'!D24","v":-1},{"$f":"$M24 - 'SVM 5'!E24","v":-1},{"$f":"$M24 - 'SVM 5'!F24","v":-1},{"$f":"$M24 - 'SVM 5'!G24","v":-1},{"$f":"$M24 - 'SVM 5'!H24","v":-1},{"$f":"$M24 - 'SVM 5'!I24","v":-1},{"$f":"$M24 - 'SVM 5'!J24","v":-1},{"$f":"$M24 - 'SVM 5'!K24","v":-1},-1,4.0,1]
["nitrendipine",{"$f":"$M25 - 'SVM 5'!B25","v":1},{"$f":"$M25 - 'SVM 5'!C25","v":1},{"$f":"$M25 - 'SVM 5'!D25","v":1},{"$f":"$M25 - 'SVM 5'!E25","v":1},{"$f":"$M25 - 'SVM 5'!F25","v":1},{"$f":"$M25 - 'SVM 5'!G25","v":3},{"$f":"$M25 - 'SVM 5'!H25","v":1},{"$f":"$M25 - 'SVM 5'!I25","v":1},{"$f":"$M25 - 'SVM 5'!J25","v":1},{"$f":"$M25 - 'SVM 5'!K25","v":1},1.2,5.0,1.2]
["ondansetron",{"$f":"$M26 - 'SVM 5'!B26","v":0},{"$f":"$M26 - 'SVM 5'!C26","v":0},{"$f":"$M26 - 'SVM 5'!D26","v":0},{"$f":"$M26 - 'SVM 5'!E26","v":0},{"$f":"$M26 - 'SVM 5'!F26","v":0},{"$f":"$M26 - 'SVM 5'!G26","v":-3},{"$f":"$M26 - 'SVM 5'!H26","v":0},{"$f":"$M26 - 'SVM 5'!I26","v":0},{"$f":"$M26 - 'SVM 5'!J26","v":0},{"$f":"$M26 - 'SVM 5'!K26","v":0},-0.3,2.0,0.3]
["pentamidine",{"$f":"$M27 - 'SVM 5'!B27","v":-1},{"$f":"$M27 - 'SVM 5'!C27","v":-1},{"$f":"$M27 - 'SVM 5'!D27","v":-1},{"$f":"$M27 - 'SVM 5'!E27","v":-1},{"$f":"$M27 - 'SVM 5'!F27","v":-1},{"$f":"$M27 - 'SVM 5'!G27","v":1},{"$f":"$M27 - 'SVM 5'!H27","v":-1},{"$f":"$M27 - 'SVM 5'!I27","v":-1},{"$f":"$M27 - 'SVM 5'!J27","v":1},{"$f":"$M27 - 'SVM 5'!K27","v":1},-0.4,3.0,1]
["phenytoin",{"$f":"$M28 - 'SVM 5'!B28","v":1},{"$f":"$M28 - 'SVM 5'!C28","v":1},{"$f":"$M28 - 'SVM 5'!D28","v":1},{"$f":"$M28 - 'SVM 5'!E28","v":1},{"$f":"$M28 - 'SVM 5'!F28","v":1},{"$f":"$M28 - 'SVM 5'!G28","v":3},{"$f":"$M28 - 'SVM 5'!H28","v":3},{"$f":"$M28 - 'SVM 5'!I28","v":1},{"$f":"$M28 - 'SVM 5'!J28","v":1},{"$f":"$M28 - 'SVM 5'!K28","v":1},1.4,5.0,1.4]
["pimozide",{"$f":"$M29 - 'SVM 5'!B29","v":-1},{"$f":"$M29 - 'SVM 5'!C29","v":-1},{"$f":"$M29 - 'SVM 5'!D29","v":-1},{"$f":"$M29 - 'SVM 5'!E29","v":-2},{"$f":"$M29 - 'SVM 5'!F29","v":-1},{"$f":"$M29 - 'SVM 5'!G29","v":1},{"$f":"$M29 - 'SVM 5'!H29","v":1},{"$f":"$M29 - 'SVM 5'!I29","v":-1},{"$f":"$M29 - 'SVM 5'!J29","v":1},{"$f":"$M29 - 'SVM 5'!K29","v":1},-0.3,3.0,1.1]
["prenylamine",{"$f":"$M30 - 'SVM 5'!B30","v":-2},{"$f":"$M30 - 'SVM 5'!C30","v":-2},{"$f":"$M30 - 'SVM 5'!D30","v":-2},{"$f":"$M30 - 'SVM 5'!E30","v":-2},{"$f":"$M30 - 'SVM 5'!F30","v":-2},{"$f":"$M30 - 'SVM 5'!G30","v":-3},{"$f":"$M30 - 'SVM 5'!H30","v":0},{"$f":"$M30 - 'SVM 5'!I30","v":-2},{"$f":"$M30 - 'SVM 5'!J30","v":-2},{"$f":"$M30 - 'SVM 5'!K30","v":-2},-1.9,2.0,1.9]
["propafenone",{"$f":"$M31 - 'SVM 5'!B31","v":1},{"$f":"$M31 - 'SVM 5'!C31","v":2},{"$f":"$M31 - 'SVM 5'!D31","v":1},{"$f":"$M31 - 'SVM 5'!E31","v":2},{"$f":"$M31 - 'SVM 5'!F31","v":2},{"$f":"$M31 - 'SVM 5'!G31","v":2},{"$f":"$M31 - 'SVM 5'!H31","v":2},{"$f":"$M31 - 'SVM 5'!I31","v":2},{"$f":"$M31 - 'SVM 5'!J31","v":0},{"$f":"$M31 - 'SVM 5'!K31","v":1},1.5,4.0,1.5]
["propranolol",{"$f":"$M32 - 'SVM 5'!B32","v":2},{"$f":"$M32 - 'SVM 5'!C32","v":2},{"$f":"$M32 - 'SVM 5'!D32","v":2},{"$f":"$M32 - 'SVM 5'!E32","v":1},{"$f":"$M32 - 'SVM 5'!F32","v":1},{"$f":"$M32 - 'SVM 5'!G32","v":3},{"$f":"$M32 - 'SVM 5'!H32","v":2},{"$f":"$M32 - 'SVM 5'!I32","v":1},{"$f":"$M32 - 'SVM 5'!J32","v":2},{"$f":"$M32 - 'SVM 5'!K32","v":2},1.8,5.0,1.8]
["quetiapine",{"$f":"$M33 - 'SVM 5'!B33","v":1},{"$f":"$M33 - 'SVM 5'!C33","v":1},{"$f":"$M33 - 'SVM 5'!D33","v":1},{"$f":"$M33 - 'SVM 5'!E33","v":0},{"$f":"$M33 - 'SVM 5'!F33","v":0},{"$f":"$M33 - 'SVM 5'!G33","v":3},{"$f":"$M33 - 'SVM 5'!H33","v":2},{"$f":"$M33 - 'SVM 5'!I33","v":0},{"$f":"$M33 - 'SVM 5'!J33","v":2},{"$f":"$M33 - 'SVM 5'!K33","v":2},1.2,5.0,1.2]
["quinidine",{"$f":"$M34 - 'SVM 5'!B34","v":0},{"$f":"$M34 - 'SVM 5'!C34","v":0},{"$f":"$M34 - 'SVM 5'!D34","v":0},{"$f":"$M34 - 'SVM 5'!E34","v":0},{"$f":"$M34 - 'SVM 5'!F34","v":0},{"$f":"$M34 - 'SVM 5'!G34","v":0},{"$f":"$M34 - 'SVM 5'!H34","v":0},{"$f":"$M34 - 'SVM 5'!I34","v":-1},{"$f":"$M34 - 'SVM 5'!J34","v":0},{"$f":"$M34 - 'SVM 5'!K34","v":-2},-0.3,2.0,0.3]
["ranolazine",{"$f":"$M35 - 'SVM 5'!B35","v":1},{"$f":"$M35 - 'SVM 5'!C35","v":-1},{"$f":"$M35 - 'SVM 5'!D35","v":1},{"$f":"$M35 - 'SVM 5'!E35","v":-1},{"$f":"$M35 - 'SVM 5'!F35","v":1},{"$f":"$M35 - 'SVM 5'!G35","v":1},{"$f":"$M35 - 'SVM 5'!H35","v":1},{"$f":"$M35 - 'SVM 5'!I35","v":-1},{"$f":"$M35 - 'SVM 5'!J35","v":1},{"$f":"$M35 - 'SVM 5'!K35","v":1},0.4,3.0,1]
["risperidone",{"$f":"$M36 - 'SVM 5'!B36","v":2},{"$f":"$M36 - 'SVM 5'!C36","v":2},{"$f":"$M36 - 'SVM 5'!D36","v":2},{"$f":"$M36 - 'SVM 5'!E36","v":1},{"$f":"$M36 - 'SVM 5'!F36","v":1},{"$f":"$M36 - 'SVM 5'!G36","v":3},{"$f":"$M36 - 'SVM 5'!H36","v":2},{"$f":"$M36 - 'SVM 5'!I36","v":1},{"$f":"$M36 - 'SVM 5'!J36","v":2},{"$f":"$M36 - 'SVM 5'!K36","v":2},1.8,5.0,1.8]
["sertindole",{"$f":"$M37 - 'SVM 5'!B37","v":0},{"$f":"$M37 - 'SVM 5'!C37","v":-2},{"$f":"$M37 - 'SVM 5'!D37","v":-2},{"$f":"$M37 - 'SVM 5'!E37","v":-2},{"$f":"$M37 - 'SVM 5'!F37","v":-2},{"$f":"$M37 - 'SVM 5'!G37","v":0},{"$f":"$M37 - 'SVM 5'!H37","v":0},{"$f":"$M37 - 'SVM 5'!I37","v":-2},{"$f":"$M37 - 'SVM 5'!J37","v":0},{"$f":"$M37 - 'SVM 5'!K37","v":0},-1,2.0,1]
["tedisamil",{"$f":"$M38 - 'SVM 5'!B38","v":-2},{"$f":"$M38 - 'SVM 5'!C38","v":-2},{"$f":"$M38 - 'SVM 5'!D38","v":-2},{"$f":"$M38 - 'SVM 5'!E38","v":-3},{"$f":"$M38 - 'SVM 5'!F38","v":-3},{"$f":"$M38 - 'SVM 5'!G38","v":-3},{"$f":"$M38 - 'SVM 5'!H38","v":-2},{"$f":"$M38 - 'SVM 5'!I38","v":-3},{"$f":"$M38 - 'SVM 5'!J38","v":0},{"$f":"$M38 - 'SVM 5'!K38","v":-2},-2.2,2.0,2.2]
["terfenadine",{"$f":"$M39 - 'SVM 5'!B39","v":0},{"$f":"$M39 - 'SVM 5'!C39","v":0},{"$f":"$M39 - 'SVM 5'!D39","v":0},{"$f":"$M39 - 'SVM 5'!E39","v":0},{"$f":"$M39 - 'SVM 5'!F39","v":0},{"$f":"$M39 - 'SVM 5'!G39","v":0},{"$f":"$M39 - 'SVM 5'!H39","v":0},{"$f":"$M39 - 'SVM 5'!I39","v":0},{"$f":"$M39 - 'SVM 5'!J39","v":0},{"$f":"$M39 - 'SVM 5'!K39","v":0},0,2.0,0]
["terodiline",{"$f":"$M40 - 'SVM 5'!B40","v":0},{"$f":"$M40 - 'SVM 5'!C40","v":0},{"$f":"$M40 - 'SVM 5'!D40","v":0},{"$f":"$M40 - 'SVM 5'!E40","v":0},{"$f":"$M40 - 'SVM 5'!F40","v":0},{"$f":"$M40 - 'SVM 5'!G40","v":0},{"$f":"$M40 - 'SVM 5'!H40","v":0},{"$f":"$M40 - 'SVM 5'!I40","v":0},{"$f":"$M40 - 'SVM 5'!J40","v":0},{"$f":"$M40 - 'SVM 5'!K40","v":0},0,2.0,0]
["thioridazine",{"$f":"$M41 - 'SVM 5'!B41","v":-2},{"$f":"$M41 - 'SVM 5'!C41","v":1},{"$f":"$M41 - 'SVM 5'!D41","v":-1},{"$f":"$M41 - 'SVM 5'!E41","v":1},{"$f":"$M41 - 'SVM 5'!F41","v":1},{"$f":"$M41 - 'SVM 5'!G41","v":1},{"$f":"$M41 - 'SVM 5'!H41","v":1},{"$f":"$M41 - 'SVM 5'!I41","v":1},{"$f":"$M41 - 'SVM 5'!J41","v":-1},{"$f":"$M41 - 'SVM 5'!K41","v":-1},0.1,3.0,1.1]
["verapamil",{"$f":"$M42 - 'SVM 5'!B42","v":1},{"$f":"$M42 - 'SVM 5'!C42","v":3},{"$f":"$M42 - 'SVM 5'!D42","v":1},{"$f":"$M42 - 'SVM 5'!E42","v":3},{"$f":"$M42 - 'SVM 5'!F42","v":1},{"$f":"$M42 - 'SVM 5'!G42","v":3},{"$f":"$M42 - 'SVM 5'!H42","v":3},{"$f":"$M42 - 'SVM 5'!I42","v":3},{"$f":"$M42 - 'SVM 5'!J42","v":1},{"$f":"$M42 - 'SVM 5'!K42","v":1},2,5.0,2]
["Total (abs)",{"$f":"sum(abs(B$2:B$42))","v":36},42,37,41,35,68,40,41,35,37]
["Mean (abs)",{"$f":"sum(abs(B$2:B$42))/count(B$2:B$42)","v":0.8780487805},1.024390244,0.9024390244,1,0.8536585366,1.658536585,0.9756097561,1,0.8536585366,0.9024390244]
["SD (abs)",{"$f":"STDEV(abs(B$2:B$42))","v":0.7481684954},0.8511111819,0.7350128587,1.024695077,0.8532577456,1.196030018,0.9079593845,0.8660254038,0.8234371746,0.7682733253]
["Total",{"$f":"sum(B$2:B$42)","v":2},0,1,-11,-9,32,24,-13,3,5]

{"sheet":"Cqinward LDA 1","index":14,"n_rows":42,"n_cols":28,"rows_kept":42,"cut":false,"hidden":false,"merged":[]}
["Drug","Redferns",1.0,2.0,3.0,4.0,5.0,6.0,7.0,8.0,9.0,10.0,11.0,12.0,13.0,14.0,15.0,16.0,17.0,18.0,19.0,20.0,21.0,22.0,23.0,24.0,25.0,"All"]
["ajmaline",2.0,4.0,4.0,4.0,4.0,4.0,2.0,4.0,2.0,4.0,2.0,4.0,4.0,4.0,4.0,2.0,3.0,5.0,2.0,4.0,3.0,3.0,3.0,3.0,3.0,2.0,2.0]
["amiodarone",2.0,4.0,4.0,4.0,4.0,4.0,2.0,4.0,2.0,4.0,4.0,4.0,4.0,4.0,4.0,2.0,5.0,5.0,5.0,5.0,3.0,3.0,3.0,3.0,3.0,3.0,3.0]
["amitriptyline",4.0,4.0,4.0,4.0,4.0,4.0,4.0,4.0,4.0,4.0,4.0,4.0,4.0,4.0,4.0,2.0,5.0,5.0,5.0,5.0,5.0,3.0,3.0,3.0,3.0,3.0,4.0]
["azimilide",2.0,3.0,4.0,4.0,4.0,4.0,2.0,4.0,3.0,2.0,3.0,2.0,3.0,2.0,2.0,4.0,2.0,2.0,4.0,2.0,4.0,4.0,4.0,4.0,4.0,4.0,3.0]
["bepridil",3.0,5.0,5.0,3.0,5.0,3.0,5.0,3.0,5.0,3.0,5.0,3.0,5.0,3.0,5.0,3.0,4.0,3.0,4.0,3.0,4.0,5.0,4.0,5.0,4.0,5.0,4.0]
["chlorpromazine",3.0,4.0,4.0,4.0,4.0,4.0,4.0,4.0,4.0,4.0,4.0,4.0,4.0,4.0,4.0,2.0,5.0,5.0,5.0,5.0,5.0,3.0,3.0,3.0,3.0,3.0,5.0]
["cibenzoline",5.0,4.0,4.0,4.0,4.0,4.0,2.0,4.0,2.0,4.0,2.0,4.0,4.0,4.0,4.0,2.0,4.0,5.0,5.0,5.0,5.0,3.0,3.0,3.0,3.0,3.0,5.0]
["cisapride",2.0,3.0,4.0,4.0,4.0,4.0,2.0,4.0,3.0,2.0,3.0,2.0,3.0,2.0,2.0,4.0,2.0,2.0,3.0,2.0,2.0,4.0,2.0,5.0,2.0,5.0,4.0]
["clozapine",4.0,3.0,2.0,2.0,2.0,2.0,3.0,2.0,3.0,2.0,3.0,2.0,3.0,2.0,2.0,2.0,4.0,2.0,4.0,2.0,4.0,2.0,4.0,2.0,4.0,2.0,4.0]
["desipramine",4.0,4.0,4.0,4.0,4.0,4.0,4.0,4.0,4.0,4.0,4.0,4.0,4.0,4.0,4.0,2.0,5.0,5.0,5.0,5.0,5.0,3.0,3.0,3.0,3.0,3.0,2.0]
["diltiazem",5.0,5.0,4.0,3.0,4.0,3.0,4.0,3.0,4.0,3.0,4.0,3.0,5.0,3.0,5.0,3.0,4.0,3.0,4.0,3.0,4.0,3.0,4.0,5.0,4.0,5.0,5.0]
["disopyramide",2.0,4.0,4.0,4.0,4.0,4.0,2.0,4.0,2.0,4.0,2.0,4.0,4.0,4.0,4.0,4.0,3.0,4.0,2.0,4.0,3.0,4.0,3.0,4.0,3.0,4.0,2.0]
["dl-sotalol",2.0,4.0,4.0,4.0,4.0,4.0,2.0,4.0,2.0,4.0,4.0,4.0,4.0,4.0,4.0,2.0,5.0,5.0,5.0,5.0,3.0,3.0,3.0,3.0,3.0,3.0,5.0]
["dofetilide",2.0,4.0,4.0,4.0,4.0,4.0,2.0,4.0,2.0,4.0,2.0,4.0,4.0,4.0,4.0,4.0,3.0,4.0,2.0,4.0,3.0,4.0,3.0,4.0,3.0,2.0,2.0]
["flecainide",3.0,4.0,4.0,4.0,4.0,4.0,4.0,4.0,4.0,4.0,4.0,5.0,5.0,5.0,4.0,2.0,5.0,5.0,5.0,5.0,5.0,3.0,3.0,3.0,3.0,2.0,4.0]
["fluvoxamine",4.0,4.0,4.0,4.0,4.0,4.0,2.0,4.0,2.0,4.0,4.0,4.0,4.0,4.0,4.0,2.0,5.0,5.0,5.0,5.0,5.0,3.0,3.0,3.0,3.0,3.0,5.0]
["halofantrine",3.0,4.0,4.0,4.0,4.0,4.0,2.0,4.0,2.0,4.0,4.0,4.0,4.0,4.0,4.0,2.0,5.0,5.0,5.0,5.0,5.0,3.0,3.0,3.0,3.0,2.0,5.0]
["imipramine",4.0,4.0,4.0,4.0,4.0,4.0,2.0,4.0,2.0,4.0,4.0,4.0,4.0,4.0,4.0,2.0,5.0,5.0,5.0,5.0,5.0,3.0,3.0,3.0,3.0,2.0,2.0]
["loratadine",5.0,4.0,4.0,4.0,4.0,4.0,2.0,4.0,2.0,4.0,4.0,4.0,4.0,4.0,4.0,2.0,4.0,5.0,5.0,5.0,5.0,3.0,3.0,3.0,3.0,3.0,5.0]
["methadone",2.0,4.0,4.0,4.0,4.0,4.0,2.0,4.0,2.0,4.0,4.0,4.0,4.0,4.0,4.0,2.0,5.0,5.0,5.0,5.0,5.0,3.0,3.0,3.0,3.0,3.0,5.0]
["mexiletine",4.0,4.0,4.0,4.0,5.0,5.0,5.0,5.0,5.0,5.0,5.0,5.0,5.0,5.0,5.0,5.0,5.0,5.0,5.0,5.0,5.0,5.0,5.0,5.0,5.0,5.0,5.0]
["mibefradil",4.0,5.0,5.0,5.0,5.0,3.0,5.0,3.0,5.0,3.0,5.0,3.0,5.0,3.0,5.0,3.0,5.0,3.0,4.0,3.0,4.0,5.0,4.0,5.0,4.0,5.0,4.0]
["nifedipine",4.0,5.0,5.0,5.0,5.0,5.0,5.0,3.0,5.0,3.0,5.0,3.0,5.0,3.0,5.0,3.0,5.0,3.0,4.0,3.0,4.0,5.0,4.0,5.0,4.0,5.0,3.0]
["nitrendipine",5.0,4.0,4.0,4.0,4.0,4.0,4.0,4.0,4.0,4.0,4.0,4.0,4.0,4.0,4.0,2.0,4.0,5.0,5.0,5.0,5.0,3.0,3.0,3.0,3.0,3.0,2.0]
["ondansetron",2.0,3.0,4.0,4.0,2.0,4.0,3.0,2.0,3.0,2.0,3.0,2.0,3.0,3.0,2.0,3.0,2.0,3.0,3.0,3.0,2.0,5.0,2.0,5.0,2.0,5.0,3.0]
["pentamidine",3.0,4.0,4.0,4.0,4.0,4.0,2.0,4.0,2.0,4.0,4.0,4.0,4.0,4.0,4.0,2.0,5.0,5.0,5.0,5.0,5.0,3.0,3.0,3.0,3.0,3.0,5.0]
["phenytoin",5.0,4.0,4.0,4.0,4.0,4.0,2.0,4.0,2.0,4.0,4.0,4.0,4.0,4.0,4.0,2.0,4.0,5.0,5.0,5.0,5.0,3.0,3.0,3.0,3.0,3.0,4.0]
["pimozide",3.0,4.0,4.0,4.0,4.0,4.0,2.0,4.0,2.0,4.0,4.0,4.0,4.0,4.0,4.0,2.0,5.0,5.0,5.0,5.0,5.0,3.0,3.0,3.0,3.0,2.0,4.0]
["prenylamine",2.0,4.0,4.0,4.0,4.0,4.0,2.0,4.0,2.0,4.0,2.0,4.0,4.0,4.0,4.0,4.0,3.0,4.0,2.0,4.0,3.0,4.0,3.0,4.0,3.0,2.0,3.0]
["propafenone",4.0,4.0,4.0,4.0,4.0,4.0,4.0,5.0,5.0,5.0,5.0,5.0,5.0,5.0,5.0,3.0,5.0,3.0,4.0,3.0,4.0,5.0,4.0,5.0,4.0,5.0,5.0]
["propranolol",5.0,4.0,4.0,4.0,4.0,4.0,2.0,4.0,2.0,4.0,4.0,4.0,4.0,4.0,4.0,2.0,4.0,5.0,2.0,5.0,3.0,3.0,3.0,3.0,3.0,2.0,2.0]
["quetiapine",5.0,4.0,4.0,4.0,4.0,4.0,2.0,4.0,2.0,4.0,4.0,4.0,4.0,4.0,4.0,2.0,4.0,5.0,5.0,5.0,5.0,3.0,3.0,3.0,3.0,3.0,3.0]
["quinidine",2.0,3.0,3.0,2.0,3.0,2.0,3.0,2.0,3.0,2.0,3.0,4.0,2.0,4.0,4.0,2.0,5.0,5.0,5.0,5.0,5.0,5.0,5.0,5.0,5.0,5.0,2.0]
["ranolazine",4.0,5.0,5.0,5.0,5.0,5.0,5.0,3.0,5.0,3.0,5.0,3.0,5.0,3.0,5.0,3.0,5.0,3.0,4.0,3.0,5.0,5.0,5.0,5.0,5.0,5.0,3.0]
["risperidone",5.0,4.0,4.0,4.0,4.0,4.0,2.0,4.0,2.0,4.0,4.0,4.0,4.0,4.0,4.0,2.0,4.0,5.0,5.0,5.0,5.0,3.0,3.0,3.0,3.0,3.0,4.0]
["sertindole",2.0,4.0,4.0,4.0,4.0,4.0,2.0,4.0,2.0,4.0,4.0,4.0,4.0,4.0,4.0,2.0,5.0,5.0,5.0,5.0,5.0,3.0,3.0,3.0,3.0,3.0,3.0]
["tedisamil",2.0,4.0,4.0,4.0,4.0,4.0,2.0,4.0,2.0,4.0,4.0,4.0,4.0,4.0,4.0,2.0,5.0,5.0,5.0,5.0,3.0,3.0,3.0,3.0,3.0,2.0,5.0]
["terfenadine",2.0,4.0,4.0,4.0,4.0,4.0,2.0,4.0,2.0,4.0,2.0,4.0,4.0,4.0,4.0,4.0,3.0,4.0,2.0,4.0,3.0,4.0,3.0,4.0,3.0,2.0,4.0]
["terodiline",2.0,3.0,2.0,2.0,3.0,2.0,5.0,2.0,5.0,2.0,5.0,2.0,5.0,2.0,2.0,3.0,2.0,2.0,4.0,2.0,2.0,5.0,2.0,4.0,2.0,5.0,5.0]
["thioridazine",3.0,2.0,2.0,5.0,2.0,5.0,2.0,5.0,2.0,5.0,2.0,5.0,2.0,5.0,2.0,5.0,2.0,5.0,2.0,5.0,2.0,3.0,3.0,4.0,3.0,2.0,4.0]
["verapamil",5.0,5.0,5.0,3.0,5.0,3.0,5.0,3.0,5.0,3.0,5.0,3.0,5.0,3.0,5.0,3.0,4.0,3.0,4.0,3.0,4.0,5.0,4.0,5.0,4.0,5.0,5.0]

{"sheet":"Cqinward SVM 1","index":15,"n_rows":42,"n_cols":28,"rows_kept":42,"cut":false,"hidden":false,"merged":[]}
["Drug","Redferns",1.0,2.0,3.0,4.0,5.0,6.0,7.0,8.0,9.0,10.0,11.0,12.0,13.0,14.0,15.0,16.0,17.0,18.0,19.0,20.0,21.0,22.0,23.0,24.0,25.0,"All"]
["ajmaline",2.0,2.0,2.0,2.0,2.0,2.0,2.0,2.0,2.0,2.0,2.0,2.0,2.0,2.0,2.0,2.0,2.0,2.0,2.0,2.0,2.0,2.0,2.0,2.0,2.0,2.0,2.0]
["amiodarone",2.0,2.0,2.0,2.0,2.0,2.0,2.0,2.0,2.0,2.0,2.0,2.0,2.0,2.0,2.0,2.0,2.0,2.0,2.0,2.0,2.0,2.0,2.0,2.0,2.0,2.0,2.0]
["amitriptyline",4.0,2.0,2.0,2.0,2.0,2.0,2.0,2.0,2.0,2.0,2.0,2.0,2.0,2.0,2.0,2.0,2.0,2.0,2.0,2.0,2.0,2.0,2.0,2.0,2.0,2.0,5.0]
["azimilide",2.0,2.0,2.0,2.0,2.0,2.0,2.0,2.0,2.0,2.0,2.0,2.0,2.0,2.0,2.0,2.0,2.0,2.0,4.0,2.0,4.0,2.0,4.0,2.0,4.0,4.0,4.0]
["bepridil",3.0,2.0,2.0,2.0,2.0,2.0,2.0,2.0,2.0,2.0,2.0,2.0,2.0,2.0,2.0,2.0,2.0,2.0,2.0,2.0,2.0,2.0,2.0,2.0,2.0,2.0,4.0]
["chlorpromazine",3.0,2.0,2.0,2.0,2.0,2.0,2.0,2.0,2.0,2.0,2.0,2.0,2.0,2.0,2.0,2.0,2.0,2.0,2.0,2.0,2.0,2.0,2.0,2.0,2.0,2.0,4.0]
["cibenzoline",5.0,2.0,2.0,2.0,2.0,2.0,2.0,2.0,2.0,2.0,2.0,2.0,2.0,2.0,2.0,2.0,2.0,2.0,2.0,2.0,2.0,2.0,2.0,2.0,2.0,2.0,2.0]
["cisapride",2.0,2.0,2.0,2.0,2.0,2.0,2.0,2.0,2.0,2.0,2.0,2.0,2.0,2.0,2.0,2.0,2.0,2.0,2.0,2.0,2.0,2.0,2.0,2.0,2.0,2.0,2.0]
["clozapine",4.0,2.0,2.0,2.0,2.0,2.0,2.0,2.0,2.0,2.0,2.0,2.0,2.0,2.0,2.0,2.0,2.0,2.0,2.0,2.0,2.0,2.0,2.0,2.0,2.0,2.0,2.0]
["desipramine",4.0,2.0,2.0,2.0,2.0,2.0,2.0,2.0,2.0,2.0,2.0,2.0,2.0,2.0,2.0,2.0,2.0,2.0,2.0,2.0,2.0,2.0,2.0,2.0,2.0,2.0,2.0]
["diltiazem",5.0,2.0,2.0,2.0,2.0,2.0,2.0,2.0,2.0,2.0,2.0,2.0,2.0,2.0,2.0,2.0,4.0,2.0,2.0,2.0,2.0,2.0,4.0,2.0,4.0,2.0,4.0]
["disopyramide",2.0,2.0,2.0,2.0,2.0,2.0,2.0,2.0,2.0,2.0,2.0,2.0,2.0,2.0,2.0,2.0,2.0,2.0,2.0,2.0,2.0,2.0,2.0,2.0,2.0,2.0,2.0]
["dl-sotalol",2.0,2.0,2.0,2.0,2.0,2.0,2.0,2.0,2.0,2.0,2.0,2.0,2.0,2.0,2.0,2.0,2.0,2.0,2.0,2.0,2.0,2.0,2.0,2.0,2.0,2.0,2.0]
["dofetilide",2.0,2.0,2.0,2.0,2.0,2.0,2.0,2.0,2.0,2.0,2.0,2.0,2.0,2.0,2.0,2.0,2.0,2.0,2.0,2.0,2.0,2.0,2.0,2.0,2.0,2.0,2.0]
["flecainide",3.0,2.0,2.0,2.0,2.0,2.0,2.0,2.0,2.0,2.0,2.0,2.0,2.0,2.0,2.0,2.0,2.0,2.0,2.0,2.0,2.0,2.0,2.0,2.0,2.0,2.0,2.0]
["fluvoxamine",4.0,2.0,2.0,2.0,2.0,2.0,2.0,2.0,2.0,2.0,2.0,2.0,2.0,2.0,2.0,2.0,2.0,2.0,2.0,2.0,2.0,2.0,2.0,2.0,2.0,2.0,2.0]
["halofantrine",3.0,2.0,2.0,2.0,2.0,2.0,2.0,2.0,2.0,2.0,2.0,2.0,2.0,2.0,2.0,2.0,2.0,2.0,2.0,2.0,2.0,2.0,2.0,2.0,2.0,2.0,2.0]
["imipramine",4.0,2.0,2.0,2.0,2.0,2.0,2.0,2.0,2.0,2.0,2.0,2.0,2.0,2.0,2.0,2.0,2.0,2.0,2.0,2.0,2.0,2.0,2.0,2.0,2.0,2.0,2.0]
["loratadine",5.0,2.0,2.0,2.0,2.0,2.0,2.0,2.0,2.0,2.0,2.0,2.0,2.0,2.0,2.0,2.0,2.0,2.0,2.0,2.0,2.0,2.0,2.0,2.0,2.0,2.0,2.0]
["methadone",2.0,2.0,2.0,2.0,2.0,2.0,2.0,2.0,2.0,2.0,2.0,2.0,2.0,2.0,2.0,2.0,2.0,2.0,2.0,2.0,2.0,2.0,2.0,2.0,2.0,2.0,2.0]
["mexiletine",4.0,2.0,2.0,2.0,2.0,2.0,2.0,2.0,2.0,2.0,2.0,2.0,2.0,2.0,2.0,2.0,2.0,2.0,2.0,2.0,2.0,2.0,2.0,2.0,2.0,2.0,5.0]
["mibefradil",4.0,2.0,2.0,2.0,2.0,2.0,2.0,2.0,2.0,2.0,2.0,2.0,2.0,2.0,2.0,2.0,2.0,2.0,2.0,2.0,2.0,2.0,2.0,2.0,2.0,2.0,5.0]
["nifedipine",4.0,2.0,2.0,2.0,2.0,2.0,2.0,2.0,2.0,2.0,2.0,2.0,2.0,2.0,2.0,2.0,2.0,2.0,2.0,2.0,2.0,2.0,2.0,2.0,2.0,2.0,5.0]
["nitrendipine",5.0,2.0,2.0,2.0,2.0,2.0,2.0,2.0,2.0,2.0,2.0,2.0,2.0,2.0,2.0,2.0,2.0,2.0,2.0,2.0,2.0,2.0,2.0,2.0,2.0,2.0,4.0]
["ondansetron",2.0,2.0,2.0,2.0,2.0,2.0,2.0,2.0,2.0,2.0,2.0,2.0,2.0,2.0,2.0,2.0,2.0,2.0,2.0,2.0,2.0,2.0,2.0,2.0,2.0,2.0,2.0]
["pentamidine",3.0,2.0,2.0,2.0,2.0,2.0,2.0,2.0,2.0,2.0,2.0,2.0,2.0,2.0,2.0,2.0,2.0,2.0,2.0,2.0,2.0,2.0,2.0,2.0,2.0,2.0,2.0]
["phenytoin",5.0,2.0,2.0,2.0,2.0,2.0,2.0,2.0,2.0,2.0,2.0,2.0,2.0,2.0,2.0,2.0,2.0,2.0,2.0,2.0,2.0,2.0,2.0,2.0,2.0,2.0,2.0]
["pimozide",3.0,2.0,2.0,2.0,2.0,2.0,2.0,2.0,2.0,2.0,2.0,2.0,2.0,2.0,2.0,2.0,2.0,2.0,2.0,2.0,2.0,2.0,2.0,2.0,2.0,2.0,2.0]
["prenylamine",2.0,2.0,2.0,2.0,2.0,2.0,2.0,2.0,2.0,2.0,2.0,2.0,2.0,2.0,2.0,2.0,2.0,2.0,2.0,2.0,2.0,2.0,2.0,2.0,2.0,2.0,2.0]
["propafenone",4.0,2.0,2.0,2.0,2.0,2.0,2.0,2.0,2.0,2.0,2.0,2.0,2.0,2.0,2.0,2.0,2.0,2.0,2.0,2.0,2.0,2.0,2.0,2.0,2.0,2.0,5.0]
["propranolol",5.0,2.0,2.0,2.0,2.0,2.0,2.0,2.0,2.0,2.0,2.0,2.0,2.0,2.0,2.0,2.0,2.0,2.0,2.0,2.0,2.0,2.0,2.0,2.0,2.0,2.0,2.0]
["quetiapine",5.0,2.0,2.0,2.0,2.0,2.0,2.0,2.0,2.0,2.0,2.0,2.0,2.0,2.0,2.0,2.0,2.0,2.0,2.0,2.0,2.0,2.0,2.0,2.0,2.0,2.0,2.0]
["quinidine",2.0,2.0,2.0,2.0,2.0,2.0,2.0,2.0,2.0,2.0,2.0,2.0,2.0,2.0,2.0,2.0,2.0,2.0,2.0,2.0,2.0,2.0,2.0,2.0,2.0,2.0,2.0]
["ranolazine",4.0,2.0,2.0,2.0,2.0,2.0,2.0,2.0,2.0,2.0,2.0,2.0,2.0,2.0,2.0,2.0,2.0,2.0,2.0,2.0,2.0,2.0,2.0,2.0,2.0,2.0,5.0]
["risperidone",5.0,2.0,2.0,2.0,2.0,2.0,2.0,2.0,2.0,2.0,2.0,2.0,2.0,2.0,2.0,2.0,2.0,2.0,2.0,2.0,2.0,2.0,2.0,2.0,2.0,2.0,2.0]
["sertindole",2.0,2.0,2.0,2.0,2.0,2.0,2.0,2.0,2.0,2.0,2.0,2.0,2.0,2.0,2.0,2.0,2.0,2.0,2.0,2.0,2.0,2.0,2.0,2.0,2.0,2.0,2.0]
["tedisamil",2.0,2.0,2.0,2.0,2.0,2.0,2.0,2.0,2.0,2.0,2.0,2.0,2.0,2.0,2.0,2.0,2.0,2.0,2.0,2.0,2.0,2.0,2.0,2.0,2.0,2.0,2.0]
["terfenadine",2.0,2.0,2.0,2.0,2.0,2.0,2.0,2.0,2.0,2.0,2.0,2.0,2.0,2.0,2.0,2.0,2.0,2.0,2.0,2.0,2.0,2.0,2.0,2.0,2.0,2.0,2.0]
["terodiline",2.0,2.0,2.0,2.0,3.0,2.0,2.0,2.0,2.0,2.0,2.0,2.0,2.0,2.0,2.0,2.0,2.0,2.0,2.0,2.0,2.0,2.0,2.0,2.0,2.0,2.0,2.0]
["thioridazine",3.0,2.0,2.0,2.0,2.0,2.0,2.0,2.0,2.0,4.0,2.0,2.0,2.0,2.0,2.0,2.0,2.0,2.0,2.0,2.0,2.0,2.0,2.0,2.0,2.0,2.0,2.0]
["verapamil",5.0,2.0,2.0,2.0,2.0,2.0,2.0,2.0,2.0,2.0,2.0,2.0,2.0,2.0,2.0,2.0,2.0,2.0,2.0,2.0,2.0,2.0,2.0,2.0,2.0,2.0,4.0]

{"sheet":"Cqinward LDA 5","index":16,"n_rows":42,"n_cols":28,"rows_kept":42,"cut":false,"hidden":false,"merged":[]}
["Drug","Redferns",1.0,2.0,3.0,4.0,5.0,6.0,7.0,8.0,9.0,10.0,11.0,12.0,13.0,14.0,15.0,16.0,17.0,18.0,19.0,20.0,21.0,22.0,23.0,24.0,25.0,"All"]
["ajmaline",2.0,4.0,4.0,4.0,4.0,4.0,2.0,4.0,2.0,4.0,2.0,4.0,4.0,4.0,4.0,4.0,4.0,4.0,2.0,4.0,5.0,2.0,3.0,4.0,3.0,2.0,4.0]
["amiodarone",2.0,4.0,4.0,4.0,4.0,4.0,2.0,4.0,2.0,4.0,4.0,4.0,4.0,4.0,4.0,2.0,4.0,5.0,2.0,5.0,5.0,2.0,3.0,3.0,3.0,3.0,4.0]
["amitriptyline",4.0,3.0,3.0,3.0,3.0,3.0,3.0,3.0,3.0,3.0,4.0,3.0,3.0,3.0,3.0,3.0,3.0,3.0,3.0,3.0,3.0,3.0,3.0,3.0,3.0,3.0,5.0]
["azimilide",2.0,3.0,2.0,2.0,2.0,4.0,4.0,2.0,3.0,2.0,3.0,2.0,3.0,2.0,2.0,4.0,2.0,2.0,4.0,2.0,4.0,4.0,4.0,4.0,4.0,4.0,4.0]
["bepridil",3.0,5.0,5.0,5.0,5.0,5.0,5.0,5.0,5.0,5.0,5.0,5.0,5.0,5.0,5.0,5.0,5.0,5.0,4.0,5.0,4.0,5.0,4.0,5.0,4.0,5.0,4.0]
["chlorpromazine",3.0,4.0,4.0,4.0,4.0,4.0,4.0,4.0,4.0,4.0,4.0,4.0,4.0,4.0,4.0,2.0,4.0,5.0,5.0,5.0,5.0,3.0,3.0,3.0,3.0,3.0,5.0]
["cibenzoline",5.0,4.0,4.0,4.0,4.0,4.0,2.0,4.0,2.0,4.0,4.0,5.0,5.0,5.0,5.0,2.0,5.0,5.0,5.0,5.0,5.0,5.0,3.0,3.0,3.0,3.0,5.0]
["cisapride",2.0,4.0,4.0,4.0,4.0,4.0,2.0,4.0,2.0,2.0,2.0,2.0,2.0,2.0,3.0,4.0,2.0,2.0,3.0,2.0,2.0,4.0,2.0,5.0,2.0,5.0,2.0]
["clozapine",4.0,3.0,2.0,2.0,2.0,2.0,2.0,2.0,3.0,2.0,3.0,2.0,2.0,2.0,2.0,2.0,4.0,2.0,4.0,2.0,4.0,2.0,4.0,2.0,4.0,2.0,4.0]
["desipramine",4.0,4.0,4.0,4.0,4.0,4.0,4.0,4.0,5.0,5.0,5.0,5.0,5.0,5.0,5.0,5.0,5.0,5.0,5.0,5.0,5.0,3.0,3.0,3.0,3.0,3.0,4.0]
["diltiazem",5.0,5.0,5.0,3.0,5.0,3.0,5.0,3.0,5.0,3.0,5.0,3.0,5.0,3.0,5.0,3.0,4.0,3.0,4.0,3.0,4.0,3.0,4.0,5.0,4.0,5.0,5.0]
["disopyramide",2.0,3.0,3.0,3.0,3.0,3.0,2.0,3.0,2.0,3.0,2.0,4.0,4.0,4.0,4.0,4.0,3.0,3.0,2.0,3.0,3.0,3.0,3.0,4.0,3.0,2.0,2.0]
["dl-sotalol",2.0,3.0,3.0,3.0,3.0,3.0,3.0,3.0,3.0,3.0,3.0,3.0,3.0,3.0,3.0,2.0,3.0,3.0,3.0,3.0,3.0,3.0,3.0,3.0,3.0,3.0,4.0]
["dofetilide",2.0,2.0,2.0,4.0,4.0,4.0,4.0,4.0,2.0,4.0,2.0,4.0,4.0,4.0,4.0,4.0,3.0,4.0,2.0,4.0,3.0,2.0,3.0,2.0,3.0,4.0,2.0]
["flecainide",3.0,4.0,4.0,4.0,4.0,4.0,4.0,4.0,4.0,4.0,4.0,5.0,4.0,4.0,4.0,2.0,4.0,5.0,5.0,5.0,5.0,3.0,3.0,3.0,3.0,2.0,4.0]
["fluvoxamine",4.0,4.0,4.0,4.0,4.0,4.0,4.0,4.0,4.0,4.0,4.0,5.0,5.0,5.0,5.0,2.0,5.0,5.0,5.0,5.0,5.0,5.0,3.0,3.0,3.0,3.0,4.0]
["halofantrine",3.0,4.0,4.0,4.0,4.0,4.0,4.0,4.0,2.0,2.0,5.0,5.0,5.0,2.0,5.0,2.0,5.0,5.0,5.0,5.0,5.0,3.0,3.0,3.0,3.0,3.0,5.0]
["imipramine",4.0,4.0,4.0,4.0,4.0,4.0,2.0,4.0,2.0,4.0,4.0,5.0,5.0,5.0,5.0,2.0,5.0,5.0,5.0,5.0,5.0,5.0,3.0,3.0,3.0,2.0,3.0]
["loratadine",5.0,4.0,4.0,4.0,4.0,4.0,4.0,4.0,2.0,4.0,2.0,4.0,2.0,4.0,4.0,2.0,4.0,5.0,2.0,5.0,3.0,3.0,3.0,3.0,3.0,3.0,2.0]
["methadone",2.0,3.0,3.0,3.0,3.0,3.0,3.0,3.0,3.0,3.0,3.0,3.0,3.0,3.0,3.0,3.0,3.0,3.0,3.0,3.0,3.0,3.0,3.0,3.0,3.0,3.0,4.0]
["mexiletine",4.0,5.0,5.0,5.0,5.0,5.0,5.0,5.0,5.0,5.0,5.0,5.0,5.0,3.0,5.0,3.0,4.0,3.0,5.0,3.0,5.0,3.0,5.0,5.0,4.0,5.0,5.0]
["mibefradil",4.0,5.0,5.0,3.0,5.0,3.0,5.0,3.0,5.0,3.0,5.0,3.0,5.0,3.0,5.0,3.0,4.0,3.0,4.0,3.0,4.0,3.0,4.0,5.0,4.0,5.0,5.0]
["nifedipine",4.0,4.0,4.0,5.0,5.0,5.0,5.0,5.0,5.0,3.0,5.0,3.0,5.0,3.0,5.0,3.0,5.0,3.0,4.0,3.0,4.0,5.0,4.0,5.0,4.0,5.0,3.0]
["nitrendipine",5.0,4.0,4.0,4.0,4.0,4.0,4.0,4.0,4.0,4.0,4.0,4.0,4.0,4.0,4.0,2.0,4.0,5.0,5.0,5.0,5.0,3.0,3.0,3.0,3.0,3.0,2.0]
["ondansetron",2.0,3.0,2.0,2.0,2.0,4.0,3.0,2.0,3.0,2.0,3.0,2.0,3.0,3.0,2.0,3.0,2.0,3.0,3.0,3.0,2.0,5.0,2.0,5.0,2.0,5.0,3.0]
["pentamidine",3.0,4.0,4.0,4.0,4.0,4.0,2.0,4.0,2.0,4.0,4.0,4.0,4.0,4.0,4.0,2.0,4.0,5.0,2.0,5.0,5.0,3.0,3.0,3.0,3.0,3.0,5.0]
["phenytoin",5.0,4.0,4.0,4.0,4.0,4.0,2.0,4.0,2.0,4.0,4.0,4.0,4.0,4.0,4.0,2.0,4.0,5.0,2.0,5.0,5.0,3.0,3.0,3.0,3.0,3.0,5.0]
["pimozide",3.0,4.0,4.0,4.0,4.0,4.0,2.0,4.0,2.0,4.0,4.0,4.0,4.0,4.0,4.0,2.0,4.0,5.0,2.0,5.0,5.0,2.0,3.0,3.0,3.0,3.0,4.0]
["prenylamine",2.0,4.0,4.0,4.0,4.0,4.0,2.0,4.0,2.0,4.0,2.0,4.0,4.0,4.0,4.0,2.0,3.0,5.0,3.0,5.0,3.0,2.0,3.0,3.0,3.0,2.0,3.0]
["propafenone",4.0,4.0,4.0,4.0,4.0,4.0,4.0,4.0,4.0,4.0,4.0,4.0,4.0,4.0,4.0,4.0,4.0,3.0,4.0,3.0,4.0,4.0,4.0,4.0,4.0,4.0,4.0]
["propranolol",5.0,4.0,4.0,4.0,4.0,4.0,4.0,4.0,2.0,4.0,2.0,4.0,2.0,4.0,4.0,2.0,4.0,5.0,2.0,5.0,3.0,2.0,3.0,3.0,3.0,3.0,5.0]
["quetiapine",5.0,3.0,3.0,3.0,3.0,3.0,3.0,3.0,3.0,3.0,3.0,3.0,3.0,3.0,3.0,3.0,3.0,3.0,3.0,3.0,3.0,3.0,3.0,3.0,3.0,3.0,3.0]
["quinidine",2.0,3.0,3.0,2.0,3.0,2.0,3.0,2.0,3.0,2.0,3.0,4.0,4.0,4.0,4.0,2.0,4.0,5.0,5.0,5.0,5.0,3.0,5.0,5.0,5.0,5.0,2.0]
["ranolazine",4.0,5.0,5.0,5.0,5.0,5.0,5.0,5.0,5.0,5.0,5.0,5.0,5.0,5.0,5.0,5.0,5.0,5.0,5.0,5.0,5.0,5.0,5.0,5.0,5.0,5.0,3.0]
["risperidone",5.0,4.0,4.0,4.0,4.0,4.0,2.0,4.0,2.0,4.0,4.0,5.0,5.0,5.0,5.0,2.0,5.0,5.0,5.0,5.0,5.0,5.0,3.0,3.0,3.0,3.0,3.0]
["sertindole",2.0,3.0,3.0,3.0,3.0,3.0,3.0,3.0,3.0,3.0,3.0,3.0,3.0,3.0,3.0,3.0,3.0,3.0,3.0,3.0,3.0,3.0,3.0,3.0,3.0,3.0,3.0]
["tedisamil",2.0,4.0,4.0,4.0,4.0,4.0,2.0,4.0,2.0,2.0,5.0,5.0,5.0,2.0,5.0,2.0,5.0,5.0,5.0,5.0,5.0,3.0,3.0,3.0,3.0,3.0,5.0]
["terfenadine",2.0,4.0,4.0,4.0,4.0,4.0,2.0,4.0,2.0,4.0,2.0,4.0,4.0,4.0,4.0,2.0,3.0,5.0,3.0,5.0,3.0,2.0,3.0,3.0,3.0,2.0,3.0]
["terodiline",2.0,3.0,2.0,2.0,3.0,2.0,5.0,2.0,4.0,2.0,4.0,2.0,4.0,2.0,2.0,3.0,2.0,2.0,4.0,2.0,2.0,4.0,2.0,2.0,2.0,4.0,2.0]
["thioridazine",3.0,2.0,2.0,5.0,2.0,5.0,2.0,5.0,2.0,5.0,2.0,5.0,2.0,5.0,2.0,5.0,2.0,5.0,2.0,5.0,2.0,3.0,3.0,4.0,3.0,2.0,4.0]
["verapamil",5.0,5.0,5.0,3.0,5.0,3.0,5.0,3.0,4.0,3.0,4.0,3.0,4.0,3.0,4.0,3.0,4.0,3.0,4.0,3.0,4.0,4.0,4.0,4.0,4.0,4.0,5.0]

{"sheet":"Cqinward SVM 5","index":17,"n_rows":42,"n_cols":28,"rows_kept":42,"cut":false,"hidden":false,"merged":[]}
["Drug","Redferns",1.0,2.0,3.0,4.0,5.0,6.0,7.0,8.0,9.0,10.0,11.0,12.0,13.0,14.0,15.0,16.0,17.0,18.0,19.0,20.0,21.0,22.0,23.0,24.0,25.0,"All"]
["ajmaline",2.0,2.0,2.0,2.0,2.0,2.0,2.0,2.0,2.0,2.0,2.0,2.0,2.0,2.0,4.0,2.0,4.0,2.0,2.0,2.0,2.0,2.0,2.0,2.0,2.0,2.0,2.0]
["amiodarone",2.0,2.0,2.0,2.0,2.0,2.0,2.0,2.0,2.0,2.0,2.0,2.0,2.0,2.0,4.0,2.0,4.0,2.0,2.0,2.0,2.0,2.0,2.0,2.0,2.0,2.0,2.0]
["amitriptyline",4.0,2.0,2.0,2.0,2.0,2.0,2.0,2.0,2.0,2.0,2.0,2.0,2.0,2.0,2.0,2.0,4.0,2.0,2.0,2.0,2.0,2.0,2.0,2.0,2.0,2.0,5.0]
["azimilide",2.0,2.0,2.0,2.0,2.0,2.0,2.0,2.0,2.0,2.0,2.0,2.0,2.0,2.0,2.0,2.0,2.0,2.0,4.0,2.0,4.0,4.0,4.0,2.0,4.0,4.0,4.0]
["bepridil",3.0,2.0,2.0,2.0,2.0,2.0,2.0,2.0,2.0,2.0,2.0,2.0,2.0,2.0,5.0,2.0,4.0,2.0,2.0,2.0,4.0,2.0,4.0,2.0,4.0,2.0,5.0]
["chlorpromazine",3.0,2.0,2.0,2.0,2.0,2.0,2.0,2.0,2.0,2.0,2.0,2.0,2.0,2.0,4.0,2.0,4.0,2.0,2.0,2.0,2.0,2.0,2.0,2.0,2.0,2.0,4.0]
["cibenzoline",5.0,2.0,2.0,2.0,2.0,2.0,2.0,2.0,2.0,2.0,2.0,2.0,2.0,2.0,2.0,2.0,2.0,2.0,2.0,2.0,2.0,2.0,2.0,2.0,2.0,2.0,2.0]
["cisapride",2.0,2.0,2.0,2.0,2.0,2.0,2.0,2.0,2.0,2.0,2.0,2.0,2.0,2.0,2.0,2.0,2.0,2.0,2.0,2.0,2.0,2.0,2.0,2.0,2.0,2.0,2.0]
["clozapine",4.0,2.0,2.0,2.0,2.0,2.0,2.0,2.0,2.0,2.0,2.0,2.0,2.0,2.0,2.0,2.0,2.0,2.0,2.0,2.0,2.0,2.0,2.0,2.0,2.0,2.0,2.0]
["desipramine",4.0,2.0,2.0,2.0,2.0,2.0,2.0,2.0,2.0,2.0,2.0,2.0,2.0,2.0,2.0,2.0,2.0,2.0,2.0,2.0,2.0,2.0,2.0,2.0,2.0,2.0,2.0]
["diltiazem",5.0,2.0,2.0,2.0,2.0,2.0,2.0,2.0,2.0,2.0,2.0,2.0,2.0,2.0,2.0,2.0,2.0,2.0,2.0,2.0,2.0,2.0,2.0,2.0,2.0,2.0,3.0]
["disopyramide",2.0,2.0,2.0,2.0,2.0,2.0,2.0,2.0,2.0,2.0,2.0,2.0,2.0,2.0,2.0,2.0,4.0,2.0,2.0,2.0,2.0,2.0,2.0,2.0,2.0,2.0,2.0]
["dl-sotalol",2.0,2.0,2.0,2.0,2.0,2.0,2.0,2.0,2.0,2.0,2.0,2.0,2.0,2.0,2.0,2.0,4.0,2.0,2.0,2.0,2.0,2.0,2.0,2.0,2.0,2.0,2.0]
["dofetilide",2.0,2.0,2.0,2.0,2.0,2.0,2.0,2.0,2.0,2.0,2.0,2.0,2.0,2.0,2.0,2.0,2.0,2.0,2.0,2.0,2.0,2.0,2.0,2.0,2.0,2.0,2.0]
["flecainide",3.0,2.0,2.0,2.0,2.0,2.0,2.0,2.0,2.0,2.0,2.0,2.0,2.0,2.0,4.0,2.0,4.0,2.0,2.0,2.0,2.0,2.0,2.0,2.0,2.0,2.0,4.0]
["fluvoxamine",4.0,2.0,2.0,2.0,2.0,2.0,2.0,2.0,2.0,2.0,2.0,2.0,2.0,2.0,2.0,2.0,2.0,2.0,2.0,2.0,2.0,2.0,2.0,2.0,2.0,2.0,2.0]
["halofantrine",3.0,2.0,2.0,2.0,2.0,2.0,2.0,2.0,2.0,2.0,2.0,2.0,2.0,2.0,2.0,2.0,2.0,2.0,2.0,2.0,2.0,2.0,2.0,2.0,2.0,2.0,2.0]
["imipramine",4.0,2.0,2.0,2.0,2.0,2.0,2.0,2.0,2.0,2.0,2.0,2.0,2.0,2.0,2.0,2.0,2.0,2.0,2.0,2.0,2.0,2.0,2.0,2.0,2.0,2.0,2.0]
["loratadine",5.0,2.0,2.0,2.0,2.0,2.0,2.0,2.0,2.0,2.0,2.0,2.0,2.0,2.0,2.0,2.0,2.0,2.0,2.0,2.0,2.0,2.0,2.0,2.0,2.0,2.0,2.0]
["methadone",2.0,2.0,2.0,2.0,2.0,2.0,2.0,2.0,2.0,2.0,2.0,2.0,2.0,2.0,2.0,2.0,4.0,2.0,2.0,2.0,2.0,2.0,2.0,2.0,2.0,2.0,2.0]
["mexiletine",4.0,2.0,2.0,2.0,2.0,2.0,2.0,2.0,2.0,2.0,2.0,2.0,2.0,2.0,2.0,2.0,2.0,2.0,2.0,2.0,2.0,2.0,2.0,2.0,2.0,2.0,3.0]
["mibefradil",4.0,2.0,2.0,2.0,2.0,2.0,2.0,2.0,2.0,2.0,2.0,2.0,2.0,2.0,2.0,2.0,2.0,2.0,2.0,2.0,2.0,2.0,2.0,2.0,2.0,2.0,3.0]
["nifedipine",4.0,2.0,2.0,2.0,2.0,2.0,2.0,2.0,2.0,2.0,2.0,2.0,2.0,2.0,2.0,2.0,4.0,2.0,2.0,2.0,4.0,2.0,4.0,2.0,4.0,2.0,4.0]
["nitrendipine",5.0,2.0,2.0,2.0,2.0,2.0,2.0,2.0,2.0,2.0,2.0,2.0,2.0,2.0,4.0,2.0,4.0,2.0,2.0,2.0,2.0,2.0,2.0,2.0,2.0,2.0,4.0]
["ondansetron",2.0,2.0,2.0,2.0,2.0,2.0,2.0,2.0,2.0,2.0,2.0,2.0,3.0,2.0,2.0,2.0,2.0,2.0,2.0,2.0,2.0,2.0,2.0,2.0,2.0,2.0,2.0]
["pentamidine",3.0,2.0,2.0,2.0,2.0,2.0,2.0,2.0,2.0,2.0,2.0,2.0,2.0,2.0,4.0,2.0,4.0,2.0,2.0,2.0,2.0,2.0,2.0,2.0,2.0,2.0,4.0]
["phenytoin",5.0,2.0,2.0,2.0,2.0,2.0,2.0,2.0,2.0,2.0,2.0,2.0,2.0,2.0,4.0,2.0,4.0,2.0,2.0,2.0,2.0,2.0,2.0,2.0,2.0,2.0,4.0]
["pimozide",3.0,2.0,2.0,2.0,2.0,2.0,2.0,2.0,2.0,2.0,2.0,2.0,2.0,2.0,4.0,2.0,4.0,2.0,2.0,2.0,2.0,2.0,2.0,2.0,2.0,2.0,2.0]
["prenylamine",2.0,2.0,2.0,2.0,2.0,2.0,2.0,2.0,2.0,2.0,2.0,2.0,2.0,2.0,2.0,2.0,2.0,2.0,2.0,2.0,2.0,2.0,2.0,2.0,2.0,2.0,2.0]
["propafenone",4.0,2.0,2.0,2.0,2.0,2.0,2.0,2.0,2.0,2.0,2.0,2.0,2.0,2.0,2.0,2.0,2.0,2.0,2.0,2.0,2.0,2.0,2.0,2.0,2.0,2.0,5.0]
["propranolol",5.0,2.0,2.0,2.0,2.0,2.0,2.0,2.0,2.0,2.0,2.0,2.0,2.0,2.0,2.0,2.0,2.0,2.0,2.0,2.0,2.0,2.0,2.0,2.0,2.0,2.0,2.0]
["quetiapine",5.0,2.0,2.0,2.0,2.0,2.0,2.0,2.0,2.0,2.0,2.0,2.0,2.0,2.0,2.0,2.0,4.0,2.0,2.0,2.0,2.0,2.0,2.0,2.0,2.0,2.0,2.0]
["quinidine",2.0,2.0,2.0,2.0,2.0,2.0,2.0,2.0,2.0,2.0,2.0,2.0,2.0,2.0,2.0,2.0,2.0,2.0,2.0,2.0,2.0,2.0,2.0,2.0,2.0,2.0,2.0]
["ranolazine",4.0,2.0,2.0,2.0,2.0,2.0,2.0,2.0,2.0,2.0,2.0,2.0,2.0,2.0,2.0,2.0,4.0,2.0,2.0,2.0,2.0,2.0,2.0,2.0,2.0,2.0,5.0]
["risperidone",5.0,2.0,2.0,2.0,2.0,2.0,2.0,2.0,2.0,2.0,2.0,2.0,2.0,2.0,2.0,2.0,2.0,2.0,2.0,2.0,2.0,2.0,2.0,2.0,2.0,2.0,2.0]
["sertindole",2.0,2.0,2.0,2.0,2.0,2.0,2.0,2.0,2.0,2.0,2.0,2.0,2.0,2.0,2.0,2.0,4.0,2.0,2.0,2.0,2.0,2.0,2.0,2.0,2.0,2.0,2.0]
["tedisamil",2.0,2.0,2.0,2.0,2.0,2.0,2.0,2.0,2.0,2.0,2.0,2.0,2.0,2.0,2.0,2.0,2.0,2.0,2.0,2.0,2.0,2.0,2.0,2.0,2.0,2.0,2.0]
["terfenadine",2.0,2.0,2.0,2.0,2.0,2.0,2.0,2.0,2.0,2.0,2.0,2.0,2.0,2.0,2.0,2.0,2.0,2.0,2.0,2.0,2.0,2.0,2.0,2.0,2.0,2.0,2.0]
["terodiline",2.0,2.0,2.0,2.0,3.0,2.0,2.0,2.0,2.0,2.0,2.0,2.0,2.0,2.0,2.0,2.0,2.0,2.0,2.0,2.0,2.0,2.0,2.0,2.0,2.0,2.0,2.0]
["thioridazine",3.0,2.0,2.0,2.0,2.0,2.0,2.0,5.0,2.0,5.0,2.0,5.0,2.0,2.0,2.0,2.0,2.0,2.0,2.0,2.0,2.0,2.0,2.0,2.0,2.0,2.0,2.0]
["verapamil",5.0,2.0,2.0,2.0,2.0,2.0,2.0,2.0,2.0,2.0,2.0,2.0,2.0,2.0,2.0,2.0,2.0,2.0,2.0,2.0,2.0,2.0,2.0,2.0,2.0,2.0,5.0]

{"sheet":"Cqinward LDA 1 errors","index":18,"n_rows":46,"n_cols":28,"rows_kept":46,"cut":false,"hidden":false,"merged":[]}
["Drug",1.0,2.0,3.0,4.0,5.0,6.0,7.0,8.0,9.0,10.0,11.0,12.0,13.0,14.0,15.0,16.0,17.0,18.0,19.0,20.0,21.0,22.0,23.0,24.0,25.0,"All","Redferns"]
["ajmaline",{"$f":"$AB2-'Cqinward LDA 1'!C2","v":-2},{"$f":"$AB2-'Cqinward LDA 1'!D2","v":-2},{"$f":"$AB2-'Cqinward LDA 1'!E2","v":-2},{"$f":"$AB2-'Cqinward LDA 1'!F2","v":-2},{"$f":"$AB2-'Cqinward LDA 1'!G2","v":-2},{"$f":"$AB2-'Cqinward LDA 1'!H2","v":0},{"$f":"$AB2-'Cqinward LDA 1'!I2","v":-2},{"$f":"$AB2-'Cqinward LDA 1'!J2","v":0},{"$f":"$AB2-'Cqinward LDA 1'!K2","v":-2},{"$f":"$AB2-'Cqinward LDA 1'!L2","v":0},{"$f":"$AB2-'Cqinward LDA 1'!M2","v":-2},{"$f":"$AB2-'Cqinward LDA 1'!N2","v":-2},{"$f":"$AB2-'Cqinward LDA 1'!O2","v":-2},{"$f":"$AB2-'Cqinward LDA 1'!P2","v":-2},{"$f":"$AB2-'Cqinward LDA 1'!Q2","v":0},{"$f":"$AB2-'Cqinward LDA 1'!R2","v":-1},{"$f":"$AB2-'Cqinward LDA 1'!S2","v":-3},{"$f":"$AB2-'Cqinward LDA 1'!T2","v":0},{"$f":"$AB2-'Cqinward LDA 1'!U2","v":-2},{"$f":"$AB2-'Cqinward LDA 1'!V2","v":-1},{"$f":"$AB2-'Cqinward LDA 1'!W2","v":-1},{"$f":"$AB2-'Cqinward LDA 1'!X2","v":-1},{"$f":"$AB2-'Cqinward LDA 1'!Y2","v":-1},{"$f":"$AB2-'Cqinward LDA 1'!Z2","v":-1},{"$f":"$AB2-'Cqinward LDA 1'!AA2","v":0},{"$f":"$AB2-'Cqinward LDA 1'!AB2","v":0},2.0]
["amiodarone",{"$f":"$AB3-'Cqinward LDA 1'!C3","v":-2},{"$f":"$AB3-'Cqinward LDA 1'!D3","v":-2},{"$f":"$AB3-'Cqinward LDA 1'!E3","v":-2},{"$f":"$AB3-'Cqinward LDA 1'!F3","v":-2},{"$f":"$AB3-'Cqinward LDA 1'!G3","v":-2},{"$f":"$AB3-'Cqinward LDA 1'!H3","v":0},{"$f":"$AB3-'Cqinward LDA 1'!I3","v":-2},{"$f":"$AB3-'Cqinward LDA 1'!J3","v":0},{"$f":"$AB3-'Cqinward LDA 1'!K3","v":-2},{"$f":"$AB3-'Cqinward LDA 1'!L3","v":-2},{"$f":"$AB3-'Cqinward LDA 1'!M3","v":-2},{"$f":"$AB3-'Cqinward LDA 1'!N3","v":-2},{"$f":"$AB3-'Cqinward LDA 1'!O3","v":-2},{"$f":"$AB3-'Cqinward LDA 1'!P3","v":-2},{"$f":"$AB3-'Cqinward LDA 1'!Q3","v":0},{"$f":"$AB3-'Cqinward LDA 1'!R3","v":-3},{"$f":"$AB3-'Cqinward LDA 1'!S3","v":-3},{"$f":"$AB3-'Cqinward LDA 1'!T3","v":-3},{"$f":"$AB3-'Cqinward LDA 1'!U3","v":-3},{"$f":"$AB3-'Cqinward LDA 1'!V3","v":-1},{"$f":"$AB3-'Cqinward LDA 1'!W3","v":-1},{"$f":"$AB3-'Cqinward LDA 1'!X3","v":-1},{"$f":"$AB3-'Cqinward LDA 1'!Y3","v":-1},{"$f":"$AB3-'Cqinward LDA 1'!Z3","v":-1},{"$f":"$AB3-'Cqinward LDA 1'!AA3","v":-1},{"$f":"$AB3-'Cqinward LDA 1'!AB3","v":-1},2.0]
["amitriptyline",{"$f":"$AB4-'Cqinward LDA 1'!C4","v":0},{"$f":"$AB4-'Cqinward LDA 1'!D4","v":0},{"$f":"$AB4-'Cqinward LDA 1'!E4","v":0},{"$f":"$AB4-'Cqinward LDA 1'!F4","v":0},{"$f":"$AB4-'Cqinward LDA 1'!G4","v":0},{"$f":"$AB4-'Cqinward LDA 1'!H4","v":0},{"$f":"$AB4-'Cqinward LDA 1'!I4","v":0},{"$f":"$AB4-'Cqinward LDA 1'!J4","v":0},{"$f":"$AB4-'Cqinward LDA 1'!K4","v":0},{"$f":"$AB4-'Cqinward LDA 1'!L4","v":0},{"$f":"$AB4-'Cqinward LDA 1'!M4","v":0},{"$f":"$AB4-'Cqinward LDA 1'!N4","v":0},{"$f":"$AB4-'Cqinward LDA 1'!O4","v":0},{"$f":"$AB4-'Cqinward LDA 1'!P4","v":0},{"$f":"$AB4-'Cqinward LDA 1'!Q4","v":2},{"$f":"$AB4-'Cqinward LDA 1'!R4","v":-1},{"$f":"$AB4-'Cqinward LDA 1'!S4","v":-1},{"$f":"$AB4-'Cqinward LDA 1'!T4","v":-1},{"$f":"$AB4-'Cqinward LDA 1'!U4","v":-1},{"$f":"$AB4-'Cqinward LDA 1'!V4","v":-1},{"$f":"$AB4-'Cqinward LDA 1'!W4","v":1},{"$f":"$AB4-'Cqinward LDA 1'!X4","v":1},{"$f":"$AB4-'Cqinward LDA 1'!Y4","v":1},{"$f":"$AB4-'Cqinward LDA 1'!Z4","v":1},{"$f":"$AB4-'Cqinward LDA 1'!AA4","v":1},{"$f":"$AB4-'Cqinward LDA 1'!AB4","v":0},4.0]
["azimilide",{"$f":"$AB5-'Cqinward LDA 1'!C5","v":-1},{"$f":"$AB5-'Cqinward LDA 1'!D5","v":-2},{"$f":"$AB5-'Cqinward LDA 1'!E5","v":-2},{"$f":"$AB5-'Cqinward LDA 1'!F5","v":-2},{"$f":"$AB5-'Cqinward LDA 1'!G5","v":-2},{"$f":"$AB5-'Cqinward LDA 1'!H5","v":0},{"$f":"$AB5-'Cqinward LDA 1'!I5","v":-2},{"$f":"$AB5-'Cqinward LDA 1'!J5","v":-1},{"$f":"$AB5-'Cqinward LDA 1'!K5","v":0},{"$f":"$AB5-'Cqinward LDA 1'!L5","v":-1},{"$f":"$AB5-'Cqinward LDA 1'!M5","v":0},{"$f":"$AB5-'Cqinward LDA 1'!N5","v":-1},{"$f":"$AB5-'Cqinward LDA 1'!O5","v":0},{"$f":"$AB5-'Cqinward LDA 1'!P5","v":0},{"$f":"$AB5-'Cqinward LDA 1'!Q5","v":-2},{"$f":"$AB5-'Cqinward LDA 1'!R5","v":0},{"$f":"$AB5-'Cqinward LDA 1'!S5","v":0},{"$f":"$AB5-'Cqinward LDA 1'!T5","v":-2},{"$f":"$AB5-'Cqinward LDA 1'!U5","v":0},{"$f":"$AB5-'Cqinward LDA 1'!V5","v":-2},{"$f":"$AB5-'Cqinward LDA 1'!W5","v":-2},{"$f":"$AB5-'Cqinward LDA 1'!X5","v":-2},{"$f":"$AB5-'Cqinward LDA 1'!Y5","v":-2},{"$f":"$AB5-'Cqinward LDA 1'!Z5","v":-2},{"$f":"$AB5-'Cqinward LDA 1'!AA5","v":-2},{"$f":"$AB5-'Cqinward LDA 1'!AB5","v":-1},2.0]
["bepridil",{"$f":"$AB6-'Cqinward LDA 1'!C6","v":-2},{"$f":"$AB6-'Cqinward LDA 1'!D6","v":-2},{"$f":"$AB6-'Cqinward LDA 1'!E6","v":0},{"$f":"$AB6-'Cqinward LDA 1'!F6","v":-2},{"$f":"$AB6-'Cqinward LDA 1'!G6","v":0},{"$f":"$AB6-'Cqinward LDA 1'!H6","v":-2},{"$f":"$AB6-'Cqinward LDA 1'!I6","v":0},{"$f":"$AB6-'Cqinward LDA 1'!J6","v":-2},{"$f":"$AB6-'Cqinward LDA 1'!K6","v":0},{"$f":"$AB6-'Cqinward LDA 1'!L6","v":-2},{"$f":"$AB6-'Cqinward LDA 1'!M6","v":0},{"$f":"$AB6-'Cqinward LDA 1'!N6","v":-2},{"$f":"$AB6-'Cqinward LDA 1'!O6","v":0},{"$f":"$AB6-'Cqinward LDA 1'!P6","v":-2},{"$f":"$AB6-'Cqinward LDA 1'!Q6","v":0},{"$f":"$AB6-'Cqinward LDA 1'!R6","v":-1},{"$f":"$AB6-'Cqinward LDA 1'!S6","v":0},{"$f":"$AB6-'Cqinward LDA 1'!T6","v":-1},{"$f":"$AB6-'Cqinward LDA 1'!U6","v":0},{"$f":"$AB6-'Cqinward LDA 1'!V6","v":-1},{"$f":"$AB6-'Cqinward LDA 1'!W6","v":-2},{"$f":"$AB6-'Cqinward LDA 1'!X6","v":-1},{"$f":"$AB6-'Cqinward LDA 1'!Y6","v":-2},{"$f":"$AB6-'Cqinward LDA 1'!Z6","v":-1},{"$f":"$AB6-'Cqinward LDA 1'!AA6","v":-2},{"$f":"$AB6-'Cqinward LDA 1'!AB6","v":-1},3.0]
["chlorpromazine",{"$f":"$AB7-'Cqinward LDA 1'!C7","v":-1},{"$f":"$AB7-'Cqinward LDA 1'!D7","v":-1},{"$f":"$AB7-'Cqinward LDA 1'!E7","v":-1},{"$f":"$AB7-'Cqinward LDA 1'!F7","v":-1},{"$f":"$AB7-'Cqinward LDA 1'!G7","v":-1},{"$f":"$AB7-'Cqinward LDA 1'!H7","v":-1},{"$f":"$AB7-'Cqinward LDA 1'!I7","v":-1},{"$f":"$AB7-'Cqinward LDA 1'!J7","v":-1},{"$f":"$AB7-'Cqinward LDA 1'!K7","v":-1},{"$f":"$AB7-'Cqinward LDA 1'!L7","v":-1},{"$f":"$AB7-'Cqinward LDA 1'!M7","v":-1},{"$f":"$AB7-'Cqinward LDA 1'!N7","v":-1},{"$f":"$AB7-'Cqinward LDA 1'!O7","v":-1},{"$f":"$AB7-'Cqinward LDA 1'!P7","v":-1},{"$f":"$AB7-'Cqinward LDA 1'!Q7","v":1},{"$f":"$AB7-'Cqinward LDA 1'!R7","v":-2},{"$f":"$AB7-'Cqinward LDA 1'!S7","v":-2},{"$f":"$AB7-'Cqinward LDA 1'!T7","v":-2},{"$f":"$AB7-'Cqinward LDA 1'!U7","v":-2},{"$f":"$AB7-'Cqinward LDA 1'!V7","v":-2},{"$f":"$AB7-'Cqinward LDA 1'!W7","v":0},{"$f":"$AB7-'Cqinward LDA 1'!X7","v":0},{"$f":"$AB7-'Cqinward LDA 1'!Y7","v":0},{"$f":"$AB7-'Cqinward LDA 1'!Z7","v":0},{"$f":"$AB7-'Cqinward LDA 1'!AA7","v":0},{"$f":"$AB7-'Cqinward LDA 1'!AB7","v":-2},3.0]
["cibenzoline",{"$f":"$AB8-'Cqinward LDA 1'!C8","v":1},{"$f":"$AB8-'Cqinward LDA 1'!D8","v":1},{"$f":"$AB8-'Cqinward LDA 1'!E8","v":1},{"$f":"$AB8-'Cqinward LDA 1'!F8","v":1},{"$f":"$AB8-'Cqinward LDA 1'!G8","v":1},{"$f":"$AB8-'Cqinward LDA 1'!H8","v":3},{"$f":"$AB8-'Cqinward LDA 1'!I8","v":1},{"$f":"$AB8-'Cqinward LDA 1'!J8","v":3},{"$f":"$AB8-'Cqinward LDA 1'!K8","v":1},{"$f":"$AB8-'Cqinward LDA 1'!L8","v":3},{"$f":"$AB8-'Cqinward LDA 1'!M8","v":1},{"$f":"$AB8-'Cqinward LDA 1'!N8","v":1},{"$f":"$AB8-'Cqinward LDA 1'!O8","v":1},{"$f":"$AB8-'Cqinward LDA 1'!P8","v":1},{"$f":"$AB8-'Cqinward LDA 1'!Q8","v":3},{"$f":"$AB8-'Cqinward LDA 1'!R8","v":1},{"$f":"$AB8-'Cqinward LDA 1'!S8","v":0},{"$f":"$AB8-'Cqinward LDA 1'!T8","v":0},{"$f":"$AB8-'Cqinward LDA 1'!U8","v":0},{"$f":"$AB8-'Cqinward LDA 1'!V8","v":0},{"$f":"$AB8-'Cqinward LDA 1'!W8","v":2},{"$f":"$AB8-'Cqinward LDA 1'!X8","v":2},{"$f":"$AB8-'Cqinward LDA 1'!Y8","v":2},{"$f":"$AB8-'Cqinward LDA 1'!Z8","v":2},{"$f":"$AB8-'Cqinward LDA 1'!AA8","v":2},{"$f":"$AB8-'Cqinward LDA 1'!AB8","v":0},5.0]
["cisapride",{"$f":"$AB9-'Cqinward LDA 1'!C9","v":-1},{"$f":"$AB9-'Cqinward LDA 1'!D9","v":-2},{"$f":"$AB9-'Cqinward LDA 1'!E9","v":-2},{"$f":"$AB9-'Cqinward LDA 1'!F9","v":-2},{"$f":"$AB9-'Cqinward LDA 1'!G9","v":-2},{"$f":"$AB9-'Cqinward LDA 1'!H9","v":0},{"$f":"$AB9-'Cqinward LDA 1'!I9","v":-2},{"$f":"$AB9-'Cqinward LDA 1'!J9","v":-1},{"$f":"$AB9-'Cqinward LDA 1'!K9","v":0},{"$f":"$AB9-'Cqinward LDA 1'!L9","v":-1},{"$f":"$AB9-'Cqinward LDA 1'!M9","v":0},{"$f":"$AB9-'Cqinward LDA 1'!N9","v":-1},{"$f":"$AB9-'Cqinward LDA 1'!O9","v":0},{"$f":"$AB9-'Cqinward LDA 1'!P9","v":0},{"$f":"$AB9-'Cqinward LDA 1'!Q9","v":-2},{"$f":"$AB9-'Cqinward LDA 1'!R9","v":0},{"$f":"$AB9-'Cqinward LDA 1'!S9","v":0},{"$f":"$AB9-'Cqinward LDA 1'!T9","v":-1},{"$f":"$AB9-'Cqinward LDA 1'!U9","v":0},{"$f":"$AB9-'Cqinward LDA 1'!V9","v":0},{"$f":"$AB9-'Cqinward LDA 1'!W9","v":-2},{"$f":"$AB9-'Cqinward LDA 1'!X9","v":0},{"$f":"$AB9-'Cqinward LDA 1'!Y9","v":-3},{"$f":"$AB9-'Cqinward LDA 1'!Z9","v":0},{"$f":"$AB9-'Cqinward LDA 1'!AA9","v":-3},{"$f":"$AB9-'Cqinward LDA 1'!AB9","v":-2},2.0]
["clozapine",{"$f":"$AB10-'Cqinward LDA 1'!C10","v":1},{"$f":"$AB10-'Cqinward LDA 1'!D10","v":2},{"$f":"$AB10-'Cqinward LDA 1'!E10","v":2},{"$f":"$AB10-'Cqinward LDA 1'!F10","v":2},{"$f":"$AB10-'Cqinward LDA 1'!G10","v":2},{"$f":"$AB10-'Cqinward LDA 1'!H10","v":1},{"$f":"$AB10-'Cqinward LDA 1'!I10","v":2},{"$f":"$AB10-'Cqinward LDA 1'!J10","v":1},{"$f":"$AB10-'Cqinward LDA 1'!K10","v":2},{"$f":"$AB10-'Cqinward LDA 1'!L10","v":1},{"$f":"$AB10-'Cqinward LDA 1'!M10","v":2},{"$f":"$AB10-'Cqinward LDA 1'!N10","v":1},{"$f":"$AB10-'Cqinward LDA 1'!O10","v":2},{"$f":"$AB10-'Cqinward LDA 1'!P10","v":2},{"$f":"$AB10-'Cqinward LDA 1'!Q10","v":2},{"$f":"$AB10-'Cqinward LDA 1'!R10","v":0},{"$f":"$AB10-'Cqinward LDA 1'!S10","v":2},{"$f":"$AB10-'Cqinward LDA 1'!T10","v":0},{"$f":"$AB10-'Cqinward LDA 1'!U10","v":2},{"$f":"$AB10-'Cqinward LDA 1'!V10","v":0},{"$f":"$AB10-'Cqinward LDA 1'!W10","v":2},{"$f":"$AB10-'Cqinward LDA 1'!X10","v":0},{"$f":"$AB10-'Cqinward LDA 1'!Y10","v":2},{"$f":"$AB10-'Cqinward LDA 1'!Z10","v":0},{"$f":"$AB10-'Cqinward LDA 1'!AA10","v":2},{"$f":"$AB10-'Cqinward LDA 1'!AB10","v":0},4.0]
["desipramine",{"$f":"$AB11-'Cqinward LDA 1'!C11","v":0},{"$f":"$AB11-'Cqinward LDA 1'!D11","v":0},{"$f":"$AB11-'Cqinward LDA 1'!E11","v":0},{"$f":"$AB11-'Cqinward LDA 1'!F11","v":0},{"$f":"$AB11-'Cqinward LDA 1'!G11","v":0},{"$f":"$AB11-'Cqinward LDA 1'!H11","v":0},{"$f":"$AB11-'Cqinward LDA 1'!I11","v":0},{"$f":"$AB11-'Cqinward LDA 1'!J11","v":0},{"$f":"$AB11-'Cqinward LDA 1'!K11","v":0},{"$f":"$AB11-'Cqinward LDA 1'!L11","v":0},{"$f":"$AB11-'Cqinward LDA 1'!M11","v":0},{"$f":"$AB11-'Cqinward LDA 1'!N11","v":0},{"$f":"$AB11-'Cqinward LDA 1'!O11","v":0},{"$f":"$AB11-'Cqinward LDA 1'!P11","v":0},{"$f":"$AB11-'Cqinward LDA 1'!Q11","v":2},{"$f":"$AB11-'Cqinward LDA 1'!R11","v":-1},{"$f":"$AB11-'Cqinward LDA 1'!S11","v":-1},{"$f":"$AB11-'Cqinward LDA 1'!T11","v":-1},{"$f":"$AB11-'Cqinward LDA 1'!U11","v":-1},{"$f":"$AB11-'Cqinward LDA 1'!V11","v":-1},{"$f":"$AB11-'Cqinward LDA 1'!W11","v":1},{"$f":"$AB11-'Cqinward LDA 1'!X11","v":1},{"$f":"$AB11-'Cqinward LDA 1'!Y11","v":1},{"$f":"$AB11-'Cqinward LDA 1'!Z11","v":1},{"$f":"$AB11-'Cqinward LDA 1'!AA11","v":1},{"$f":"$AB11-'Cqinward LDA 1'!AB11","v":2},4.0]
["diltiazem",{"$f":"$AB12-'Cqinward LDA 1'!C12","v":0},{"$f":"$AB12-'Cqinward LDA 1'!D12","v":1},{"$f":"$AB12-'Cqinward LDA 1'!E12","v":2},{"$f":"$AB12-'Cqinward LDA 1'!F12","v":1},{"$f":"$AB12-'Cqinward LDA 1'!G12","v":2},{"$f":"$AB12-'Cqinward LDA 1'!H12","v":1},{"$f":"$AB12-'Cqinward LDA 1'!I12","v":2},{"$f":"$AB12-'Cqinward LDA 1'!J12","v":1},{"$f":"$AB12-'Cqinward LDA 1'!K12","v":2},{"$f":"$AB12-'Cqinward LDA 1'!L12","v":1},{"$f":"$AB12-'Cqinward LDA 1'!M12","v":2},{"$f":"$AB12-'Cqinward LDA 1'!N12","v":0},{"$f":"$AB12-'Cqinward LDA 1'!O12","v":2},{"$f":"$AB12-'Cqinward LDA 1'!P12","v":0},{"$f":"$AB12-'Cqinward LDA 1'!Q12","v":2},{"$f":"$AB12-'Cqinward LDA 1'!R12","v":1},{"$f":"$AB12-'Cqinward LDA 1'!S12","v":2},{"$f":"$AB12-'Cqinward LDA 1'!T12","v":1},{"$f":"$AB12-'Cqinward LDA 1'!U12","v":2},{"$f":"$AB12-'Cqinward LDA 1'!V12","v":1},{"$f":"$AB12-'Cqinward LDA 1'!W12","v":2},{"$f":"$AB12-'Cqinward LDA 1'!X12","v":1},{"$f":"$AB12-'Cqinward LDA 1'!Y12","v":0},{"$f":"$AB12-'Cqinward LDA 1'!Z12","v":1},{"$f":"$AB12-'Cqinward LDA 1'!AA12","v":0},{"$f":"$AB12-'Cqinward LDA 1'!AB12","v":0},5.0]
["disopyramide",{"$f":"$AB13-'Cqinward LDA 1'!C13","v":-2},{"$f":"$AB13-'Cqinward LDA 1'!D13","v":-2},{"$f":"$AB13-'Cqinward LDA 1'!E13","v":-2},{"$f":"$AB13-'Cqinward LDA 1'!F13","v":-2},{"$f":"$AB13-'Cqinward LDA 1'!G13","v":-2},{"$f":"$AB13-'Cqinward LDA 1'!H13","v":0},{"$f":"$AB13-'Cqinward LDA 1'!I13","v":-2},{"$f":"$AB13-'Cqinward LDA 1'!J13","v":0},{"$f":"$AB13-'Cqinward LDA 1'!K13","v":-2},{"$f":"$AB13-'Cqinward LDA 1'!L13","v":0},{"$f":"$AB13-'Cqinward LDA 1'!M13","v":-2},{"$f":"$AB13-'Cqinward LDA 1'!N13","v":-2},{"$f":"$AB13-'Cqinward LDA 1'!O13","v":-2},{"$f":"$AB13-'Cqinward LDA 1'!P13","v":-2},{"$f":"$AB13-'Cqinward LDA 1'!Q13","v":-2},{"$f":"$AB13-'Cqinward LDA 1'!R13","v":-1},{"$f":"$AB13-'Cqinward LDA 1'!S13","v":-2},{"$f":"$AB13-'Cqinward LDA 1'!T13","v":0},{"$f":"$AB13-'Cqinward LDA 1'!U13","v":-2},{"$f":"$AB13-'Cqinward LDA 1'!V13","v":-1},{"$f":"$AB13-'Cqinward LDA 1'!W13","v":-2},{"$f":"$AB13-'Cqinward LDA 1'!X13","v":-1},{"$f":"$AB13-'Cqinward LDA 1'!Y13","v":-2},{"$f":"$AB13-'Cqinward LDA 1'!Z13","v":-1},{"$f":"$AB13-'Cqinward LDA 1'!AA13","v":-2},{"$f":"$AB13-'Cqinward LDA 1'!AB13","v":0},2.0]
["dl-sotalol",{"$f":"$AB14-'Cqinward LDA 1'!C14","v":-2},{"$f":"$AB14-'Cqinward LDA 1'!D14","v":-2},{"$f":"$AB14-'Cqinward LDA 1'!E14","v":-2},{"$f":"$AB14-'Cqinward LDA 1'!F14","v":-2},{"$f":"$AB14-'Cqinward LDA 1'!G14","v":-2},{"$f":"$AB14-'Cqinward LDA 1'!H14","v":0},{"$f":"$AB14-'Cqinward LDA 1'!I14","v":-2},{"$f":"$AB14-'Cqinward LDA 1'!J14","v":0},{"$f":"$AB14-'Cqinward LDA 1'!K14","v":-2},{"$f":"$AB14-'Cqinward LDA 1'!L14","v":-2},{"$f":"$AB14-'Cqinward LDA 1'!M14","v":-2},{"$f":"$AB14-'Cqinward LDA 1'!N14","v":-2},{"$f":"$AB14-'Cqinward LDA 1'!O14","v":-2},{"$f":"$AB14-'Cqinward LDA 1'!P14","v":-2},{"$f":"$AB14-'Cqinward LDA 1'!Q14","v":0},{"$f":"$AB14-'Cqinward LDA 1'!R14","v":-3},{"$f":"$AB14-'Cqinward LDA 1'!S14","v":-3},{"$f":"$AB14-'Cqinward LDA 1'!T14","v":-3},{"$f":"$AB14-'Cqinward LDA 1'!U14","v":-3},{"$f":"$AB14-'Cqinward LDA 1'!V14","v":-1},{"$f":"$AB14-'Cqinward LDA 1'!W14","v":-1},{"$f":"$AB14-'Cqinward LDA 1'!X14","v":-1},{"$f":"$AB14-'Cqinward LDA 1'!Y14","v":-1},{"$f":"$AB14-'Cqinward LDA 1'!Z14","v":-1},{"$f":"$AB14-'Cqinward LDA 1'!AA14","v":-1},{"$f":"$AB14-'Cqinward LDA 1'!AB14","v":-3},2.0]
["dofetilide",{"$f":"$AB15-'Cqinward LDA 1'!C15","v":-2},{"$f":"$AB15-'Cqinward LDA 1'!D15","v":-2},{"$f":"$AB15-'Cqinward LDA 1'!E15","v":-2},{"$f":"$AB15-'Cqinward LDA 1'!F15","v":-2},{"$f":"$AB15-'Cqinward LDA 1'!G15","v":-2},{"$f":"$AB15-'Cqinward LDA 1'!H15","v":0},{"$f":"$AB15-'Cqinward LDA 1'!I15","v":-2},{"$f":"$AB15-'Cqinward LDA 1'!J15","v":0},{"$f":"$AB15-'Cqinward LDA 1'!K15","v":-2},{"$f":"$AB15-'Cqinward LDA 1'!L15","v":0},{"$f":"$AB15-'Cqinward LDA 1'!M15","v":-2},{"$f":"$AB15-'Cqinward LDA 1'!N15","v":-2},{"$f":"$AB15-'Cqinward LDA 1'!O15","v":-2},{"$f":"$AB15-'Cqinward LDA 1'!P15","v":-2},{"$f":"$AB15-'Cqinward LDA 1'!Q15","v":-2},{"$f":"$AB15-'Cqinward LDA 1'!R15","v":-1},{"$f":"$AB15-'Cqinward LDA 1'!S15","v":-2},{"$f":"$AB15-'Cqinward LDA 1'!T15","v":0},{"$f":"$AB15-'Cqinward LDA 1'!U15","v":-2},{"$f":"$AB15-'Cqinward LDA 1'!V15","v":-1},{"$f":"$AB15-'Cqinward LDA 1'!W15","v":-2},{"$f":"$AB15-'Cqinward LDA 1'!X15","v":-1},{"$f":"$AB15-'Cqinward LDA 1'!Y15","v":-2},{"$f":"$AB15-'Cqinward LDA 1'!Z15","v":-1},{"$f":"$AB15-'Cqinward LDA 1'!AA15","v":0},{"$f":"$AB15-'Cqinward LDA 1'!AB15","v":0},2.0]
["flecainide",{"$f":"$AB16-'Cqinward LDA 1'!C16","v":-1},{"$f":"$AB16-'Cqinward LDA 1'!D16","v":-1},{"$f":"$AB16-'Cqinward LDA 1'!E16","v":-1},{"$f":"$AB16-'Cqinward LDA 1'!F16","v":-1},{"$f":"$AB16-'Cqinward LDA 1'!G16","v":-1},{"$f":"$AB16-'Cqinward LDA 1'!H16","v":-1},{"$f":"$AB16-'Cqinward LDA 1'!I16","v":-1},{"$f":"$AB16-'Cqinward LDA 1'!J16","v":-1},{"$f":"$AB16-'Cqinward LDA 1'!K16","v":-1},{"$f":"$AB16-'Cqinward LDA 1'!L16","v":-1},{"$f":"$AB16-'Cqinward LDA 1'!M16","v":-2},{"$f":"$AB16-'Cqinward LDA 1'!N16","v":-2},{"$f":"$AB16-'Cqinward LDA 1'!O16","v":-2},{"$f":"$AB16-'Cqinward LDA 1'!P16","v":-1},{"$f":"$AB16-'Cqinward LDA 1'!Q16","v":1},{"$f":"$AB16-'Cqinward LDA 1'!R16","v":-2},{"$f":"$AB16-'Cqinward LDA 1'!S16","v":-2},{"$f":"$AB16-'Cqinward LDA 1'!T16","v":-2},{"$f":"$AB16-'Cqinward LDA 1'!U16","v":-2},{"$f":"$AB16-'Cqinward LDA 1'!V16","v":-2},{"$f":"$AB16-'Cqinward LDA 1'!W16","v":0},{"$f":"$AB16-'Cqinward LDA 1'!X16","v":0},{"$f":"$AB16-'Cqinward LDA 1'!Y16","v":0},{"$f":"$AB16-'Cqinward LDA 1'!Z16","v":0},{"$f":"$AB16-'Cqinward LDA 1'!AA16","v":1},{"$f":"$AB16-'Cqinward LDA 1'!AB16","v":-1},3.0]
["fluvoxamine",{"$f":"$AB17-'Cqinward LDA 1'!C17","v":0},{"$f":"$AB17-'Cqinward LDA 1'!D17","v":0},{"$f":"$AB17-'Cqinward LDA 1'!E17","v":0},{"$f":"$AB17-'Cqinward LDA 1'!F17","v":0},{"$f":"$AB17-'Cqinward LDA 1'!G17","v":0},{"$f":"$AB17-'Cqinward LDA 1'!H17","v":2},{"$f":"$AB17-'Cqinward LDA 1'!I17","v":0},{"$f":"$AB17-'Cqinward LDA 1'!J17","v":2},{"$f":"$AB17-'Cqinward LDA 1'!K17","v":0},{"$f":"$AB17-'Cqinward LDA 1'!L17","v":0},{"$f":"$AB17-'Cqinward LDA 1'!M17","v":0},{"$f":"$AB17-'Cqinward LDA 1'!N17","v":0},{"$f":"$AB17-'Cqinward LDA 1'!O17","v":0},{"$f":"$AB17-'Cqinward LDA 1'!P17","v":0},{"$f":"$AB17-'Cqinward LDA 1'!Q17","v":2},{"$f":"$AB17-'Cqinward LDA 1'!R17","v":-1},{"$f":"$AB17-'Cqinward LDA 1'!S17","v":-1},{"$f":"$AB17-'Cqinward LDA 1'!T17","v":-1},{"$f":"$AB17-'Cqinward LDA 1'!U17","v":-1},{"$f":"$AB17-'Cqinward LDA 1'!V17","v":-1},{"$f":"$AB17-'Cqinward LDA 1'!W17","v":1},{"$f":"$AB17-'Cqinward LDA 1'!X17","v":1},{"$f":"$AB17-'Cqinward LDA 1'!Y17","v":1},{"$f":"$AB17-'Cqinward LDA 1'!Z17","v":1},{"$f":"$AB17-'Cqinward LDA 1'!AA17","v":1},{"$f":"$AB17-'Cqinward LDA 1'!AB17","v":-1},4.0]
["halofantrine",{"$f":"$AB18-'Cqinward LDA 1'!C18","v":-1},{"$f":"$AB18-'Cqinward LDA 1'!D18","v":-1},{"$f":"$AB18-'Cqinward LDA 1'!E18","v":-1},{"$f":"$AB18-'Cqinward LDA 1'!F18","v":-1},{"$f":"$AB18-'Cqinward LDA 1'!G18","v":-1},{"$f":"$AB18-'Cqinward LDA 1'!H18","v":1},{"$f":"$AB18-'Cqinward LDA 1'!I18","v":-1},{"$f":"$AB18-'Cqinward LDA 1'!J18","v":1},{"$f":"$AB18-'Cqinward LDA 1'!K18","v":-1},{"$f":"$AB18-'Cqinward LDA 1'!L18","v":-1},{"$f":"$AB18-'Cqinward LDA 1'!M18","v":-1},{"$f":"$AB18-'Cqinward LDA 1'!N18","v":-1},{"$f":"$AB18-'Cqinward LDA 1'!O18","v":-1},{"$f":"$AB18-'Cqinward LDA 1'!P18","v":-1},{"$f":"$AB18-'Cqinward LDA 1'!Q18","v":1},{"$f":"$AB18-'Cqinward LDA 1'!R18","v":-2},{"$f":"$AB18-'Cqinward LDA 1'!S18","v":-2},{"$f":"$AB18-'Cqinward LDA 1'!T18","v":-2},{"$f":"$AB18-'Cqinward LDA 1'!U18","v":-2},{"$f":"$AB18-'Cqinward LDA 1'!V18","v":-2},{"$f":"$AB18-'Cqinward LDA 1'!W18","v":0},{"$f":"$AB18-'Cqinward LDA 1'!X18","v":0},{"$f":"$AB18-'Cqinward LDA 1'!Y18","v":0},{"$f":"$AB18-'Cqinward LDA 1'!Z18","v":0},{"$f":"$AB18-'Cqinward LDA 1'!AA18","v":1},{"$f":"$AB18-'Cqinward LDA 1'!AB18","v":-2},3.0]
["imipramine",{"$f":"$AB19-'Cqinward LDA 1'!C19","v":0},{"$f":"$AB19-'Cqinward LDA 1'!D19","v":0},{"$f":"$AB19-'Cqinward LDA 1'!E19","v":0},{"$f":"$AB19-'Cqinward LDA 1'!F19","v":0},{"$f":"$AB19-'Cqinward LDA 1'!G19","v":0},{"$f":"$AB19-'Cqinward LDA 1'!H19","v":2},{"$f":"$AB19-'Cqinward LDA 1'!I19","v":0},{"$f":"$AB19-'Cqinward LDA 1'!J19","v":2},{"$f":"$AB19-'Cqinward LDA 1'!K19","v":0},{"$f":"$AB19-'Cqinward LDA 1'!L19","v":0},{"$f":"$AB19-'Cqinward LDA 1'!M19","v":0},{"$f":"$AB19-'Cqinward LDA 1'!N19","v":0},{"$f":"$AB19-'Cqinward LDA 1'!O19","v":0},{"$f":"$AB19-'Cqinward LDA 1'!P19","v":0},{"$f":"$AB19-'Cqinward LDA 1'!Q19","v":2},{"$f":"$AB19-'Cqinward LDA 1'!R19","v":-1},{"$f":"$AB19-'Cqinward LDA 1'!S19","v":-1},{"$f":"$AB19-'Cqinward LDA 1'!T19","v":-1},{"$f":"$AB19-'Cqinward LDA 1'!U19","v":-1},{"$f":"$AB19-'Cqinward LDA 1'!V19","v":-1},{"$f":"$AB19-'Cqinward LDA 1'!W19","v":1},{"$f":"$AB19-'Cqinward LDA 1'!X19","v":1},{"$f":"$AB19-'Cqinward LDA 1'!Y19","v":1},{"$f":"$AB19-'Cqinward LDA 1'!Z19","v":1},{"$f":"$AB19-'Cqinward LDA 1'!AA19","v":2},{"$f":"$AB19-'Cqinward LDA 1'!AB19","v":2},4.0]
["loratadine",{"$f":"$AB20-'Cqinward LDA 1'!C20","v":1},{"$f":"$AB20-'Cqinward LDA 1'!D20","v":1},{"$f":"$AB20-'Cqinward LDA 1'!E20","v":1},{"$f":"$AB20-'Cqinward LDA 1'!F20","v":1},{"$f":"$AB20-'Cqinward LDA 1'!G20","v":1},{"$f":"$AB20-'Cqinward LDA 1'!H20","v":3},{"$f":"$AB20-'Cqinward LDA 1'!I20","v":1},{"$f":"$AB20-'Cqinward LDA 1'!J20","v":3},{"$f":"$AB20-'Cqinward LDA 1'!K20","v":1},{"$f":"$AB20-'Cqinward LDA 1'!L20","v":1},{"$f":"$AB20-'Cqinward LDA 1'!M20","v":1},{"$f":"$AB20-'Cqinward LDA 1'!N20","v":1},{"$f":"$AB20-'Cqinward LDA 1'!O20","v":1},{"$f":"$AB20-'Cqinward LDA 1'!P20","v":1},{"$f":"$AB20-'Cqinward LDA 1'!Q20","v":3},{"$f":"$AB20-'Cqinward LDA 1'!R20","v":1},{"$f":"$AB20-'Cqinward LDA 1'!S20","v":0},{"$f":"$AB20-'Cqinward LDA 1'!T20","v":0},{"$f":"$AB20-'Cqinward LDA 1'!U20","v":0},{"$f":"$AB20-'Cqinward LDA 1'!V20","v":0},{"$f":"$AB20-'Cqinward LDA 1'!W20","v":2},{"$f":"$AB20-'Cqinward LDA 1'!X20","v":2},{"$f":"$AB20-'Cqinward LDA 1'!Y20","v":2},{"$f":"$AB20-'Cqinward LDA 1'!Z20","v":2},{"$f":"$AB20-'Cqinward LDA 1'!AA20","v":2},{"$f":"$AB20-'Cqinward LDA 1'!AB20","v":0},5.0]
["methadone",{"$f":"$AB21-'Cqinward LDA 1'!C21","v":-2},{"$f":"$AB21-'Cqinward LDA 1'!D21","v":-2},{"$f":"$AB21-'Cqinward LDA 1'!E21","v":-2},{"$f":"$AB21-'Cqinward LDA 1'!F21","v":-2},{"$f":"$AB21-'Cqinward LDA 1'!G21","v":-2},{"$f":"$AB21-'Cqinward LDA 1'!H21","v":0},{"$f":"$AB21-'Cqinward LDA 1'!I21","v":-2},{"$f":"$AB21-'Cqinward LDA 1'!J21","v":0},{"$f":"$AB21-'Cqinward LDA 1'!K21","v":-2},{"$f":"$AB21-'Cqinward LDA 1'!L21","v":-2},{"$f":"$AB21-'Cqinward LDA 1'!M21","v":-2},{"$f":"$AB21-'Cqinward LDA 1'!N21","v":-2},{"$f":"$AB21-'Cqinward LDA 1'!O21","v":-2},{"$f":"$AB21-'Cqinward LDA 1'!P21","v":-2},{"$f":"$AB21-'Cqinward LDA 1'!Q21","v":0},{"$f":"$AB21-'Cqinward LDA 1'!R21","v":-3},{"$f":"$AB21-'Cqinward LDA 1'!S21","v":-3},{"$f":"$AB21-'Cqinward LDA 1'!T21","v":-3},{"$f":"$AB21-'Cqinward LDA 1'!U21","v":-3},{"$f":"$AB21-'Cqinward LDA 1'!V21","v":-3},{"$f":"$AB21-'Cqinward LDA 1'!W21","v":-1},{"$f":"$AB21-'Cqinward LDA 1'!X21","v":-1},{"$f":"$AB21-'Cqinward LDA 1'!Y21","v":-1},{"$f":"$AB21-'Cqinward LDA 1'!Z21","v":-1},{"$f":"$AB21-'Cqinward LDA 1'!AA21","v":-1},{"$f":"$AB21-'Cqinward LDA 1'!AB21","v":-3},2.0]
["mexiletine",{"$f":"$AB22-'Cqinward LDA 1'!C22","v":0},{"$f":"$AB22-'Cqinward LDA 1'!D22","v":0},{"$f":"$AB22-'Cqinward LDA 1'!E22","v":0},{"$f":"$AB22-'Cqinward LDA 1'!F22","v":-1},{"$f":"$AB22-'Cqinward LDA 1'!G22","v":-1},{"$f":"$AB22-'Cqinward LDA 1'!H22","v":-1},{"$f":"$AB22-'Cqinward LDA 1'!I22","v":-1},{"$f":"$AB22-'Cqinward LDA 1'!J22","v":-1},{"$f":"$AB22-'Cqinward LDA 1'!K22","v":-1},{"$f":"$AB22-'Cqinward LDA 1'!L22","v":-1},{"$f":"$AB22-'Cqinward LDA 1'!M22","v":-1},{"$f":"$AB22-'Cqinward LDA 1'!N22","v":-1},{"$f":"$AB22-'Cqinward LDA 1'!O22","v":-1},{"$f":"$AB22-'Cqinward LDA 1'!P22","v":-1},{"$f":"$AB22-'Cqinward LDA 1'!Q22","v":-1},{"$f":"$AB22-'Cqinward LDA 1'!R22","v":-1},{"$f":"$AB22-'Cqinward LDA 1'!S22","v":-1},{"$f":"$AB22-'Cqinward LDA 1'!T22","v":-1},{"$f":"$AB22-'Cqinward LDA 1'!U22","v":-1},{"$f":"$AB22-'Cqinward LDA 1'!V22","v":-1},{"$f":"$AB22-'Cqinward LDA 1'!W22","v":-1},{"$f":"$AB22-'Cqinward LDA 1'!X22","v":-1},{"$f":"$AB22-'Cqinward LDA 1'!Y22","v":-1},{"$f":"$AB22-'Cqinward LDA 1'!Z22","v":-1},{"$f":"$AB22-'Cqinward LDA 1'!AA22","v":-1},{"$f":"$AB22-'Cqinward LDA 1'!AB22","v":-1},4.0]
["mibefradil",{"$f":"$AB23-'Cqinward LDA 1'!C23","v":-1},{"$f":"$AB23-'Cqinward LDA 1'!D23","v":-1},{"$f":"$AB23-'Cqinward LDA 1'!E23","v":-1},{"$f":"$AB23-'Cqinward LDA 1'!F23","v":-1},{"$f":"$AB23-'Cqinward LDA 1'!G23","v":1},{"$f":"$AB23-'Cqinward LDA 1'!H23","v":-1},{"$f":"$AB23-'Cqinward LDA 1'!I23","v":1},{"$f":"$AB23-'Cqinward LDA 1'!J23","v":-1},{"$f":"$AB23-'Cqinward LDA 1'!K23","v":1},{"$f":"$AB23-'Cqinward LDA 1'!L23","v":-1},{"$f":"$AB23-'Cqinward LDA 1'!M23","v":1},{"$f":"$AB23-'Cqinward LDA 1'!N23","v":-1},{"$f":"$AB23-'Cqinward LDA 1'!O23","v":1},{"$f":"$AB23-'Cqinward LDA 1'!P23","v":-1},{"$f":"$AB23-'Cqinward LDA 1'!Q23","v":1},{"$f":"$AB23-'Cqinward LDA 1'!R23","v":-1},{"$f":"$AB23-'Cqinward LDA 1'!S23","v":1},{"$f":"$AB23-'Cqinward LDA 1'!T23","v":0},{"$f":"$AB23-'Cqinward LDA 1'!U23","v":1},{"$f":"$AB23-'Cqinward LDA 1'!V23","v":0},{"$f":"$AB23-'Cqinward LDA 1'!W23","v":-1},{"$f":"$AB23-'Cqinward LDA 1'!X23","v":0},{"$f":"$AB23-'Cqinward LDA 1'!Y23","v":-1},{"$f":"$AB23-'Cqinward LDA 1'!Z23","v":0},{"$f":"$AB23-'Cqinward LDA 1'!AA23","v":-1},{"$f":"$AB23-'Cqinward LDA 1'!AB23","v":0},4.0]
["nifedipine",{"$f":"$AB24-'Cqinward LDA 1'!C24","v":-1},{"$f":"$AB24-'Cqinward LDA 1'!D24","v":-1},{"$f":"$AB24-'Cqinward LDA 1'!E24","v":-1},{"$f":"$AB24-'Cqinward LDA 1'!F24","v":-1},{"$f":"$AB24-'Cqinward LDA 1'!G24","v":-1},{"$f":"$AB24-'Cqinward LDA 1'!H24","v":-1},{"$f":"$AB24-'Cqinward LDA 1'!I24","v":1},{"$f":"$AB24-'Cqinward LDA 1'!J24","v":-1},{"$f":"$AB24-'Cqinward LDA 1'!K24","v":1},{"$f":"$AB24-'Cqinward LDA 1'!L24","v":-1},{"$f":"$AB24-'Cqinward LDA 1'!M24","v":1},{"$f":"$AB24-'Cqinward LDA 1'!N24","v":-1},{"$f":"$AB24-'Cqinward LDA 1'!O24","v":1},{"$f":"$AB24-'Cqinward LDA 1'!P24","v":-1},{"$f":"$AB24-'Cqinward LDA 1'!Q24","v":1},{"$f":"$AB24-'Cqinward LDA 1'!R24","v":-1},{"$f":"$AB24-'Cqinward LDA 1'!S24","v":1},{"$f":"$AB24-'Cqinward LDA 1'!T24","v":0},{"$f":"$AB24-'Cqinward LDA 1'!U24","v":1},{"$f":"$AB24-'Cqinward LDA 1'!V24","v":0},{"$f":"$AB24-'Cqinward LDA 1'!W24","v":-1},{"$f":"$AB24-'Cqinward LDA 1'!X24","v":0},{"$f":"$AB24-'Cqinward LDA 1'!Y24","v":-1},{"$f":"$AB24-'Cqinward LDA 1'!Z24","v":0},{"$f":"$AB24-'Cqinward LDA 1'!AA24","v":-1},{"$f":"$AB24-'Cqinward LDA 1'!AB24","v":1},4.0]
["nitrendipine",{"$f":"$AB25-'Cqinward LDA 1'!C25","v":1},{"$f":"$AB25-'Cqinward LDA 1'!D25","v":1},{"$f":"$AB25-'Cqinward LDA 1'!E25","v":1},{"$f":"$AB25-'Cqinward LDA 1'!F25","v":1},{"$f":"$AB25-'Cqinward LDA 1'!G25","v":1},{"$f":"$AB25-'Cqinward LDA 1'!H25","v":1},{"$f":"$AB25-'Cqinward LDA 1'!I25","v":1},{"$f":"$AB25-'Cqinward LDA 1'!J25","v":1},{"$f":"$AB25-'Cqinward LDA 1'!K25","v":1},{"$f":"$AB25-'Cqinward LDA 1'!L25","v":1},{"$f":"$AB25-'Cqinward LDA 1'!M25","v":1},{"$f":"$AB25-'Cqinward LDA 1'!N25","v":1},{"$f":"$AB25-'Cqinward LDA 1'!O25","v":1},{"$f":"$AB25-'Cqinward LDA 1'!P25","v":1},{"$f":"$AB25-'Cqinward LDA 1'!Q25","v":3},{"$f":"$AB25-'Cqinward LDA 1'!R25","v":1},{"$f":"$AB25-'Cqinward LDA 1'!S25","v":0},{"$f":"$AB25-'Cqinward LDA 1'!T25","v":0},{"$f":"$AB25-'Cqinward LDA 1'!U25","v":0},{"$f":"$AB25-'Cqinward LDA 1'!V25","v":0},{"$f":"$AB25-'Cqinward LDA 1'!W25","v":2},{"$f":"$AB25-'Cqinward LDA 1'!X25","v":2},{"$f":"$AB25-'Cqinward LDA 1'!Y25","v":2},{"$f":"$AB25-'Cqinward LDA 1'!Z25","v":2},{"$f":"$AB25-'Cqinward LDA 1'!AA25","v":2},{"$f":"$AB25-'Cqinward LDA 1'!AB25","v":3},5.0]
["ondansetron",{"$f":"$AB26-'Cqinward LDA 1'!C26","v":-1},{"$f":"$AB26-'Cqinward LDA 1'!D26","v":-2},{"$f":"$AB26-'Cqinward LDA 1'!E26","v":-2},{"$f":"$AB26-'Cqinward LDA 1'!F26","v":0},{"$f":"$AB26-'Cqinward LDA 1'!G26","v":-2},{"$f":"$AB26-'Cqinward LDA 1'!H26","v":-1},{"$f":"$AB26-'Cqinward LDA 1'!I26","v":0},{"$f":"$AB26-'Cqinward LDA 1'!J26","v":-1},{"$f":"$AB26-'Cqinward LDA 1'!K26","v":0},{"$f":"$AB26-'Cqinward LDA 1'!L26","v":-1},{"$f":"$AB26-'Cqinward LDA 1'!M26","v":0},{"$f":"$AB26-'Cqinward LDA 1'!N26","v":-1},{"$f":"$AB26-'Cqinward LDA 1'!O26","v":-1},{"$f":"$AB26-'Cqinward LDA 1'!P26","v":0},{"$f":"$AB26-'Cqinward LDA 1'!Q26","v":-1},{"$f":"$AB26-'Cqinward LDA 1'!R26","v":0},{"$f":"$AB26-'Cqinward LDA 1'!S26","v":-1},{"$f":"$AB26-'Cqinward LDA 1'!T26","v":-1},{"$f":"$AB26-'Cqinward LDA 1'!U26","v":-1},{"$f":"$AB26-'Cqinward LDA 1'!V26","v":0},{"$f":"$AB26-'Cqinward LDA 1'!W26","v":-3},{"$f":"$AB26-'Cqinward LDA 1'!X26","v":0},{"$f":"$AB26-'Cqinward LDA 1'!Y26","v":-3},{"$f":"$AB26-'Cqinward LDA 1'!Z26","v":0},{"$f":"$AB26-'Cqinward LDA 1'!AA26","v":-3},{"$f":"$AB26-'Cqinward LDA 1'!AB26","v":-1},2.0]
["pentamidine",{"$f":"$AB27-'Cqinward LDA 1'!C27","v":-1},{"$f":"$AB27-'Cqinward LDA 1'!D27","v":-1},{"$f":"$AB27-'Cqinward LDA 1'!E27","v":-1},{"$f":"$AB27-'Cqinward LDA 1'!F27","v":-1},{"$f":"$AB27-'Cqinward LDA 1'!G27","v":-1},{"$f":"$AB27-'Cqinward LDA 1'!H27","v":1},{"$f":"$AB27-'Cqinward LDA 1'!I27","v":-1},{"$f":"$AB27-'Cqinward LDA 1'!J27","v":1},{"$f":"$AB27-'Cqinward LDA 1'!K27","v":-1},{"$f":"$AB27-'Cqinward LDA 1'!L27","v":-1},{"$f":"$AB27-'Cqinward LDA 1'!M27","v":-1},{"$f":"$AB27-'Cqinward LDA 1'!N27","v":-1},{"$f":"$AB27-'Cqinward LDA 1'!O27","v":-1},{"$f":"$AB27-'Cqinward LDA 1'!P27","v":-1},{"$f":"$AB27-'Cqinward LDA 1'!Q27","v":1},{"$f":"$AB27-'Cqinward LDA 1'!R27","v":-2},{"$f":"$AB27-'Cqinward LDA 1'!S27","v":-2},{"$f":"$AB27-'Cqinward LDA 1'!T27","v":-2},{"$f":"$AB27-'Cqinward LDA 1'!U27","v":-2},{"$f":"$AB27-'Cqinward LDA 1'!V27","v":-2},{"$f":"$AB27-'Cqinward LDA 1'!W27","v":0},{"$f":"$AB27-'Cqinward LDA 1'!X27","v":0},{"$f":"$AB27-'Cqinward LDA 1'!Y27","v":0},{"$f":"$AB27-'Cqinward LDA 1'!Z27","v":0},{"$f":"$AB27-'Cqinward LDA 1'!AA27","v":0},{"$f":"$AB27-'Cqinward LDA 1'!AB27","v":-2},3.0]
["phenytoin",{"$f":"$AB28-'Cqinward LDA 1'!C28","v":1},{"$f":"$AB28-'Cqinward LDA 1'!D28","v":1},{"$f":"$AB28-'Cqinward LDA 1'!E28","v":1},{"$f":"$AB28-'Cqinward LDA 1'!F28","v":1},{"$f":"$AB28-'Cqinward LDA 1'!G28","v":1},{"$f":"$AB28-'Cqinward LDA 1'!H28","v":3},{"$f":"$AB28-'Cqinward LDA 1'!I28","v":1},{"$f":"$AB28-'Cqinward LDA 1'!J28","v":3},{"$f":"$AB28-'Cqinward LDA 1'!K28","v":1},{"$f":"$AB28-'Cqinward LDA 1'!L28","v":1},{"$f":"$AB28-'Cqinward LDA 1'!M28","v":1},{"$f":"$AB28-'Cqinward LDA 1'!N28","v":1},{"$f":"$AB28-'Cqinward LDA 1'!O28","v":1},{"$f":"$AB28-'Cqinward LDA 1'!P28","v":1},{"$f":"$AB28-'Cqinward LDA 1'!Q28","v":3},{"$f":"$AB28-'Cqinward LDA 1'!R28","v":1},{"$f":"$AB28-'Cqinward LDA 1'!S28","v":0},{"$f":"$AB28-'Cqinward LDA 1'!T28","v":0},{"$f":"$AB28-'Cqinward LDA 1'!U28","v":0},{"$f":"$AB28-'Cqinward LDA 1'!V28","v":0},{"$f":"$AB28-'Cqinward LDA 1'!W28","v":2},{"$f":"$AB28-'Cqinward LDA 1'!X28","v":2},{"$f":"$AB28-'Cqinward LDA 1'!Y28","v":2},{"$f":"$AB28-'Cqinward LDA 1'!Z28","v":2},{"$f":"$AB28-'Cqinward LDA 1'!AA28","v":2},{"$f":"$AB28-'Cqinward LDA 1'!AB28","v":1},5.0]
["pimozide",{"$f":"$AB29-'Cqinward LDA 1'!C29","v":-1},{"$f":"$AB29-'Cqinward LDA 1'!D29","v":-1},{"$f":"$AB29-'Cqinward LDA 1'!E29","v":-1},{"$f":"$AB29-'Cqinward LDA 1'!F29","v":-1},{"$f":"$AB29-'Cqinward LDA 1'!G29","v":-1},{"$f":"$AB29-'Cqinward LDA 1'!H29","v":1},{"$f":"$AB29-'Cqinward LDA 1'!I29","v":-1},{"$f":"$AB29-'Cqinward LDA 1'!J29","v":1},{"$f":"$AB29-'Cqinward LDA 1'!K29","v":-1},{"$f":"$AB29-'Cqinward LDA 1'!L29","v":-1},{"$f":"$AB29-'Cqinward LDA 1'!M29","v":-1},{"$f":"$AB29-'Cqinward LDA 1'!N29","v":-1},{"$f":"$AB29-'Cqinward LDA 1'!O29","v":-1},{"$f":"$AB29-'Cqinward LDA 1'!P29","v":-1},{"$f":"$AB29-'Cqinward LDA 1'!Q29","v":1},{"$f":"$AB29-'Cqinward LDA 1'!R29","v":-2},{"$f":"$AB29-'Cqinward LDA 1'!S29","v":-2},{"$f":"$AB29-'Cqinward LDA 1'!T29","v":-2},{"$f":"$AB29-'Cqinward LDA 1'!U29","v":-2},{"$f":"$AB29-'Cqinward LDA 1'!V29","v":-2},{"$f":"$AB29-'Cqinward LDA 1'!W29","v":0},{"$f":"$AB29-'Cqinward LDA 1'!X29","v":0},{"$f":"$AB29-'Cqinward LDA 1'!Y29","v":0},{"$f":"$AB29-'Cqinward LDA 1'!Z29","v":0},{"$f":"$AB29-'Cqinward LDA 1'!AA29","v":1},{"$f":"$AB29-'Cqinward LDA 1'!AB29","v":-1},3.0]
["prenylamine",{"$f":"$AB30-'Cqinward LDA 1'!C30","v":-2},{"$f":"$AB30-'Cqinward LDA 1'!D30","v":-2},{"$f":"$AB30-'Cqinward LDA 1'!E30","v":-2},{"$f":"$AB30-'Cqinward LDA 1'!F30","v":-2},{"$f":"$AB30-'Cqinward LDA 1'!G30","v":-2},{"$f":"$AB30-'Cqinward LDA 1'!H30","v":0},{"$f":"$AB30-'Cqinward LDA 1'!I30","v":-2},{"$f":"$AB30-'Cqinward LDA 1'!J30","v":0},{"$f":"$AB30-'Cqinward LDA 1'!K30","v":-2},{"$f":"$AB30-'Cqinward LDA 1'!L30","v":0},{"$f":"$AB30-'Cqinward LDA 1'!M30","v":-2},{"$f":"$AB30-'Cqinward LDA 1'!N30","v":-2},{"$f":"$AB30-'Cqinward LDA 1'!O30","v":-2},{"$f":"$AB30-'Cqinward LDA 1'!P30","v":-2},{"$f":"$AB30-'Cqinward LDA 1'!Q30","v":-2},{"$f":"$AB30-'Cqinward LDA 1'!R30","v":-1},{"$f":"$AB30-'Cqinward LDA 1'!S30","v":-2},{"$f":"$AB30-'Cqinward LDA 1'!T30","v":0},{"$f":"$AB30-'Cqinward LDA 1'!U30","v":-2},{"$f":"$AB30-'Cqinward LDA 1'!V30","v":-1},{"$f":"$AB30-'Cqinward LDA 1'!W30","v":-2},{"$f":"$AB30-'Cqinward LDA 1'!X30","v":-1},{"$f":"$AB30-'Cqinward LDA 1'!Y30","v":-2},{"$f":"$AB30-'Cqinward LDA 1'!Z30","v":-1},{"$f":"$AB30-'Cqinward LDA 1'!AA30","v":0},{"$f":"$AB30-'Cqinward LDA 1'!AB30","v":-1},2.0]
["propafenone",{"$f":"$AB31-'Cqinward LDA 1'!C31","v":0},{"$f":"$AB31-'Cqinward LDA 1'!D31","v":0},{"$f":"$AB31-'Cqinward LDA 1'!E31","v":0},{"$f":"$AB31-'Cqinward LDA 1'!F31","v":0},{"$f":"$AB31-'Cqinward LDA 1'!G31","v":0},{"$f":"$AB31-'Cqinward LDA 1'!H31","v":0},{"$f":"$AB31-'Cqinward LDA 1'!I31","v":-1},{"$f":"$AB31-'Cqinward LDA 1'!J31","v":-1},{"$f":"$AB31-'Cqinward LDA 1'!K31","v":-1},{"$f":"$AB31-'Cqinward LDA 1'!L31","v":-1},{"$f":"$AB31-'Cqinward LDA 1'!M31","v":-1},{"$f":"$AB31-'Cqinward LDA 1'!N31","v":-1},{"$f":"$AB31-'Cqinward LDA 1'!O31","v":-1},{"$f":"$AB31-'Cqinward LDA 1'!P31","v":-1},{"$f":"$AB31-'Cqinward LDA 1'!Q31","v":1},{"$f":"$AB31-'Cqinward LDA 1'!R31","v":-1},{"$f":"$AB31-'Cqinward LDA 1'!S31","v":1},{"$f":"$AB31-'Cqinward LDA 1'!T31","v":0},{"$f":"$AB31-'Cqinward LDA 1'!U31","v":1},{"$f":"$AB31-'Cqinward LDA 1'!V31","v":0},{"$f":"$AB31-'Cqinward LDA 1'!W31","v":-1},{"$f":"$AB31-'Cqinward LDA 1'!X31","v":0},{"$f":"$AB31-'Cqinward LDA 1'!Y31","v":-1},{"$f":"$AB31-'Cqinward LDA 1'!Z31","v":0},{"$f":"$AB31-'Cqinward LDA 1'!AA31","v":-1},{"$f":"$AB31-'Cqinward LDA 1'!AB31","v":-1},4.0]
["propranolol",{"$f":"$AB32-'Cqinward LDA 1'!C32","v":1},{"$f":"$AB32-'Cqinward LDA 1'!D32","v":1},{"$f":"$AB32-'Cqinward LDA 1'!E32","v":1},{"$f":"$AB32-'Cqinward LDA 1'!F32","v":1},{"$f":"$AB32-'Cqinward LDA 1'!G32","v":1},{"$f":"$AB32-'Cqinward LDA 1'!H32","v":3},{"$f":"$AB32-'Cqinward LDA 1'!I32","v":1},{"$f":"$AB32-'Cqinward LDA 1'!J32","v":3},{"$f":"$AB32-'Cqinward LDA 1'!K32","v":1},{"$f":"$AB32-'Cqinward LDA 1'!L32","v":1},{"$f":"$AB32-'Cqinward LDA 1'!M32","v":1},{"$f":"$AB32-'Cqinward LDA 1'!N32","v":1},{"$f":"$AB32-'Cqinward LDA 1'!O32","v":1},{"$f":"$AB32-'Cqinward LDA 1'!P32","v":1},{"$f":"$AB32-'Cqinward LDA 1'!Q32","v":3},{"$f":"$AB32-'Cqinward LDA 1'!R32","v":1},{"$f":"$AB32-'Cqinward LDA 1'!S32","v":0},{"$f":"$AB32-'Cqinward LDA 1'!T32","v":3},{"$f":"$AB32-'Cqinward LDA 1'!U32","v":0},{"$f":"$AB32-'Cqinward LDA 1'!V32","v":2},{"$f":"$AB32-'Cqinward LDA 1'!W32","v":2},{"$f":"$AB32-'Cqinward LDA 1'!X32","v":2},{"$f":"$AB32-'Cqinward LDA 1'!Y32","v":2},{"$f":"$AB32-'Cqinward LDA 1'!Z32","v":2},{"$f":"$AB32-'Cqinward LDA 1'!AA32","v":3},{"$f":"$AB32-'Cqinward LDA 1'!AB32","v":3},5.0]
["quetiapine",{"$f":"$AB33-'Cqinward LDA 1'!C33","v":1},{"$f":"$AB33-'Cqinward LDA 1'!D33","v":1},{"$f":"$AB33-'Cqinward LDA 1'!E33","v":1},{"$f":"$AB33-'Cqinward LDA 1'!F33","v":1},{"$f":"$AB33-'Cqinward LDA 1'!G33","v":1},{"$f":"$AB33-'Cqinward LDA 1'!H33","v":3},{"$f":"$AB33-'Cqinward LDA 1'!I33","v":1},{"$f":"$AB33-'Cqinward LDA 1'!J33","v":3},{"$f":"$AB33-'Cqinward LDA 1'!K33","v":1},{"$f":"$AB33-'Cqinward LDA 1'!L33","v":1},{"$f":"$AB33-'Cqinward LDA 1'!M33","v":1},{"$f":"$AB33-'Cqinward LDA 1'!N33","v":1},{"$f":"$AB33-'Cqinward LDA 1'!O33","v":1},{"$f":"$AB33-'Cqinward LDA 1'!P33","v":1},{"$f":"$AB33-'Cqinward LDA 1'!Q33","v":3},{"$f":"$AB33-'Cqinward LDA 1'!R33","v":1},{"$f":"$AB33-'Cqinward LDA 1'!S33","v":0},{"$f":"$AB33-'Cqinward LDA 1'!T33","v":0},{"$f":"$AB33-'Cqinward LDA 1'!U33","v":0},{"$f":"$AB33-'Cqinward LDA 1'!V33","v":0},{"$f":"$AB33-'Cqinward LDA 1'!W33","v":2},{"$f":"$AB33-'Cqinward LDA 1'!X33","v":2},{"$f":"$AB33-'Cqinward LDA 1'!Y33","v":2},{"$f":"$AB33-'Cqinward LDA 1'!Z33","v":2},{"$f":"$AB33-'Cqinward LDA 1'!AA33","v":2},{"$f":"$AB33-'Cqinward LDA 1'!AB33","v":2},5.0]
["quinidine",{"$f":"$AB34-'Cqinward LDA 1'!C34","v":-1},{"$f":"$AB34-'Cqinward LDA 1'!D34","v":-1},{"$f":"$AB34-'Cqinward LDA 1'!E34","v":0},{"$f":"$AB34-'Cqinward LDA 1'!F34","v":-1},{"$f":"$AB34-'Cqinward LDA 1'!G34","v":0},{"$f":"$AB34-'Cqinward LDA 1'!H34","v":-1},{"$f":"$AB34-'Cqinward LDA 1'!I34","v":0},{"$f":"$AB34-'Cqinward LDA 1'!J34","v":-1},{"$f":"$AB34-'Cqinward LDA 1'!K34","v":0},{"$f":"$AB34-'Cqinward LDA 1'!L34","v":-1},{"$f":"$AB34-'Cqinward LDA 1'!M34","v":-2},{"$f":"$AB34-'Cqinward LDA 1'!N34","v":0},{"$f":"$AB34-'Cqinward LDA 1'!O34","v":-2},{"$f":"$AB34-'Cqinward LDA 1'!P34","v":-2},{"$f":"$AB34-'Cqinward LDA 1'!Q34","v":0},{"$f":"$AB34-'Cqinward LDA 1'!R34","v":-3},{"$f":"$AB34-'Cqinward LDA 1'!S34","v":-3},{"$f":"$AB34-'Cqinward LDA 1'!T34","v":-3},{"$f":"$AB34-'Cqinward LDA 1'!U34","v":-3},{"$f":"$AB34-'Cqinward LDA 1'!V34","v":-3},{"$f":"$AB34-'Cqinward LDA 1'!W34","v":-3},{"$f":"$AB34-'Cqinward LDA 1'!X34","v":-3},{"$f":"$AB34-'Cqinward LDA 1'!Y34","v":-3},{"$f":"$AB34-'Cqinward LDA 1'!Z34","v":-3},{"$f":"$AB34-'Cqinward LDA 1'!AA34","v":-3},{"$f":"$AB34-'Cqinward LDA 1'!AB34","v":0},2.0]
["ranolazine",{"$f":"$AB35-'Cqinward LDA 1'!C35","v":-2},{"$f":"$AB35-'Cqinward LDA 1'!D35","v":-2},{"$f":"$AB35-'Cqinward LDA 1'!E35","v":-2},{"$f":"$AB35-'Cqinward LDA 1'!F35","v":-2},{"$f":"$AB35-'Cqinward LDA 1'!G35","v":-2},{"$f":"$AB35-'Cqinward LDA 1'!H35","v":-2},{"$f":"$AB35-'Cqinward LDA 1'!I35","v":0},{"$f":"$AB35-'Cqinward LDA 1'!J35","v":-2},{"$f":"$AB35-'Cqinward LDA 1'!K35","v":0},{"$f":"$AB35-'Cqinward LDA 1'!L35","v":-2},{"$f":"$AB35-'Cqinward LDA 1'!M35","v":0},{"$f":"$AB35-'Cqinward LDA 1'!N35","v":-2},{"$f":"$AB35-'Cqinward LDA 1'!O35","v":0},{"$f":"$AB35-'Cqinward LDA 1'!P35","v":-2},{"$f":"$AB35-'Cqinward LDA 1'!Q35","v":0},{"$f":"$AB35-'Cqinward LDA 1'!R35","v":-2},{"$f":"$AB35-'Cqinward LDA 1'!S35","v":0},{"$f":"$AB35-'Cqinward LDA 1'!T35","v":-1},{"$f":"$AB35-'Cqinward LDA 1'!U35","v":0},{"$f":"$AB35-'Cqinward LDA 1'!V35","v":-2},{"$f":"$AB35-'Cqinward LDA 1'!W35","v":-2},{"$f":"$AB35-'Cqinward LDA 1'!X35","v":-2},{"$f":"$AB35-'Cqinward LDA 1'!Y35","v":-2},{"$f":"$AB35-'Cqinward LDA 1'!Z35","v":-2},{"$f":"$AB35-'Cqinward LDA 1'!AA35","v":-2},{"$f":"$AB35-'Cqinward LDA 1'!AB35","v":0},3.0]
["risperidone",{"$f":"$AB36-'Cqinward LDA 1'!C36","v":1},{"$f":"$AB36-'Cqinward LDA 1'!D36","v":1},{"$f":"$AB36-'Cqinward LDA 1'!E36","v":1},{"$f":"$AB36-'Cqinward LDA 1'!F36","v":1},{"$f":"$AB36-'Cqinward LDA 1'!G36","v":1},{"$f":"$AB36-'Cqinward LDA 1'!H36","v":3},{"$f":"$AB36-'Cqinward LDA 1'!I36","v":1},{"$f":"$AB36-'Cqinward LDA 1'!J36","v":3},{"$f":"$AB36-'Cqinward LDA 1'!K36","v":1},{"$f":"$AB36-'Cqinward LDA 1'!L36","v":1},{"$f":"$AB36-'Cqinward LDA 1'!M36","v":1},{"$f":"$AB36-'Cqinward LDA 1'!N36","v":1},{"$f":"$AB36-'Cqinward LDA 1'!O36","v":1},{"$f":"$AB36-'Cqinward LDA 1'!P36","v":1},{"$f":"$AB36-'Cqinward LDA 1'!Q36","v":3},{"$f":"$AB36-'Cqinward LDA 1'!R36","v":1},{"$f":"$AB36-'Cqinward LDA 1'!S36","v":0},{"$f":"$AB36-'Cqinward LDA 1'!T36","v":0},{"$f":"$AB36-'Cqinward LDA 1'!U36","v":0},{"$f":"$AB36-'Cqinward LDA 1'!V36","v":0},{"$f":"$AB36-'Cqinward LDA 1'!W36","v":2},{"$f":"$AB36-'Cqinward LDA 1'!X36","v":2},{"$f":"$AB36-'Cqinward LDA 1'!Y36","v":2},{"$f":"$AB36-'Cqinward LDA 1'!Z36","v":2},{"$f":"$AB36-'Cqinward LDA 1'!AA36","v":2},{"$f":"$AB36-'Cqinward LDA 1'!AB36","v":1},5.0]
["sertindole",{"$f":"$AB37-'Cqinward LDA 1'!C37","v":-2},{"$f":"$AB37-'Cqinward LDA 1'!D37","v":-2},{"$f":"$AB37-'Cqinward LDA 1'!E37","v":-2},{"$f":"$AB37-'Cqinward LDA 1'!F37","v":-2},{"$f":"$AB37-'Cqinward LDA 1'!G37","v":-2},{"$f":"$AB37-'Cqinward LDA 1'!H37","v":0},{"$f":"$AB37-'Cqinward LDA 1'!I37","v":-2},{"$f":"$AB37-'Cqinward LDA 1'!J37","v":0},{"$f":"$AB37-'Cqinward LDA 1'!K37","v":-2},{"$f":"$AB37-'Cqinward LDA 1'!L37","v":-2},{"$f":"$AB37-'Cqinward LDA 1'!M37","v":-2},{"$f":"$AB37-'Cqinward LDA 1'!N37","v":-2},{"$f":"$AB37-'Cqinward LDA 1'!O37","v":-2},{"$f":"$AB37-'Cqinward LDA 1'!P37","v":-2},{"$f":"$AB37-'Cqinward LDA 1'!Q37","v":0},{"$f":"$AB37-'Cqinward LDA 1'!R37","v":-3},{"$f":"$AB37-'Cqinward LDA 1'!S37","v":-3},{"$f":"$AB37-'Cqinward LDA 1'!T37","v":-3},{"$f":"$AB37-'Cqinward LDA 1'!U37","v":-3},{"$f":"$AB37-'Cqinward LDA 1'!V37","v":-3},{"$f":"$AB37-'Cqinward LDA 1'!W37","v":-1},{"$f":"$AB37-'Cqinward LDA 1'!X37","v":-1},{"$f":"$AB37-'Cqinward LDA 1'!Y37","v":-1},{"$f":"$AB37-'Cqinward LDA 1'!Z37","v":-1},{"$f":"$AB37-'Cqinward LDA 1'!AA37","v":-1},{"$f":"$AB37-'Cqinward LDA 1'!AB37","v":-1},2.0]
["tedisamil",{"$f":"$AB38-'Cqinward LDA 1'!C38","v":-2},{"$f":"$AB38-'Cqinward LDA 1'!D38","v":-2},{"$f":"$AB38-'Cqinward LDA 1'!E38","v":-2},{"$f":"$AB38-'Cqinward LDA 1'!F38","v":-2},{"$f":"$AB38-'Cqinward LDA 1'!G38","v":-2},{"$f":"$AB38-'Cqinward LDA 1'!H38","v":0},{"$f":"$AB38-'Cqinward LDA 1'!I38","v":-2},{"$f":"$AB38-'Cqinward LDA 1'!J38","v":0},{"$f":"$AB38-'Cqinward LDA 1'!K38","v":-2},{"$f":"$AB38-'Cqinward LDA 1'!L38","v":-2},{"$f":"$AB38-'Cqinward LDA 1'!M38","v":-2},{"$f":"$AB38-'Cqinward LDA 1'!N38","v":-2},{"$f":"$AB38-'Cqinward LDA 1'!O38","v":-2},{"$f":"$AB38-'Cqinward LDA 1'!P38","v":-2},{"$f":"$AB38-'Cqinward LDA 1'!Q38","v":0},{"$f":"$AB38-'Cqinward LDA 1'!R38","v":-3},{"$f":"$AB38-'Cqinward LDA 1'!S38","v":-3},{"$f":"$AB38-'Cqinward LDA 1'!T38","v":-3},{"$f":"$AB38-'Cqinward LDA 1'!U38","v":-3},{"$f":"$AB38-'Cqinward LDA 1'!V38","v":-1},{"$f":"$AB38-'Cqinward LDA 1'!W38","v":-1},{"$f":"$AB38-'Cqinward LDA 1'!X38","v":-1},{"$f":"$AB38-'Cqinward LDA 1'!Y38","v":-1},{"$f":"$AB38-'Cqinward LDA 1'!Z38","v":-1},{"$f":"$AB38-'Cqinward LDA 1'!AA38","v":0},{"$f":"$AB38-'Cqinward LDA 1'!AB38","v":-3},2.0]
["terfenadine",{"$f":"$AB39-'Cqinward LDA 1'!C39","v":-2},{"$f":"$AB39-'Cqinward LDA 1'!D39","v":-2},{"$f":"$AB39-'Cqinward LDA 1'!E39","v":-2},{"$f":"$AB39-'Cqinward LDA 1'!F39","v":-2},{"$f":"$AB39-'Cqinward LDA 1'!G39","v":-2},{"$f":"$AB39-'Cqinward LDA 1'!H39","v":0},{"$f":"$AB39-'Cqinward LDA 1'!I39","v":-2},{"$f":"$AB39-'Cqinward LDA 1'!J39","v":0},{"$f":"$AB39-'Cqinward LDA 1'!K39","v":-2},{"$f":"$AB39-'Cqinward LDA 1'!L39","v":0},{"$f":"$AB39-'Cqinward LDA 1'!M39","v":-2},{"$f":"$AB39-'Cqinward LDA 1'!N39","v":-2},{"$f":"$AB39-'Cqinward LDA 1'!O39","v":-2},{"$f":"$AB39-'Cqinward LDA 1'!P39","v":-2},{"$f":"$AB39-'Cqinward LDA 1'!Q39","v":-2},{"$f":"$AB39-'Cqinward LDA 1'!R39","v":-1},{"$f":"$AB39-'Cqinward LDA 1'!S39","v":-2},{"$f":"$AB39-'Cqinward LDA 1'!T39","v":0},{"$f":"$AB39-'Cqinward LDA 1'!U39","v":-2},{"$f":"$AB39-'Cqinward LDA 1'!V39","v":-1},{"$f":"$AB39-'Cqinward LDA 1'!W39","v":-2},{"$f":"$AB39-'Cqinward LDA 1'!X39","v":-1},{"$f":"$AB39-'Cqinward LDA 1'!Y39","v":-2},{"$f":"$AB39-'Cqinward LDA 1'!Z39","v":-1},{"$f":"$AB39-'Cqinward LDA 1'!AA39","v":0},{"$f":"$AB39-'Cqinward LDA 1'!AB39","v":-2},2.0]
["terodiline",{"$f":"$AB40-'Cqinward LDA 1'!C40","v":-1},{"$f":"$AB40-'Cqinward LDA 1'!D40","v":0},{"$f":"$AB40-'Cqinward LDA 1'!E40","v":0},{"$f":"$AB40-'Cqinward LDA 1'!F40","v":-1},{"$f":"$AB40-'Cqinward LDA 1'!G40","v":0},{"$f":"$AB40-'Cqinward LDA 1'!H40","v":-3},{"$f":"$AB40-'Cqinward LDA 1'!I40","v":0},{"$f":"$AB40-'Cqinward LDA 1'!J40","v":-3},{"$f":"$AB40-'Cqinward LDA 1'!K40","v":0},{"$f":"$AB40-'Cqinward LDA 1'!L40","v":-3},{"$f":"$AB40-'Cqinward LDA 1'!M40","v":0},{"$f":"$AB40-'Cqinward LDA 1'!N40","v":-3},{"$f":"$AB40-'Cqinward LDA 1'!O40","v":0},{"$f":"$AB40-'Cqinward LDA 1'!P40","v":0},{"$f":"$AB40-'Cqinward LDA 1'!Q40","v":-1},{"$f":"$AB40-'Cqinward LDA 1'!R40","v":0},{"$f":"$AB40-'Cqinward LDA 1'!S40","v":0},{"$f":"$AB40-'Cqinward LDA 1'!T40","v":-2},{"$f":"$AB40-'Cqinward LDA 1'!U40","v":0},{"$f":"$AB40-'Cqinward LDA 1'!V40","v":0},{"$f":"$AB40-'Cqinward LDA 1'!W40","v":-3},{"$f":"$AB40-'Cqinward LDA 1'!X40","v":0},{"$f":"$AB40-'Cqinward LDA 1'!Y40","v":-2},{"$f":"$AB40-'Cqinward LDA 1'!Z40","v":0},{"$f":"$AB40-'Cqinward LDA 1'!AA40","v":-3},{"$f":"$AB40-'Cqinward LDA 1'!AB40","v":-3},2.0]
["thioridazine",{"$f":"$AB41-'Cqinward LDA 1'!C41","v":1},{"$f":"$AB41-'Cqinward LDA 1'!D41","v":1},{"$f":"$AB41-'Cqinward LDA 1'!E41","v":-2},{"$f":"$AB41-'Cqinward LDA 1'!F41","v":1},{"$f":"$AB41-'Cqinward LDA 1'!G41","v":-2},{"$f":"$AB41-'Cqinward LDA 1'!H41","v":1},{"$f":"$AB41-'Cqinward LDA 1'!I41","v":-2},{"$f":"$AB41-'Cqinward LDA 1'!J41","v":1},{"$f":"$AB41-'Cqinward LDA 1'!K41","v":-2},{"$f":"$AB41-'Cqinward LDA 1'!L41","v":1},{"$f":"$AB41-'Cqinward LDA 1'!M41","v":-2},{"$f":"$AB41-'Cqinward LDA 1'!N41","v":1},{"$f":"$AB41-'Cqinward LDA 1'!O41","v":-2},{"$f":"$AB41-'Cqinward LDA 1'!P41","v":1},{"$f":"$AB41-'Cqinward LDA 1'!Q41","v":-2},{"$f":"$AB41-'Cqinward LDA 1'!R41","v":1},{"$f":"$AB41-'Cqinward LDA 1'!S41","v":-2},{"$f":"$AB41-'Cqinward LDA 1'!T41","v":1},{"$f":"$AB41-'Cqinward LDA 1'!U41","v":-2},{"$f":"$AB41-'Cqinward LDA 1'!V41","v":1},{"$f":"$AB41-'Cqinward LDA 1'!W41","v":0},{"$f":"$AB41-'Cqinward LDA 1'!X41","v":0},{"$f":"$AB41-'Cqinward LDA 1'!Y41","v":-1},{"$f":"$AB41-'Cqinward LDA 1'!Z41","v":0},{"$f":"$AB41-'Cqinward LDA 1'!AA41","v":1},{"$f":"$AB41-'Cqinward LDA 1'!AB41","v":-1},3.0]
["verapamil",{"$f":"$AB42-'Cqinward LDA 1'!C42","v":0},{"$f":"$AB42-'Cqinward LDA 1'!D42","v":0},{"$f":"$AB42-'Cqinward LDA 1'!E42","v":2},{"$f":"$AB42-'Cqinward LDA 1'!F42","v":0},{"$f":"$AB42-'Cqinward LDA 1'!G42","v":2},{"$f":"$AB42-'Cqinward LDA 1'!H42","v":0},{"$f":"$AB42-'Cqinward LDA 1'!I42","v":2},{"$f":"$AB42-'Cqinward LDA 1'!J42","v":0},{"$f":"$AB42-'Cqinward LDA 1'!K42","v":2},{"$f":"$AB42-'Cqinward LDA 1'!L42","v":0},{"$f":"$AB42-'Cqinward LDA 1'!M42","v":2},{"$f":"$AB42-'Cqinward LDA 1'!N42","v":0},{"$f":"$AB42-'Cqinward LDA 1'!O42","v":2},{"$f":"$AB42-'Cqinward LDA 1'!P42","v":0},{"$f":"$AB42-'Cqinward LDA 1'!Q42","v":2},{"$f":"$AB42-'Cqinward LDA 1'!R42","v":1},{"$f":"$AB42-'Cqinward LDA 1'!S42","v":2},{"$f":"$AB42-'Cqinward LDA 1'!T42","v":1},{"$f":"$AB42-'Cqinward LDA 1'!U42","v":2},{"$f":"$AB42-'Cqinward LDA 1'!V42","v":1},{"$f":"$AB42-'Cqinward LDA 1'!W42","v":0},{"$f":"$AB42-'Cqinward LDA 1'!X42","v":1},{"$f":"$AB42-'Cqinward LDA 1'!Y42","v":0},{"$f":"$AB42-'Cqinward LDA 1'!Z42","v":1},{"$f":"$AB42-'Cqinward LDA 1'!AA42","v":0},{"$f":"$AB42-'Cqinward LDA 1'!AB42","v":0},5.0]
["Total (abs)",{"$f":"sum(abs(B$2:B$42))","v":45},49,50,49,51,43,48,46,44,42,47,49,48,45,60,54,56,47,55,42,57,39,56,39,54,49]
["Mean (abs)",{"$f":"sum(abs(B$2:B$42))/count(B$2:B$42)","v":1.097560976},1.195121951,1.219512195,1.195121951,1.243902439,1.048780488,1.170731707,1.12195122,1.073170732,1.024390244,1.146341463,1.195121951,1.170731707,1.097560976,1.463414634,1.317073171,1.365853659,1.146341463,1.341463415,1.024390244,1.390243902,0.9512195122,1.365853659,0.9512195122,1.317073171,1.195121951]
["SD (abs)",{"$f":"STDEV(abs(B$2:B$42))","v":0.7001741944},0.7489830504,0.7909549646,0.71482558,0.7674792442,1.094331292,0.7714414762,1.053449618,0.78709097,0.7901836773,0.7924952874,0.7489830504,0.7714414762,0.7682733253,1.027072563,0.8786075458,1.089864615,1.108173624,1.063244001,0.9079593845,0.8624977907,0.8047117345,0.8589556904,0.8047117345,0.9601829094,1.030036703]
["Total",{"$f":"sum(B$2:B$42)","v":-27},-27,-24,-27,-23,15,-18,12,-14,-18,-17,-31,-18,-25,26,-34,-38,-35,-37,-32,-13,1,-16,1,-2,-19]

{"sheet":"Cqinward SVM 1 errors","index":19,"n_rows":46,"n_cols":28,"rows_kept":46,"cut":false,"hidden":false,"merged":[]}
["Drug",1.0,2.0,3.0,4.0,5.0,6.0,7.0,8.0,9.0,10.0,11.0,12.0,13.0,14.0,15.0,16.0,17.0,18.0,19.0,20.0,21.0,22.0,23.0,24.0,25.0,"All","Redferns"]
["ajmaline",{"$f":"$AB2-'Cqinward SVM 1'!C2","v":0},{"$f":"$AB2-'Cqinward SVM 1'!D2","v":0},{"$f":"$AB2-'Cqinward SVM 1'!E2","v":0},{"$f":"$AB2-'Cqinward SVM 1'!F2","v":0},{"$f":"$AB2-'Cqinward SVM 1'!G2","v":0},{"$f":"$AB2-'Cqinward SVM 1'!H2","v":0},{"$f":"$AB2-'Cqinward SVM 1'!I2","v":0},{"$f":"$AB2-'Cqinward SVM 1'!J2","v":0},{"$f":"$AB2-'Cqinward SVM 1'!K2","v":0},{"$f":"$AB2-'Cqinward SVM 1'!L2","v":0},{"$f":"$AB2-'Cqinward SVM 1'!M2","v":0},{"$f":"$AB2-'Cqinward SVM 1'!N2","v":0},{"$f":"$AB2-'Cqinward SVM 1'!O2","v":0},{"$f":"$AB2-'Cqinward SVM 1'!P2","v":0},{"$f":"$AB2-'Cqinward SVM 1'!Q2","v":0},{"$f":"$AB2-'Cqinward SVM 1'!R2","v":0},{"$f":"$AB2-'Cqinward SVM 1'!S2","v":0},{"$f":"$AB2-'Cqinward SVM 1'!T2","v":0},{"$f":"$AB2-'Cqinward SVM 1'!U2","v":0},{"$f":"$AB2-'Cqinward SVM 1'!V2","v":0},{"$f":"$AB2-'Cqinward SVM 1'!W2","v":0},{"$f":"$AB2-'Cqinward SVM 1'!X2","v":0},{"$f":"$AB2-'Cqinward SVM 1'!Y2","v":0},{"$f":"$AB2-'Cqinward SVM 1'!Z2","v":0},{"$f":"$AB2-'Cqinward SVM 1'!AA2","v":0},{"$f":"$AB2-'Cqinward SVM 1'!AB2","v":0},2.0]
["amiodarone",{"$f":"$AB3-'Cqinward SVM 1'!C3","v":0},{"$f":"$AB3-'Cqinward SVM 1'!D3","v":0},{"$f":"$AB3-'Cqinward SVM 1'!E3","v":0},{"$f":"$AB3-'Cqinward SVM 1'!F3","v":0},{"$f":"$AB3-'Cqinward SVM 1'!G3","v":0},{"$f":"$AB3-'Cqinward SVM 1'!H3","v":0},{"$f":"$AB3-'Cqinward SVM 1'!I3","v":0},{"$f":"$AB3-'Cqinward SVM 1'!J3","v":0},{"$f":"$AB3-'Cqinward SVM 1'!K3","v":0},{"$f":"$AB3-'Cqinward SVM 1'!L3","v":0},{"$f":"$AB3-'Cqinward SVM 1'!M3","v":0},{"$f":"$AB3-'Cqinward SVM 1'!N3","v":0},{"$f":"$AB3-'Cqinward SVM 1'!O3","v":0},{"$f":"$AB3-'Cqinward SVM 1'!P3","v":0},{"$f":"$AB3-'Cqinward SVM 1'!Q3","v":0},{"$f":"$AB3-'Cqinward SVM 1'!R3","v":0},{"$f":"$AB3-'Cqinward SVM 1'!S3","v":0},{"$f":"$AB3-'Cqinward SVM 1'!T3","v":0},{"$f":"$AB3-'Cqinward SVM 1'!U3","v":0},{"$f":"$AB3-'Cqinward SVM 1'!V3","v":0},{"$f":"$AB3-'Cqinward SVM 1'!W3","v":0},{"$f":"$AB3-'Cqinward SVM 1'!X3","v":0},{"$f":"$AB3-'Cqinward SVM 1'!Y3","v":0},{"$f":"$AB3-'Cqinward SVM 1'!Z3","v":0},{"$f":"$AB3-'Cqinward SVM 1'!AA3","v":0},{"$f":"$AB3-'Cqinward SVM 1'!AB3","v":0},2.0]
["amitriptyline",{"$f":"$AB4-'Cqinward SVM 1'!C4","v":2},{"$f":"$AB4-'Cqinward SVM 1'!D4","v":2},{"$f":"$AB4-'Cqinward SVM 1'!E4","v":2},{"$f":"$AB4-'Cqinward SVM 1'!F4","v":2},{"$f":"$AB4-'Cqinward SVM 1'!G4","v":2},{"$f":"$AB4-'Cqinward SVM 1'!H4","v":2},{"$f":"$AB4-'Cqinward SVM 1'!I4","v":2},{"$f":"$AB4-'Cqinward SVM 1'!J4","v":2},{"$f":"$AB4-'Cqinward SVM 1'!K4","v":2},{"$f":"$AB4-'Cqinward SVM 1'!L4","v":2},{"$f":"$AB4-'Cqinward SVM 1'!M4","v":2},{"$f":"$AB4-'Cqinward SVM 1'!N4","v":2},{"$f":"$AB4-'Cqinward SVM 1'!O4","v":2},{"$f":"$AB4-'Cqinward SVM 1'!P4","v":2},{"$f":"$AB4-'Cqinward SVM 1'!Q4","v":2},{"$f":"$AB4-'Cqinward SVM 1'!R4","v":2},{"$f":"$AB4-'Cqinward SVM 1'!S4","v":2},{"$f":"$AB4-'Cqinward SVM 1'!T4","v":2},{"$f":"$AB4-'Cqinward SVM 1'!U4","v":2},{"$f":"$AB4-'Cqinward SVM 1'!V4","v":2},{"$f":"$AB4-'Cqinward SVM 1'!W4","v":2},{"$f":"$AB4-'Cqinward SVM 1'!X4","v":2},{"$f":"$AB4-'Cqinward SVM 1'!Y4","v":2},{"$f":"$AB4-'Cqinward SVM 1'!Z4","v":2},{"$f":"$AB4-'Cqinward SVM 1'!AA4","v":2},{"$f":"$AB4-'Cqinward SVM 1'!AB4","v":-1},4.0]
["azimilide",{"$f":"$AB5-'Cqinward SVM 1'!C5","v":0},{"$f":"$AB5-'Cqinward SVM 1'!D5","v":0},{"$f":"$AB5-'Cqinward SVM 1'!E5","v":0},{"$f":"$AB5-'Cqinward SVM 1'!F5","v":0},{"$f":"$AB5-'Cqinward SVM 1'!G5","v":0},{"$f":"$AB5-'Cqinward SVM 1'!H5","v":0},{"$f":"$AB5-'Cqinward SVM 1'!I5","v":0},{"$f":"$AB5-'Cqinward SVM 1'!J5","v":0},{"$f":"$AB5-'Cqinward SVM 1'!K5","v":0},{"$f":"$AB5-'Cqinward SVM 1'!L5","v":0},{"$f":"$AB5-'Cqinward SVM 1'!M5","v":0},{"$f":"$AB5-'Cqinward SVM 1'!N5","v":0},{"$f":"$AB5-'Cqinward SVM 1'!O5","v":0},{"$f":"$AB5-'Cqinward SVM 1'!P5","v":0},{"$f":"$AB5-'Cqinward SVM 1'!Q5","v":0},{"$f":"$AB5-'Cqinward SVM 1'!R5","v":0},{"$f":"$AB5-'Cqinward SVM 1'!S5","v":0},{"$f":"$AB5-'Cqinward SVM 1'!T5","v":-2},{"$f":"$AB5-'Cqinward SVM 1'!U5","v":0},{"$f":"$AB5-'Cqinward SVM 1'!V5","v":-2},{"$f":"$AB5-'Cqinward SVM 1'!W5","v":0},{"$f":"$AB5-'Cqinward SVM 1'!X5","v":-2},{"$f":"$AB5-'Cqinward SVM 1'!Y5","v":0},{"$f":"$AB5-'Cqinward SVM 1'!Z5","v":-2},{"$f":"$AB5-'Cqinward SVM 1'!AA5","v":-2},{"$f":"$AB5-'Cqinward SVM 1'!AB5","v":-2},2.0]
["bepridil",{"$f":"$AB6-'Cqinward SVM 1'!C6","v":1},{"$f":"$AB6-'Cqinward SVM 1'!D6","v":1},{"$f":"$AB6-'Cqinward SVM 1'!E6","v":1},{"$f":"$AB6-'Cqinward SVM 1'!F6","v":1},{"$f":"$AB6-'Cqinward SVM 1'!G6","v":1},{"$f":"$AB6-'Cqinward SVM 1'!H6","v":1},{"$f":"$AB6-'Cqinward SVM 1'!I6","v":1},{"$f":"$AB6-'Cqinward SVM 1'!J6","v":1},{"$f":"$AB6-'Cqinward SVM 1'!K6","v":1},{"$f":"$AB6-'Cqinward SVM 1'!L6","v":1},{"$f":"$AB6-'Cqinward SVM 1'!M6","v":1},{"$f":"$AB6-'Cqinward SVM 1'!N6","v":1},{"$f":"$AB6-'Cqinward SVM 1'!O6","v":1},{"$f":"$AB6-'Cqinward SVM 1'!P6","v":1},{"$f":"$AB6-'Cqinward SVM 1'!Q6","v":1},{"$f":"$AB6-'Cqinward SVM 1'!R6","v":1},{"$f":"$AB6-'Cqinward SVM 1'!S6","v":1},{"$f":"$AB6-'Cqinward SVM 1'!T6","v":1},{"$f":"$AB6-'Cqinward SVM 1'!U6","v":1},{"$f":"$AB6-'Cqinward SVM 1'!V6","v":1},{"$f":"$AB6-'Cqinward SVM 1'!W6","v":1},{"$f":"$AB6-'Cqinward SVM 1'!X6","v":1},{"$f":"$AB6-'Cqinward SVM 1'!Y6","v":1},{"$f":"$AB6-'Cqinward SVM 1'!Z6","v":1},{"$f":"$AB6-'Cqinward SVM 1'!AA6","v":1},{"$f":"$AB6-'Cqinward SVM 1'!AB6","v":-1},3.0]
["chlorpromazine",{"$f":"$AB7-'Cqinward SVM 1'!C7","v":1},{"$f":"$AB7-'Cqinward SVM 1'!D7","v":1},{"$f":"$AB7-'Cqinward SVM 1'!E7","v":1},{"$f":"$AB7-'Cqinward SVM 1'!F7","v":1},{"$f":"$AB7-'Cqinward SVM 1'!G7","v":1},{"$f":"$AB7-'Cqinward SVM 1'!H7","v":1},{"$f":"$AB7-'Cqinward SVM 1'!I7","v":1},{"$f":"$AB7-'Cqinward SVM 1'!J7","v":1},{"$f":"$AB7-'Cqinward SVM 1'!K7","v":1},{"$f":"$AB7-'Cqinward SVM 1'!L7","v":1},{"$f":"$AB7-'Cqinward SVM 1'!M7","v":1},{"$f":"$AB7-'Cqinward SVM 1'!N7","v":1},{"$f":"$AB7-'Cqinward SVM 1'!O7","v":1},{"$f":"$AB7-'Cqinward SVM 1'!P7","v":1},{"$f":"$AB7-'Cqinward SVM 1'!Q7","v":1},{"$f":"$AB7-'Cqinward SVM 1'!R7","v":1},{"$f":"$AB7-'Cqinward SVM 1'!S7","v":1},{"$f":"$AB7-'Cqinward SVM 1'!T7","v":1},{"$f":"$AB7-'Cqinward SVM 1'!U7","v":1},{"$f":"$AB7-'Cqinward SVM 1'!V7","v":1},{"$f":"$AB7-'Cqinward SVM 1'!W7","v":1},{"$f":"$AB7-'Cqinward SVM 1'!X7","v":1},{"$f":"$AB7-'Cqinward SVM 1'!Y7","v":1},{"$f":"$AB7-'Cqinward SVM 1'!Z7","v":1},{"$f":"$AB7-'Cqinward SVM 1'!AA7","v":1},{"$f":"$AB7-'Cqinward SVM 1'!AB7","v":-1},3.0]
["cibenzoline",{"$f":"$AB8-'Cqinward SVM 1'!C8","v":3},{"$f":"$AB8-'Cqinward SVM 1'!D8","v":3},{"$f":"$AB8-'Cqinward SVM 1'!E8","v":3},{"$f":"$AB8-'Cqinward SVM 1'!F8","v":3},{"$f":"$AB8-'Cqinward SVM 1'!G8","v":3},{"$f":"$AB8-'Cqinward SVM 1'!H8","v":3},{"$f":"$AB8-'Cqinward SVM 1'!I8","v":3},{"$f":"$AB8-'Cqinward SVM 1'!J8","v":3},{"$f":"$AB8-'Cqinward SVM 1'!K8","v":3},{"$f":"$AB8-'Cqinward SVM 1'!L8","v":3},{"$f":"$AB8-'Cqinward SVM 1'!M8","v":3},{"$f":"$AB8-'Cqinward SVM 1'!N8","v":3},{"$f":"$AB8-'Cqinward SVM 1'!O8","v":3},{"$f":"$AB8-'Cqinward SVM 1'!P8","v":3},{"$f":"$AB8-'Cqinward SVM 1'!Q8","v":3},{"$f":"$AB8-'Cqinward SVM 1'!R8","v":3},{"$f":"$AB8-'Cqinward SVM 1'!S8","v":3},{"$f":"$AB8-'Cqinward SVM 1'!T8","v":3},{"$f":"$AB8-'Cqinward SVM 1'!U8","v":3},{"$f":"$AB8-'Cqinward SVM 1'!V8","v":3},{"$f":"$AB8-'Cqinward SVM 1'!W8","v":3},{"$f":"$AB8-'Cqinward SVM 1'!X8","v":3},{"$f":"$AB8-'Cqinward SVM 1'!Y8","v":3},{"$f":"$AB8-'Cqinward SVM 1'!Z8","v":3},{"$f":"$AB8-'Cqinward SVM 1'!AA8","v":3},{"$f":"$AB8-'Cqinward SVM 1'!AB8","v":3},5.0]
["cisapride",{"$f":"$AB9-'Cqinward SVM 1'!C9","v":0},{"$f":"$AB9-'Cqinward SVM 1'!D9","v":0},{"$f":"$AB9-'Cqinward SVM 1'!E9","v":0},{"$f":"$AB9-'Cqinward SVM 1'!F9","v":0},{"$f":"$AB9-'Cqinward SVM 1'!G9","v":0},{"$f":"$AB9-'Cqinward SVM 1'!H9","v":0},{"$f":"$AB9-'Cqinward SVM 1'!I9","v":0},{"$f":"$AB9-'Cqinward SVM 1'!J9","v":0},{"$f":"$AB9-'Cqinward SVM 1'!K9","v":0},{"$f":"$AB9-'Cqinward SVM 1'!L9","v":0},{"$f":"$AB9-'Cqinward SVM 1'!M9","v":0},{"$f":"$AB9-'Cqinward SVM 1'!N9","v":0},{"$f":"$AB9-'Cqinward SVM 1'!O9","v":0},{"$f":"$AB9-'Cqinward SVM 1'!P9","v":0},{"$f":"$AB9-'Cqinward SVM 1'!Q9","v":0},{"$f":"$AB9-'Cqinward SVM 1'!R9","v":0},{"$f":"$AB9-'Cqinward SVM 1'!S9","v":0},{"$f":"$AB9-'Cqinward SVM 1'!T9","v":0},{"$f":"$AB9-'Cqinward SVM 1'!U9","v":0},{"$f":"$AB9-'Cqinward SVM 1'!V9","v":0},{"$f":"$AB9-'Cqinward SVM 1'!W9","v":0},{"$f":"$AB9-'Cqinward SVM 1'!X9","v":0},{"$f":"$AB9-'Cqinward SVM 1'!Y9","v":0},{"$f":"$AB9-'Cqinward SVM 1'!Z9","v":0},{"$f":"$AB9-'Cqinward SVM 1'!AA9","v":0},{"$f":"$AB9-'Cqinward SVM 1'!AB9","v":0},2.0]
["clozapine",{"$f":"$AB10-'Cqinward SVM 1'!C10","v":2},{"$f":"$AB10-'Cqinward SVM 1'!D10","v":2},{"$f":"$AB10-'Cqinward SVM 1'!E10","v":2},{"$f":"$AB10-'Cqinward SVM 1'!F10","v":2},{"$f":"$AB10-'Cqinward SVM 1'!G10","v":2},{"$f":"$AB10-'Cqinward SVM 1'!H10","v":2},{"$f":"$AB10-'Cqinward SVM 1'!I10","v":2},{"$f":"$AB10-'Cqinward SVM 1'!J10","v":2},{"$f":"$AB10-'Cqinward SVM 1'!K10","v":2},{"$f":"$AB10-'Cqinward SVM 1'!L10","v":2},{"$f":"$AB10-'Cqinward SVM 1'!M10","v":2},{"$f":"$AB10-'Cqinward SVM 1'!N10","v":2},{"$f":"$AB10-'Cqinward SVM 1'!O10","v":2},{"$f":"$AB10-'Cqinward SVM 1'!P10","v":2},{"$f":"$AB10-'Cqinward SVM 1'!Q10","v":2},{"$f":"$AB10-'Cqinward SVM 1'!R10","v":2},{"$f":"$AB10-'Cqinward SVM 1'!S10","v":2},{"$f":"$AB10-'Cqinward SVM 1'!T10","v":2},{"$f":"$AB10-'Cqinward SVM 1'!U10","v":2},{"$f":"$AB10-'Cqinward SVM 1'!V10","v":2},{"$f":"$AB10-'Cqinward SVM 1'!W10","v":2},{"$f":"$AB10-'Cqinward SVM 1'!X10","v":2},{"$f":"$AB10-'Cqinward SVM 1'!Y10","v":2},{"$f":"$AB10-'Cqinward SVM 1'!Z10","v":2},{"$f":"$AB10-'Cqinward SVM 1'!AA10","v":2},{"$f":"$AB10-'Cqinward SVM 1'!AB10","v":2},4.0]
["desipramine",{"$f":"$AB11-'Cqinward SVM 1'!C11","v":2},{"$f":"$AB11-'Cqinward SVM 1'!D11","v":2},{"$f":"$AB11-'Cqinward SVM 1'!E11","v":2},{"$f":"$AB11-'Cqinward SVM 1'!F11","v":2},{"$f":"$AB11-'Cqinward SVM 1'!G11","v":2},{"$f":"$AB11-'Cqinward SVM 1'!H11","v":2},{"$f":"$AB11-'Cqinward SVM 1'!I11","v":2},{"$f":"$AB11-'Cqinward SVM 1'!J11","v":2},{"$f":"$AB11-'Cqinward SVM 1'!K11","v":2},{"$f":"$AB11-'Cqinward SVM 1'!L11","v":2},{"$f":"$AB11-'Cqinward SVM 1'!M11","v":2},{"$f":"$AB11-'Cqinward SVM 1'!N11","v":2},{"$f":"$AB11-'Cqinward SVM 1'!O11","v":2},{"$f":"$AB11-'Cqinward SVM 1'!P11","v":2},{"$f":"$AB11-'Cqinward SVM 1'!Q11","v":2},{"$f":"$AB11-'Cqinward SVM 1'!R11","v":2},{"$f":"$AB11-'Cqinward SVM 1'!S11","v":2},{"$f":"$AB11-'Cqinward SVM 1'!T11","v":2},{"$f":"$AB11-'Cqinward SVM 1'!U11","v":2},{"$f":"$AB11-'Cqinward SVM 1'!V11","v":2},{"$f":"$AB11-'Cqinward SVM 1'!W11","v":2},{"$f":"$AB11-'Cqinward SVM 1'!X11","v":2},{"$f":"$AB11-'Cqinward SVM 1'!Y11","v":2},{"$f":"$AB11-'Cqinward SVM 1'!Z11","v":2},{"$f":"$AB11-'Cqinward SVM 1'!AA11","v":2},{"$f":"$AB11-'Cqinward SVM 1'!AB11","v":2},4.0]
["diltiazem",{"$f":"$AB12-'Cqinward SVM 1'!C12","v":3},{"$f":"$AB12-'Cqinward SVM 1'!D12","v":3},{"$f":"$AB12-'Cqinward SVM 1'!E12","v":3},{"$f":"$AB12-'Cqinward SVM 1'!F12","v":3},{"$f":"$AB12-'Cqinward SVM 1'!G12","v":3},{"$f":"$AB12-'Cqinward SVM 1'!H12","v":3},{"$f":"$AB12-'Cqinward SVM 1'!I12","v":3},{"$f":"$AB12-'Cqinward SVM 1'!J12","v":3},{"$f":"$AB12-'Cqinward SVM 1'!K12","v":3},{"$f":"$AB12-'Cqinward SVM 1'!L12","v":3},{"$f":"$AB12-'Cqinward SVM 1'!M12","v":3},{"$f":"$AB12-'Cqinward SVM 1'!N12","v":3},{"$f":"$AB12-'Cqinward SVM 1'!O12","v":3},{"$f":"$AB12-'Cqinward SVM 1'!P12","v":3},{"$f":"$AB12-'Cqinward SVM 1'!Q12","v":3},{"$f":"$AB12-'Cqinward SVM 1'!R12","v":1},{"$f":"$AB12-'Cqinward SVM 1'!S12","v":3},{"$f":"$AB12-'Cqinward SVM 1'!T12","v":3},{"$f":"$AB12-'Cqinward SVM 1'!U12","v":3},{"$f":"$AB12-'Cqinward SVM 1'!V12","v":3},{"$f":"$AB12-'Cqinward SVM 1'!W12","v":3},{"$f":"$AB12-'Cqinward SVM 1'!X12","v":1},{"$f":"$AB12-'Cqinward SVM 1'!Y12","v":3},{"$f":"$AB12-'Cqinward SVM 1'!Z12","v":1},{"$f":"$AB12-'Cqinward SVM 1'!AA12","v":3},{"$f":"$AB12-'Cqinward SVM 1'!AB12","v":1},5.0]
["disopyramide",{"$f":"$AB13-'Cqinward SVM 1'!C13","v":0},{"$f":"$AB13-'Cqinward SVM 1'!D13","v":0},{"$f":"$AB13-'Cqinward SVM 1'!E13","v":0},{"$f":"$AB13-'Cqinward SVM 1'!F13","v":0},{"$f":"$AB13-'Cqinward SVM 1'!G13","v":0},{"$f":"$AB13-'Cqinward SVM 1'!H13","v":0},{"$f":"$AB13-'Cqinward SVM 1'!I13","v":0},{"$f":"$AB13-'Cqinward SVM 1'!J13","v":0},{"$f":"$AB13-'Cqinward SVM 1'!K13","v":0},{"$f":"$AB13-'Cqinward SVM 1'!L13","v":0},{"$f":"$AB13-'Cqinward SVM 1'!M13","v":0},{"$f":"$AB13-'Cqinward SVM 1'!N13","v":0},{"$f":"$AB13-'Cqinward SVM 1'!O13","v":0},{"$f":"$AB13-'Cqinward SVM 1'!P13","v":0},{"$f":"$AB13-'Cqinward SVM 1'!Q13","v":0},{"$f":"$AB13-'Cqinward SVM 1'!R13","v":0},{"$f":"$AB13-'Cqinward SVM 1'!S13","v":0},{"$f":"$AB13-'Cqinward SVM 1'!T13","v":0},{"$f":"$AB13-'Cqinward SVM 1'!U13","v":0},{"$f":"$AB13-'Cqinward SVM 1'!V13","v":0},{"$f":"$AB13-'Cqinward SVM 1'!W13","v":0},{"$f":"$AB13-'Cqinward SVM 1'!X13","v":0},{"$f":"$AB13-'Cqinward SVM 1'!Y13","v":0},{"$f":"$AB13-'Cqinward SVM 1'!Z13","v":0},{"$f":"$AB13-'Cqinward SVM 1'!AA13","v":0},{"$f":"$AB13-'Cqinward SVM 1'!AB13","v":0},2.0]
["dl-sotalol",{"$f":"$AB14-'Cqinward SVM 1'!C14","v":0},{"$f":"$AB14-'Cqinward SVM 1'!D14","v":0},{"$f":"$AB14-'Cqinward SVM 1'!E14","v":0},{"$f":"$AB14-'Cqinward SVM 1'!F14","v":0},{"$f":"$AB14-'Cqinward SVM 1'!G14","v":0},{"$f":"$AB14-'Cqinward SVM 1'!H14","v":0},{"$f":"$AB14-'Cqinward SVM 1'!I14","v":0},{"$f":"$AB14-'Cqinward SVM 1'!J14","v":0},{"$f":"$AB14-'Cqinward SVM 1'!K14","v":0},{"$f":"$AB14-'Cqinward SVM 1'!L14","v":0},{"$f":"$AB14-'Cqinward SVM 1'!M14","v":0},{"$f":"$AB14-'Cqinward SVM 1'!N14","v":0},{"$f":"$AB14-'Cqinward SVM 1'!O14","v":0},{"$f":"$AB14-'Cqinward SVM 1'!P14","v":0},{"$f":"$AB14-'Cqinward SVM 1'!Q14","v":0},{"$f":"$AB14-'Cqinward SVM 1'!R14","v":0},{"$f":"$AB14-'Cqinward SVM 1'!S14","v":0},{"$f":"$AB14-'Cqinward SVM 1'!T14","v":0},{"$f":"$AB14-'Cqinward SVM 1'!U14","v":0},{"$f":"$AB14-'Cqinward SVM 1'!V14","v":0},{"$f":"$AB14-'Cqinward SVM 1'!W14","v":0},{"$f":"$AB14-'Cqinward SVM 1'!X14","v":0},{"$f":"$AB14-'Cqinward SVM 1'!Y14","v":0},{"$f":"$AB14-'Cqinward SVM 1'!Z14","v":0},{"$f":"$AB14-'Cqinward SVM 1'!AA14","v":0},{"$f":"$AB14-'Cqinward SVM 1'!AB14","v":0},2.0]
["dofetilide",{"$f":"$AB15-'Cqinward SVM 1'!C15","v":0},{"$f":"$AB15-'Cqinward SVM 1'!D15","v":0},{"$f":"$AB15-'Cqinward SVM 1'!E15","v":0},{"$f":"$AB15-'Cqinward SVM 1'!F15","v":0},{"$f":"$AB15-'Cqinward SVM 1'!G15","v":0},{"$f":"$AB15-'Cqinward SVM 1'!H15","v":0},{"$f":"$AB15-'Cqinward SVM 1'!I15","v":0},{"$f":"$AB15-'Cqinward SVM 1'!J15","v":0},{"$f":"$AB15-'Cqinward SVM 1'!K15","v":0},{"$f":"$AB15-'Cqinward SVM 1'!L15","v":0},{"$f":"$AB15-'Cqinward SVM 1'!M15","v":0},{"$f":"$AB15-'Cqinward SVM 1'!N15","v":0},{"$f":"$AB15-'Cqinward SVM 1'!O15","v":0},{"$f":"$AB15-'Cqinward SVM 1'!P15","v":0},{"$f":"$AB15-'Cqinward SVM 1'!Q15","v":0},{"$f":"$AB15-'Cqinward SVM 1'!R15","v":0},{"$f":"$AB15-'Cqinward SVM 1'!S15","v":0},{"$f":"$AB15-'Cqinward SVM 1'!T15","v":0},{"$f":"$AB15-'Cqinward SVM 1'!U15","v":0},{"$f":"$AB15-'Cqinward SVM 1'!V15","v":0},{"$f":"$AB15-'Cqinward SVM 1'!W15","v":0},{"$f":"$AB15-'Cqinward SVM 1'!X15","v":0},{"$f":"$AB15-'Cqinward SVM 1'!Y15","v":0},{"$f":"$AB15-'Cqinward SVM 1'!Z15","v":0},{"$f":"$AB15-'Cqinward SVM 1'!AA15","v":0},{"$f":"$AB15-'Cqinward SVM 1'!AB15","v":0},2.0]
["flecainide",{"$f":"$AB16-'Cqinward SVM 1'!C16","v":1},{"$f":"$AB16-'Cqinward SVM 1'!D16","v":1},{"$f":"$AB16-'Cqinward SVM 1'!E16","v":1},{"$f":"$AB16-'Cqinward SVM 1'!F16","v":1},{"$f":"$AB16-'Cqinward SVM 1'!G16","v":1},{"$f":"$AB16-'Cqinward SVM 1'!H16","v":1},{"$f":"$AB16-'Cqinward SVM 1'!I16","v":1},{"$f":"$AB16-'Cqinward SVM 1'!J16","v":1},{"$f":"$AB16-'Cqinward SVM 1'!K16","v":1},{"$f":"$AB16-'Cqinward SVM 1'!L16","v":1},{"$f":"$AB16-'Cqinward SVM 1'!M16","v":1},{"$f":"$AB16-'Cqinward SVM 1'!N16","v":1},{"$f":"$AB16-'Cqinward SVM 1'!O16","v":1},{"$f":"$AB16-'Cqinward SVM 1'!P16","v":1},{"$f":"$AB16-'Cqinward SVM 1'!Q16","v":1},{"$f":"$AB16-'Cqinward SVM 1'!R16","v":1},{"$f":"$AB16-'Cqinward SVM 1'!S16","v":1},{"$f":"$AB16-'Cqinward SVM 1'!T16","v":1},{"$f":"$AB16-'Cqinward SVM 1'!U16","v":1},{"$f":"$AB16-'Cqinward SVM 1'!V16","v":1},{"$f":"$AB16-'Cqinward SVM 1'!W16","v":1},{"$f":"$AB16-'Cqinward SVM 1'!X16","v":1},{"$f":"$AB16-'Cqinward SVM 1'!Y16","v":1},{"$f":"$AB16-'Cqinward SVM 1'!Z16","v":1},{"$f":"$AB16-'Cqinward SVM 1'!AA16","v":1},{"$f":"$AB16-'Cqinward SVM 1'!AB16","v":1},3.0]
["fluvoxamine",{"$f":"$AB17-'Cqinward SVM 1'!C17","v":2},{"$f":"$AB17-'Cqinward SVM 1'!D17","v":2},{"$f":"$AB17-'Cqinward SVM 1'!E17","v":2},{"$f":"$AB17-'Cqinward SVM 1'!F17","v":2},{"$f":"$AB17-'Cqinward SVM 1'!G17","v":2},{"$f":"$AB17-'Cqinward SVM 1'!H17","v":2},{"$f":"$AB17-'Cqinward SVM 1'!I17","v":2},{"$f":"$AB17-'Cqinward SVM 1'!J17","v":2},{"$f":"$AB17-'Cqinward SVM 1'!K17","v":2},{"$f":"$AB17-'Cqinward SVM 1'!L17","v":2},{"$f":"$AB17-'Cqinward SVM 1'!M17","v":2},{"$f":"$AB17-'Cqinward SVM 1'!N17","v":2},{"$f":"$AB17-'Cqinward SVM 1'!O17","v":2},{"$f":"$AB17-'Cqinward SVM 1'!P17","v":2},{"$f":"$AB17-'Cqinward SVM 1'!Q17","v":2},{"$f":"$AB17-'Cqinward SVM 1'!R17","v":2},{"$f":"$AB17-'Cqinward SVM 1'!S17","v":2},{"$f":"$AB17-'Cqinward SVM 1'!T17","v":2},{"$f":"$AB17-'Cqinward SVM 1'!U17","v":2},{"$f":"$AB17-'Cqinward SVM 1'!V17","v":2},{"$f":"$AB17-'Cqinward SVM 1'!W17","v":2},{"$f":"$AB17-'Cqinward SVM 1'!X17","v":2},{"$f":"$AB17-'Cqinward SVM 1'!Y17","v":2},{"$f":"$AB17-'Cqinward SVM 1'!Z17","v":2},{"$f":"$AB17-'Cqinward SVM 1'!AA17","v":2},{"$f":"$AB17-'Cqinward SVM 1'!AB17","v":2},4.0]
["halofantrine",{"$f":"$AB18-'Cqinward SVM 1'!C18","v":1},{"$f":"$AB18-'Cqinward SVM 1'!D18","v":1},{"$f":"$AB18-'Cqinward SVM 1'!E18","v":1},{"$f":"$AB18-'Cqinward SVM 1'!F18","v":1},{"$f":"$AB18-'Cqinward SVM 1'!G18","v":1},{"$f":"$AB18-'Cqinward SVM 1'!H18","v":1},{"$f":"$AB18-'Cqinward SVM 1'!I18","v":1},{"$f":"$AB18-'Cqinward SVM 1'!J18","v":1},{"$f":"$AB18-'Cqinward SVM 1'!K18","v":1},{"$f":"$AB18-'Cqinward SVM 1'!L18","v":1},{"$f":"$AB18-'Cqinward SVM 1'!M18","v":1},{"$f":"$AB18-'Cqinward SVM 1'!N18","v":1},{"$f":"$AB18-'Cqinward SVM 1'!O18","v":1},{"$f":"$AB18-'Cqinward SVM 1'!P18","v":1},{"$f":"$AB18-'Cqinward SVM 1'!Q18","v":1},{"$f":"$AB18-'Cqinward SVM 1'!R18","v":1},{"$f":"$AB18-'Cqinward SVM 1'!S18","v":1},{"$f":"$AB18-'Cqinward SVM 1'!T18","v":1},{"$f":"$AB18-'Cqinward SVM 1'!U18","v":1},{"$f":"$AB18-'Cqinward SVM 1'!V18","v":1},{"$f":"$AB18-'Cqinward SVM 1'!W18","v":1},{"$f":"$AB18-'Cqinward SVM 1'!X18","v":1},{"$f":"$AB18-'Cqinward SVM 1'!Y18","v":1},{"$f":"$AB18-'Cqinward SVM 1'!Z18","v":1},{"$f":"$AB18-'Cqinward SVM 1'!AA18","v":1},{"$f":"$AB18-'Cqinward SVM 1'!AB18","v":1},3.0]
["imipramine",{"$f":"$AB19-'Cqinward SVM 1'!C19","v":2},{"$f":"$AB19-'Cqinward SVM 1'!D19","v":2},{"$f":"$AB19-'Cqinward SVM 1'!E19","v":2},{"$f":"$AB19-'Cqinward SVM 1'!F19","v":2},{"$f":"$AB19-'Cqinward SVM 1'!G19","v":2},{"$f":"$AB19-'Cqinward SVM 1'!H19","v":2},{"$f":"$AB19-'Cqinward SVM 1'!I19","v":2},{"$f":"$AB19-'Cqinward SVM 1'!J19","v":2},{"$f":"$AB19-'Cqinward SVM 1'!K19","v":2},{"$f":"$AB19-'Cqinward SVM 1'!L19","v":2},{"$f":"$AB19-'Cqinward SVM 1'!M19","v":2},{"$f":"$AB19-'Cqinward SVM 1'!N19","v":2},{"$f":"$AB19-'Cqinward SVM 1'!O19","v":2},{"$f":"$AB19-'Cqinward SVM 1'!P19","v":2},{"$f":"$AB19-'Cqinward SVM 1'!Q19","v":2},{"$f":"$AB19-'Cqinward SVM 1'!R19","v":2},{"$f":"$AB19-'Cqinward SVM 1'!S19","v":2},{"$f":"$AB19-'Cqinward SVM 1'!T19","v":2},{"$f":"$AB19-'Cqinward SVM 1'!U19","v":2},{"$f":"$AB19-'Cqinward SVM 1'!V19","v":2},{"$f":"$AB19-'Cqinward SVM 1'!W19","v":2},{"$f":"$AB19-'Cqinward SVM 1'!X19","v":2},{"$f":"$AB19-'Cqinward SVM 1'!Y19","v":2},{"$f":"$AB19-'Cqinward SVM 1'!Z19","v":2},{"$f":"$AB19-'Cqinward SVM 1'!AA19","v":2},{"$f":"$AB19-'Cqinward SVM 1'!AB19","v":2},4.0]
["loratadine",{"$f":"$AB20-'Cqinward SVM 1'!C20","v":3},{"$f":"$AB20-'Cqinward SVM 1'!D20","v":3},{"$f":"$AB20-'Cqinward SVM 1'!E20","v":3},{"$f":"$AB20-'Cqinward SVM 1'!F20","v":3},{"$f":"$AB20-'Cqinward SVM 1'!G20","v":3},{"$f":"$AB20-'Cqinward SVM 1'!H20","v":3},{"$f":"$AB20-'Cqinward SVM 1'!I20","v":3},{"$f":"$AB20-'Cqinward SVM 1'!J20","v":3},{"$f":"$AB20-'Cqinward SVM 1'!K20","v":3},{"$f":"$AB20-'Cqinward SVM 1'!L20","v":3},{"$f":"$AB20-'Cqinward SVM 1'!M20","v":3},{"$f":"$AB20-'Cqinward SVM 1'!N20","v":3},{"$f":"$AB20-'Cqinward SVM 1'!O20","v":3},{"$f":"$AB20-'Cqinward SVM 1'!P20","v":3},{"$f":"$AB20-'Cqinward SVM 1'!Q20","v":3},{"$f":"$AB20-'Cqinward SVM 1'!R20","v":3},{"$f":"$AB20-'Cqinward SVM 1'!S20","v":3},{"$f":"$AB20-'Cqinward SVM 1'!T20","v":3},{"$f":"$AB20-'Cqinward SVM 1'!U20","v":3},{"$f":"$AB20-'Cqinward SVM 1'!V20","v":3},{"$f":"$AB20-'Cqinward SVM 1'!W20","v":3},{"$f":"$AB20-'Cqinward SVM 1'!X20","v":3},{"$f":"$AB20-'Cqinward SVM 1'!Y20","v":3},{"$f":"$AB20-'Cqinward SVM 1'!Z20","v":3},{"$f":"$AB20-'Cqinward SVM 1'!AA20","v":3},{"$f":"$AB20-'Cqinward SVM 1'!AB20","v":3},5.0]
["methadone",{"$f":"$AB21-'Cqinward SVM 1'!C21","v":0},{"$f":"$AB21-'Cqinward SVM 1'!D21","v":0},{"$f":"$AB21-'Cqinward SVM 1'!E21","v":0},{"$f":"$AB21-'Cqinward SVM 1'!F21","v":0},{"$f":"$AB21-'Cqinward SVM 1'!G21","v":0},{"$f":"$AB21-'Cqinward SVM 1'!H21","v":0},{"$f":"$AB21-'Cqinward SVM 1'!I21","v":0},{"$f":"$AB21-'Cqinward SVM 1'!J21","v":0},{"$f":"$AB21-'Cqinward SVM 1'!K21","v":0},{"$f":"$AB21-'Cqinward SVM 1'!L21","v":0},{"$f":"$AB21-'Cqinward SVM 1'!M21","v":0},{"$f":"$AB21-'Cqinward SVM 1'!N21","v":0},{"$f":"$AB21-'Cqinward SVM 1'!O21","v":0},{"$f":"$AB21-'Cqinward SVM 1'!P21","v":0},{"$f":"$AB21-'Cqinward SVM 1'!Q21","v":0},{"$f":"$AB21-'Cqinward SVM 1'!R21","v":0},{"$f":"$AB21-'Cqinward SVM 1'!S21","v":0},{"$f":"$AB21-'Cqinward SVM 1'!T21","v":0},{"$f":"$AB21-'Cqinward SVM 1'!U21","v":0},{"$f":"$AB21-'Cqinward SVM 1'!V21","v":0},{"$f":"$AB21-'Cqinward SVM 1'!W21","v":0},{"$f":"$AB21-'Cqinward SVM 1'!X21","v":0},{"$f":"$AB21-'Cqinward SVM 1'!Y21","v":0},{"$f":"$AB21-'Cqinward SVM 1'!Z21","v":0},{"$f":"$AB21-'Cqinward SVM 1'!AA21","v":0},{"$f":"$AB21-'Cqinward SVM 1'!AB21","v":0},2.0]
["mexiletine",{"$f":"$AB22-'Cqinward SVM 1'!C22","v":2},{"$f":"$AB22-'Cqinward SVM 1'!D22","v":2},{"$f":"$AB22-'Cqinward SVM 1'!E22","v":2},{"$f":"$AB22-'Cqinward SVM 1'!F22","v":2},{"$f":"$AB22-'Cqinward SVM 1'!G22","v":2},{"$f":"$AB22-'Cqinward SVM 1'!H22","v":2},{"$f":"$AB22-'Cqinward SVM 1'!I22","v":2},{"$f":"$AB22-'Cqinward SVM 1'!J22","v":2},{"$f":"$AB22-'Cqinward SVM 1'!K22","v":2},{"$f":"$AB22-'Cqinward SVM 1'!L22","v":2},{"$f":"$AB22-'Cqinward SVM 1'!M22","v":2},{"$f":"$AB22-'Cqinward SVM 1'!N22","v":2},{"$f":"$AB22-'Cqinward SVM 1'!O22","v":2},{"$f":"$AB22-'Cqinward SVM 1'!P22","v":2},{"$f":"$AB22-'Cqinward SVM 1'!Q22","v":2},{"$f":"$AB22-'Cqinward SVM 1'!R22","v":2},{"$f":"$AB22-'Cqinward SVM 1'!S22","v":2},{"$f":"$AB22-'Cqinward SVM 1'!T22","v":2},{"$f":"$AB22-'Cqinward SVM 1'!U22","v":2},{"$f":"$AB22-'Cqinward SVM 1'!V22","v":2},{"$f":"$AB22-'Cqinward SVM 1'!W22","v":2},{"$f":"$AB22-'Cqinward SVM 1'!X22","v":2},{"$f":"$AB22-'Cqinward SVM 1'!Y22","v":2},{"$f":"$AB22-'Cqinward SVM 1'!Z22","v":2},{"$f":"$AB22-'Cqinward SVM 1'!AA22","v":2},{"$f":"$AB22-'Cqinward SVM 1'!AB22","v":-1},4.0]
["mibefradil",{"$f":"$AB23-'Cqinward SVM 1'!C23","v":2},{"$f":"$AB23-'Cqinward SVM 1'!D23","v":2},{"$f":"$AB23-'Cqinward SVM 1'!E23","v":2},{"$f":"$AB23-'Cqinward SVM 1'!F23","v":2},{"$f":"$AB23-'Cqinward SVM 1'!G23","v":2},{"$f":"$AB23-'Cqinward SVM 1'!H23","v":2},{"$f":"$AB23-'Cqinward SVM 1'!I23","v":2},{"$f":"$AB23-'Cqinward SVM 1'!J23","v":2},{"$f":"$AB23-'Cqinward SVM 1'!K23","v":2},{"$f":"$AB23-'Cqinward SVM 1'!L23","v":2},{"$f":"$AB23-'Cqinward SVM 1'!M23","v":2},{"$f":"$AB23-'Cqinward SVM 1'!N23","v":2},{"$f":"$AB23-'Cqinward SVM 1'!O23","v":2},{"$f":"$AB23-'Cqinward SVM 1'!P23","v":2},{"$f":"$AB23-'Cqinward SVM 1'!Q23","v":2},{"$f":"$AB23-'Cqinward SVM 1'!R23","v":2},{"$f":"$AB23-'Cqinward SVM 1'!S23","v":2},{"$f":"$AB23-'Cqinward SVM 1'!T23","v":2},{"$f":"$AB23-'Cqinward SVM 1'!U23","v":2},{"$f":"$AB23-'Cqinward SVM 1'!V23","v":2},{"$f":"$AB23-'Cqinward SVM 1'!W23","v":2},{"$f":"$AB23-'Cqinward SVM 1'!X23","v":2},{"$f":"$AB23-'Cqinward SVM 1'!Y23","v":2},{"$f":"$AB23-'Cqinward SVM 1'!Z23","v":2},{"$f":"$AB23-'Cqinward SVM 1'!AA23","v":2},{"$f":"$AB23-'Cqinward SVM 1'!AB23","v":-1},4.0]
["nifedipine",{"$f":"$AB24-'Cqinward SVM 1'!C24","v":2},{"$f":"$AB24-'Cqinward SVM 1'!D24","v":2},{"$f":"$AB24-'Cqinward SVM 1'!E24","v":2},{"$f":"$AB24-'Cqinward SVM 1'!F24","v":2},{"$f":"$AB24-'Cqinward SVM 1'!G24","v":2},{"$f":"$AB24-'Cqinward SVM 1'!H24","v":2},{"$f":"$AB24-'Cqinward SVM 1'!I24","v":2},{"$f":"$AB24-'Cqinward SVM 1'!J24","v":2},{"$f":"$AB24-'Cqinward SVM 1'!K24","v":2},{"$f":"$AB24-'Cqinward SVM 1'!L24","v":2},{"$f":"$AB24-'Cqinward SVM 1'!M24","v":2},{"$f":"$AB24-'Cqinward SVM 1'!N24","v":2},{"$f":"$AB24-'Cqinward SVM 1'!O24","v":2},{"$f":"$AB24-'Cqinward SVM 1'!P24","v":2},{"$f":"$AB24-'Cqinward SVM 1'!Q24","v":2},{"$f":"$AB24-'Cqinward SVM 1'!R24","v":2},{"$f":"$AB24-'Cqinward SVM 1'!S24","v":2},{"$f":"$AB24-'Cqinward SVM 1'!T24","v":2},{"$f":"$AB24-'Cqinward SVM 1'!U24","v":2},{"$f":"$AB24-'Cqinward SVM 1'!V24","v":2},{"$f":"$AB24-'Cqinward SVM 1'!W24","v":2},{"$f":"$AB24-'Cqinward SVM 1'!X24","v":2},{"$f":"$AB24-'Cqinward SVM 1'!Y24","v":2},{"$f":"$AB24-'Cqinward SVM 1'!Z24","v":2},{"$f":"$AB24-'Cqinward SVM 1'!AA24","v":2},{"$f":"$AB24-'Cqinward SVM 1'!AB24","v":-1},4.0]
["nitrendipine",{"$f":"$AB25-'Cqinward SVM 1'!C25","v":3},{"$f":"$AB25-'Cqinward SVM 1'!D25","v":3},{"$f":"$AB25-'Cqinward SVM 1'!E25","v":3},{"$f":"$AB25-'Cqinward SVM 1'!F25","v":3},{"$f":"$AB25-'Cqinward SVM 1'!G25","v":3},{"$f":"$AB25-'Cqinward SVM 1'!H25","v":3},{"$f":"$AB25-'Cqinward SVM 1'!I25","v":3},{"$f":"$AB25-'Cqinward SVM 1'!J25","v":3},{"$f":"$AB25-'Cqinward SVM 1'!K25","v":3},{"$f":"$AB25-'Cqinward SVM 1'!L25","v":3},{"$f":"$AB25-'Cqinward SVM 1'!M25","v":3},{"$f":"$AB25-'Cqinward SVM 1'!N25","v":3},{"$f":"$AB25-'Cqinward SVM 1'!O25","v":3},{"$f":"$AB25-'Cqinward SVM 1'!P25","v":3},{"$f":"$AB25-'Cqinward SVM 1'!Q25","v":3},{"$f":"$AB25-'Cqinward SVM 1'!R25","v":3},{"$f":"$AB25-'Cqinward SVM 1'!S25","v":3},{"$f":"$AB25-'Cqinward SVM 1'!T25","v":3},{"$f":"$AB25-'Cqinward SVM 1'!U25","v":3},{"$f":"$AB25-'Cqinward SVM 1'!V25","v":3},{"$f":"$AB25-'Cqinward SVM 1'!W25","v":3},{"$f":"$AB25-'Cqinward SVM 1'!X25","v":3},{"$f":"$AB25-'Cqinward SVM 1'!Y25","v":3},{"$f":"$AB25-'Cqinward SVM 1'!Z25","v":3},{"$f":"$AB25-'Cqinward SVM 1'!AA25","v":3},{"$f":"$AB25-'Cqinward SVM 1'!AB25","v":1},5.0]
["ondansetron",{"$f":"$AB26-'Cqinward SVM 1'!C26","v":0},{"$f":"$AB26-'Cqinward SVM 1'!D26","v":0},{"$f":"$AB26-'Cqinward SVM 1'!E26","v":0},{"$f":"$AB26-'Cqinward SVM 1'!F26","v":0},{"$f":"$AB26-'Cqinward SVM 1'!G26","v":0},{"$f":"$AB26-'Cqinward SVM 1'!H26","v":0},{"$f":"$AB26-'Cqinward SVM 1'!I26","v":0},{"$f":"$AB26-'Cqinward SVM 1'!J26","v":0},{"$f":"$AB26-'Cqinward SVM 1'!K26","v":0},{"$f":"$AB26-'Cqinward SVM 1'!L26","v":0},{"$f":"$AB26-'Cqinward SVM 1'!M26","v":0},{"$f":"$AB26-'Cqinward SVM 1'!N26","v":0},{"$f":"$AB26-'Cqinward SVM 1'!O26","v":0},{"$f":"$AB26-'Cqinward SVM 1'!P26","v":0},{"$f":"$AB26-'Cqinward SVM 1'!Q26","v":0},{"$f":"$AB26-'Cqinward SVM 1'!R26","v":0},{"$f":"$AB26-'Cqinward SVM 1'!S26","v":0},{"$f":"$AB26-'Cqinward SVM 1'!T26","v":0},{"$f":"$AB26-'Cqinward SVM 1'!U26","v":0},{"$f":"$AB26-'Cqinward SVM 1'!V26","v":0},{"$f":"$AB26-'Cqinward SVM 1'!W26","v":0},{"$f":"$AB26-'Cqinward SVM 1'!X26","v":0},{"$f":"$AB26-'Cqinward SVM 1'!Y26","v":0},{"$f":"$AB26-'Cqinward SVM 1'!Z26","v":0},{"$f":"$AB26-'Cqinward SVM 1'!AA26","v":0},{"$f":"$AB26-'Cqinward SVM 1'!AB26","v":0},2.0]
["pentamidine",{"$f":"$AB27-'Cqinward SVM 1'!C27","v":1},{"$f":"$AB27-'Cqinward SVM 1'!D27","v":1},{"$f":"$AB27-'Cqinward SVM 1'!E27","v":1},{"$f":"$AB27-'Cqinward SVM 1'!F27","v":1},{"$f":"$AB27-'Cqinward SVM 1'!G27","v":1},{"$f":"$AB27-'Cqinward SVM 1'!H27","v":1},{"$f":"$AB27-'Cqinward SVM 1'!I27","v":1},{"$f":"$AB27-'Cqinward SVM 1'!J27","v":1},{"$f":"$AB27-'Cqinward SVM 1'!K27","v":1},{"$f":"$AB27-'Cqinward SVM 1'!L27","v":1},{"$f":"$AB27-'Cqinward SVM 1'!M27","v":1},{"$f":"$AB27-'Cqinward SVM 1'!N27","v":1},{"$f":"$AB27-'Cqinward SVM 1'!O27","v":1},{"$f":"$AB27-'Cqinward SVM 1'!P27","v":1},{"$f":"$AB27-'Cqinward SVM 1'!Q27","v":1},{"$f":"$AB27-'Cqinward SVM 1'!R27","v":1},{"$f":"$AB27-'Cqinward SVM 1'!S27","v":1},{"$f":"$AB27-'Cqinward SVM 1'!T27","v":1},{"$f":"$AB27-'Cqinward SVM 1'!U27","v":1},{"$f":"$AB27-'Cqinward SVM 1'!V27","v":1},{"$f":"$AB27-'Cqinward SVM 1'!W27","v":1},{"$f":"$AB27-'Cqinward SVM 1'!X27","v":1},{"$f":"$AB27-'Cqinward SVM 1'!Y27","v":1},{"$f":"$AB27-'Cqinward SVM 1'!Z27","v":1},{"$f":"$AB27-'Cqinward SVM 1'!AA27","v":1},{"$f":"$AB27-'Cqinward SVM 1'!AB27","v":1},3.0]
["phenytoin",{"$f":"$AB28-'Cqinward SVM 1'!C28","v":3},{"$f":"$AB28-'Cqinward SVM 1'!D28","v":3},{"$f":"$AB28-'Cqinward SVM 1'!E28","v":3},{"$f":"$AB28-'Cqinward SVM 1'!F28","v":3},{"$f":"$AB28-'Cqinward SVM 1'!G28","v":3},{"$f":"$AB28-'Cqinward SVM 1'!H28","v":3},{"$f":"$AB28-'Cqinward SVM 1'!I28","v":3},{"$f":"$AB28-'Cqinward SVM 1'!J28","v":3},{"$f":"$AB28-'Cqinward SVM 1'!K28","v":3},{"$f":"$AB28-'Cqinward SVM 1'!L28","v":3},{"$f":"$AB28-'Cqinward SVM 1'!M28","v":3},{"$f":"$AB28-'Cqinward SVM 1'!N28","v":3},{"$f":"$AB28-'Cqinward SVM 1'!O28","v":3},{"$f":"$AB28-'Cqinward SVM 1'!P28","v":3},{"$f":"$AB28-'Cqinward SVM 1'!Q28","v":3},{"$f":"$AB28-'Cqinward SVM 1'!R28","v":3},{"$f":"$AB28-'Cqinward SVM 1'!S28","v":3},{"$f":"$AB28-'Cqinward SVM 1'!T28","v":3},{"$f":"$AB28-'Cqinward SVM 1'!U28","v":3},{"$f":"$AB28-'Cqinward SVM 1'!V28","v":3},{"$f":"$AB28-'Cqinward SVM 1'!W28","v":3},{"$f":"$AB28-'Cqinward SVM 1'!X28","v":3},{"$f":"$AB28-'Cqinward SVM 1'!Y28","v":3},{"$f":"$AB28-'Cqinward SVM 1'!Z28","v":3},{"$f":"$AB28-'Cqinward SVM 1'!AA28","v":3},{"$f":"$AB28-'Cqinward SVM 1'!AB28","v":3},5.0]
["pimozide",{"$f":"$AB29-'Cqinward SVM 1'!C29","v":1},{"$f":"$AB29-'Cqinward SVM 1'!D29","v":1},{"$f":"$AB29-'Cqinward SVM 1'!E29","v":1},{"$f":"$AB29-'Cqinward SVM 1'!F29","v":1},{"$f":"$AB29-'Cqinward SVM 1'!G29","v":1},{"$f":"$AB29-'Cqinward SVM 1'!H29","v":1},{"$f":"$AB29-'Cqinward SVM 1'!I29","v":1},{"$f":"$AB29-'Cqinward SVM 1'!J29","v":1},{"$f":"$AB29-'Cqinward SVM 1'!K29","v":1},{"$f":"$AB29-'Cqinward SVM 1'!L29","v":1},{"$f":"$AB29-'Cqinward SVM 1'!M29","v":1},{"$f":"$AB29-'Cqinward SVM 1'!N29","v":1},{"$f":"$AB29-'Cqinward SVM 1'!O29","v":1},{"$f":"$AB29-'Cqinward SVM 1'!P29","v":1},{"$f":"$AB29-'Cqinward SVM 1'!Q29","v":1},{"$f":"$AB29-'Cqinward SVM 1'!R29","v":1},{"$f":"$AB29-'Cqinward SVM 1'!S29","v":1},{"$f":"$AB29-'Cqinward SVM 1'!T29","v":1},{"$f":"$AB29-'Cqinward SVM 1'!U29","v":1},{"$f":"$AB29-'Cqinward SVM 1'!V29","v":1},{"$f":"$AB29-'Cqinward SVM 1'!W29","v":1},{"$f":"$AB29-'Cqinward SVM 1'!X29","v":1},{"$f":"$AB29-'Cqinward SVM 1'!Y29","v":1},{"$f":"$AB29-'Cqinward SVM 1'!Z29","v":1},{"$f":"$AB29-'Cqinward SVM 1'!AA29","v":1},{"$f":"$AB29-'Cqinward SVM 1'!AB29","v":1},3.0]
["prenylamine",{"$f":"$AB30-'Cqinward SVM 1'!C30","v":0},{"$f":"$AB30-'Cqinward SVM 1'!D30","v":0},{"$f":"$AB30-'Cqinward SVM 1'!E30","v":0},{"$f":"$AB30-'Cqinward SVM 1'!F30","v":0},{"$f":"$AB30-'Cqinward SVM 1'!G30","v":0},{"$f":"$AB30-'Cqinward SVM 1'!H30","v":0},{"$f":"$AB30-'Cqinward SVM 1'!I30","v":0},{"$f":"$AB30-'Cqinward SVM 1'!J30","v":0},{"$f":"$AB30-'Cqinward SVM 1'!K30","v":0},{"$f":"$AB30-'Cqinward SVM 1'!L30","v":0},{"$f":"$AB30-'Cqinward SVM 1'!M30","v":0},{"$f":"$AB30-'Cqinward SVM 1'!N30","v":0},{"$f":"$AB30-'Cqinward SVM 1'!O30","v":0},{"$f":"$AB30-'Cqinward SVM 1'!P30","v":0},{"$f":"$AB30-'Cqinward SVM 1'!Q30","v":0},{"$f":"$AB30-'Cqinward SVM 1'!R30","v":0},{"$f":"$AB30-'Cqinward SVM 1'!S30","v":0},{"$f":"$AB30-'Cqinward SVM 1'!T30","v":0},{"$f":"$AB30-'Cqinward SVM 1'!U30","v":0},{"$f":"$AB30-'Cqinward SVM 1'!V30","v":0},{"$f":"$AB30-'Cqinward SVM 1'!W30","v":0},{"$f":"$AB30-'Cqinward SVM 1'!X30","v":0},{"$f":"$AB30-'Cqinward SVM 1'!Y30","v":0},{"$f":"$AB30-'Cqinward SVM 1'!Z30","v":0},{"$f":"$AB30-'Cqinward SVM 1'!AA30","v":0},{"$f":"$AB30-'Cqinward SVM 1'!AB30","v":0},2.0]
["propafenone",{"$f":"$AB31-'Cqinward SVM 1'!C31","v":2},{"$f":"$AB31-'Cqinward SVM 1'!D31","v":2},{"$f":"$AB31-'Cqinward SVM 1'!E31","v":2},{"$f":"$AB31-'Cqinward SVM 1'!F31","v":2},{"$f":"$AB31-'Cqinward SVM 1'!G31","v":2},{"$f":"$AB31-'Cqinward SVM 1'!H31","v":2},{"$f":"$AB31-'Cqinward SVM 1'!I31","v":2},{"$f":"$AB31-'Cqinward SVM 1'!J31","v":2},{"$f":"$AB31-'Cqinward SVM 1'!K31","v":2},{"$f":"$AB31-'Cqinward SVM 1'!L31","v":2},{"$f":"$AB31-'Cqinward SVM 1'!M31","v":2},{"$f":"$AB31-'Cqinward SVM 1'!N31","v":2},{"$f":"$AB31-'Cqinward SVM 1'!O31","v":2},{"$f":"$AB31-'Cqinward SVM 1'!P31","v":2},{"$f":"$AB31-'Cqinward SVM 1'!Q31","v":2},{"$f":"$AB31-'Cqinward SVM 1'!R31","v":2},{"$f":"$AB31-'Cqinward SVM 1'!S31","v":2},{"$f":"$AB31-'Cqinward SVM 1'!T31","v":2},{"$f":"$AB31-'Cqinward SVM 1'!U31","v":2},{"$f":"$AB31-'Cqinward SVM 1'!V31","v":2},{"$f":"$AB31-'Cqinward SVM 1'!W31","v":2},{"$f":"$AB31-'Cqinward SVM 1'!X31","v":2},{"$f":"$AB31-'Cqinward SVM 1'!Y31","v":2},{"$f":"$AB31-'Cqinward SVM 1'!Z31","v":2},{"$f":"$AB31-'Cqinward SVM 1'!AA31","v":2},{"$f":"$AB31-'Cqinward SVM 1'!AB31","v":-1},4.0]
["propranolol",{"$f":"$AB32-'Cqinward SVM 1'!C32","v":3},{"$f":"$AB32-'Cqinward SVM 1'!D32","v":3},{"$f":"$AB32-'Cqinward SVM 1'!E32","v":3},{"$f":"$AB32-'Cqinward SVM 1'!F32","v":3},{"$f":"$AB32-'Cqinward SVM 1'!G32","v":3},{"$f":"$AB32-'Cqinward SVM 1'!H32","v":3},{"$f":"$AB32-'Cqinward SVM 1'!I32","v":3},{"$f":"$AB32-'Cqinward SVM 1'!J32","v":3},{"$f":"$AB32-'Cqinward SVM 1'!K32","v":3},{"$f":"$AB32-'Cqinward SVM 1'!L32","v":3},{"$f":"$AB32-'Cqinward SVM 1'!M32","v":3},{"$f":"$AB32-'Cqinward SVM 1'!N32","v":3},{"$f":"$AB32-'Cqinward SVM 1'!O32","v":3},{"$f":"$AB32-'Cqinward SVM 1'!P32","v":3},{"$f":"$AB32-'Cqinward SVM 1'!Q32","v":3},{"$f":"$AB32-'Cqinward SVM 1'!R32","v":3},{"$f":"$AB32-'Cqinward SVM 1'!S32","v":3},{"$f":"$AB32-'Cqinward SVM 1'!T32","v":3},{"$f":"$AB32-'Cqinward SVM 1'!U32","v":3},{"$f":"$AB32-'Cqinward SVM 1'!V32","v":3},{"$f":"$AB32-'Cqinward SVM 1'!W32","v":3},{"$f":"$AB32-'Cqinward SVM 1'!X32","v":3},{"$f":"$AB32-'Cqinward SVM 1'!Y32","v":3},{"$f":"$AB32-'Cqinward SVM 1'!Z32","v":3},{"$f":"$AB32-'Cqinward SVM 1'!AA32","v":3},{"$f":"$AB32-'Cqinward SVM 1'!AB32","v":3},5.0]
["quetiapine",{"$f":"$AB33-'Cqinward SVM 1'!C33","v":3},{"$f":"$AB33-'Cqinward SVM 1'!D33","v":3},{"$f":"$AB33-'Cqinward SVM 1'!E33","v":3},{"$f":"$AB33-'Cqinward SVM 1'!F33","v":3},{"$f":"$AB33-'Cqinward SVM 1'!G33","v":3},{"$f":"$AB33-'Cqinward SVM 1'!H33","v":3},{"$f":"$AB33-'Cqinward SVM 1'!I33","v":3},{"$f":"$AB33-'Cqinward SVM 1'!J33","v":3},{"$f":"$AB33-'Cqinward SVM 1'!K33","v":3},{"$f":"$AB33-'Cqinward SVM 1'!L33","v":3},{"$f":"$AB33-'Cqinward SVM 1'!M33","v":3},{"$f":"$AB33-'Cqinward SVM 1'!N33","v":3},{"$f":"$AB33-'Cqinward SVM 1'!O33","v":3},{"$f":"$AB33-'Cqinward SVM 1'!P33","v":3},{"$f":"$AB33-'Cqinward SVM 1'!Q33","v":3},{"$f":"$AB33-'Cqinward SVM 1'!R33","v":3},{"$f":"$AB33-'Cqinward SVM 1'!S33","v":3},{"$f":"$AB33-'Cqinward SVM 1'!T33","v":3},{"$f":"$AB33-'Cqinward SVM 1'!U33","v":3},{"$f":"$AB33-'Cqinward SVM 1'!V33","v":3},{"$f":"$AB33-'Cqinward SVM 1'!W33","v":3},{"$f":"$AB33-'Cqinward SVM 1'!X33","v":3},{"$f":"$AB33-'Cqinward SVM 1'!Y33","v":3},{"$f":"$AB33-'Cqinward SVM 1'!Z33","v":3},{"$f":"$AB33-'Cqinward SVM 1'!AA33","v":3},{"$f":"$AB33-'Cqinward SVM 1'!AB33","v":3},5.0]
["quinidine",{"$f":"$AB34-'Cqinward SVM 1'!C34","v":0},{"$f":"$AB34-'Cqinward SVM 1'!D34","v":0},{"$f":"$AB34-'Cqinward SVM 1'!E34","v":0},{"$f":"$AB34-'Cqinward SVM 1'!F34","v":0},{"$f":"$AB34-'Cqinward SVM 1'!G34","v":0},{"$f":"$AB34-'Cqinward SVM 1'!H34","v":0},{"$f":"$AB34-'Cqinward SVM 1'!I34","v":0},{"$f":"$AB34-'Cqinward SVM 1'!J34","v":0},{"$f":"$AB34-'Cqinward SVM 1'!K34","v":0},{"$f":"$AB34-'Cqinward SVM 1'!L34","v":0},{"$f":"$AB34-'Cqinward SVM 1'!M34","v":0},{"$f":"$AB34-'Cqinward SVM 1'!N34","v":0},{"$f":"$AB34-'Cqinward SVM 1'!O34","v":0},{"$f":"$AB34-'Cqinward SVM 1'!P34","v":0},{"$f":"$AB34-'Cqinward SVM 1'!Q34","v":0},{"$f":"$AB34-'Cqinward SVM 1'!R34","v":0},{"$f":"$AB34-'Cqinward SVM 1'!S34","v":0},{"$f":"$AB34-'Cqinward SVM 1'!T34","v":0},{"$f":"$AB34-'Cqinward SVM 1'!U34","v":0},{"$f":"$AB34-'Cqinward SVM 1'!V34","v":0},{"$f":"$AB34-'Cqinward SVM 1'!W34","v":0},{"$f":"$AB34-'Cqinward SVM 1'!X34","v":0},{"$f":"$AB34-'Cqinward SVM 1'!Y34","v":0},{"$f":"$AB34-'Cqinward SVM 1'!Z34","v":0},{"$f":"$AB34-'Cqinward SVM 1'!AA34","v":0},{"$f":"$AB34-'Cqinward SVM 1'!AB34","v":0},2.0]
["ranolazine",{"$f":"$AB35-'Cqinward SVM 1'!C35","v":1},{"$f":"$AB35-'Cqinward SVM 1'!D35","v":1},{"$f":"$AB35-'Cqinward SVM 1'!E35","v":1},{"$f":"$AB35-'Cqinward SVM 1'!F35","v":1},{"$f":"$AB35-'Cqinward SVM 1'!G35","v":1},{"$f":"$AB35-'Cqinward SVM 1'!H35","v":1},{"$f":"$AB35-'Cqinward SVM 1'!I35","v":1},{"$f":"$AB35-'Cqinward SVM 1'!J35","v":1},{"$f":"$AB35-'Cqinward SVM 1'!K35","v":1},{"$f":"$AB35-'Cqinward SVM 1'!L35","v":1},{"$f":"$AB35-'Cqinward SVM 1'!M35","v":1},{"$f":"$AB35-'Cqinward SVM 1'!N35","v":1},{"$f":"$AB35-'Cqinward SVM 1'!O35","v":1},{"$f":"$AB35-'Cqinward SVM 1'!P35","v":1},{"$f":"$AB35-'Cqinward SVM 1'!Q35","v":1},{"$f":"$AB35-'Cqinward SVM 1'!R35","v":1},{"$f":"$AB35-'Cqinward SVM 1'!S35","v":1},{"$f":"$AB35-'Cqinward SVM 1'!T35","v":1},{"$f":"$AB35-'Cqinward SVM 1'!U35","v":1},{"$f":"$AB35-'Cqinward SVM 1'!V35","v":1},{"$f":"$AB35-'Cqinward SVM 1'!W35","v":1},{"$f":"$AB35-'Cqinward SVM 1'!X35","v":1},{"$f":"$AB35-'Cqinward SVM 1'!Y35","v":1},{"$f":"$AB35-'Cqinward SVM 1'!Z35","v":1},{"$f":"$AB35-'Cqinward SVM 1'!AA35","v":1},{"$f":"$AB35-'Cqinward SVM 1'!AB35","v":-2},3.0]
["risperidone",{"$f":"$AB36-'Cqinward SVM 1'!C36","v":3},{"$f":"$AB36-'Cqinward SVM 1'!D36","v":3},{"$f":"$AB36-'Cqinward SVM 1'!E36","v":3},{"$f":"$AB36-'Cqinward SVM 1'!F36","v":3},{"$f":"$AB36-'Cqinward SVM 1'!G36","v":3},{"$f":"$AB36-'Cqinward SVM 1'!H36","v":3},{"$f":"$AB36-'Cqinward SVM 1'!I36","v":3},{"$f":"$AB36-'Cqinward SVM 1'!J36","v":3},{"$f":"$AB36-'Cqinward SVM 1'!K36","v":3},{"$f":"$AB36-'Cqinward SVM 1'!L36","v":3},{"$f":"$AB36-'Cqinward SVM 1'!M36","v":3},{"$f":"$AB36-'Cqinward SVM 1'!N36","v":3},{"$f":"$AB36-'Cqinward SVM 1'!O36","v":3},{"$f":"$AB36-'Cqinward SVM 1'!P36","v":3},{"$f":"$AB36-'Cqinward SVM 1'!Q36","v":3},{"$f":"$AB36-'Cqinward SVM 1'!R36","v":3},{"$f":"$AB36-'Cqinward SVM 1'!S36","v":3},{"$f":"$AB36-'Cqinward SVM 1'!T36","v":3},{"$f":"$AB36-'Cqinward SVM 1'!U36","v":3},{"$f":"$AB36-'Cqinward SVM 1'!V36","v":3},{"$f":"$AB36-'Cqinward SVM 1'!W36","v":3},{"$f":"$AB36-'Cqinward SVM 1'!X36","v":3},{"$f":"$AB36-'Cqinward SVM 1'!Y36","v":3},{"$f":"$AB36-'Cqinward SVM 1'!Z36","v":3},{"$f":"$AB36-'Cqinward SVM 1'!AA36","v":3},{"$f":"$AB36-'Cqinward SVM 1'!AB36","v":3},5.0]
["sertindole",{"$f":"$AB37-'Cqinward SVM 1'!C37","v":0},{"$f":"$AB37-'Cqinward SVM 1'!D37","v":0},{"$f":"$AB37-'Cqinward SVM 1'!E37","v":0},{"$f":"$AB37-'Cqinward SVM 1'!F37","v":0},{"$f":"$AB37-'Cqinward SVM 1'!G37","v":0},{"$f":"$AB37-'Cqinward SVM 1'!H37","v":0},{"$f":"$AB37-'Cqinward SVM 1'!I37","v":0},{"$f":"$AB37-'Cqinward SVM 1'!J37","v":0},{"$f":"$AB37-'Cqinward SVM 1'!K37","v":0},{"$f":"$AB37-'Cqinward SVM 1'!L37","v":0},{"$f":"$AB37-'Cqinward SVM 1'!M37","v":0},{"$f":"$AB37-'Cqinward SVM 1'!N37","v":0},{"$f":"$AB37-'Cqinward SVM 1'!O37","v":0},{"$f":"$AB37-'Cqinward SVM 1'!P37","v":0},{"$f":"$AB37-'Cqinward SVM 1'!Q37","v":0},{"$f":"$AB37-'Cqinward SVM 1'!R37","v":0},{"$f":"$AB37-'Cqinward SVM 1'!S37","v":0},{"$f":"$AB37-'Cqinward SVM 1'!T37","v":0},{"$f":"$AB37-'Cqinward SVM 1'!U37","v":0},{"$f":"$AB37-'Cqinward SVM 1'!V37","v":0},{"$f":"$AB37-'Cqinward SVM 1'!W37","v":0},{"$f":"$AB37-'Cqinward SVM 1'!X37","v":0},{"$f":"$AB37-'Cqinward SVM 1'!Y37","v":0},{"$f":"$AB37-'Cqinward SVM 1'!Z37","v":0},{"$f":"$AB37-'Cqinward SVM 1'!AA37","v":0},{"$f":"$AB37-'Cqinward SVM 1'!AB37","v":0},2.0]
["tedisamil",{"$f":"$AB38-'Cqinward SVM 1'!C38","v":0},{"$f":"$AB38-'Cqinward SVM 1'!D38","v":0},{"$f":"$AB38-'Cqinward SVM 1'!E38","v":0},{"$f":"$AB38-'Cqinward SVM 1'!F38","v":0},{"$f":"$AB38-'Cqinward SVM 1'!G38","v":0},{"$f":"$AB38-'Cqinward SVM 1'!H38","v":0},{"$f":"$AB38-'Cqinward SVM 1'!I38","v":0},{"$f":"$AB38-'Cqinward SVM 1'!J38","v":0},{"$f":"$AB38-'Cqinward SVM 1'!K38","v":0},{"$f":"$AB38-'Cqinward SVM 1'!L38","v":0},{"$f":"$AB38-'Cqinward SVM 1'!M38","v":0},{"$f":"$AB38-'Cqinward SVM 1'!N38","v":0},{"$f":"$AB38-'Cqinward SVM 1'!O38","v":0},{"$f":"$AB38-'Cqinward SVM 1'!P38","v":0},{"$f":"$AB38-'Cqinward SVM 1'!Q38","v":0},{"$f":"$AB38-'Cqinward SVM 1'!R38","v":0},{"$f":"$AB38-'Cqinward SVM 1'!S38","v":0},{"$f":"$AB38-'Cqinward SVM 1'!T38","v":0},{"$f":"$AB38-'Cqinward SVM 1'!U38","v":0},{"$f":"$AB38-'Cqinward SVM 1'!V38","v":0},{"$f":"$AB38-'Cqinward SVM 1'!W38","v":0},{"$f":"$AB38-'Cqinward SVM 1'!X38","v":0},{"$f":"$AB38-'Cqinward SVM 1'!Y38","v":0},{"$f":"$AB38-'Cqinward SVM 1'!Z38","v":0},{"$f":"$AB38-'Cqinward SVM 1'!AA38","v":0},{"$f":"$AB38-'Cqinward SVM 1'!AB38","v":0},2.0]
["terfenadine",{"$f":"$AB39-'Cqinward SVM 1'!C39","v":0},{"$f":"$AB39-'Cqinward SVM 1'!D39","v":0},{"$f":"$AB39-'Cqinward SVM 1'!E39","v":0},{"$f":"$AB39-'Cqinward SVM 1'!F39","v":0},{"$f":"$AB39-'Cqinward SVM 1'!G39","v":0},{"$f":"$AB39-'Cqinward SVM 1'!H39","v":0},{"$f":"$AB39-'Cqinward SVM 1'!I39","v":0},{"$f":"$AB39-'Cqinward SVM 1'!J39","v":0},{"$f":"$AB39-'Cqinward SVM 1'!K39","v":0},{"$f":"$AB39-'Cqinward SVM 1'!L39","v":0},{"$f":"$AB39-'Cqinward SVM 1'!M39","v":0},{"$f":"$AB39-'Cqinward SVM 1'!N39","v":0},{"$f":"$AB39-'Cqinward SVM 1'!O39","v":0},{"$f":"$AB39-'Cqinward SVM 1'!P39","v":0},{"$f":"$AB39-'Cqinward SVM 1'!Q39","v":0},{"$f":"$AB39-'Cqinward SVM 1'!R39","v":0},{"$f":"$AB39-'Cqinward SVM 1'!S39","v":0},{"$f":"$AB39-'Cqinward SVM 1'!T39","v":0},{"$f":"$AB39-'Cqinward SVM 1'!U39","v":0},{"$f":"$AB39-'Cqinward SVM 1'!V39","v":0},{"$f":"$AB39-'Cqinward SVM 1'!W39","v":0},{"$f":"$AB39-'Cqinward SVM 1'!X39","v":0},{"$f":"$AB39-'Cqinward SVM 1'!Y39","v":0},{"$f":"$AB39-'Cqinward SVM 1'!Z39","v":0},{"$f":"$AB39-'Cqinward SVM 1'!AA39","v":0},{"$f":"$AB39-'Cqinward SVM 1'!AB39","v":0},2.0]
["terodiline",{"$f":"$AB40-'Cqinward SVM 1'!C40","v":0},{"$f":"$AB40-'Cqinward SVM 1'!D40","v":0},{"$f":"$AB40-'Cqinward SVM 1'!E40","v":0},{"$f":"$AB40-'Cqinward SVM 1'!F40","v":-1},{"$f":"$AB40-'Cqinward SVM 1'!G40","v":0},{"$f":"$AB40-'Cqinward SVM 1'!H40","v":0},{"$f":"$AB40-'Cqinward SVM 1'!I40","v":0},{"$f":"$AB40-'Cqinward SVM 1'!J40","v":0},{"$f":"$AB40-'Cqinward SVM 1'!K40","v":0},{"$f":"$AB40-'Cqinward SVM 1'!L40","v":0},{"$f":"$AB40-'Cqinward SVM 1'!M40","v":0},{"$f":"$AB40-'Cqinward SVM 1'!N40","v":0},{"$f":"$AB40-'Cqinward SVM 1'!O40","v":0},{"$f":"$AB40-'Cqinward SVM 1'!P40","v":0},{"$f":"$AB40-'Cqinward SVM 1'!Q40","v":0},{"$f":"$AB40-'Cqinward SVM 1'!R40","v":0},{"$f":"$AB40-'Cqinward SVM 1'!S40","v":0},{"$f":"$AB40-'Cqinward SVM 1'!T40","v":0},{"$f":"$AB40-'Cqinward SVM 1'!U40","v":0},{"$f":"$AB40-'Cqinward SVM 1'!V40","v":0},{"$f":"$AB40-'Cqinward SVM 1'!W40","v":0},{"$f":"$AB40-'Cqinward SVM 1'!X40","v":0},{"$f":"$AB40-'Cqinward SVM 1'!Y40","v":0},{"$f":"$AB40-'Cqinward SVM 1'!Z40","v":0},{"$f":"$AB40-'Cqinward SVM 1'!AA40","v":0},{"$f":"$AB40-'Cqinward SVM 1'!AB40","v":0},2.0]
["thioridazine",{"$f":"$AB41-'Cqinward SVM 1'!C41","v":1},{"$f":"$AB41-'Cqinward SVM 1'!D41","v":1},{"$f":"$AB41-'Cqinward SVM 1'!E41","v":1},{"$f":"$AB41-'Cqinward SVM 1'!F41","v":1},{"$f":"$AB41-'Cqinward SVM 1'!G41","v":1},{"$f":"$AB41-'Cqinward SVM 1'!H41","v":1},{"$f":"$AB41-'Cqinward SVM 1'!I41","v":1},{"$f":"$AB41-'Cqinward SVM 1'!J41","v":1},{"$f":"$AB41-'Cqinward SVM 1'!K41","v":-1},{"$f":"$AB41-'Cqinward SVM 1'!L41","v":1},{"$f":"$AB41-'Cqinward SVM 1'!M41","v":1},{"$f":"$AB41-'Cqinward SVM 1'!N41","v":1},{"$f":"$AB41-'Cqinward SVM 1'!O41","v":1},{"$f":"$AB41-'Cqinward SVM 1'!P41","v":1},{"$f":"$AB41-'Cqinward SVM 1'!Q41","v":1},{"$f":"$AB41-'Cqinward SVM 1'!R41","v":1},{"$f":"$AB41-'Cqinward SVM 1'!S41","v":1},{"$f":"$AB41-'Cqinward SVM 1'!T41","v":1},{"$f":"$AB41-'Cqinward SVM 1'!U41","v":1},{"$f":"$AB41-'Cqinward SVM 1'!V41","v":1},{"$f":"$AB41-'Cqinward SVM 1'!W41","v":1},{"$f":"$AB41-'Cqinward SVM 1'!X41","v":1},{"$f":"$AB41-'Cqinward SVM 1'!Y41","v":1},{"$f":"$AB41-'Cqinward SVM 1'!Z41","v":1},{"$f":"$AB41-'Cqinward SVM 1'!AA41","v":1},{"$f":"$AB41-'Cqinward SVM 1'!AB41","v":1},3.0]
["verapamil",{"$f":"$AB42-'Cqinward SVM 1'!C42","v":3},{"$f":"$AB42-'Cqinward SVM 1'!D42","v":3},{"$f":"$AB42-'Cqinward SVM 1'!E42","v":3},{"$f":"$AB42-'Cqinward SVM 1'!F42","v":3},{"$f":"$AB42-'Cqinward SVM 1'!G42","v":3},{"$f":"$AB42-'Cqinward SVM 1'!H42","v":3},{"$f":"$AB42-'Cqinward SVM 1'!I42","v":3},{"$f":"$AB42-'Cqinward SVM 1'!J42","v":3},{"$f":"$AB42-'Cqinward SVM 1'!K42","v":3},{"$f":"$AB42-'Cqinward SVM 1'!L42","v":3},{"$f":"$AB42-'Cqinward SVM 1'!M42","v":3},{"$f":"$AB42-'Cqinward SVM 1'!N42","v":3},{"$f":"$AB42-'Cqinward SVM 1'!O42","v":3},{"$f":"$AB42-'Cqinward SVM 1'!P42","v":3},{"$f":"$AB42-'Cqinward SVM 1'!Q42","v":3},{"$f":"$AB42-'Cqinward SVM 1'!R42","v":3},{"$f":"$AB42-'Cqinward SVM 1'!S42","v":3},{"$f":"$AB42-'Cqinward SVM 1'!T42","v":3},{"$f":"$AB42-'Cqinward SVM 1'!U42","v":3},{"$f":"$AB42-'Cqinward SVM 1'!V42","v":3},{"$f":"$AB42-'Cqinward SVM 1'!W42","v":3},{"$f":"$AB42-'Cqinward SVM 1'!X42","v":3},{"$f":"$AB42-'Cqinward SVM 1'!Y42","v":3},{"$f":"$AB42-'Cqinward SVM 1'!Z42","v":3},{"$f":"$AB42-'Cqinward SVM 1'!AA42","v":3},{"$f":"$AB42-'Cqinward SVM 1'!AB42","v":1},5.0]
["Total (abs)",{"$f":"sum(abs(B$2:B$42))","v":53},53,53,54,53,53,53,53,53,53,53,53,53,53,53,51,53,55,53,55,53,53,53,53,55,45]
["Mean (abs)",{"$f":"sum(abs(B$2:B$42))/count(B$2:B$42)","v":1.292682927},1.292682927,1.292682927,1.317073171,1.292682927,1.292682927,1.292682927,1.292682927,1.292682927,1.292682927,1.292682927,1.292682927,1.292682927,1.292682927,1.292682927,1.243902439,1.292682927,1.341463415,1.292682927,1.341463415,1.292682927,1.292682927,1.292682927,1.292682927,1.341463415,1.097560976]
["SD (abs)",{"$f":"STDEV(abs(B$2:B$42))","v":1.188358162},1.188358162,1.188358162,1.171303214,1.188358162,1.188358162,1.188358162,1.188358162,1.188358162,1.188358162,1.188358162,1.188358162,1.188358162,1.188358162,1.188358162,1.157162214,1.188358162,1.174941618,1.188358162,1.174941618,1.188358162,1.145510856,1.188358162,1.145510856,1.174941618,1.044147452]
["Total",{"$f":"sum(B$2:B$42)","v":53},53,53,52,53,53,53,53,51,53,53,53,53,53,53,51,53,51,53,51,53,49,53,49,51,23]

{"sheet":"Cqinward LDA 5 errors","index":20,"n_rows":46,"n_cols":28,"rows_kept":46,"cut":false,"hidden":false,"merged":[]}
["Drug",1.0,2.0,3.0,4.0,5.0,6.0,7.0,8.0,9.0,10.0,11.0,12.0,13.0,14.0,15.0,16.0,17.0,18.0,19.0,20.0,21.0,22.0,23.0,24.0,25.0,"All","Redferns"]
["ajmaline",{"$f":"$AB2-'Cqinward LDA 5'!C2","v":-2},{"$f":"$AB2-'Cqinward LDA 5'!D2","v":-2},{"$f":"$AB2-'Cqinward LDA 5'!E2","v":-2},{"$f":"$AB2-'Cqinward LDA 5'!F2","v":-2},{"$f":"$AB2-'Cqinward LDA 5'!G2","v":-2},{"$f":"$AB2-'Cqinward LDA 5'!H2","v":0},{"$f":"$AB2-'Cqinward LDA 5'!I2","v":-2},{"$f":"$AB2-'Cqinward LDA 5'!J2","v":0},{"$f":"$AB2-'Cqinward LDA 5'!K2","v":-2},{"$f":"$AB2-'Cqinward LDA 5'!L2","v":0},{"$f":"$AB2-'Cqinward LDA 5'!M2","v":-2},{"$f":"$AB2-'Cqinward LDA 5'!N2","v":-2},{"$f":"$AB2-'Cqinward LDA 5'!O2","v":-2},{"$f":"$AB2-'Cqinward LDA 5'!P2","v":-2},{"$f":"$AB2-'Cqinward LDA 5'!Q2","v":-2},{"$f":"$AB2-'Cqinward LDA 5'!R2","v":-2},{"$f":"$AB2-'Cqinward LDA 5'!S2","v":-2},{"$f":"$AB2-'Cqinward LDA 5'!T2","v":0},{"$f":"$AB2-'Cqinward LDA 5'!U2","v":-2},{"$f":"$AB2-'Cqinward LDA 5'!V2","v":-3},{"$f":"$AB2-'Cqinward LDA 5'!W2","v":0},{"$f":"$AB2-'Cqinward LDA 5'!X2","v":-1},{"$f":"$AB2-'Cqinward LDA 5'!Y2","v":-2},{"$f":"$AB2-'Cqinward LDA 5'!Z2","v":-1},{"$f":"$AB2-'Cqinward LDA 5'!AA2","v":0},{"$f":"$AB2-'Cqinward LDA 5'!AB2","v":-2},2.0]
["amiodarone",{"$f":"$AB3-'Cqinward LDA 5'!C3","v":-2},{"$f":"$AB3-'Cqinward LDA 5'!D3","v":-2},{"$f":"$AB3-'Cqinward LDA 5'!E3","v":-2},{"$f":"$AB3-'Cqinward LDA 5'!F3","v":-2},{"$f":"$AB3-'Cqinward LDA 5'!G3","v":-2},{"$f":"$AB3-'Cqinward LDA 5'!H3","v":0},{"$f":"$AB3-'Cqinward LDA 5'!I3","v":-2},{"$f":"$AB3-'Cqinward LDA 5'!J3","v":0},{"$f":"$AB3-'Cqinward LDA 5'!K3","v":-2},{"$f":"$AB3-'Cqinward LDA 5'!L3","v":-2},{"$f":"$AB3-'Cqinward LDA 5'!M3","v":-2},{"$f":"$AB3-'Cqinward LDA 5'!N3","v":-2},{"$f":"$AB3-'Cqinward LDA 5'!O3","v":-2},{"$f":"$AB3-'Cqinward LDA 5'!P3","v":-2},{"$f":"$AB3-'Cqinward LDA 5'!Q3","v":0},{"$f":"$AB3-'Cqinward LDA 5'!R3","v":-2},{"$f":"$AB3-'Cqinward LDA 5'!S3","v":-3},{"$f":"$AB3-'Cqinward LDA 5'!T3","v":0},{"$f":"$AB3-'Cqinward LDA 5'!U3","v":-3},{"$f":"$AB3-'Cqinward LDA 5'!V3","v":-3},{"$f":"$AB3-'Cqinward LDA 5'!W3","v":0},{"$f":"$AB3-'Cqinward LDA 5'!X3","v":-1},{"$f":"$AB3-'Cqinward LDA 5'!Y3","v":-1},{"$f":"$AB3-'Cqinward LDA 5'!Z3","v":-1},{"$f":"$AB3-'Cqinward LDA 5'!AA3","v":-1},{"$f":"$AB3-'Cqinward LDA 5'!AB3","v":-2},2.0]
["amitriptyline",{"$f":"$AB4-'Cqinward LDA 5'!C4","v":1},{"$f":"$AB4-'Cqinward LDA 5'!D4","v":1},{"$f":"$AB4-'Cqinward LDA 5'!E4","v":1},{"$f":"$AB4-'Cqinward LDA 5'!F4","v":1},{"$f":"$AB4-'Cqinward LDA 5'!G4","v":1},{"$f":"$AB4-'Cqinward LDA 5'!H4","v":1},{"$f":"$AB4-'Cqinward LDA 5'!I4","v":1},{"$f":"$AB4-'Cqinward LDA 5'!J4","v":1},{"$f":"$AB4-'Cqinward LDA 5'!K4","v":1},{"$f":"$AB4-'Cqinward LDA 5'!L4","v":0},{"$f":"$AB4-'Cqinward LDA 5'!M4","v":1},{"$f":"$AB4-'Cqinward LDA 5'!N4","v":1},{"$f":"$AB4-'Cqinward LDA 5'!O4","v":1},{"$f":"$AB4-'Cqinward LDA 5'!P4","v":1},{"$f":"$AB4-'Cqinward LDA 5'!Q4","v":1},{"$f":"$AB4-'Cqinward LDA 5'!R4","v":1},{"$f":"$AB4-'Cqinward LDA 5'!S4","v":1},{"$f":"$AB4-'Cqinward LDA 5'!T4","v":1},{"$f":"$AB4-'Cqinward LDA 5'!U4","v":1},{"$f":"$AB4-'Cqinward LDA 5'!V4","v":1},{"$f":"$AB4-'Cqinward LDA 5'!W4","v":1},{"$f":"$AB4-'Cqinward LDA 5'!X4","v":1},{"$f":"$AB4-'Cqinward LDA 5'!Y4","v":1},{"$f":"$AB4-'Cqinward LDA 5'!Z4","v":1},{"$f":"$AB4-'Cqinward LDA 5'!AA4","v":1},{"$f":"$AB4-'Cqinward LDA 5'!AB4","v":-1},4.0]
["azimilide",{"$f":"$AB5-'Cqinward LDA 5'!C5","v":-1},{"$f":"$AB5-'Cqinward LDA 5'!D5","v":0},{"$f":"$AB5-'Cqinward LDA 5'!E5","v":0},{"$f":"$AB5-'Cqinward LDA 5'!F5","v":0},{"$f":"$AB5-'Cqinward LDA 5'!G5","v":-2},{"$f":"$AB5-'Cqinward LDA 5'!H5","v":-2},{"$f":"$AB5-'Cqinward LDA 5'!I5","v":0},{"$f":"$AB5-'Cqinward LDA 5'!J5","v":-1},{"$f":"$AB5-'Cqinward LDA 5'!K5","v":0},{"$f":"$AB5-'Cqinward LDA 5'!L5","v":-1},{"$f":"$AB5-'Cqinward LDA 5'!M5","v":0},{"$f":"$AB5-'Cqinward LDA 5'!N5","v":-1},{"$f":"$AB5-'Cqinward LDA 5'!O5","v":0},{"$f":"$AB5-'Cqinward LDA 5'!P5","v":0},{"$f":"$AB5-'Cqinward LDA 5'!Q5","v":-2},{"$f":"$AB5-'Cqinward LDA 5'!R5","v":0},{"$f":"$AB5-'Cqinward LDA 5'!S5","v":0},{"$f":"$AB5-'Cqinward LDA 5'!T5","v":-2},{"$f":"$AB5-'Cqinward LDA 5'!U5","v":0},{"$f":"$AB5-'Cqinward LDA 5'!V5","v":-2},{"$f":"$AB5-'Cqinward LDA 5'!W5","v":-2},{"$f":"$AB5-'Cqinward LDA 5'!X5","v":-2},{"$f":"$AB5-'Cqinward LDA 5'!Y5","v":-2},{"$f":"$AB5-'Cqinward LDA 5'!Z5","v":-2},{"$f":"$AB5-'Cqinward LDA 5'!AA5","v":-2},{"$f":"$AB5-'Cqinward LDA 5'!AB5","v":-2},2.0]
["bepridil",{"$f":"$AB6-'Cqinward LDA 5'!C6","v":-2},{"$f":"$AB6-'Cqinward LDA 5'!D6","v":-2},{"$f":"$AB6-'Cqinward LDA 5'!E6","v":-2},{"$f":"$AB6-'Cqinward LDA 5'!F6","v":-2},{"$f":"$AB6-'Cqinward LDA 5'!G6","v":-2},{"$f":"$AB6-'Cqinward LDA 5'!H6","v":-2},{"$f":"$AB6-'Cqinward LDA 5'!I6","v":-2},{"$f":"$AB6-'Cqinward LDA 5'!J6","v":-2},{"$f":"$AB6-'Cqinward LDA 5'!K6","v":-2},{"$f":"$AB6-'Cqinward LDA 5'!L6","v":-2},{"$f":"$AB6-'Cqinward LDA 5'!M6","v":-2},{"$f":"$AB6-'Cqinward LDA 5'!N6","v":-2},{"$f":"$AB6-'Cqinward LDA 5'!O6","v":-2},{"$f":"$AB6-'Cqinward LDA 5'!P6","v":-2},{"$f":"$AB6-'Cqinward LDA 5'!Q6","v":-2},{"$f":"$AB6-'Cqinward LDA 5'!R6","v":-2},{"$f":"$AB6-'Cqinward LDA 5'!S6","v":-2},{"$f":"$AB6-'Cqinward LDA 5'!T6","v":-1},{"$f":"$AB6-'Cqinward LDA 5'!U6","v":-2},{"$f":"$AB6-'Cqinward LDA 5'!V6","v":-1},{"$f":"$AB6-'Cqinward LDA 5'!W6","v":-2},{"$f":"$AB6-'Cqinward LDA 5'!X6","v":-1},{"$f":"$AB6-'Cqinward LDA 5'!Y6","v":-2},{"$f":"$AB6-'Cqinward LDA 5'!Z6","v":-1},{"$f":"$AB6-'Cqinward LDA 5'!AA6","v":-2},{"$f":"$AB6-'Cqinward LDA 5'!AB6","v":-1},3.0]
["chlorpromazine",{"$f":"$AB7-'Cqinward LDA 5'!C7","v":-1},{"$f":"$AB7-'Cqinward LDA 5'!D7","v":-1},{"$f":"$AB7-'Cqinward LDA 5'!E7","v":-1},{"$f":"$AB7-'Cqinward LDA 5'!F7","v":-1},{"$f":"$AB7-'Cqinward LDA 5'!G7","v":-1},{"$f":"$AB7-'Cqinward LDA 5'!H7","v":-1},{"$f":"$AB7-'Cqinward LDA 5'!I7","v":-1},{"$f":"$AB7-'Cqinward LDA 5'!J7","v":-1},{"$f":"$AB7-'Cqinward LDA 5'!K7","v":-1},{"$f":"$AB7-'Cqinward LDA 5'!L7","v":-1},{"$f":"$AB7-'Cqinward LDA 5'!M7","v":-1},{"$f":"$AB7-'Cqinward LDA 5'!N7","v":-1},{"$f":"$AB7-'Cqinward LDA 5'!O7","v":-1},{"$f":"$AB7-'Cqinward LDA 5'!P7","v":-1},{"$f":"$AB7-'Cqinward LDA 5'!Q7","v":1},{"$f":"$AB7-'Cqinward LDA 5'!R7","v":-1},{"$f":"$AB7-'Cqinward LDA 5'!S7","v":-2},{"$f":"$AB7-'Cqinward LDA 5'!T7","v":-2},{"$f":"$AB7-'Cqinward LDA 5'!U7","v":-2},{"$f":"$AB7-'Cqinward LDA 5'!V7","v":-2},{"$f":"$AB7-'Cqinward LDA 5'!W7","v":0},{"$f":"$AB7-'Cqinward LDA 5'!X7","v":0},{"$f":"$AB7-'Cqinward LDA 5'!Y7","v":0},{"$f":"$AB7-'Cqinward LDA 5'!Z7","v":0},{"$f":"$AB7-'Cqinward LDA 5'!AA7","v":0},{"$f":"$AB7-'Cqinward LDA 5'!AB7","v":-2},3.0]
["cibenzoline",{"$f":"$AB8-'Cqinward LDA 5'!C8","v":1},{"$f":"$AB8-'Cqinward LDA 5'!D8","v":1},{"$f":"$AB8-'Cqinward LDA 5'!E8","v":1},{"$f":"$AB8-'Cqinward LDA 5'!F8","v":1},{"$f":"$AB8-'Cqinward LDA 5'!G8","v":1},{"$f":"$AB8-'Cqinward LDA 5'!H8","v":3},{"$f":"$AB8-'Cqinward LDA 5'!I8","v":1},{"$f":"$AB8-'Cqinward LDA 5'!J8","v":3},{"$f":"$AB8-'Cqinward LDA 5'!K8","v":1},{"$f":"$AB8-'Cqinward LDA 5'!L8","v":1},{"$f":"$AB8-'Cqinward LDA 5'!M8","v":0},{"$f":"$AB8-'Cqinward LDA 5'!N8","v":0},{"$f":"$AB8-'Cqinward LDA 5'!O8","v":0},{"$f":"$AB8-'Cqinward LDA 5'!P8","v":0},{"$f":"$AB8-'Cqinward LDA 5'!Q8","v":3},{"$f":"$AB8-'Cqinward LDA 5'!R8","v":0},{"$f":"$AB8-'Cqinward LDA 5'!S8","v":0},{"$f":"$AB8-'Cqinward LDA 5'!T8","v":0},{"$f":"$AB8-'Cqinward LDA 5'!U8","v":0},{"$f":"$AB8-'Cqinward LDA 5'!V8","v":0},{"$f":"$AB8-'Cqinward LDA 5'!W8","v":0},{"$f":"$AB8-'Cqinward LDA 5'!X8","v":2},{"$f":"$AB8-'Cqinward LDA 5'!Y8","v":2},{"$f":"$AB8-'Cqinward LDA 5'!Z8","v":2},{"$f":"$AB8-'Cqinward LDA 5'!AA8","v":2},{"$f":"$AB8-'Cqinward LDA 5'!AB8","v":0},5.0]
["cisapride",{"$f":"$AB9-'Cqinward LDA 5'!C9","v":-2},{"$f":"$AB9-'Cqinward LDA 5'!D9","v":-2},{"$f":"$AB9-'Cqinward LDA 5'!E9","v":-2},{"$f":"$AB9-'Cqinward LDA 5'!F9","v":-2},{"$f":"$AB9-'Cqinward LDA 5'!G9","v":-2},{"$f":"$AB9-'Cqinward LDA 5'!H9","v":0},{"$f":"$AB9-'Cqinward LDA 5'!I9","v":-2},{"$f":"$AB9-'Cqinward LDA 5'!J9","v":0},{"$f":"$AB9-'Cqinward LDA 5'!K9","v":0},{"$f":"$AB9-'Cqinward LDA 5'!L9","v":0},{"$f":"$AB9-'Cqinward LDA 5'!M9","v":0},{"$f":"$AB9-'Cqinward LDA 5'!N9","v":0},{"$f":"$AB9-'Cqinward LDA 5'!O9","v":0},{"$f":"$AB9-'Cqinward LDA 5'!P9","v":-1},{"$f":"$AB9-'Cqinward LDA 5'!Q9","v":-2},{"$f":"$AB9-'Cqinward LDA 5'!R9","v":0},{"$f":"$AB9-'Cqinward LDA 5'!S9","v":0},{"$f":"$AB9-'Cqinward LDA 5'!T9","v":-1},{"$f":"$AB9-'Cqinward LDA 5'!U9","v":0},{"$f":"$AB9-'Cqinward LDA 5'!V9","v":0},{"$f":"$AB9-'Cqinward LDA 5'!W9","v":-2},{"$f":"$AB9-'Cqinward LDA 5'!X9","v":0},{"$f":"$AB9-'Cqinward LDA 5'!Y9","v":-3},{"$f":"$AB9-'Cqinward LDA 5'!Z9","v":0},{"$f":"$AB9-'Cqinward LDA 5'!AA9","v":-3},{"$f":"$AB9-'Cqinward LDA 5'!AB9","v":0},2.0]
["clozapine",{"$f":"$AB10-'Cqinward LDA 5'!C10","v":1},{"$f":"$AB10-'Cqinward LDA 5'!D10","v":2},{"$f":"$AB10-'Cqinward LDA 5'!E10","v":2},{"$f":"$AB10-'Cqinward LDA 5'!F10","v":2},{"$f":"$AB10-'Cqinward LDA 5'!G10","v":2},{"$f":"$AB10-'Cqinward LDA 5'!H10","v":2},{"$f":"$AB10-'Cqinward LDA 5'!I10","v":2},{"$f":"$AB10-'Cqinward LDA 5'!J10","v":1},{"$f":"$AB10-'Cqinward LDA 5'!K10","v":2},{"$f":"$AB10-'Cqinward LDA 5'!L10","v":1},{"$f":"$AB10-'Cqinward LDA 5'!M10","v":2},{"$f":"$AB10-'Cqinward LDA 5'!N10","v":2},{"$f":"$AB10-'Cqinward LDA 5'!O10","v":2},{"$f":"$AB10-'Cqinward LDA 5'!P10","v":2},{"$f":"$AB10-'Cqinward LDA 5'!Q10","v":2},{"$f":"$AB10-'Cqinward LDA 5'!R10","v":0},{"$f":"$AB10-'Cqinward LDA 5'!S10","v":2},{"$f":"$AB10-'Cqinward LDA 5'!T10","v":0},{"$f":"$AB10-'Cqinward LDA 5'!U10","v":2},{"$f":"$AB10-'Cqinward LDA 5'!V10","v":0},{"$f":"$AB10-'Cqinward LDA 5'!W10","v":2},{"$f":"$AB10-'Cqinward LDA 5'!X10","v":0},{"$f":"$AB10-'Cqinward LDA 5'!Y10","v":2},{"$f":"$AB10-'Cqinward LDA 5'!Z10","v":0},{"$f":"$AB10-'Cqinward LDA 5'!AA10","v":2},{"$f":"$AB10-'Cqinward LDA 5'!AB10","v":0},4.0]
["desipramine",{"$f":"$AB11-'Cqinward LDA 5'!C11","v":0},{"$f":"$AB11-'Cqinward LDA 5'!D11","v":0},{"$f":"$AB11-'Cqinward LDA 5'!E11","v":0},{"$f":"$AB11-'Cqinward LDA 5'!F11","v":0},{"$f":"$AB11-'Cqinward LDA 5'!G11","v":0},{"$f":"$AB11-'Cqinward LDA 5'!H11","v":0},{"$f":"$AB11-'Cqinward LDA 5'!I11","v":0},{"$f":"$AB11-'Cqinward LDA 5'!J11","v":-1},{"$f":"$AB11-'Cqinward LDA 5'!K11","v":-1},{"$f":"$AB11-'Cqinward LDA 5'!L11","v":-1},{"$f":"$AB11-'Cqinward LDA 5'!M11","v":-1},{"$f":"$AB11-'Cqinward LDA 5'!N11","v":-1},{"$f":"$AB11-'Cqinward LDA 5'!O11","v":-1},{"$f":"$AB11-'Cqinward LDA 5'!P11","v":-1},{"$f":"$AB11-'Cqinward LDA 5'!Q11","v":-1},{"$f":"$AB11-'Cqinward LDA 5'!R11","v":-1},{"$f":"$AB11-'Cqinward LDA 5'!S11","v":-1},{"$f":"$AB11-'Cqinward LDA 5'!T11","v":-1},{"$f":"$AB11-'Cqinward LDA 5'!U11","v":-1},{"$f":"$AB11-'Cqinward LDA 5'!V11","v":-1},{"$f":"$AB11-'Cqinward LDA 5'!W11","v":1},{"$f":"$AB11-'Cqinward LDA 5'!X11","v":1},{"$f":"$AB11-'Cqinward LDA 5'!Y11","v":1},{"$f":"$AB11-'Cqinward LDA 5'!Z11","v":1},{"$f":"$AB11-'Cqinward LDA 5'!AA11","v":1},{"$f":"$AB11-'Cqinward LDA 5'!AB11","v":0},4.0]
["diltiazem",{"$f":"$AB12-'Cqinward LDA 5'!C12","v":0},{"$f":"$AB12-'Cqinward LDA 5'!D12","v":0},{"$f":"$AB12-'Cqinward LDA 5'!E12","v":2},{"$f":"$AB12-'Cqinward LDA 5'!F12","v":0},{"$f":"$AB12-'Cqinward LDA 5'!G12","v":2},{"$f":"$AB12-'Cqinward LDA 5'!H12","v":0},{"$f":"$AB12-'Cqinward LDA 5'!I12","v":2},{"$f":"$AB12-'Cqinward LDA 5'!J12","v":0},{"$f":"$AB12-'Cqinward LDA 5'!K12","v":2},{"$f":"$AB12-'Cqinward LDA 5'!L12","v":0},{"$f":"$AB12-'Cqinward LDA 5'!M12","v":2},{"$f":"$AB12-'Cqinward LDA 5'!N12","v":0},{"$f":"$AB12-'Cqinward LDA 5'!O12","v":2},{"$f":"$AB12-'Cqinward LDA 5'!P12","v":0},{"$f":"$AB12-'Cqinward LDA 5'!Q12","v":2},{"$f":"$AB12-'Cqinward LDA 5'!R12","v":1},{"$f":"$AB12-'Cqinward LDA 5'!S12","v":2},{"$f":"$AB12-'Cqinward LDA 5'!T12","v":1},{"$f":"$AB12-'Cqinward LDA 5'!U12","v":2},{"$f":"$AB12-'Cqinward LDA 5'!V12","v":1},{"$f":"$AB12-'Cqinward LDA 5'!W12","v":2},{"$f":"$AB12-'Cqinward LDA 5'!X12","v":1},{"$f":"$AB12-'Cqinward LDA 5'!Y12","v":0},{"$f":"$AB12-'Cqinward LDA 5'!Z12","v":1},{"$f":"$AB12-'Cqinward LDA 5'!AA12","v":0},{"$f":"$AB12-'Cqinward LDA 5'!AB12","v":0},5.0]
["disopyramide",{"$f":"$AB13-'Cqinward LDA 5'!C13","v":-1},{"$f":"$AB13-'Cqinward LDA 5'!D13","v":-1},{"$f":"$AB13-'Cqinward LDA 5'!E13","v":-1},{"$f":"$AB13-'Cqinward LDA 5'!F13","v":-1},{"$f":"$AB13-'Cqinward LDA 5'!G13","v":-1},{"$f":"$AB13-'Cqinward LDA 5'!H13","v":0},{"$f":"$AB13-'Cqinward LDA 5'!I13","v":-1},{"$f":"$AB13-'Cqinward LDA 5'!J13","v":0},{"$f":"$AB13-'Cqinward LDA 5'!K13","v":-1},{"$f":"$AB13-'Cqinward LDA 5'!L13","v":0},{"$f":"$AB13-'Cqinward LDA 5'!M13","v":-2},{"$f":"$AB13-'Cqinward LDA 5'!N13","v":-2},{"$f":"$AB13-'Cqinward LDA 5'!O13","v":-2},{"$f":"$AB13-'Cqinward LDA 5'!P13","v":-2},{"$f":"$AB13-'Cqinward LDA 5'!Q13","v":-2},{"$f":"$AB13-'Cqinward LDA 5'!R13","v":-1},{"$f":"$AB13-'Cqinward LDA 5'!S13","v":-1},{"$f":"$AB13-'Cqinward LDA 5'!T13","v":0},{"$f":"$AB13-'Cqinward LDA 5'!U13","v":-1},{"$f":"$AB13-'Cqinward LDA 5'!V13","v":-1},{"$f":"$AB13-'Cqinward LDA 5'!W13","v":-1},{"$f":"$AB13-'Cqinward LDA 5'!X13","v":-1},{"$f":"$AB13-'Cqinward LDA 5'!Y13","v":-2},{"$f":"$AB13-'Cqinward LDA 5'!Z13","v":-1},{"$f":"$AB13-'Cqinward LDA 5'!AA13","v":0},{"$f":"$AB13-'Cqinward LDA 5'!AB13","v":0},2.0]
["dl-sotalol",{"$f":"$AB14-'Cqinward LDA 5'!C14","v":-1},{"$f":"$AB14-'Cqinward LDA 5'!D14","v":-1},{"$f":"$AB14-'Cqinward LDA 5'!E14","v":-1},{"$f":"$AB14-'Cqinward LDA 5'!F14","v":-1},{"$f":"$AB14-'Cqinward LDA 5'!G14","v":-1},{"$f":"$AB14-'Cqinward LDA 5'!H14","v":-1},{"$f":"$AB14-'Cqinward LDA 5'!I14","v":-1},{"$f":"$AB14-'Cqinward LDA 5'!J14","v":-1},{"$f":"$AB14-'Cqinward LDA 5'!K14","v":-1},{"$f":"$AB14-'Cqinward LDA 5'!L14","v":-1},{"$f":"$AB14-'Cqinward LDA 5'!M14","v":-1},{"$f":"$AB14-'Cqinward LDA 5'!N14","v":-1},{"$f":"$AB14-'Cqinward LDA 5'!O14","v":-1},{"$f":"$AB14-'Cqinward LDA 5'!P14","v":-1},{"$f":"$AB14-'Cqinward LDA 5'!Q14","v":0},{"$f":"$AB14-'Cqinward LDA 5'!R14","v":-1},{"$f":"$AB14-'Cqinward LDA 5'!S14","v":-1},{"$f":"$AB14-'Cqinward LDA 5'!T14","v":-1},{"$f":"$AB14-'Cqinward LDA 5'!U14","v":-1},{"$f":"$AB14-'Cqinward LDA 5'!V14","v":-1},{"$f":"$AB14-'Cqinward LDA 5'!W14","v":-1},{"$f":"$AB14-'Cqinward LDA 5'!X14","v":-1},{"$f":"$AB14-'Cqinward LDA 5'!Y14","v":-1},{"$f":"$AB14-'Cqinward LDA 5'!Z14","v":-1},{"$f":"$AB14-'Cqinward LDA 5'!AA14","v":-1},{"$f":"$AB14-'Cqinward LDA 5'!AB14","v":-2},2.0]
["dofetilide",{"$f":"$AB15-'Cqinward LDA 5'!C15","v":0},{"$f":"$AB15-'Cqinward LDA 5'!D15","v":0},{"$f":"$AB15-'Cqinward LDA 5'!E15","v":-2},{"$f":"$AB15-'Cqinward LDA 5'!F15","v":-2},{"$f":"$AB15-'Cqinward LDA 5'!G15","v":-2},{"$f":"$AB15-'Cqinward LDA 5'!H15","v":-2},{"$f":"$AB15-'Cqinward LDA 5'!I15","v":-2},{"$f":"$AB15-'Cqinward LDA 5'!J15","v":0},{"$f":"$AB15-'Cqinward LDA 5'!K15","v":-2},{"$f":"$AB15-'Cqinward LDA 5'!L15","v":0},{"$f":"$AB15-'Cqinward LDA 5'!M15","v":-2},{"$f":"$AB15-'Cqinward LDA 5'!N15","v":-2},{"$f":"$AB15-'Cqinward LDA 5'!O15","v":-2},{"$f":"$AB15-'Cqinward LDA 5'!P15","v":-2},{"$f":"$AB15-'Cqinward LDA 5'!Q15","v":-2},{"$f":"$AB15-'Cqinward LDA 5'!R15","v":-1},{"$f":"$AB15-'Cqinward LDA 5'!S15","v":-2},{"$f":"$AB15-'Cqinward LDA 5'!T15","v":0},{"$f":"$AB15-'Cqinward LDA 5'!U15","v":-2},{"$f":"$AB15-'Cqinward LDA 5'!V15","v":-1},{"$f":"$AB15-'Cqinward LDA 5'!W15","v":0},{"$f":"$AB15-'Cqinward LDA 5'!X15","v":-1},{"$f":"$AB15-'Cqinward LDA 5'!Y15","v":0},{"$f":"$AB15-'Cqinward LDA 5'!Z15","v":-1},{"$f":"$AB15-'Cqinward LDA 5'!AA15","v":-2},{"$f":"$AB15-'Cqinward LDA 5'!AB15","v":0},2.0]
["flecainide",{"$f":"$AB16-'Cqinward LDA 5'!C16","v":-1},{"$f":"$AB16-'Cqinward LDA 5'!D16","v":-1},{"$f":"$AB16-'Cqinward LDA 5'!E16","v":-1},{"$f":"$AB16-'Cqinward LDA 5'!F16","v":-1},{"$f":"$AB16-'Cqinward LDA 5'!G16","v":-1},{"$f":"$AB16-'Cqinward LDA 5'!H16","v":-1},{"$f":"$AB16-'Cqinward LDA 5'!I16","v":-1},{"$f":"$AB16-'Cqinward LDA 5'!J16","v":-1},{"$f":"$AB16-'Cqinward LDA 5'!K16","v":-1},{"$f":"$AB16-'Cqinward LDA 5'!L16","v":-1},{"$f":"$AB16-'Cqinward LDA 5'!M16","v":-2},{"$f":"$AB16-'Cqinward LDA 5'!N16","v":-1},{"$f":"$AB16-'Cqinward LDA 5'!O16","v":-1},{"$f":"$AB16-'Cqinward LDA 5'!P16","v":-1},{"$f":"$AB16-'Cqinward LDA 5'!Q16","v":1},{"$f":"$AB16-'Cqinward LDA 5'!R16","v":-1},{"$f":"$AB16-'Cqinward LDA 5'!S16","v":-2},{"$f":"$AB16-'Cqinward LDA 5'!T16","v":-2},{"$f":"$AB16-'Cqinward LDA 5'!U16","v":-2},{"$f":"$AB16-'Cqinward LDA 5'!V16","v":-2},{"$f":"$AB16-'Cqinward LDA 5'!W16","v":0},{"$f":"$AB16-'Cqinward LDA 5'!X16","v":0},{"$f":"$AB16-'Cqinward LDA 5'!Y16","v":0},{"$f":"$AB16-'Cqinward LDA 5'!Z16","v":0},{"$f":"$AB16-'Cqinward LDA 5'!AA16","v":1},{"$f":"$AB16-'Cqinward LDA 5'!AB16","v":-1},3.0]
["fluvoxamine",{"$f":"$AB17-'Cqinward LDA 5'!C17","v":0},{"$f":"$AB17-'Cqinward LDA 5'!D17","v":0},{"$f":"$AB17-'Cqinward LDA 5'!E17","v":0},{"$f":"$AB17-'Cqinward LDA 5'!F17","v":0},{"$f":"$AB17-'Cqinward LDA 5'!G17","v":0},{"$f":"$AB17-'Cqinward LDA 5'!H17","v":0},{"$f":"$AB17-'Cqinward LDA 5'!I17","v":0},{"$f":"$AB17-'Cqinward LDA 5'!J17","v":0},{"$f":"$AB17-'Cqinward LDA 5'!K17","v":0},{"$f":"$AB17-'Cqinward LDA 5'!L17","v":0},{"$f":"$AB17-'Cqinward LDA 5'!M17","v":-1},{"$f":"$AB17-'Cqinward LDA 5'!N17","v":-1},{"$f":"$AB17-'Cqinward LDA 5'!O17","v":-1},{"$f":"$AB17-'Cqinward LDA 5'!P17","v":-1},{"$f":"$AB17-'Cqinward LDA 5'!Q17","v":2},{"$f":"$AB17-'Cqinward LDA 5'!R17","v":-1},{"$f":"$AB17-'Cqinward LDA 5'!S17","v":-1},{"$f":"$AB17-'Cqinward LDA 5'!T17","v":-1},{"$f":"$AB17-'Cqinward LDA 5'!U17","v":-1},{"$f":"$AB17-'Cqinward LDA 5'!V17","v":-1},{"$f":"$AB17-'Cqinward LDA 5'!W17","v":-1},{"$f":"$AB17-'Cqinward LDA 5'!X17","v":1},{"$f":"$AB17-'Cqinward LDA 5'!Y17","v":1},{"$f":"$AB17-'Cqinward LDA 5'!Z17","v":1},{"$f":"$AB17-'Cqinward LDA 5'!AA17","v":1},{"$f":"$AB17-'Cqinward LDA 5'!AB17","v":0},4.0]
["halofantrine",{"$f":"$AB18-'Cqinward LDA 5'!C18","v":-1},{"$f":"$AB18-'Cqinward LDA 5'!D18","v":-1},{"$f":"$AB18-'Cqinward LDA 5'!E18","v":-1},{"$f":"$AB18-'Cqinward LDA 5'!F18","v":-1},{"$f":"$AB18-'Cqinward LDA 5'!G18","v":-1},{"$f":"$AB18-'Cqinward LDA 5'!H18","v":-1},{"$f":"$AB18-'Cqinward LDA 5'!I18","v":-1},{"$f":"$AB18-'Cqinward LDA 5'!J18","v":1},{"$f":"$AB18-'Cqinward LDA 5'!K18","v":1},{"$f":"$AB18-'Cqinward LDA 5'!L18","v":-2},{"$f":"$AB18-'Cqinward LDA 5'!M18","v":-2},{"$f":"$AB18-'Cqinward LDA 5'!N18","v":-2},{"$f":"$AB18-'Cqinward LDA 5'!O18","v":1},{"$f":"$AB18-'Cqinward LDA 5'!P18","v":-2},{"$f":"$AB18-'Cqinward LDA 5'!Q18","v":1},{"$f":"$AB18-'Cqinward LDA 5'!R18","v":-2},{"$f":"$AB18-'Cqinward LDA 5'!S18","v":-2},{"$f":"$AB18-'Cqinward LDA 5'!T18","v":-2},{"$f":"$AB18-'Cqinward LDA 5'!U18","v":-2},{"$f":"$AB18-'Cqinward LDA 5'!V18","v":-2},{"$f":"$AB18-'Cqinward LDA 5'!W18","v":0},{"$f":"$AB18-'Cqinward LDA 5'!X18","v":0},{"$f":"$AB18-'Cqinward LDA 5'!Y18","v":0},{"$f":"$AB18-'Cqinward LDA 5'!Z18","v":0},{"$f":"$AB18-'Cqinward LDA 5'!AA18","v":0},{"$f":"$AB18-'Cqinward LDA 5'!AB18","v":-2},3.0]
["imipramine",{"$f":"$AB19-'Cqinward LDA 5'!C19","v":0},{"$f":"$AB19-'Cqinward LDA 5'!D19","v":0},{"$f":"$AB19-'Cqinward LDA 5'!E19","v":0},{"$f":"$AB19-'Cqinward LDA 5'!F19","v":0},{"$f":"$AB19-'Cqinward LDA 5'!G19","v":0},{"$f":"$AB19-'Cqinward LDA 5'!H19","v":2},{"$f":"$AB19-'Cqinward LDA 5'!I19","v":0},{"$f":"$AB19-'Cqinward LDA 5'!J19","v":2},{"$f":"$AB19-'Cqinward LDA 5'!K19","v":0},{"$f":"$AB19-'Cqinward LDA 5'!L19","v":0},{"$f":"$AB19-'Cqinward LDA 5'!M19","v":-1},{"$f":"$AB19-'Cqinward LDA 5'!N19","v":-1},{"$f":"$AB19-'Cqinward LDA 5'!O19","v":-1},{"$f":"$AB19-'Cqinward LDA 5'!P19","v":-1},{"$f":"$AB19-'Cqinward LDA 5'!Q19","v":2},{"$f":"$AB19-'Cqinward LDA 5'!R19","v":-1},{"$f":"$AB19-'Cqinward LDA 5'!S19","v":-1},{"$f":"$AB19-'Cqinward LDA 5'!T19","v":-1},{"$f":"$AB19-'Cqinward LDA 5'!U19","v":-1},{"$f":"$AB19-'Cqinward LDA 5'!V19","v":-1},{"$f":"$AB19-'Cqinward LDA 5'!W19","v":-1},{"$f":"$AB19-'Cqinward LDA 5'!X19","v":1},{"$f":"$AB19-'Cqinward LDA 5'!Y19","v":1},{"$f":"$AB19-'Cqinward LDA 5'!Z19","v":1},{"$f":"$AB19-'Cqinward LDA 5'!AA19","v":2},{"$f":"$AB19-'Cqinward LDA 5'!AB19","v":1},4.0]
["loratadine",{"$f":"$AB20-'Cqinward LDA 5'!C20","v":1},{"$f":"$AB20-'Cqinward LDA 5'!D20","v":1},{"$f":"$AB20-'Cqinward LDA 5'!E20","v":1},{"$f":"$AB20-'Cqinward LDA 5'!F20","v":1},{"$f":"$AB20-'Cqinward LDA 5'!G20","v":1},{"$f":"$AB20-'Cqinward LDA 5'!H20","v":1},{"$f":"$AB20-'Cqinward LDA 5'!I20","v":1},{"$f":"$AB20-'Cqinward LDA 5'!J20","v":3},{"$f":"$AB20-'Cqinward LDA 5'!K20","v":1},{"$f":"$AB20-'Cqinward LDA 5'!L20","v":3},{"$f":"$AB20-'Cqinward LDA 5'!M20","v":1},{"$f":"$AB20-'Cqinward LDA 5'!N20","v":3},{"$f":"$AB20-'Cqinward LDA 5'!O20","v":1},{"$f":"$AB20-'Cqinward LDA 5'!P20","v":1},{"$f":"$AB20-'Cqinward LDA 5'!Q20","v":3},{"$f":"$AB20-'Cqinward LDA 5'!R20","v":1},{"$f":"$AB20-'Cqinward LDA 5'!S20","v":0},{"$f":"$AB20-'Cqinward LDA 5'!T20","v":3},{"$f":"$AB20-'Cqinward LDA 5'!U20","v":0},{"$f":"$AB20-'Cqinward LDA 5'!V20","v":2},{"$f":"$AB20-'Cqinward LDA 5'!W20","v":2},{"$f":"$AB20-'Cqinward LDA 5'!X20","v":2},{"$f":"$AB20-'Cqinward LDA 5'!Y20","v":2},{"$f":"$AB20-'Cqinward LDA 5'!Z20","v":2},{"$f":"$AB20-'Cqinward LDA 5'!AA20","v":2},{"$f":"$AB20-'Cqinward LDA 5'!AB20","v":3},5.0]
["methadone",{"$f":"$AB21-'Cqinward LDA 5'!C21","v":-1},{"$f":"$AB21-'Cqinward LDA 5'!D21","v":-1},{"$f":"$AB21-'Cqinward LDA 5'!E21","v":-1},{"$f":"$AB21-'Cqinward LDA 5'!F21","v":-1},{"$f":"$AB21-'Cqinward LDA 5'!G21","v":-1},{"$f":"$AB21-'Cqinward LDA 5'!H21","v":-1},{"$f":"$AB21-'Cqinward LDA 5'!I21","v":-1},{"$f":"$AB21-'Cqinward LDA 5'!J21","v":-1},{"$f":"$AB21-'Cqinward LDA 5'!K21","v":-1},{"$f":"$AB21-'Cqinward LDA 5'!L21","v":-1},{"$f":"$AB21-'Cqinward LDA 5'!M21","v":-1},{"$f":"$AB21-'Cqinward LDA 5'!N21","v":-1},{"$f":"$AB21-'Cqinward LDA 5'!O21","v":-1},{"$f":"$AB21-'Cqinward LDA 5'!P21","v":-1},{"$f":"$AB21-'Cqinward LDA 5'!Q21","v":-1},{"$f":"$AB21-'Cqinward LDA 5'!R21","v":-1},{"$f":"$AB21-'Cqinward LDA 5'!S21","v":-1},{"$f":"$AB21-'Cqinward LDA 5'!T21","v":-1},{"$f":"$AB21-'Cqinward LDA 5'!U21","v":-1},{"$f":"$AB21-'Cqinward LDA 5'!V21","v":-1},{"$f":"$AB21-'Cqinward LDA 5'!W21","v":-1},{"$f":"$AB21-'Cqinward LDA 5'!X21","v":-1},{"$f":"$AB21-'Cqinward LDA 5'!Y21","v":-1},{"$f":"$AB21-'Cqinward LDA 5'!Z21","v":-1},{"$f":"$AB21-'Cqinward LDA 5'!AA21","v":-1},{"$f":"$AB21-'Cqinward LDA 5'!AB21","v":-2},2.0]
["mexiletine",{"$f":"$AB22-'Cqinward LDA 5'!C22","v":-1},{"$f":"$AB22-'Cqinward LDA 5'!D22","v":-1},{"$f":"$AB22-'Cqinward LDA 5'!E22","v":-1},{"$f":"$AB22-'Cqinward LDA 5'!F22","v":-1},{"$f":"$AB22-'Cqinward LDA 5'!G22","v":-1},{"$f":"$AB22-'Cqinward LDA 5'!H22","v":-1},{"$f":"$AB22-'Cqinward LDA 5'!I22","v":-1},{"$f":"$AB22-'Cqinward LDA 5'!J22","v":-1},{"$f":"$AB22-'Cqinward LDA 5'!K22","v":-1},{"$f":"$AB22-'Cqinward LDA 5'!L22","v":-1},{"$f":"$AB22-'Cqinward LDA 5'!M22","v":-1},{"$f":"$AB22-'Cqinward LDA 5'!N22","v":-1},{"$f":"$AB22-'Cqinward LDA 5'!O22","v":1},{"$f":"$AB22-'Cqinward LDA 5'!P22","v":-1},{"$f":"$AB22-'Cqinward LDA 5'!Q22","v":1},{"$f":"$AB22-'Cqinward LDA 5'!R22","v":0},{"$f":"$AB22-'Cqinward LDA 5'!S22","v":1},{"$f":"$AB22-'Cqinward LDA 5'!T22","v":-1},{"$f":"$AB22-'Cqinward LDA 5'!U22","v":1},{"$f":"$AB22-'Cqinward LDA 5'!V22","v":-1},{"$f":"$AB22-'Cqinward LDA 5'!W22","v":1},{"$f":"$AB22-'Cqinward LDA 5'!X22","v":-1},{"$f":"$AB22-'Cqinward LDA 5'!Y22","v":-1},{"$f":"$AB22-'Cqinward LDA 5'!Z22","v":0},{"$f":"$AB22-'Cqinward LDA 5'!AA22","v":-1},{"$f":"$AB22-'Cqinward LDA 5'!AB22","v":-1},4.0]
["mibefradil",{"$f":"$AB23-'Cqinward LDA 5'!C23","v":-1},{"$f":"$AB23-'Cqinward LDA 5'!D23","v":-1},{"$f":"$AB23-'Cqinward LDA 5'!E23","v":1},{"$f":"$AB23-'Cqinward LDA 5'!F23","v":-1},{"$f":"$AB23-'Cqinward LDA 5'!G23","v":1},{"$f":"$AB23-'Cqinward LDA 5'!H23","v":-1},{"$f":"$AB23-'Cqinward LDA 5'!I23","v":1},{"$f":"$AB23-'Cqinward LDA 5'!J23","v":-1},{"$f":"$AB23-'Cqinward LDA 5'!K23","v":1},{"$f":"$AB23-'Cqinward LDA 5'!L23","v":-1},{"$f":"$AB23-'Cqinward LDA 5'!M23","v":1},{"$f":"$AB23-'Cqinward LDA 5'!N23","v":-1},{"$f":"$AB23-'Cqinward LDA 5'!O23","v":1},{"$f":"$AB23-'Cqinward LDA 5'!P23","v":-1},{"$f":"$AB23-'Cqinward LDA 5'!Q23","v":1},{"$f":"$AB23-'Cqinward LDA 5'!R23","v":0},{"$f":"$AB23-'Cqinward LDA 5'!S23","v":1},{"$f":"$AB23-'Cqinward LDA 5'!T23","v":0},{"$f":"$AB23-'Cqinward LDA 5'!U23","v":1},{"$f":"$AB23-'Cqinward LDA 5'!V23","v":0},{"$f":"$AB23-'Cqinward LDA 5'!W23","v":1},{"$f":"$AB23-'Cqinward LDA 5'!X23","v":0},{"$f":"$AB23-'Cqinward LDA 5'!Y23","v":-1},{"$f":"$AB23-'Cqinward LDA 5'!Z23","v":0},{"$f":"$AB23-'Cqinward LDA 5'!AA23","v":-1},{"$f":"$AB23-'Cqinward LDA 5'!AB23","v":-1},4.0]
["nifedipine",{"$f":"$AB24-'Cqinward LDA 5'!C24","v":0},{"$f":"$AB24-'Cqinward LDA 5'!D24","v":0},{"$f":"$AB24-'Cqinward LDA 5'!E24","v":-1},{"$f":"$AB24-'Cqinward LDA 5'!F24","v":-1},{"$f":"$AB24-'Cqinward LDA 5'!G24","v":-1},{"$f":"$AB24-'Cqinward LDA 5'!H24","v":-1},{"$f":"$AB24-'Cqinward LDA 5'!I24","v":-1},{"$f":"$AB24-'Cqinward LDA 5'!J24","v":-1},{"$f":"$AB24-'Cqinward LDA 5'!K24","v":1},{"$f":"$AB24-'Cqinward LDA 5'!L24","v":-1},{"$f":"$AB24-'Cqinward LDA 5'!M24","v":1},{"$f":"$AB24-'Cqinward LDA 5'!N24","v":-1},{"$f":"$AB24-'Cqinward LDA 5'!O24","v":1},{"$f":"$AB24-'Cqinward LDA 5'!P24","v":-1},{"$f":"$AB24-'Cqinward LDA 5'!Q24","v":1},{"$f":"$AB24-'Cqinward LDA 5'!R24","v":-1},{"$f":"$AB24-'Cqinward LDA 5'!S24","v":1},{"$f":"$AB24-'Cqinward LDA 5'!T24","v":0},{"$f":"$AB24-'Cqinward LDA 5'!U24","v":1},{"$f":"$AB24-'Cqinward LDA 5'!V24","v":0},{"$f":"$AB24-'Cqinward LDA 5'!W24","v":-1},{"$f":"$AB24-'Cqinward LDA 5'!X24","v":0},{"$f":"$AB24-'Cqinward LDA 5'!Y24","v":-1},{"$f":"$AB24-'Cqinward LDA 5'!Z24","v":0},{"$f":"$AB24-'Cqinward LDA 5'!AA24","v":-1},{"$f":"$AB24-'Cqinward LDA 5'!AB24","v":1},4.0]
["nitrendipine",{"$f":"$AB25-'Cqinward LDA 5'!C25","v":1},{"$f":"$AB25-'Cqinward LDA 5'!D25","v":1},{"$f":"$AB25-'Cqinward LDA 5'!E25","v":1},{"$f":"$AB25-'Cqinward LDA 5'!F25","v":1},{"$f":"$AB25-'Cqinward LDA 5'!G25","v":1},{"$f":"$AB25-'Cqinward LDA 5'!H25","v":1},{"$f":"$AB25-'Cqinward LDA 5'!I25","v":1},{"$f":"$AB25-'Cqinward LDA 5'!J25","v":1},{"$f":"$AB25-'Cqinward LDA 5'!K25","v":1},{"$f":"$AB25-'Cqinward LDA 5'!L25","v":1},{"$f":"$AB25-'Cqinward LDA 5'!M25","v":1},{"$f":"$AB25-'Cqinward LDA 5'!N25","v":1},{"$f":"$AB25-'Cqinward LDA 5'!O25","v":1},{"$f":"$AB25-'Cqinward LDA 5'!P25","v":1},{"$f":"$AB25-'Cqinward LDA 5'!Q25","v":3},{"$f":"$AB25-'Cqinward LDA 5'!R25","v":1},{"$f":"$AB25-'Cqinward LDA 5'!S25","v":0},{"$f":"$AB25-'Cqinward LDA 5'!T25","v":0},{"$f":"$AB25-'Cqinward LDA 5'!U25","v":0},{"$f":"$AB25-'Cqinward LDA 5'!V25","v":0},{"$f":"$AB25-'Cqinward LDA 5'!W25","v":2},{"$f":"$AB25-'Cqinward LDA 5'!X25","v":2},{"$f":"$AB25-'Cqinward LDA 5'!Y25","v":2},{"$f":"$AB25-'Cqinward LDA 5'!Z25","v":2},{"$f":"$AB25-'Cqinward LDA 5'!AA25","v":2},{"$f":"$AB25-'Cqinward LDA 5'!AB25","v":3},5.0]
["ondansetron",{"$f":"$AB26-'Cqinward LDA 5'!C26","v":-1},{"$f":"$AB26-'Cqinward LDA 5'!D26","v":0},{"$f":"$AB26-'Cqinward LDA 5'!E26","v":0},{"$f":"$AB26-'Cqinward LDA 5'!F26","v":0},{"$f":"$AB26-'Cqinward LDA 5'!G26","v":-2},{"$f":"$AB26-'Cqinward LDA 5'!H26","v":-1},{"$f":"$AB26-'Cqinward LDA 5'!I26","v":0},{"$f":"$AB26-'Cqinward LDA 5'!J26","v":-1},{"$f":"$AB26-'Cqinward LDA 5'!K26","v":0},{"$f":"$AB26-'Cqinward LDA 5'!L26","v":-1},{"$f":"$AB26-'Cqinward LDA 5'!M26","v":0},{"$f":"$AB26-'Cqinward LDA 5'!N26","v":-1},{"$f":"$AB26-'Cqinward LDA 5'!O26","v":-1},{"$f":"$AB26-'Cqinward LDA 5'!P26","v":0},{"$f":"$AB26-'Cqinward LDA 5'!Q26","v":-1},{"$f":"$AB26-'Cqinward LDA 5'!R26","v":0},{"$f":"$AB26-'Cqinward LDA 5'!S26","v":-1},{"$f":"$AB26-'Cqinward LDA 5'!T26","v":-1},{"$f":"$AB26-'Cqinward LDA 5'!U26","v":-1},{"$f":"$AB26-'Cqinward LDA 5'!V26","v":0},{"$f":"$AB26-'Cqinward LDA 5'!W26","v":-3},{"$f":"$AB26-'Cqinward LDA 5'!X26","v":0},{"$f":"$AB26-'Cqinward LDA 5'!Y26","v":-3},{"$f":"$AB26-'Cqinward LDA 5'!Z26","v":0},{"$f":"$AB26-'Cqinward LDA 5'!AA26","v":-3},{"$f":"$AB26-'Cqinward LDA 5'!AB26","v":-1},2.0]
["pentamidine",{"$f":"$AB27-'Cqinward LDA 5'!C27","v":-1},{"$f":"$AB27-'Cqinward LDA 5'!D27","v":-1},{"$f":"$AB27-'Cqinward LDA 5'!E27","v":-1},{"$f":"$AB27-'Cqinward LDA 5'!F27","v":-1},{"$f":"$AB27-'Cqinward LDA 5'!G27","v":-1},{"$f":"$AB27-'Cqinward LDA 5'!H27","v":1},{"$f":"$AB27-'Cqinward LDA 5'!I27","v":-1},{"$f":"$AB27-'Cqinward LDA 5'!J27","v":1},{"$f":"$AB27-'Cqinward LDA 5'!K27","v":-1},{"$f":"$AB27-'Cqinward LDA 5'!L27","v":-1},{"$f":"$AB27-'Cqinward LDA 5'!M27","v":-1},{"$f":"$AB27-'Cqinward LDA 5'!N27","v":-1},{"$f":"$AB27-'Cqinward LDA 5'!O27","v":-1},{"$f":"$AB27-'Cqinward LDA 5'!P27","v":-1},{"$f":"$AB27-'Cqinward LDA 5'!Q27","v":1},{"$f":"$AB27-'Cqinward LDA 5'!R27","v":-1},{"$f":"$AB27-'Cqinward LDA 5'!S27","v":-2},{"$f":"$AB27-'Cqinward LDA 5'!T27","v":1},{"$f":"$AB27-'Cqinward LDA 5'!U27","v":-2},{"$f":"$AB27-'Cqinward LDA 5'!V27","v":-2},{"$f":"$AB27-'Cqinward LDA 5'!W27","v":0},{"$f":"$AB27-'Cqinward LDA 5'!X27","v":0},{"$f":"$AB27-'Cqinward LDA 5'!Y27","v":0},{"$f":"$AB27-'Cqinward LDA 5'!Z27","v":0},{"$f":"$AB27-'Cqinward LDA 5'!AA27","v":0},{"$f":"$AB27-'Cqinward LDA 5'!AB27","v":-2},3.0]
["phenytoin",{"$f":"$AB28-'Cqinward LDA 5'!C28","v":1},{"$f":"$AB28-'Cqinward LDA 5'!D28","v":1},{"$f":"$AB28-'Cqinward LDA 5'!E28","v":1},{"$f":"$AB28-'Cqinward LDA 5'!F28","v":1},{"$f":"$AB28-'Cqinward LDA 5'!G28","v":1},{"$f":"$AB28-'Cqinward LDA 5'!H28","v":3},{"$f":"$AB28-'Cqinward LDA 5'!I28","v":1},{"$f":"$AB28-'Cqinward LDA 5'!J28","v":3},{"$f":"$AB28-'Cqinward LDA 5'!K28","v":1},{"$f":"$AB28-'Cqinward LDA 5'!L28","v":1},{"$f":"$AB28-'Cqinward LDA 5'!M28","v":1},{"$f":"$AB28-'Cqinward LDA 5'!N28","v":1},{"$f":"$AB28-'Cqinward LDA 5'!O28","v":1},{"$f":"$AB28-'Cqinward LDA 5'!P28","v":1},{"$f":"$AB28-'Cqinward LDA 5'!Q28","v":3},{"$f":"$AB28-'Cqinward LDA 5'!R28","v":1},{"$f":"$AB28-'Cqinward LDA 5'!S28","v":0},{"$f":"$AB28-'Cqinward LDA 5'!T28","v":3},{"$f":"$AB28-'Cqinward LDA 5'!U28","v":0},{"$f":"$AB28-'Cqinward LDA 5'!V28","v":0},{"$f":"$AB28-'Cqinward LDA 5'!W28","v":2},{"$f":"$AB28-'Cqinward LDA 5'!X28","v":2},{"$f":"$AB28-'Cqinward LDA 5'!Y28","v":2},{"$f":"$AB28-'Cqinward LDA 5'!Z28","v":2},{"$f":"$AB28-'Cqinward LDA 5'!AA28","v":2},{"$f":"$AB28-'Cqinward LDA 5'!AB28","v":0},5.0]
["pimozide",{"$f":"$AB29-'Cqinward LDA 5'!C29","v":-1},{"$f":"$AB29-'Cqinward LDA 5'!D29","v":-1},{"$f":"$AB29-'Cqinward LDA 5'!E29","v":-1},{"$f":"$AB29-'Cqinward LDA 5'!F29","v":-1},{"$f":"$AB29-'Cqinward LDA 5'!G29","v":-1},{"$f":"$AB29-'Cqinward LDA 5'!H29","v":1},{"$f":"$AB29-'Cqinward LDA 5'!I29","v":-1},{"$f":"$AB29-'Cqinward LDA 5'!J29","v":1},{"$f":"$AB29-'Cqinward LDA 5'!K29","v":-1},{"$f":"$AB29-'Cqinward LDA 5'!L29","v":-1},{"$f":"$AB29-'Cqinward LDA 5'!M29","v":-1},{"$f":"$AB29-'Cqinward LDA 5'!N29","v":-1},{"$f":"$AB29-'Cqinward LDA 5'!O29","v":-1},{"$f":"$AB29-'Cqinward LDA 5'!P29","v":-1},{"$f":"$AB29-'Cqinward LDA 5'!Q29","v":1},{"$f":"$AB29-'Cqinward LDA 5'!R29","v":-1},{"$f":"$AB29-'Cqinward LDA 5'!S29","v":-2},{"$f":"$AB29-'Cqinward LDA 5'!T29","v":1},{"$f":"$AB29-'Cqinward LDA 5'!U29","v":-2},{"$f":"$AB29-'Cqinward LDA 5'!V29","v":-2},{"$f":"$AB29-'Cqinward LDA 5'!W29","v":1},{"$f":"$AB29-'Cqinward LDA 5'!X29","v":0},{"$f":"$AB29-'Cqinward LDA 5'!Y29","v":0},{"$f":"$AB29-'Cqinward LDA 5'!Z29","v":0},{"$f":"$AB29-'Cqinward LDA 5'!AA29","v":0},{"$f":"$AB29-'Cqinward LDA 5'!AB29","v":-1},3.0]
["prenylamine",{"$f":"$AB30-'Cqinward LDA 5'!C30","v":-2},{"$f":"$AB30-'Cqinward LDA 5'!D30","v":-2},{"$f":"$AB30-'Cqinward LDA 5'!E30","v":-2},{"$f":"$AB30-'Cqinward LDA 5'!F30","v":-2},{"$f":"$AB30-'Cqinward LDA 5'!G30","v":-2},{"$f":"$AB30-'Cqinward LDA 5'!H30","v":0},{"$f":"$AB30-'Cqinward LDA 5'!I30","v":-2},{"$f":"$AB30-'Cqinward LDA 5'!J30","v":0},{"$f":"$AB30-'Cqinward LDA 5'!K30","v":-2},{"$f":"$AB30-'Cqinward LDA 5'!L30","v":0},{"$f":"$AB30-'Cqinward LDA 5'!M30","v":-2},{"$f":"$AB30-'Cqinward LDA 5'!N30","v":-2},{"$f":"$AB30-'Cqinward LDA 5'!O30","v":-2},{"$f":"$AB30-'Cqinward LDA 5'!P30","v":-2},{"$f":"$AB30-'Cqinward LDA 5'!Q30","v":0},{"$f":"$AB30-'Cqinward LDA 5'!R30","v":-1},{"$f":"$AB30-'Cqinward LDA 5'!S30","v":-3},{"$f":"$AB30-'Cqinward LDA 5'!T30","v":-1},{"$f":"$AB30-'Cqinward LDA 5'!U30","v":-3},{"$f":"$AB30-'Cqinward LDA 5'!V30","v":-1},{"$f":"$AB30-'Cqinward LDA 5'!W30","v":0},{"$f":"$AB30-'Cqinward LDA 5'!X30","v":-1},{"$f":"$AB30-'Cqinward LDA 5'!Y30","v":-1},{"$f":"$AB30-'Cqinward LDA 5'!Z30","v":-1},{"$f":"$AB30-'Cqinward LDA 5'!AA30","v":0},{"$f":"$AB30-'Cqinward LDA 5'!AB30","v":-1},2.0]
["propafenone",{"$f":"$AB31-'Cqinward LDA 5'!C31","v":0},{"$f":"$AB31-'Cqinward LDA 5'!D31","v":0},{"$f":"$AB31-'Cqinward LDA 5'!E31","v":0},{"$f":"$AB31-'Cqinward LDA 5'!F31","v":0},{"$f":"$AB31-'Cqinward LDA 5'!G31","v":0},{"$f":"$AB31-'Cqinward LDA 5'!H31","v":0},{"$f":"$AB31-'Cqinward LDA 5'!I31","v":0},{"$f":"$AB31-'Cqinward LDA 5'!J31","v":0},{"$f":"$AB31-'Cqinward LDA 5'!K31","v":0},{"$f":"$AB31-'Cqinward LDA 5'!L31","v":0},{"$f":"$AB31-'Cqinward LDA 5'!M31","v":0},{"$f":"$AB31-'Cqinward LDA 5'!N31","v":0},{"$f":"$AB31-'Cqinward LDA 5'!O31","v":0},{"$f":"$AB31-'Cqinward LDA 5'!P31","v":0},{"$f":"$AB31-'Cqinward LDA 5'!Q31","v":0},{"$f":"$AB31-'Cqinward LDA 5'!R31","v":0},{"$f":"$AB31-'Cqinward LDA 5'!S31","v":1},{"$f":"$AB31-'Cqinward LDA 5'!T31","v":0},{"$f":"$AB31-'Cqinward LDA 5'!U31","v":1},{"$f":"$AB31-'Cqinward LDA 5'!V31","v":0},{"$f":"$AB31-'Cqinward LDA 5'!W31","v":0},{"$f":"$AB31-'Cqinward LDA 5'!X31","v":0},{"$f":"$AB31-'Cqinward LDA 5'!Y31","v":0},{"$f":"$AB31-'Cqinward LDA 5'!Z31","v":0},{"$f":"$AB31-'Cqinward LDA 5'!AA31","v":0},{"$f":"$AB31-'Cqinward LDA 5'!AB31","v":0},4.0]
["propranolol",{"$f":"$AB32-'Cqinward LDA 5'!C32","v":1},{"$f":"$AB32-'Cqinward LDA 5'!D32","v":1},{"$f":"$AB32-'Cqinward LDA 5'!E32","v":1},{"$f":"$AB32-'Cqinward LDA 5'!F32","v":1},{"$f":"$AB32-'Cqinward LDA 5'!G32","v":1},{"$f":"$AB32-'Cqinward LDA 5'!H32","v":1},{"$f":"$AB32-'Cqinward LDA 5'!I32","v":1},{"$f":"$AB32-'Cqinward LDA 5'!J32","v":3},{"$f":"$AB32-'Cqinward LDA 5'!K32","v":1},{"$f":"$AB32-'Cqinward LDA 5'!L32","v":3},{"$f":"$AB32-'Cqinward LDA 5'!M32","v":1},{"$f":"$AB32-'Cqinward LDA 5'!N32","v":3},{"$f":"$AB32-'Cqinward LDA 5'!O32","v":1},{"$f":"$AB32-'Cqinward LDA 5'!P32","v":1},{"$f":"$AB32-'Cqinward LDA 5'!Q32","v":3},{"$f":"$AB32-'Cqinward LDA 5'!R32","v":1},{"$f":"$AB32-'Cqinward LDA 5'!S32","v":0},{"$f":"$AB32-'Cqinward LDA 5'!T32","v":3},{"$f":"$AB32-'Cqinward LDA 5'!U32","v":0},{"$f":"$AB32-'Cqinward LDA 5'!V32","v":2},{"$f":"$AB32-'Cqinward LDA 5'!W32","v":3},{"$f":"$AB32-'Cqinward LDA 5'!X32","v":2},{"$f":"$AB32-'Cqinward LDA 5'!Y32","v":2},{"$f":"$AB32-'Cqinward LDA 5'!Z32","v":2},{"$f":"$AB32-'Cqinward LDA 5'!AA32","v":2},{"$f":"$AB32-'Cqinward LDA 5'!AB32","v":0},5.0]
["quetiapine",{"$f":"$AB33-'Cqinward LDA 5'!C33","v":2},{"$f":"$AB33-'Cqinward LDA 5'!D33","v":2},{"$f":"$AB33-'Cqinward LDA 5'!E33","v":2},{"$f":"$AB33-'Cqinward LDA 5'!F33","v":2},{"$f":"$AB33-'Cqinward LDA 5'!G33","v":2},{"$f":"$AB33-'Cqinward LDA 5'!H33","v":2},{"$f":"$AB33-'Cqinward LDA 5'!I33","v":2},{"$f":"$AB33-'Cqinward LDA 5'!J33","v":2},{"$f":"$AB33-'Cqinward LDA 5'!K33","v":2},{"$f":"$AB33-'Cqinward LDA 5'!L33","v":2},{"$f":"$AB33-'Cqinward LDA 5'!M33","v":2},{"$f":"$AB33-'Cqinward LDA 5'!N33","v":2},{"$f":"$AB33-'Cqinward LDA 5'!O33","v":2},{"$f":"$AB33-'Cqinward LDA 5'!P33","v":2},{"$f":"$AB33-'Cqinward LDA 5'!Q33","v":2},{"$f":"$AB33-'Cqinward LDA 5'!R33","v":2},{"$f":"$AB33-'Cqinward LDA 5'!S33","v":2},{"$f":"$AB33-'Cqinward LDA 5'!T33","v":2},{"$f":"$AB33-'Cqinward LDA 5'!U33","v":2},{"$f":"$AB33-'Cqinward LDA 5'!V33","v":2},{"$f":"$AB33-'Cqinward LDA 5'!W33","v":2},{"$f":"$AB33-'Cqinward LDA 5'!X33","v":2},{"$f":"$AB33-'Cqinward LDA 5'!Y33","v":2},{"$f":"$AB33-'Cqinward LDA 5'!Z33","v":2},{"$f":"$AB33-'Cqinward LDA 5'!AA33","v":2},{"$f":"$AB33-'Cqinward LDA 5'!AB33","v":2},5.0]
["quinidine",{"$f":"$AB34-'Cqinward LDA 5'!C34","v":-1},{"$f":"$AB34-'Cqinward LDA 5'!D34","v":-1},{"$f":"$AB34-'Cqinward LDA 5'!E34","v":0},{"$f":"$AB34-'Cqinward LDA 5'!F34","v":-1},{"$f":"$AB34-'Cqinward LDA 5'!G34","v":0},{"$f":"$AB34-'Cqinward LDA 5'!H34","v":-1},{"$f":"$AB34-'Cqinward LDA 5'!I34","v":0},{"$f":"$AB34-'Cqinward LDA 5'!J34","v":-1},{"$f":"$AB34-'Cqinward LDA 5'!K34","v":0},{"$f":"$AB34-'Cqinward LDA 5'!L34","v":-1},{"$f":"$AB34-'Cqinward LDA 5'!M34","v":-2},{"$f":"$AB34-'Cqinward LDA 5'!N34","v":-2},{"$f":"$AB34-'Cqinward LDA 5'!O34","v":-2},{"$f":"$AB34-'Cqinward LDA 5'!P34","v":-2},{"$f":"$AB34-'Cqinward LDA 5'!Q34","v":0},{"$f":"$AB34-'Cqinward LDA 5'!R34","v":-2},{"$f":"$AB34-'Cqinward LDA 5'!S34","v":-3},{"$f":"$AB34-'Cqinward LDA 5'!T34","v":-3},{"$f":"$AB34-'Cqinward LDA 5'!U34","v":-3},{"$f":"$AB34-'Cqinward LDA 5'!V34","v":-3},{"$f":"$AB34-'Cqinward LDA 5'!W34","v":-1},{"$f":"$AB34-'Cqinward LDA 5'!X34","v":-3},{"$f":"$AB34-'Cqinward LDA 5'!Y34","v":-3},{"$f":"$AB34-'Cqinward LDA 5'!Z34","v":-3},{"$f":"$AB34-'Cqinward LDA 5'!AA34","v":-3},{"$f":"$AB34-'Cqinward LDA 5'!AB34","v":0},2.0]
["ranolazine",{"$f":"$AB35-'Cqinward LDA 5'!C35","v":-2},{"$f":"$AB35-'Cqinward LDA 5'!D35","v":-2},{"$f":"$AB35-'Cqinward LDA 5'!E35","v":-2},{"$f":"$AB35-'Cqinward LDA 5'!F35","v":-2},{"$f":"$AB35-'Cqinward LDA 5'!G35","v":-2},{"$f":"$AB35-'Cqinward LDA 5'!H35","v":-2},{"$f":"$AB35-'Cqinward LDA 5'!I35","v":-2},{"$f":"$AB35-'Cqinward LDA 5'!J35","v":-2},{"$f":"$AB35-'Cqinward LDA 5'!K35","v":-2},{"$f":"$AB35-'Cqinward LDA 5'!L35","v":-2},{"$f":"$AB35-'Cqinward LDA 5'!M35","v":-2},{"$f":"$AB35-'Cqinward LDA 5'!N35","v":-2},{"$f":"$AB35-'Cqinward LDA 5'!O35","v":-2},{"$f":"$AB35-'Cqinward LDA 5'!P35","v":-2},{"$f":"$AB35-'Cqinward LDA 5'!Q35","v":-2},{"$f":"$AB35-'Cqinward LDA 5'!R35","v":-2},{"$f":"$AB35-'Cqinward LDA 5'!S35","v":-2},{"$f":"$AB35-'Cqinward LDA 5'!T35","v":-2},{"$f":"$AB35-'Cqinward LDA 5'!U35","v":-2},{"$f":"$AB35-'Cqinward LDA 5'!V35","v":-2},{"$f":"$AB35-'Cqinward LDA 5'!W35","v":-2},{"$f":"$AB35-'Cqinward LDA 5'!X35","v":-2},{"$f":"$AB35-'Cqinward LDA 5'!Y35","v":-2},{"$f":"$AB35-'Cqinward LDA 5'!Z35","v":-2},{"$f":"$AB35-'Cqinward LDA 5'!AA35","v":-2},{"$f":"$AB35-'Cqinward LDA 5'!AB35","v":0},3.0]
["risperidone",{"$f":"$AB36-'Cqinward LDA 5'!C36","v":1},{"$f":"$AB36-'Cqinward LDA 5'!D36","v":1},{"$f":"$AB36-'Cqinward LDA 5'!E36","v":1},{"$f":"$AB36-'Cqinward LDA 5'!F36","v":1},{"$f":"$AB36-'Cqinward LDA 5'!G36","v":1},{"$f":"$AB36-'Cqinward LDA 5'!H36","v":3},{"$f":"$AB36-'Cqinward LDA 5'!I36","v":1},{"$f":"$AB36-'Cqinward LDA 5'!J36","v":3},{"$f":"$AB36-'Cqinward LDA 5'!K36","v":1},{"$f":"$AB36-'Cqinward LDA 5'!L36","v":1},{"$f":"$AB36-'Cqinward LDA 5'!M36","v":0},{"$f":"$AB36-'Cqinward LDA 5'!N36","v":0},{"$f":"$AB36-'Cqinward LDA 5'!O36","v":0},{"$f":"$AB36-'Cqinward LDA 5'!P36","v":0},{"$f":"$AB36-'Cqinward LDA 5'!Q36","v":3},{"$f":"$AB36-'Cqinward LDA 5'!R36","v":0},{"$f":"$AB36-'Cqinward LDA 5'!S36","v":0},{"$f":"$AB36-'Cqinward LDA 5'!T36","v":0},{"$f":"$AB36-'Cqinward LDA 5'!U36","v":0},{"$f":"$AB36-'Cqinward LDA 5'!V36","v":0},{"$f":"$AB36-'Cqinward LDA 5'!W36","v":0},{"$f":"$AB36-'Cqinward LDA 5'!X36","v":2},{"$f":"$AB36-'Cqinward LDA 5'!Y36","v":2},{"$f":"$AB36-'Cqinward LDA 5'!Z36","v":2},{"$f":"$AB36-'Cqinward LDA 5'!AA36","v":2},{"$f":"$AB36-'Cqinward LDA 5'!AB36","v":2},5.0]
["sertindole",{"$f":"$AB37-'Cqinward LDA 5'!C37","v":-1},{"$f":"$AB37-'Cqinward LDA 5'!D37","v":-1},{"$f":"$AB37-'Cqinward LDA 5'!E37","v":-1},{"$f":"$AB37-'Cqinward LDA 5'!F37","v":-1},{"$f":"$AB37-'Cqinward LDA 5'!G37","v":-1},{"$f":"$AB37-'Cqinward LDA 5'!H37","v":-1},{"$f":"$AB37-'Cqinward LDA 5'!I37","v":-1},{"$f":"$AB37-'Cqinward LDA 5'!J37","v":-1},{"$f":"$AB37-'Cqinward LDA 5'!K37","v":-1},{"$f":"$AB37-'Cqinward LDA 5'!L37","v":-1},{"$f":"$AB37-'Cqinward LDA 5'!M37","v":-1},{"$f":"$AB37-'Cqinward LDA 5'!N37","v":-1},{"$f":"$AB37-'Cqinward LDA 5'!O37","v":-1},{"$f":"$AB37-'Cqinward LDA 5'!P37","v":-1},{"$f":"$AB37-'Cqinward LDA 5'!Q37","v":-1},{"$f":"$AB37-'Cqinward LDA 5'!R37","v":-1},{"$f":"$AB37-'Cqinward LDA 5'!S37","v":-1},{"$f":"$AB37-'Cqinward LDA 5'!T37","v":-1},{"$f":"$AB37-'Cqinward LDA 5'!U37","v":-1},{"$f":"$AB37-'Cqinward LDA 5'!V37","v":-1},{"$f":"$AB37-'Cqinward LDA 5'!W37","v":-1},{"$f":"$AB37-'Cqinward LDA 5'!X37","v":-1},{"$f":"$AB37-'Cqinward LDA 5'!Y37","v":-1},{"$f":"$AB37-'Cqinward LDA 5'!Z37","v":-1},{"$f":"$AB37-'Cqinward LDA 5'!AA37","v":-1},{"$f":"$AB37-'Cqinward LDA 5'!AB37","v":-1},2.0]
["tedisamil",{"$f":"$AB38-'Cqinward LDA 5'!C38","v":-2},{"$f":"$AB38-'Cqinward LDA 5'!D38","v":-2},{"$f":"$AB38-'Cqinward LDA 5'!E38","v":-2},{"$f":"$AB38-'Cqinward LDA 5'!F38","v":-2},{"$f":"$AB38-'Cqinward LDA 5'!G38","v":-2},{"$f":"$AB38-'Cqinward LDA 5'!H38","v":0},{"$f":"$AB38-'Cqinward LDA 5'!I38","v":-2},{"$f":"$AB38-'Cqinward LDA 5'!J38","v":0},{"$f":"$AB38-'Cqinward LDA 5'!K38","v":0},{"$f":"$AB38-'Cqinward LDA 5'!L38","v":-3},{"$f":"$AB38-'Cqinward LDA 5'!M38","v":-3},{"$f":"$AB38-'Cqinward LDA 5'!N38","v":-3},{"$f":"$AB38-'Cqinward LDA 5'!O38","v":0},{"$f":"$AB38-'Cqinward LDA 5'!P38","v":-3},{"$f":"$AB38-'Cqinward LDA 5'!Q38","v":0},{"$f":"$AB38-'Cqinward LDA 5'!R38","v":-3},{"$f":"$AB38-'Cqinward LDA 5'!S38","v":-3},{"$f":"$AB38-'Cqinward LDA 5'!T38","v":-3},{"$f":"$AB38-'Cqinward LDA 5'!U38","v":-3},{"$f":"$AB38-'Cqinward LDA 5'!V38","v":-3},{"$f":"$AB38-'Cqinward LDA 5'!W38","v":-1},{"$f":"$AB38-'Cqinward LDA 5'!X38","v":-1},{"$f":"$AB38-'Cqinward LDA 5'!Y38","v":-1},{"$f":"$AB38-'Cqinward LDA 5'!Z38","v":-1},{"$f":"$AB38-'Cqinward LDA 5'!AA38","v":-1},{"$f":"$AB38-'Cqinward LDA 5'!AB38","v":-3},2.0]
["terfenadine",{"$f":"$AB39-'Cqinward LDA 5'!C39","v":-2},{"$f":"$AB39-'Cqinward LDA 5'!D39","v":-2},{"$f":"$AB39-'Cqinward LDA 5'!E39","v":-2},{"$f":"$AB39-'Cqinward LDA 5'!F39","v":-2},{"$f":"$AB39-'Cqinward LDA 5'!G39","v":-2},{"$f":"$AB39-'Cqinward LDA 5'!H39","v":0},{"$f":"$AB39-'Cqinward LDA 5'!I39","v":-2},{"$f":"$AB39-'Cqinward LDA 5'!J39","v":0},{"$f":"$AB39-'Cqinward LDA 5'!K39","v":-2},{"$f":"$AB39-'Cqinward LDA 5'!L39","v":0},{"$f":"$AB39-'Cqinward LDA 5'!M39","v":-2},{"$f":"$AB39-'Cqinward LDA 5'!N39","v":-2},{"$f":"$AB39-'Cqinward LDA 5'!O39","v":-2},{"$f":"$AB39-'Cqinward LDA 5'!P39","v":-2},{"$f":"$AB39-'Cqinward LDA 5'!Q39","v":0},{"$f":"$AB39-'Cqinward LDA 5'!R39","v":-1},{"$f":"$AB39-'Cqinward LDA 5'!S39","v":-3},{"$f":"$AB39-'Cqinward LDA 5'!T39","v":-1},{"$f":"$AB39-'Cqinward LDA 5'!U39","v":-3},{"$f":"$AB39-'Cqinward LDA 5'!V39","v":-1},{"$f":"$AB39-'Cqinward LDA 5'!W39","v":0},{"$f":"$AB39-'Cqinward LDA 5'!X39","v":-1},{"$f":"$AB39-'Cqinward LDA 5'!Y39","v":-1},{"$f":"$AB39-'Cqinward LDA 5'!Z39","v":-1},{"$f":"$AB39-'Cqinward LDA 5'!AA39","v":0},{"$f":"$AB39-'Cqinward LDA 5'!AB39","v":-1},2.0]
["terodiline",{"$f":"$AB40-'Cqinward LDA 5'!C40","v":-1},{"$f":"$AB40-'Cqinward LDA 5'!D40","v":0},{"$f":"$AB40-'Cqinward LDA 5'!E40","v":0},{"$f":"$AB40-'Cqinward LDA 5'!F40","v":-1},{"$f":"$AB40-'Cqinward LDA 5'!G40","v":0},{"$f":"$AB40-'Cqinward LDA 5'!H40","v":-3},{"$f":"$AB40-'Cqinward LDA 5'!I40","v":0},{"$f":"$AB40-'Cqinward LDA 5'!J40","v":-2},{"$f":"$AB40-'Cqinward LDA 5'!K40","v":0},{"$f":"$AB40-'Cqinward LDA 5'!L40","v":-2},{"$f":"$AB40-'Cqinward LDA 5'!M40","v":0},{"$f":"$AB40-'Cqinward LDA 5'!N40","v":-2},{"$f":"$AB40-'Cqinward LDA 5'!O40","v":0},{"$f":"$AB40-'Cqinward LDA 5'!P40","v":0},{"$f":"$AB40-'Cqinward LDA 5'!Q40","v":-1},{"$f":"$AB40-'Cqinward LDA 5'!R40","v":0},{"$f":"$AB40-'Cqinward LDA 5'!S40","v":0},{"$f":"$AB40-'Cqinward LDA 5'!T40","v":-2},{"$f":"$AB40-'Cqinward LDA 5'!U40","v":0},{"$f":"$AB40-'Cqinward LDA 5'!V40","v":0},{"$f":"$AB40-'Cqinward LDA 5'!W40","v":-2},{"$f":"$AB40-'Cqinward LDA 5'!X40","v":0},{"$f":"$AB40-'Cqinward LDA 5'!Y40","v":0},{"$f":"$AB40-'Cqinward LDA 5'!Z40","v":0},{"$f":"$AB40-'Cqinward LDA 5'!AA40","v":-2},{"$f":"$AB40-'Cqinward LDA 5'!AB40","v":0},2.0]
["thioridazine",{"$f":"$AB41-'Cqinward LDA 5'!C41","v":1},{"$f":"$AB41-'Cqinward LDA 5'!D41","v":1},{"$f":"$AB41-'Cqinward LDA 5'!E41","v":-2},{"$f":"$AB41-'Cqinward LDA 5'!F41","v":1},{"$f":"$AB41-'Cqinward LDA 5'!G41","v":-2},{"$f":"$AB41-'Cqinward LDA 5'!H41","v":1},{"$f":"$AB41-'Cqinward LDA 5'!I41","v":-2},{"$f":"$AB41-'Cqinward LDA 5'!J41","v":1},{"$f":"$AB41-'Cqinward LDA 5'!K41","v":-2},{"$f":"$AB41-'Cqinward LDA 5'!L41","v":1},{"$f":"$AB41-'Cqinward LDA 5'!M41","v":-2},{"$f":"$AB41-'Cqinward LDA 5'!N41","v":1},{"$f":"$AB41-'Cqinward LDA 5'!O41","v":-2},{"$f":"$AB41-'Cqinward LDA 5'!P41","v":1},{"$f":"$AB41-'Cqinward LDA 5'!Q41","v":-2},{"$f":"$AB41-'Cqinward LDA 5'!R41","v":1},{"$f":"$AB41-'Cqinward LDA 5'!S41","v":-2},{"$f":"$AB41-'Cqinward LDA 5'!T41","v":1},{"$f":"$AB41-'Cqinward LDA 5'!U41","v":-2},{"$f":"$AB41-'Cqinward LDA 5'!V41","v":1},{"$f":"$AB41-'Cqinward LDA 5'!W41","v":0},{"$f":"$AB41-'Cqinward LDA 5'!X41","v":0},{"$f":"$AB41-'Cqinward LDA 5'!Y41","v":-1},{"$f":"$AB41-'Cqinward LDA 5'!Z41","v":0},{"$f":"$AB41-'Cqinward LDA 5'!AA41","v":1},{"$f":"$AB41-'Cqinward LDA 5'!AB41","v":-1},3.0]
["verapamil",{"$f":"$AB42-'Cqinward LDA 5'!C42","v":0},{"$f":"$AB42-'Cqinward LDA 5'!D42","v":0},{"$f":"$AB42-'Cqinward LDA 5'!E42","v":2},{"$f":"$AB42-'Cqinward LDA 5'!F42","v":0},{"$f":"$AB42-'Cqinward LDA 5'!G42","v":2},{"$f":"$AB42-'Cqinward LDA 5'!H42","v":0},{"$f":"$AB42-'Cqinward LDA 5'!I42","v":2},{"$f":"$AB42-'Cqinward LDA 5'!J42","v":1},{"$f":"$AB42-'Cqinward LDA 5'!K42","v":2},{"$f":"$AB42-'Cqinward LDA 5'!L42","v":1},{"$f":"$AB42-'Cqinward LDA 5'!M42","v":2},{"$f":"$AB42-'Cqinward LDA 5'!N42","v":1},{"$f":"$AB42-'Cqinward LDA 5'!O42","v":2},{"$f":"$AB42-'Cqinward LDA 5'!P42","v":1},{"$f":"$AB42-'Cqinward LDA 5'!Q42","v":2},{"$f":"$AB42-'Cqinward LDA 5'!R42","v":1},{"$f":"$AB42-'Cqinward LDA 5'!S42","v":2},{"$f":"$AB42-'Cqinward LDA 5'!T42","v":1},{"$f":"$AB42-'Cqinward LDA 5'!U42","v":2},{"$f":"$AB42-'Cqinward LDA 5'!V42","v":1},{"$f":"$AB42-'Cqinward LDA 5'!W42","v":1},{"$f":"$AB42-'Cqinward LDA 5'!X42","v":1},{"$f":"$AB42-'Cqinward LDA 5'!Y42","v":1},{"$f":"$AB42-'Cqinward LDA 5'!Z42","v":1},{"$f":"$AB42-'Cqinward LDA 5'!AA42","v":1},{"$f":"$AB42-'Cqinward LDA 5'!AB42","v":0},5.0]
["Total (abs)",{"$f":"sum(abs(B$2:B$42))","v":42},40,47,44,51,44,47,45,44,42,52,55,48,48,60,40,56,47,56,48,43,39,51,38,51,42]
["Mean (abs)",{"$f":"sum(abs(B$2:B$42))/count(B$2:B$42)","v":1.024390244},0.9756097561,1.146341463,1.073170732,1.243902439,1.073170732,1.146341463,1.097560976,1.073170732,1.024390244,1.268292683,1.341463415,1.170731707,1.170731707,1.463414634,0.9756097561,1.365853659,1.146341463,1.365853659,1.170731707,1.048780488,0.9512195122,1.243902439,0.9268292683,1.243902439,1.024390244]
["SD (abs)",{"$f":"STDEV(abs(B$2:B$42))","v":0.6514524111},0.7241479434,0.7266696502,0.6852095994,0.6993027887,0.9324763778,0.7266696502,0.9435273724,0.7207719439,0.8511111819,0.7753834614,0.794032622,0.7036490256,0.7383237442,0.9512507812,0.7241479434,0.9684032621,0.9633528847,0.9684032621,0.9461088474,0.8930626941,0.8047117345,0.8882704488,0.8182372487,0.9159827456,0.9614521537]
["Total",{"$f":"sum(B$2:B$42)","v":-20},-16,-15,-20,-19,0,-15,9,-8,-12,-22,-25,-14,-26,18,-20,-30,-13,-30,-28,-1,1,-9,2,-3,-18]

{"sheet":"Cqinward SVM 5 errors","index":21,"n_rows":46,"n_cols":28,"rows_kept":46,"cut":false,"hidden":false,"merged":[]}
["Drug",1.0,2.0,3.0,4.0,5.0,6.0,7.0,8.0,9.0,10.0,11.0,12.0,13.0,14.0,15.0,16.0,17.0,18.0,19.0,20.0,21.0,22.0,23.0,24.0,25.0,"All","Redferns"]
["ajmaline",{"$f":"$AB2-'Cqinward SVM 5'!C2","v":0},{"$f":"$AB2-'Cqinward SVM 5'!D2","v":0},{"$f":"$AB2-'Cqinward SVM 5'!E2","v":0},{"$f":"$AB2-'Cqinward SVM 5'!F2","v":0},{"$f":"$AB2-'Cqinward SVM 5'!G2","v":0},{"$f":"$AB2-'Cqinward SVM 5'!H2","v":0},{"$f":"$AB2-'Cqinward SVM 5'!I2","v":0},{"$f":"$AB2-'Cqinward SVM 5'!J2","v":0},{"$f":"$AB2-'Cqinward SVM 5'!K2","v":0},{"$f":"$AB2-'Cqinward SVM 5'!L2","v":0},{"$f":"$AB2-'Cqinward SVM 5'!M2","v":0},{"$f":"$AB2-'Cqinward SVM 5'!N2","v":0},{"$f":"$AB2-'Cqinward SVM 5'!O2","v":0},{"$f":"$AB2-'Cqinward SVM 5'!P2","v":-2},{"$f":"$AB2-'Cqinward SVM 5'!Q2","v":0},{"$f":"$AB2-'Cqinward SVM 5'!R2","v":-2},{"$f":"$AB2-'Cqinward SVM 5'!S2","v":0},{"$f":"$AB2-'Cqinward SVM 5'!T2","v":0},{"$f":"$AB2-'Cqinward SVM 5'!U2","v":0},{"$f":"$AB2-'Cqinward SVM 5'!V2","v":0},{"$f":"$AB2-'Cqinward SVM 5'!W2","v":0},{"$f":"$AB2-'Cqinward SVM 5'!X2","v":0},{"$f":"$AB2-'Cqinward SVM 5'!Y2","v":0},{"$f":"$AB2-'Cqinward SVM 5'!Z2","v":0},{"$f":"$AB2-'Cqinward SVM 5'!AA2","v":0},{"$f":"$AB2-'Cqinward SVM 5'!AB2","v":0},2.0]
["amiodarone",{"$f":"$AB3-'Cqinward SVM 5'!C3","v":0},{"$f":"$AB3-'Cqinward SVM 5'!D3","v":0},{"$f":"$AB3-'Cqinward SVM 5'!E3","v":0},{"$f":"$AB3-'Cqinward SVM 5'!F3","v":0},{"$f":"$AB3-'Cqinward SVM 5'!G3","v":0},{"$f":"$AB3-'Cqinward SVM 5'!H3","v":0},{"$f":"$AB3-'Cqinward SVM 5'!I3","v":0},{"$f":"$AB3-'Cqinward SVM 5'!J3","v":0},{"$f":"$AB3-'Cqinward SVM 5'!K3","v":0},{"$f":"$AB3-'Cqinward SVM 5'!L3","v":0},{"$f":"$AB3-'Cqinward SVM 5'!M3","v":0},{"$f":"$AB3-'Cqinward SVM 5'!N3","v":0},{"$f":"$AB3-'Cqinward SVM 5'!O3","v":0},{"$f":"$AB3-'Cqinward SVM 5'!P3","v":-2},{"$f":"$AB3-'Cqinward SVM 5'!Q3","v":0},{"$f":"$AB3-'Cqinward SVM 5'!R3","v":-2},{"$f":"$AB3-'Cqinward SVM 5'!S3","v":0},{"$f":"$AB3-'Cqinward SVM 5'!T3","v":0},{"$f":"$AB3-'Cqinward SVM 5'!U3","v":0},{"$f":"$AB3-'Cqinward SVM 5'!V3","v":0},{"$f":"$AB3-'Cqinward SVM 5'!W3","v":0},{"$f":"$AB3-'Cqinward SVM 5'!X3","v":0},{"$f":"$AB3-'Cqinward SVM 5'!Y3","v":0},{"$f":"$AB3-'Cqinward SVM 5'!Z3","v":0},{"$f":"$AB3-'Cqinward SVM 5'!AA3","v":0},{"$f":"$AB3-'Cqinward SVM 5'!AB3","v":0},2.0]
["amitriptyline",{"$f":"$AB4-'Cqinward SVM 5'!C4","v":2},{"$f":"$AB4-'Cqinward SVM 5'!D4","v":2},{"$f":"$AB4-'Cqinward SVM 5'!E4","v":2},{"$f":"$AB4-'Cqinward SVM 5'!F4","v":2},{"$f":"$AB4-'Cqinward SVM 5'!G4","v":2},{"$f":"$AB4-'Cqinward SVM 5'!H4","v":2},{"$f":"$AB4-'Cqinward SVM 5'!I4","v":2},{"$f":"$AB4-'Cqinward SVM 5'!J4","v":2},{"$f":"$AB4-'Cqinward SVM 5'!K4","v":2},{"$f":"$AB4-'Cqinward SVM 5'!L4","v":2},{"$f":"$AB4-'Cqinward SVM 5'!M4","v":2},{"$f":"$AB4-'Cqinward SVM 5'!N4","v":2},{"$f":"$AB4-'Cqinward SVM 5'!O4","v":2},{"$f":"$AB4-'Cqinward SVM 5'!P4","v":2},{"$f":"$AB4-'Cqinward SVM 5'!Q4","v":2},{"$f":"$AB4-'Cqinward SVM 5'!R4","v":0},{"$f":"$AB4-'Cqinward SVM 5'!S4","v":2},{"$f":"$AB4-'Cqinward SVM 5'!T4","v":2},{"$f":"$AB4-'Cqinward SVM 5'!U4","v":2},{"$f":"$AB4-'Cqinward SVM 5'!V4","v":2},{"$f":"$AB4-'Cqinward SVM 5'!W4","v":2},{"$f":"$AB4-'Cqinward SVM 5'!X4","v":2},{"$f":"$AB4-'Cqinward SVM 5'!Y4","v":2},{"$f":"$AB4-'Cqinward SVM 5'!Z4","v":2},{"$f":"$AB4-'Cqinward SVM 5'!AA4","v":2},{"$f":"$AB4-'Cqinward SVM 5'!AB4","v":-1},4.0]
["azimilide",{"$f":"$AB5-'Cqinward SVM 5'!C5","v":0},{"$f":"$AB5-'Cqinward SVM 5'!D5","v":0},{"$f":"$AB5-'Cqinward SVM 5'!E5","v":0},{"$f":"$AB5-'Cqinward SVM 5'!F5","v":0},{"$f":"$AB5-'Cqinward SVM 5'!G5","v":0},{"$f":"$AB5-'Cqinward SVM 5'!H5","v":0},{"$f":"$AB5-'Cqinward SVM 5'!I5","v":0},{"$f":"$AB5-'Cqinward SVM 5'!J5","v":0},{"$f":"$AB5-'Cqinward SVM 5'!K5","v":0},{"$f":"$AB5-'Cqinward SVM 5'!L5","v":0},{"$f":"$AB5-'Cqinward SVM 5'!M5","v":0},{"$f":"$AB5-'Cqinward SVM 5'!N5","v":0},{"$f":"$AB5-'Cqinward SVM 5'!O5","v":0},{"$f":"$AB5-'Cqinward SVM 5'!P5","v":0},{"$f":"$AB5-'Cqinward SVM 5'!Q5","v":0},{"$f":"$AB5-'Cqinward SVM 5'!R5","v":0},{"$f":"$AB5-'Cqinward SVM 5'!S5","v":0},{"$f":"$AB5-'Cqinward SVM 5'!T5","v":-2},{"$f":"$AB5-'Cqinward SVM 5'!U5","v":0},{"$f":"$AB5-'Cqinward SVM 5'!V5","v":-2},{"$f":"$AB5-'Cqinward SVM 5'!W5","v":-2},{"$f":"$AB5-'Cqinward SVM 5'!X5","v":-2},{"$f":"$AB5-'Cqinward SVM 5'!Y5","v":0},{"$f":"$AB5-'Cqinward SVM 5'!Z5","v":-2},{"$f":"$AB5-'Cqinward SVM 5'!AA5","v":-2},{"$f":"$AB5-'Cqinward SVM 5'!AB5","v":-2},2.0]
["bepridil",{"$f":"$AB6-'Cqinward SVM 5'!C6","v":1},{"$f":"$AB6-'Cqinward SVM 5'!D6","v":1},{"$f":"$AB6-'Cqinward SVM 5'!E6","v":1},{"$f":"$AB6-'Cqinward SVM 5'!F6","v":1},{"$f":"$AB6-'Cqinward SVM 5'!G6","v":1},{"$f":"$AB6-'Cqinward SVM 5'!H6","v":1},{"$f":"$AB6-'Cqinward SVM 5'!I6","v":1},{"$f":"$AB6-'Cqinward SVM 5'!J6","v":1},{"$f":"$AB6-'Cqinward SVM 5'!K6","v":1},{"$f":"$AB6-'Cqinward SVM 5'!L6","v":1},{"$f":"$AB6-'Cqinward SVM 5'!M6","v":1},{"$f":"$AB6-'Cqinward SVM 5'!N6","v":1},{"$f":"$AB6-'Cqinward SVM 5'!O6","v":1},{"$f":"$AB6-'Cqinward SVM 5'!P6","v":-2},{"$f":"$AB6-'Cqinward SVM 5'!Q6","v":1},{"$f":"$AB6-'Cqinward SVM 5'!R6","v":-1},{"$f":"$AB6-'Cqinward SVM 5'!S6","v":1},{"$f":"$AB6-'Cqinward SVM 5'!T6","v":1},{"$f":"$AB6-'Cqinward SVM 5'!U6","v":1},{"$f":"$AB6-'Cqinward SVM 5'!V6","v":-1},{"$f":"$AB6-'Cqinward SVM 5'!W6","v":1},{"$f":"$AB6-'Cqinward SVM 5'!X6","v":-1},{"$f":"$AB6-'Cqinward SVM 5'!Y6","v":1},{"$f":"$AB6-'Cqinward SVM 5'!Z6","v":-1},{"$f":"$AB6-'Cqinward SVM 5'!AA6","v":1},{"$f":"$AB6-'Cqinward SVM 5'!AB6","v":-2},3.0]
["chlorpromazine",{"$f":"$AB7-'Cqinward SVM 5'!C7","v":1},{"$f":"$AB7-'Cqinward SVM 5'!D7","v":1},{"$f":"$AB7-'Cqinward SVM 5'!E7","v":1},{"$f":"$AB7-'Cqinward SVM 5'!F7","v":1},{"$f":"$AB7-'Cqinward SVM 5'!G7","v":1},{"$f":"$AB7-'Cqinward SVM 5'!H7","v":1},{"$f":"$AB7-'Cqinward SVM 5'!I7","v":1},{"$f":"$AB7-'Cqinward SVM 5'!J7","v":1},{"$f":"$AB7-'Cqinward SVM 5'!K7","v":1},{"$f":"$AB7-'Cqinward SVM 5'!L7","v":1},{"$f":"$AB7-'Cqinward SVM 5'!M7","v":1},{"$f":"$AB7-'Cqinward SVM 5'!N7","v":1},{"$f":"$AB7-'Cqinward SVM 5'!O7","v":1},{"$f":"$AB7-'Cqinward SVM 5'!P7","v":-1},{"$f":"$AB7-'Cqinward SVM 5'!Q7","v":1},{"$f":"$AB7-'Cqinward SVM 5'!R7","v":-1},{"$f":"$AB7-'Cqinward SVM 5'!S7","v":1},{"$f":"$AB7-'Cqinward SVM 5'!T7","v":1},{"$f":"$AB7-'Cqinward SVM 5'!U7","v":1},{"$f":"$AB7-'Cqinward SVM 5'!V7","v":1},{"$f":"$AB7-'Cqinward SVM 5'!W7","v":1},{"$f":"$AB7-'Cqinward SVM 5'!X7","v":1},{"$f":"$AB7-'Cqinward SVM 5'!Y7","v":1},{"$f":"$AB7-'Cqinward SVM 5'!Z7","v":1},{"$f":"$AB7-'Cqinward SVM 5'!AA7","v":1},{"$f":"$AB7-'Cqinward SVM 5'!AB7","v":-1},3.0]
["cibenzoline",{"$f":"$AB8-'Cqinward SVM 5'!C8","v":3},{"$f":"$AB8-'Cqinward SVM 5'!D8","v":3},{"$f":"$AB8-'Cqinward SVM 5'!E8","v":3},{"$f":"$AB8-'Cqinward SVM 5'!F8","v":3},{"$f":"$AB8-'Cqinward SVM 5'!G8","v":3},{"$f":"$AB8-'Cqinward SVM 5'!H8","v":3},{"$f":"$AB8-'Cqinward SVM 5'!I8","v":3},{"$f":"$AB8-'Cqinward SVM 5'!J8","v":3},{"$f":"$AB8-'Cqinward SVM 5'!K8","v":3},{"$f":"$AB8-'Cqinward SVM 5'!L8","v":3},{"$f":"$AB8-'Cqinward SVM 5'!M8","v":3},{"$f":"$AB8-'Cqinward SVM 5'!N8","v":3},{"$f":"$AB8-'Cqinward SVM 5'!O8","v":3},{"$f":"$AB8-'Cqinward SVM 5'!P8","v":3},{"$f":"$AB8-'Cqinward SVM 5'!Q8","v":3},{"$f":"$AB8-'Cqinward SVM 5'!R8","v":3},{"$f":"$AB8-'Cqinward SVM 5'!S8","v":3},{"$f":"$AB8-'Cqinward SVM 5'!T8","v":3},{"$f":"$AB8-'Cqinward SVM 5'!U8","v":3},{"$f":"$AB8-'Cqinward SVM 5'!V8","v":3},{"$f":"$AB8-'Cqinward SVM 5'!W8","v":3},{"$f":"$AB8-'Cqinward SVM 5'!X8","v":3},{"$f":"$AB8-'Cqinward SVM 5'!Y8","v":3},{"$f":"$AB8-'Cqinward SVM 5'!Z8","v":3},{"$f":"$AB8-'Cqinward SVM 5'!AA8","v":3},{"$f":"$AB8-'Cqinward SVM 5'!AB8","v":3},5.0]
["cisapride",{"$f":"$AB9-'Cqinward SVM 5'!C9","v":0},{"$f":"$AB9-'Cqinward SVM 5'!D9","v":0},{"$f":"$AB9-'Cqinward SVM 5'!E9","v":0},{"$f":"$AB9-'Cqinward SVM 5'!F9","v":0},{"$f":"$AB9-'Cqinward SVM 5'!G9","v":0},{"$f":"$AB9-'Cqinward SVM 5'!H9","v":0},{"$f":"$AB9-'Cqinward SVM 5'!I9","v":0},{"$f":"$AB9-'Cqinward SVM 5'!J9","v":0},{"$f":"$AB9-'Cqinward SVM 5'!K9","v":0},{"$f":"$AB9-'Cqinward SVM 5'!L9","v":0},{"$f":"$AB9-'Cqinward SVM 5'!M9","v":0},{"$f":"$AB9-'Cqinward SVM 5'!N9","v":0},{"$f":"$AB9-'Cqinward SVM 5'!O9","v":0},{"$f":"$AB9-'Cqinward SVM 5'!P9","v":0},{"$f":"$AB9-'Cqinward SVM 5'!Q9","v":0},{"$f":"$AB9-'Cqinward SVM 5'!R9","v":0},{"$f":"$AB9-'Cqinward SVM 5'!S9","v":0},{"$f":"$AB9-'Cqinward SVM 5'!T9","v":0},{"$f":"$AB9-'Cqinward SVM 5'!U9","v":0},{"$f":"$AB9-'Cqinward SVM 5'!V9","v":0},{"$f":"$AB9-'Cqinward SVM 5'!W9","v":0},{"$f":"$AB9-'Cqinward SVM 5'!X9","v":0},{"$f":"$AB9-'Cqinward SVM 5'!Y9","v":0},{"$f":"$AB9-'Cqinward SVM 5'!Z9","v":0},{"$f":"$AB9-'Cqinward SVM 5'!AA9","v":0},{"$f":"$AB9-'Cqinward SVM 5'!AB9","v":0},2.0]
["clozapine",{"$f":"$AB10-'Cqinward SVM 5'!C10","v":2},{"$f":"$AB10-'Cqinward SVM 5'!D10","v":2},{"$f":"$AB10-'Cqinward SVM 5'!E10","v":2},{"$f":"$AB10-'Cqinward SVM 5'!F10","v":2},{"$f":"$AB10-'Cqinward SVM 5'!G10","v":2},{"$f":"$AB10-'Cqinward SVM 5'!H10","v":2},{"$f":"$AB10-'Cqinward SVM 5'!I10","v":2},{"$f":"$AB10-'Cqinward SVM 5'!J10","v":2},{"$f":"$AB10-'Cqinward SVM 5'!K10","v":2},{"$f":"$AB10-'Cqinward SVM 5'!L10","v":2},{"$f":"$AB10-'Cqinward SVM 5'!M10","v":2},{"$f":"$AB10-'Cqinward SVM 5'!N10","v":2},{"$f":"$AB10-'Cqinward SVM 5'!O10","v":2},{"$f":"$AB10-'Cqinward SVM 5'!P10","v":2},{"$f":"$AB10-'Cqinward SVM 5'!Q10","v":2},{"$f":"$AB10-'Cqinward SVM 5'!R10","v":2},{"$f":"$AB10-'Cqinward SVM 5'!S10","v":2},{"$f":"$AB10-'Cqinward SVM 5'!T10","v":2},{"$f":"$AB10-'Cqinward SVM 5'!U10","v":2},{"$f":"$AB10-'Cqinward SVM 5'!V10","v":2},{"$f":"$AB10-'Cqinward SVM 5'!W10","v":2},{"$f":"$AB10-'Cqinward SVM 5'!X10","v":2},{"$f":"$AB10-'Cqinward SVM 5'!Y10","v":2},{"$f":"$AB10-'Cqinward SVM 5'!Z10","v":2},{"$f":"$AB10-'Cqinward SVM 5'!AA10","v":2},{"$f":"$AB10-'Cqinward SVM 5'!AB10","v":2},4.0]
["desipramine",{"$f":"$AB11-'Cqinward SVM 5'!C11","v":2},{"$f":"$AB11-'Cqinward SVM 5'!D11","v":2},{"$f":"$AB11-'Cqinward SVM 5'!E11","v":2},{"$f":"$AB11-'Cqinward SVM 5'!F11","v":2},{"$f":"$AB11-'Cqinward SVM 5'!G11","v":2},{"$f":"$AB11-'Cqinward SVM 5'!H11","v":2},{"$f":"$AB11-'Cqinward SVM 5'!I11","v":2},{"$f":"$AB11-'Cqinward SVM 5'!J11","v":2},{"$f":"$AB11-'Cqinward SVM 5'!K11","v":2},{"$f":"$AB11-'Cqinward SVM 5'!L11","v":2},{"$f":"$AB11-'Cqinward SVM 5'!M11","v":2},{"$f":"$AB11-'Cqinward SVM 5'!N11","v":2},{"$f":"$AB11-'Cqinward SVM 5'!O11","v":2},{"$f":"$AB11-'Cqinward SVM 5'!P11","v":2},{"$f":"$AB11-'Cqinward SVM 5'!Q11","v":2},{"$f":"$AB11-'Cqinward SVM 5'!R11","v":2},{"$f":"$AB11-'Cqinward SVM 5'!S11","v":2},{"$f":"$AB11-'Cqinward SVM 5'!T11","v":2},{"$f":"$AB11-'Cqinward SVM 5'!U11","v":2},{"$f":"$AB11-'Cqinward SVM 5'!V11","v":2},{"$f":"$AB11-'Cqinward SVM 5'!W11","v":2},{"$f":"$AB11-'Cqinward SVM 5'!X11","v":2},{"$f":"$AB11-'Cqinward SVM 5'!Y11","v":2},{"$f":"$AB11-'Cqinward SVM 5'!Z11","v":2},{"$f":"$AB11-'Cqinward SVM 5'!AA11","v":2},{"$f":"$AB11-'Cqinward SVM 5'!AB11","v":2},4.0]
["diltiazem",{"$f":"$AB12-'Cqinward SVM 5'!C12","v":3},{"$f":"$AB12-'Cqinward SVM 5'!D12","v":3},{"$f":"$AB12-'Cqinward SVM 5'!E12","v":3},{"$f":"$AB12-'Cqinward SVM 5'!F12","v":3},{"$f":"$AB12-'Cqinward SVM 5'!G12","v":3},{"$f":"$AB12-'Cqinward SVM 5'!H12","v":3},{"$f":"$AB12-'Cqinward SVM 5'!I12","v":3},{"$f":"$AB12-'Cqinward SVM 5'!J12","v":3},{"$f":"$AB12-'Cqinward SVM 5'!K12","v":3},{"$f":"$AB12-'Cqinward SVM 5'!L12","v":3},{"$f":"$AB12-'Cqinward SVM 5'!M12","v":3},{"$f":"$AB12-'Cqinward SVM 5'!N12","v":3},{"$f":"$AB12-'Cqinward SVM 5'!O12","v":3},{"$f":"$AB12-'Cqinward SVM 5'!P12","v":3},{"$f":"$AB12-'Cqinward SVM 5'!Q12","v":3},{"$f":"$AB12-'Cqinward SVM 5'!R12","v":3},{"$f":"$AB12-'Cqinward SVM 5'!S12","v":3},{"$f":"$AB12-'Cqinward SVM 5'!T12","v":3},{"$f":"$AB12-'Cqinward SVM 5'!U12","v":3},{"$f":"$AB12-'Cqinward SVM 5'!V12","v":3},{"$f":"$AB12-'Cqinward SVM 5'!W12","v":3},{"$f":"$AB12-'Cqinward SVM 5'!X12","v":3},{"$f":"$AB12-'Cqinward SVM 5'!Y12","v":3},{"$f":"$AB12-'Cqinward SVM 5'!Z12","v":3},{"$f":"$AB12-'Cqinward SVM 5'!AA12","v":3},{"$f":"$AB12-'Cqinward SVM 5'!AB12","v":2},5.0]
["disopyramide",{"$f":"$AB13-'Cqinward SVM 5'!C13","v":0},{"$f":"$AB13-'Cqinward SVM 5'!D13","v":0},{"$f":"$AB13-'Cqinward SVM 5'!E13","v":0},{"$f":"$AB13-'Cqinward SVM 5'!F13","v":0},{"$f":"$AB13-'Cqinward SVM 5'!G13","v":0},{"$f":"$AB13-'Cqinward SVM 5'!H13","v":0},{"$f":"$AB13-'Cqinward SVM 5'!I13","v":0},{"$f":"$AB13-'Cqinward SVM 5'!J13","v":0},{"$f":"$AB13-'Cqinward SVM 5'!K13","v":0},{"$f":"$AB13-'Cqinward SVM 5'!L13","v":0},{"$f":"$AB13-'Cqinward SVM 5'!M13","v":0},{"$f":"$AB13-'Cqinward SVM 5'!N13","v":0},{"$f":"$AB13-'Cqinward SVM 5'!O13","v":0},{"$f":"$AB13-'Cqinward SVM 5'!P13","v":0},{"$f":"$AB13-'Cqinward SVM 5'!Q13","v":0},{"$f":"$AB13-'Cqinward SVM 5'!R13","v":-2},{"$f":"$AB13-'Cqinward SVM 5'!S13","v":0},{"$f":"$AB13-'Cqinward SVM 5'!T13","v":0},{"$f":"$AB13-'Cqinward SVM 5'!U13","v":0},{"$f":"$AB13-'Cqinward SVM 5'!V13","v":0},{"$f":"$AB13-'Cqinward SVM 5'!W13","v":0},{"$f":"$AB13-'Cqinward SVM 5'!X13","v":0},{"$f":"$AB13-'Cqinward SVM 5'!Y13","v":0},{"$f":"$AB13-'Cqinward SVM 5'!Z13","v":0},{"$f":"$AB13-'Cqinward SVM 5'!AA13","v":0},{"$f":"$AB13-'Cqinward SVM 5'!AB13","v":0},2.0]
["dl-sotalol",{"$f":"$AB14-'Cqinward SVM 5'!C14","v":0},{"$f":"$AB14-'Cqinward SVM 5'!D14","v":0},{"$f":"$AB14-'Cqinward SVM 5'!E14","v":0},{"$f":"$AB14-'Cqinward SVM 5'!F14","v":0},{"$f":"$AB14-'Cqinward SVM 5'!G14","v":0},{"$f":"$AB14-'Cqinward SVM 5'!H14","v":0},{"$f":"$AB14-'Cqinward SVM 5'!I14","v":0},{"$f":"$AB14-'Cqinward SVM 5'!J14","v":0},{"$f":"$AB14-'Cqinward SVM 5'!K14","v":0},{"$f":"$AB14-'Cqinward SVM 5'!L14","v":0},{"$f":"$AB14-'Cqinward SVM 5'!M14","v":0},{"$f":"$AB14-'Cqinward SVM 5'!N14","v":0},{"$f":"$AB14-'Cqinward SVM 5'!O14","v":0},{"$f":"$AB14-'Cqinward SVM 5'!P14","v":0},{"$f":"$AB14-'Cqinward SVM 5'!Q14","v":0},{"$f":"$AB14-'Cqinward SVM 5'!R14","v":-2},{"$f":"$AB14-'Cqinward SVM 5'!S14","v":0},{"$f":"$AB14-'Cqinward SVM 5'!T14","v":0},{"$f":"$AB14-'Cqinward SVM 5'!U14","v":0},{"$f":"$AB14-'Cqinward SVM 5'!V14","v":0},{"$f":"$AB14-'Cqinward SVM 5'!W14","v":0},{"$f":"$AB14-'Cqinward SVM 5'!X14","v":0},{"$f":"$AB14-'Cqinward SVM 5'!Y14","v":0},{"$f":"$AB14-'Cqinward SVM 5'!Z14","v":0},{"$f":"$AB14-'Cqinward SVM 5'!AA14","v":0},{"$f":"$AB14-'Cqinward SVM 5'!AB14","v":0},2.0]
["dofetilide",{"$f":"$AB15-'Cqinward SVM 5'!C15","v":0},{"$f":"$AB15-'Cqinward SVM 5'!D15","v":0},{"$f":"$AB15-'Cqinward SVM 5'!E15","v":0},{"$f":"$AB15-'Cqinward SVM 5'!F15","v":0},{"$f":"$AB15-'Cqinward SVM 5'!G15","v":0},{"$f":"$AB15-'Cqinward SVM 5'!H15","v":0},{"$f":"$AB15-'Cqinward SVM 5'!I15","v":0},{"$f":"$AB15-'Cqinward SVM 5'!J15","v":0},{"$f":"$AB15-'Cqinward SVM 5'!K15","v":0},{"$f":"$AB15-'Cqinward SVM 5'!L15","v":0},{"$f":"$AB15-'Cqinward SVM 5'!M15","v":0},{"$f":"$AB15-'Cqinward SVM 5'!N15","v":0},{"$f":"$AB15-'Cqinward SVM 5'!O15","v":0},{"$f":"$AB15-'Cqinward SVM 5'!P15","v":0},{"$f":"$AB15-'Cqinward SVM 5'!Q15","v":0},{"$f":"$AB15-'Cqinward SVM 5'!R15","v":0},{"$f":"$AB15-'Cqinward SVM 5'!S15","v":0},{"$f":"$AB15-'Cqinward SVM 5'!T15","v":0},{"$f":"$AB15-'Cqinward SVM 5'!U15","v":0},{"$f":"$AB15-'Cqinward SVM 5'!V15","v":0},{"$f":"$AB15-'Cqinward SVM 5'!W15","v":0},{"$f":"$AB15-'Cqinward SVM 5'!X15","v":0},{"$f":"$AB15-'Cqinward SVM 5'!Y15","v":0},{"$f":"$AB15-'Cqinward SVM 5'!Z15","v":0},{"$f":"$AB15-'Cqinward SVM 5'!AA15","v":0},{"$f":"$AB15-'Cqinward SVM 5'!AB15","v":0},2.0]
["flecainide",{"$f":"$AB16-'Cqinward SVM 5'!C16","v":1},{"$f":"$AB16-'Cqinward SVM 5'!D16","v":1},{"$f":"$AB16-'Cqinward SVM 5'!E16","v":1},{"$f":"$AB16-'Cqinward SVM 5'!F16","v":1},{"$f":"$AB16-'Cqinward SVM 5'!G16","v":1},{"$f":"$AB16-'Cqinward SVM 5'!H16","v":1},{"$f":"$AB16-'Cqinward SVM 5'!I16","v":1},{"$f":"$AB16-'Cqinward SVM 5'!J16","v":1},{"$f":"$AB16-'Cqinward SVM 5'!K16","v":1},{"$f":"$AB16-'Cqinward SVM 5'!L16","v":1},{"$f":"$AB16-'Cqinward SVM 5'!M16","v":1},{"$f":"$AB16-'Cqinward SVM 5'!N16","v":1},{"$f":"$AB16-'Cqinward SVM 5'!O16","v":1},{"$f":"$AB16-'Cqinward SVM 5'!P16","v":-1},{"$f":"$AB16-'Cqinward SVM 5'!Q16","v":1},{"$f":"$AB16-'Cqinward SVM 5'!R16","v":-1},{"$f":"$AB16-'Cqinward SVM 5'!S16","v":1},{"$f":"$AB16-'Cqinward SVM 5'!T16","v":1},{"$f":"$AB16-'Cqinward SVM 5'!U16","v":1},{"$f":"$AB16-'Cqinward SVM 5'!V16","v":1},{"$f":"$AB16-'Cqinward SVM 5'!W16","v":1},{"$f":"$AB16-'Cqinward SVM 5'!X16","v":1},{"$f":"$AB16-'Cqinward SVM 5'!Y16","v":1},{"$f":"$AB16-'Cqinward SVM 5'!Z16","v":1},{"$f":"$AB16-'Cqinward SVM 5'!AA16","v":1},{"$f":"$AB16-'Cqinward SVM 5'!AB16","v":-1},3.0]
["fluvoxamine",{"$f":"$AB17-'Cqinward SVM 5'!C17","v":2},{"$f":"$AB17-'Cqinward SVM 5'!D17","v":2},{"$f":"$AB17-'Cqinward SVM 5'!E17","v":2},{"$f":"$AB17-'Cqinward SVM 5'!F17","v":2},{"$f":"$AB17-'Cqinward SVM 5'!G17","v":2},{"$f":"$AB17-'Cqinward SVM 5'!H17","v":2},{"$f":"$AB17-'Cqinward SVM 5'!I17","v":2},{"$f":"$AB17-'Cqinward SVM 5'!J17","v":2},{"$f":"$AB17-'Cqinward SVM 5'!K17","v":2},{"$f":"$AB17-'Cqinward SVM 5'!L17","v":2},{"$f":"$AB17-'Cqinward SVM 5'!M17","v":2},{"$f":"$AB17-'Cqinward SVM 5'!N17","v":2},{"$f":"$AB17-'Cqinward SVM 5'!O17","v":2},{"$f":"$AB17-'Cqinward SVM 5'!P17","v":2},{"$f":"$AB17-'Cqinward SVM 5'!Q17","v":2},{"$f":"$AB17-'Cqinward SVM 5'!R17","v":2},{"$f":"$AB17-'Cqinward SVM 5'!S17","v":2},{"$f":"$AB17-'Cqinward SVM 5'!T17","v":2},{"$f":"$AB17-'Cqinward SVM 5'!U17","v":2},{"$f":"$AB17-'Cqinward SVM 5'!V17","v":2},{"$f":"$AB17-'Cqinward SVM 5'!W17","v":2},{"$f":"$AB17-'Cqinward SVM 5'!X17","v":2},{"$f":"$AB17-'Cqinward SVM 5'!Y17","v":2},{"$f":"$AB17-'Cqinward SVM 5'!Z17","v":2},{"$f":"$AB17-'Cqinward SVM 5'!AA17","v":2},{"$f":"$AB17-'Cqinward SVM 5'!AB17","v":2},4.0]
["halofantrine",{"$f":"$AB18-'Cqinward SVM 5'!C18","v":1},{"$f":"$AB18-'Cqinward SVM 5'!D18","v":1},{"$f":"$AB18-'Cqinward SVM 5'!E18","v":1},{"$f":"$AB18-'Cqinward SVM 5'!F18","v":1},{"$f":"$AB18-'Cqinward SVM 5'!G18","v":1},{"$f":"$AB18-'Cqinward SVM 5'!H18","v":1},{"$f":"$AB18-'Cqinward SVM 5'!I18","v":1},{"$f":"$AB18-'Cqinward SVM 5'!J18","v":1},{"$f":"$AB18-'Cqinward SVM 5'!K18","v":1},{"$f":"$AB18-'Cqinward SVM 5'!L18","v":1},{"$f":"$AB18-'Cqinward SVM 5'!M18","v":1},{"$f":"$AB18-'Cqinward SVM 5'!N18","v":1},{"$f":"$AB18-'Cqinward SVM 5'!O18","v":1},{"$f":"$AB18-'Cqinward SVM 5'!P18","v":1},{"$f":"$AB18-'Cqinward SVM 5'!Q18","v":1},{"$f":"$AB18-'Cqinward SVM 5'!R18","v":1},{"$f":"$AB18-'Cqinward SVM 5'!S18","v":1},{"$f":"$AB18-'Cqinward SVM 5'!T18","v":1},{"$f":"$AB18-'Cqinward SVM 5'!U18","v":1},{"$f":"$AB18-'Cqinward SVM 5'!V18","v":1},{"$f":"$AB18-'Cqinward SVM 5'!W18","v":1},{"$f":"$AB18-'Cqinward SVM 5'!X18","v":1},{"$f":"$AB18-'Cqinward SVM 5'!Y18","v":1},{"$f":"$AB18-'Cqinward SVM 5'!Z18","v":1},{"$f":"$AB18-'Cqinward SVM 5'!AA18","v":1},{"$f":"$AB18-'Cqinward SVM 5'!AB18","v":1},3.0]
["imipramine",{"$f":"$AB19-'Cqinward SVM 5'!C19","v":2},{"$f":"$AB19-'Cqinward SVM 5'!D19","v":2},{"$f":"$AB19-'Cqinward SVM 5'!E19","v":2},{"$f":"$AB19-'Cqinward SVM 5'!F19","v":2},{"$f":"$AB19-'Cqinward SVM 5'!G19","v":2},{"$f":"$AB19-'Cqinward SVM 5'!H19","v":2},{"$f":"$AB19-'Cqinward SVM 5'!I19","v":2},{"$f":"$AB19-'Cqinward SVM 5'!J19","v":2},{"$f":"$AB19-'Cqinward SVM 5'!K19","v":2},{"$f":"$AB19-'Cqinward SVM 5'!L19","v":2},{"$f":"$AB19-'Cqinward SVM 5'!M19","v":2},{"$f":"$AB19-'Cqinward SVM 5'!N19","v":2},{"$f":"$AB19-'Cqinward SVM 5'!O19","v":2},{"$f":"$AB19-'Cqinward SVM 5'!P19","v":2},{"$f":"$AB19-'Cqinward SVM 5'!Q19","v":2},{"$f":"$AB19-'Cqinward SVM 5'!R19","v":2},{"$f":"$AB19-'Cqinward SVM 5'!S19","v":2},{"$f":"$AB19-'Cqinward SVM 5'!T19","v":2},{"$f":"$AB19-'Cqinward SVM 5'!U19","v":2},{"$f":"$AB19-'Cqinward SVM 5'!V19","v":2},{"$f":"$AB19-'Cqinward SVM 5'!W19","v":2},{"$f":"$AB19-'Cqinward SVM 5'!X19","v":2},{"$f":"$AB19-'Cqinward SVM 5'!Y19","v":2},{"$f":"$AB19-'Cqinward SVM 5'!Z19","v":2},{"$f":"$AB19-'Cqinward SVM 5'!AA19","v":2},{"$f":"$AB19-'Cqinward SVM 5'!AB19","v":2},4.0]
["loratadine",{"$f":"$AB20-'Cqinward SVM 5'!C20","v":3},{"$f":"$AB20-'Cqinward SVM 5'!D20","v":3},{"$f":"$AB20-'Cqinward SVM 5'!E20","v":3},{"$f":"$AB20-'Cqinward SVM 5'!F20","v":3},{"$f":"$AB20-'Cqinward SVM 5'!G20","v":3},{"$f":"$AB20-'Cqinward SVM 5'!H20","v":3},{"$f":"$AB20-'Cqinward SVM 5'!I20","v":3},{"$f":"$AB20-'Cqinward SVM 5'!J20","v":3},{"$f":"$AB20-'Cqinward SVM 5'!K20","v":3},{"$f":"$AB20-'Cqinward SVM 5'!L20","v":3},{"$f":"$AB20-'Cqinward SVM 5'!M20","v":3},{"$f":"$AB20-'Cqinward SVM 5'!N20","v":3},{"$f":"$AB20-'Cqinward SVM 5'!O20","v":3},{"$f":"$AB20-'Cqinward SVM 5'!P20","v":3},{"$f":"$AB20-'Cqinward SVM 5'!Q20","v":3},{"$f":"$AB20-'Cqinward SVM 5'!R20","v":3},{"$f":"$AB20-'Cqinward SVM 5'!S20","v":3},{"$f":"$AB20-'Cqinward SVM 5'!T20","v":3},{"$f":"$AB20-'Cqinward SVM 5'!U20","v":3},{"$f":"$AB20-'Cqinward SVM 5'!V20","v":3},{"$f":"$AB20-'Cqinward SVM 5'!W20","v":3},{"$f":"$AB20-'Cqinward SVM 5'!X20","v":3},{"$f":"$AB20-'Cqinward SVM 5'!Y20","v":3},{"$f":"$AB20-'Cqinward SVM 5'!Z20","v":3},{"$f":"$AB20-'Cqinward SVM 5'!AA20","v":3},{"$f":"$AB20-'Cqinward SVM 5'!AB20","v":3},5.0]
["methadone",{"$f":"$AB21-'Cqinward SVM 5'!C21","v":0},{"$f":"$AB21-'Cqinward SVM 5'!D21","v":0},{"$f":"$AB21-'Cqinward SVM 5'!E21","v":0},{"$f":"$AB21-'Cqinward SVM 5'!F21","v":0},{"$f":"$AB21-'Cqinward SVM 5'!G21","v":0},{"$f":"$AB21-'Cqinward SVM 5'!H21","v":0},{"$f":"$AB21-'Cqinward SVM 5'!I21","v":0},{"$f":"$AB21-'Cqinward SVM 5'!J21","v":0},{"$f":"$AB21-'Cqinward SVM 5'!K21","v":0},{"$f":"$AB21-'Cqinward SVM 5'!L21","v":0},{"$f":"$AB21-'Cqinward SVM 5'!M21","v":0},{"$f":"$AB21-'Cqinward SVM 5'!N21","v":0},{"$f":"$AB21-'Cqinward SVM 5'!O21","v":0},{"$f":"$AB21-'Cqinward SVM 5'!P21","v":0},{"$f":"$AB21-'Cqinward SVM 5'!Q21","v":0},{"$f":"$AB21-'Cqinward SVM 5'!R21","v":-2},{"$f":"$AB21-'Cqinward SVM 5'!S21","v":0},{"$f":"$AB21-'Cqinward SVM 5'!T21","v":0},{"$f":"$AB21-'Cqinward SVM 5'!U21","v":0},{"$f":"$AB21-'Cqinward SVM 5'!V21","v":0},{"$f":"$AB21-'Cqinward SVM 5'!W21","v":0},{"$f":"$AB21-'Cqinward SVM 5'!X21","v":0},{"$f":"$AB21-'Cqinward SVM 5'!Y21","v":0},{"$f":"$AB21-'Cqinward SVM 5'!Z21","v":0},{"$f":"$AB21-'Cqinward SVM 5'!AA21","v":0},{"$f":"$AB21-'Cqinward SVM 5'!AB21","v":0},2.0]
["mexiletine",{"$f":"$AB22-'Cqinward SVM 5'!C22","v":2},{"$f":"$AB22-'Cqinward SVM 5'!D22","v":2},{"$f":"$AB22-'Cqinward SVM 5'!E22","v":2},{"$f":"$AB22-'Cqinward SVM 5'!F22","v":2},{"$f":"$AB22-'Cqinward SVM 5'!G22","v":2},{"$f":"$AB22-'Cqinward SVM 5'!H22","v":2},{"$f":"$AB22-'Cqinward SVM 5'!I22","v":2},{"$f":"$AB22-'Cqinward SVM 5'!J22","v":2},{"$f":"$AB22-'Cqinward SVM 5'!K22","v":2},{"$f":"$AB22-'Cqinward SVM 5'!L22","v":2},{"$f":"$AB22-'Cqinward SVM 5'!M22","v":2},{"$f":"$AB22-'Cqinward SVM 5'!N22","v":2},{"$f":"$AB22-'Cqinward SVM 5'!O22","v":2},{"$f":"$AB22-'Cqinward SVM 5'!P22","v":2},{"$f":"$AB22-'Cqinward SVM 5'!Q22","v":2},{"$f":"$AB22-'Cqinward SVM 5'!R22","v":2},{"$f":"$AB22-'Cqinward SVM 5'!S22","v":2},{"$f":"$AB22-'Cqinward SVM 5'!T22","v":2},{"$f":"$AB22-'Cqinward SVM 5'!U22","v":2},{"$f":"$AB22-'Cqinward SVM 5'!V22","v":2},{"$f":"$AB22-'Cqinward SVM 5'!W22","v":2},{"$f":"$AB22-'Cqinward SVM 5'!X22","v":2},{"$f":"$AB22-'Cqinward SVM 5'!Y22","v":2},{"$f":"$AB22-'Cqinward SVM 5'!Z22","v":2},{"$f":"$AB22-'Cqinward SVM 5'!AA22","v":2},{"$f":"$AB22-'Cqinward SVM 5'!AB22","v":1},4.0]
["mibefradil",{"$f":"$AB23-'Cqinward SVM 5'!C23","v":2},{"$f":"$AB23-'Cqinward SVM 5'!D23","v":2},{"$f":"$AB23-'Cqinward SVM 5'!E23","v":2},{"$f":"$AB23-'Cqinward SVM 5'!F23","v":2},{"$f":"$AB23-'Cqinward SVM 5'!G23","v":2},{"$f":"$AB23-'Cqinward SVM 5'!H23","v":2},{"$f":"$AB23-'Cqinward SVM 5'!I23","v":2},{"$f":"$AB23-'Cqinward SVM 5'!J23","v":2},{"$f":"$AB23-'Cqinward SVM 5'!K23","v":2},{"$f":"$AB23-'Cqinward SVM 5'!L23","v":2},{"$f":"$AB23-'Cqinward SVM 5'!M23","v":2},{"$f":"$AB23-'Cqinward SVM 5'!N23","v":2},{"$f":"$AB23-'Cqinward SVM 5'!O23","v":2},{"$f":"$AB23-'Cqinward SVM 5'!P23","v":2},{"$f":"$AB23-'Cqinward SVM 5'!Q23","v":2},{"$f":"$AB23-'Cqinward SVM 5'!R23","v":2},{"$f":"$AB23-'Cqinward SVM 5'!S23","v":2},{"$f":"$AB23-'Cqinward SVM 5'!T23","v":2},{"$f":"$AB23-'Cqinward SVM 5'!U23","v":2},{"$f":"$AB23-'Cqinward SVM 5'!V23","v":2},{"$f":"$AB23-'Cqinward SVM 5'!W23","v":2},{"$f":"$AB23-'Cqinward SVM 5'!X23","v":2},{"$f":"$AB23-'Cqinward SVM 5'!Y23","v":2},{"$f":"$AB23-'Cqinward SVM 5'!Z23","v":2},{"$f":"$AB23-'Cqinward SVM 5'!AA23","v":2},{"$f":"$AB23-'Cqinward SVM 5'!AB23","v":1},4.0]
["nifedipine",{"$f":"$AB24-'Cqinward SVM 5'!C24","v":2},{"$f":"$AB24-'Cqinward SVM 5'!D24","v":2},{"$f":"$AB24-'Cqinward SVM 5'!E24","v":2},{"$f":"$AB24-'Cqinward SVM 5'!F24","v":2},{"$f":"$AB24-'Cqinward SVM 5'!G24","v":2},{"$f":"$AB24-'Cqinward SVM 5'!H24","v":2},{"$f":"$AB24-'Cqinward SVM 5'!I24","v":2},{"$f":"$AB24-'Cqinward SVM 5'!J24","v":2},{"$f":"$AB24-'Cqinward SVM 5'!K24","v":2},{"$f":"$AB24-'Cqinward SVM 5'!L24","v":2},{"$f":"$AB24-'Cqinward SVM 5'!M24","v":2},{"$f":"$AB24-'Cqinward SVM 5'!N24","v":2},{"$f":"$AB24-'Cqinward SVM 5'!O24","v":2},{"$f":"$AB24-'Cqinward SVM 5'!P24","v":2},{"$f":"$AB24-'Cqinward SVM 5'!Q24","v":2},{"$f":"$AB24-'Cqinward SVM 5'!R24","v":0},{"$f":"$AB24-'Cqinward SVM 5'!S24","v":2},{"$f":"$AB24-'Cqinward SVM 5'!T24","v":2},{"$f":"$AB24-'Cqinward SVM 5'!U24","v":2},{"$f":"$AB24-'Cqinward SVM 5'!V24","v":0},{"$f":"$AB24-'Cqinward SVM 5'!W24","v":2},{"$f":"$AB24-'Cqinward SVM 5'!X24","v":0},{"$f":"$AB24-'Cqinward SVM 5'!Y24","v":2},{"$f":"$AB24-'Cqinward SVM 5'!Z24","v":0},{"$f":"$AB24-'Cqinward SVM 5'!AA24","v":2},{"$f":"$AB24-'Cqinward SVM 5'!AB24","v":0},4.0]
["nitrendipine",{"$f":"$AB25-'Cqinward SVM 5'!C25","v":3},{"$f":"$AB25-'Cqinward SVM 5'!D25","v":3},{"$f":"$AB25-'Cqinward SVM 5'!E25","v":3},{"$f":"$AB25-'Cqinward SVM 5'!F25","v":3},{"$f":"$AB25-'Cqinward SVM 5'!G25","v":3},{"$f":"$AB25-'Cqinward SVM 5'!H25","v":3},{"$f":"$AB25-'Cqinward SVM 5'!I25","v":3},{"$f":"$AB25-'Cqinward SVM 5'!J25","v":3},{"$f":"$AB25-'Cqinward SVM 5'!K25","v":3},{"$f":"$AB25-'Cqinward SVM 5'!L25","v":3},{"$f":"$AB25-'Cqinward SVM 5'!M25","v":3},{"$f":"$AB25-'Cqinward SVM 5'!N25","v":3},{"$f":"$AB25-'Cqinward SVM 5'!O25","v":3},{"$f":"$AB25-'Cqinward SVM 5'!P25","v":1},{"$f":"$AB25-'Cqinward SVM 5'!Q25","v":3},{"$f":"$AB25-'Cqinward SVM 5'!R25","v":1},{"$f":"$AB25-'Cqinward SVM 5'!S25","v":3},{"$f":"$AB25-'Cqinward SVM 5'!T25","v":3},{"$f":"$AB25-'Cqinward SVM 5'!U25","v":3},{"$f":"$AB25-'Cqinward SVM 5'!V25","v":3},{"$f":"$AB25-'Cqinward SVM 5'!W25","v":3},{"$f":"$AB25-'Cqinward SVM 5'!X25","v":3},{"$f":"$AB25-'Cqinward SVM 5'!Y25","v":3},{"$f":"$AB25-'Cqinward SVM 5'!Z25","v":3},{"$f":"$AB25-'Cqinward SVM 5'!AA25","v":3},{"$f":"$AB25-'Cqinward SVM 5'!AB25","v":1},5.0]
["ondansetron",{"$f":"$AB26-'Cqinward SVM 5'!C26","v":0},{"$f":"$AB26-'Cqinward SVM 5'!D26","v":0},{"$f":"$AB26-'Cqinward SVM 5'!E26","v":0},{"$f":"$AB26-'Cqinward SVM 5'!F26","v":0},{"$f":"$AB26-'Cqinward SVM 5'!G26","v":0},{"$f":"$AB26-'Cqinward SVM 5'!H26","v":0},{"$f":"$AB26-'Cqinward SVM 5'!I26","v":0},{"$f":"$AB26-'Cqinward SVM 5'!J26","v":0},{"$f":"$AB26-'Cqinward SVM 5'!K26","v":0},{"$f":"$AB26-'Cqinward SVM 5'!L26","v":0},{"$f":"$AB26-'Cqinward SVM 5'!M26","v":0},{"$f":"$AB26-'Cqinward SVM 5'!N26","v":-1},{"$f":"$AB26-'Cqinward SVM 5'!O26","v":0},{"$f":"$AB26-'Cqinward SVM 5'!P26","v":0},{"$f":"$AB26-'Cqinward SVM 5'!Q26","v":0},{"$f":"$AB26-'Cqinward SVM 5'!R26","v":0},{"$f":"$AB26-'Cqinward SVM 5'!S26","v":0},{"$f":"$AB26-'Cqinward SVM 5'!T26","v":0},{"$f":"$AB26-'Cqinward SVM 5'!U26","v":0},{"$f":"$AB26-'Cqinward SVM 5'!V26","v":0},{"$f":"$AB26-'Cqinward SVM 5'!W26","v":0},{"$f":"$AB26-'Cqinward SVM 5'!X26","v":0},{"$f":"$AB26-'Cqinward SVM 5'!Y26","v":0},{"$f":"$AB26-'Cqinward SVM 5'!Z26","v":0},{"$f":"$AB26-'Cqinward SVM 5'!AA26","v":0},{"$f":"$AB26-'Cqinward SVM 5'!AB26","v":0},2.0]
["pentamidine",{"$f":"$AB27-'Cqinward SVM 5'!C27","v":1},{"$f":"$AB27-'Cqinward SVM 5'!D27","v":1},{"$f":"$AB27-'Cqinward SVM 5'!E27","v":1},{"$f":"$AB27-'Cqinward SVM 5'!F27","v":1},{"$f":"$AB27-'Cqinward SVM 5'!G27","v":1},{"$f":"$AB27-'Cqinward SVM 5'!H27","v":1},{"$f":"$AB27-'Cqinward SVM 5'!I27","v":1},{"$f":"$AB27-'Cqinward SVM 5'!J27","v":1},{"$f":"$AB27-'Cqinward SVM 5'!K27","v":1},{"$f":"$AB27-'Cqinward SVM 5'!L27","v":1},{"$f":"$AB27-'Cqinward SVM 5'!M27","v":1},{"$f":"$AB27-'Cqinward SVM 5'!N27","v":1},{"$f":"$AB27-'Cqinward SVM 5'!O27","v":1},{"$f":"$AB27-'Cqinward SVM 5'!P27","v":-1},{"$f":"$AB27-'Cqinward SVM 5'!Q27","v":1},{"$f":"$AB27-'Cqinward SVM 5'!R27","v":-1},{"$f":"$AB27-'Cqinward SVM 5'!S27","v":1},{"$f":"$AB27-'Cqinward SVM 5'!T27","v":1},{"$f":"$AB27-'Cqinward SVM 5'!U27","v":1},{"$f":"$AB27-'Cqinward SVM 5'!V27","v":1},{"$f":"$AB27-'Cqinward SVM 5'!W27","v":1},{"$f":"$AB27-'Cqinward SVM 5'!X27","v":1},{"$f":"$AB27-'Cqinward SVM 5'!Y27","v":1},{"$f":"$AB27-'Cqinward SVM 5'!Z27","v":1},{"$f":"$AB27-'Cqinward SVM 5'!AA27","v":1},{"$f":"$AB27-'Cqinward SVM 5'!AB27","v":-1},3.0]
["phenytoin",{"$f":"$AB28-'Cqinward SVM 5'!C28","v":3},{"$f":"$AB28-'Cqinward SVM 5'!D28","v":3},{"$f":"$AB28-'Cqinward SVM 5'!E28","v":3},{"$f":"$AB28-'Cqinward SVM 5'!F28","v":3},{"$f":"$AB28-'Cqinward SVM 5'!G28","v":3},{"$f":"$AB28-'Cqinward SVM 5'!H28","v":3},{"$f":"$AB28-'Cqinward SVM 5'!I28","v":3},{"$f":"$AB28-'Cqinward SVM 5'!J28","v":3},{"$f":"$AB28-'Cqinward SVM 5'!K28","v":3},{"$f":"$AB28-'Cqinward SVM 5'!L28","v":3},{"$f":"$AB28-'Cqinward SVM 5'!M28","v":3},{"$f":"$AB28-'Cqinward SVM 5'!N28","v":3},{"$f":"$AB28-'Cqinward SVM 5'!O28","v":3},{"$f":"$AB28-'Cqinward SVM 5'!P28","v":1},{"$f":"$AB28-'Cqinward SVM 5'!Q28","v":3},{"$f":"$AB28-'Cqinward SVM 5'!R28","v":1},{"$f":"$AB28-'Cqinward SVM 5'!S28","v":3},{"$f":"$AB28-'Cqinward SVM 5'!T28","v":3},{"$f":"$AB28-'Cqinward SVM 5'!U28","v":3},{"$f":"$AB28-'Cqinward SVM 5'!V28","v":3},{"$f":"$AB28-'Cqinward SVM 5'!W28","v":3},{"$f":"$AB28-'Cqinward SVM 5'!X28","v":3},{"$f":"$AB28-'Cqinward SVM 5'!Y28","v":3},{"$f":"$AB28-'Cqinward SVM 5'!Z28","v":3},{"$f":"$AB28-'Cqinward SVM 5'!AA28","v":3},{"$f":"$AB28-'Cqinward SVM 5'!AB28","v":1},5.0]
["pimozide",{"$f":"$AB29-'Cqinward SVM 5'!C29","v":1},{"$f":"$AB29-'Cqinward SVM 5'!D29","v":1},{"$f":"$AB29-'Cqinward SVM 5'!E29","v":1},{"$f":"$AB29-'Cqinward SVM 5'!F29","v":1},{"$f":"$AB29-'Cqinward SVM 5'!G29","v":1},{"$f":"$AB29-'Cqinward SVM 5'!H29","v":1},{"$f":"$AB29-'Cqinward SVM 5'!I29","v":1},{"$f":"$AB29-'Cqinward SVM 5'!J29","v":1},{"$f":"$AB29-'Cqinward SVM 5'!K29","v":1},{"$f":"$AB29-'Cqinward SVM 5'!L29","v":1},{"$f":"$AB29-'Cqinward SVM 5'!M29","v":1},{"$f":"$AB29-'Cqinward SVM 5'!N29","v":1},{"$f":"$AB29-'Cqinward SVM 5'!O29","v":1},{"$f":"$AB29-'Cqinward SVM 5'!P29","v":-1},{"$f":"$AB29-'Cqinward SVM 5'!Q29","v":1},{"$f":"$AB29-'Cqinward SVM 5'!R29","v":-1},{"$f":"$AB29-'Cqinward SVM 5'!S29","v":1},{"$f":"$AB29-'Cqinward SVM 5'!T29","v":1},{"$f":"$AB29-'Cqinward SVM 5'!U29","v":1},{"$f":"$AB29-'Cqinward SVM 5'!V29","v":1},{"$f":"$AB29-'Cqinward SVM 5'!W29","v":1},{"$f":"$AB29-'Cqinward SVM 5'!X29","v":1},{"$f":"$AB29-'Cqinward SVM 5'!Y29","v":1},{"$f":"$AB29-'Cqinward SVM 5'!Z29","v":1},{"$f":"$AB29-'Cqinward SVM 5'!AA29","v":1},{"$f":"$AB29-'Cqinward SVM 5'!AB29","v":1},3.0]
["prenylamine",{"$f":"$AB30-'Cqinward SVM 5'!C30","v":0},{"$f":"$AB30-'Cqinward SVM 5'!D30","v":0},{"$f":"$AB30-'Cqinward SVM 5'!E30","v":0},{"$f":"$AB30-'Cqinward SVM 5'!F30","v":0},{"$f":"$AB30-'Cqinward SVM 5'!G30","v":0},{"$f":"$AB30-'Cqinward SVM 5'!H30","v":0},{"$f":"$AB30-'Cqinward SVM 5'!I30","v":0},{"$f":"$AB30-'Cqinward SVM 5'!J30","v":0},{"$f":"$AB30-'Cqinward SVM 5'!K30","v":0},{"$f":"$AB30-'Cqinward SVM 5'!L30","v":0},{"$f":"$AB30-'Cqinward SVM 5'!M30","v":0},{"$f":"$AB30-'Cqinward SVM 5'!N30","v":0},{"$f":"$AB30-'Cqinward SVM 5'!O30","v":0},{"$f":"$AB30-'Cqinward SVM 5'!P30","v":0},{"$f":"$AB30-'Cqinward SVM 5'!Q30","v":0},{"$f":"$AB30-'Cqinward SVM 5'!R30","v":0},{"$f":"$AB30-'Cqinward SVM 5'!S30","v":0},{"$f":"$AB30-'Cqinward SVM 5'!T30","v":0},{"$f":"$AB30-'Cqinward SVM 5'!U30","v":0},{"$f":"$AB30-'Cqinward SVM 5'!V30","v":0},{"$f":"$AB30-'Cqinward SVM 5'!W30","v":0},{"$f":"$AB30-'Cqinward SVM 5'!X30","v":0},{"$f":"$AB30-'Cqinward SVM 5'!Y30","v":0},{"$f":"$AB30-'Cqinward SVM 5'!Z30","v":0},{"$f":"$AB30-'Cqinward SVM 5'!AA30","v":0},{"$f":"$AB30-'Cqinward SVM 5'!AB30","v":0},2.0]
["propafenone",{"$f":"$AB31-'Cqinward SVM 5'!C31","v":2},{"$f":"$AB31-'Cqinward SVM 5'!D31","v":2},{"$f":"$AB31-'Cqinward SVM 5'!E31","v":2},{"$f":"$AB31-'Cqinward SVM 5'!F31","v":2},{"$f":"$AB31-'Cqinward SVM 5'!G31","v":2},{"$f":"$AB31-'Cqinward SVM 5'!H31","v":2},{"$f":"$AB31-'Cqinward SVM 5'!I31","v":2},{"$f":"$AB31-'Cqinward SVM 5'!J31","v":2},{"$f":"$AB31-'Cqinward SVM 5'!K31","v":2},{"$f":"$AB31-'Cqinward SVM 5'!L31","v":2},{"$f":"$AB31-'Cqinward SVM 5'!M31","v":2},{"$f":"$AB31-'Cqinward SVM 5'!N31","v":2},{"$f":"$AB31-'Cqinward SVM 5'!O31","v":2},{"$f":"$AB31-'Cqinward SVM 5'!P31","v":2},{"$f":"$AB31-'Cqinward SVM 5'!Q31","v":2},{"$f":"$AB31-'Cqinward SVM 5'!R31","v":2},{"$f":"$AB31-'Cqinward SVM 5'!S31","v":2},{"$f":"$AB31-'Cqinward SVM 5'!T31","v":2},{"$f":"$AB31-'Cqinward SVM 5'!U31","v":2},{"$f":"$AB31-'Cqinward SVM 5'!V31","v":2},{"$f":"$AB31-'Cqinward SVM 5'!W31","v":2},{"$f":"$AB31-'Cqinward SVM 5'!X31","v":2},{"$f":"$AB31-'Cqinward SVM 5'!Y31","v":2},{"$f":"$AB31-'Cqinward SVM 5'!Z31","v":2},{"$f":"$AB31-'Cqinward SVM 5'!AA31","v":2},{"$f":"$AB31-'Cqinward SVM 5'!AB31","v":-1},4.0]
["propranolol",{"$f":"$AB32-'Cqinward SVM 5'!C32","v":3},{"$f":"$AB32-'Cqinward SVM 5'!D32","v":3},{"$f":"$AB32-'Cqinward SVM 5'!E32","v":3},{"$f":"$AB32-'Cqinward SVM 5'!F32","v":3},{"$f":"$AB32-'Cqinward SVM 5'!G32","v":3},{"$f":"$AB32-'Cqinward SVM 5'!H32","v":3},{"$f":"$AB32-'Cqinward SVM 5'!I32","v":3},{"$f":"$AB32-'Cqinward SVM 5'!J32","v":3},{"$f":"$AB32-'Cqinward SVM 5'!K32","v":3},{"$f":"$AB32-'Cqinward SVM 5'!L32","v":3},{"$f":"$AB32-'Cqinward SVM 5'!M32","v":3},{"$f":"$AB32-'Cqinward SVM 5'!N32","v":3},{"$f":"$AB32-'Cqinward SVM 5'!O32","v":3},{"$f":"$AB32-'Cqinward SVM 5'!P32","v":3},{"$f":"$AB32-'Cqinward SVM 5'!Q32","v":3},{"$f":"$AB32-'Cqinward SVM 5'!R32","v":3},{"$f":"$AB32-'Cqinward SVM 5'!S32","v":3},{"$f":"$AB32-'Cqinward SVM 5'!T32","v":3},{"$f":"$AB32-'Cqinward SVM 5'!U32","v":3},{"$f":"$AB32-'Cqinward SVM 5'!V32","v":3},{"$f":"$AB32-'Cqinward SVM 5'!W32","v":3},{"$f":"$AB32-'Cqinward SVM 5'!X32","v":3},{"$f":"$AB32-'Cqinward SVM 5'!Y32","v":3},{"$f":"$AB32-'Cqinward SVM 5'!Z32","v":3},{"$f":"$AB32-'Cqinward SVM 5'!AA32","v":3},{"$f":"$AB32-'Cqinward SVM 5'!AB32","v":3},5.0]
["quetiapine",{"$f":"$AB33-'Cqinward SVM 5'!C33","v":3},{"$f":"$AB33-'Cqinward SVM 5'!D33","v":3},{"$f":"$AB33-'Cqinward SVM 5'!E33","v":3},{"$f":"$AB33-'Cqinward SVM 5'!F33","v":3},{"$f":"$AB33-'Cqinward SVM 5'!G33","v":3},{"$f":"$AB33-'Cqinward SVM 5'!H33","v":3},{"$f":"$AB33-'Cqinward SVM 5'!I33","v":3},{"$f":"$AB33-'Cqinward SVM 5'!J33","v":3},{"$f":"$AB33-'Cqinward SVM 5'!K33","v":3},{"$f":"$AB33-'Cqinward SVM 5'!L33","v":3},{"$f":"$AB33-'Cqinward SVM 5'!M33","v":3},{"$f":"$AB33-'Cqinward SVM 5'!N33","v":3},{"$f":"$AB33-'Cqinward SVM 5'!O33","v":3},{"$f":"$AB33-'Cqinward SVM 5'!P33","v":3},{"$f":"$AB33-'Cqinward SVM 5'!Q33","v":3},{"$f":"$AB33-'Cqinward SVM 5'!R33","v":1},{"$f":"$AB33-'Cqinward SVM 5'!S33","v":3},{"$f":"$AB33-'Cqinward SVM 5'!T33","v":3},{"$f":"$AB33-'Cqinward SVM 5'!U33","v":3},{"$f":"$AB33-'Cqinward SVM 5'!V33","v":3},{"$f":"$AB33-'Cqinward SVM 5'!W33","v":3},{"$f":"$AB33-'Cqinward SVM 5'!X33","v":3},{"$f":"$AB33-'Cqinward SVM 5'!Y33","v":3},{"$f":"$AB33-'Cqinward SVM 5'!Z33","v":3},{"$f":"$AB33-'Cqinward SVM 5'!AA33","v":3},{"$f":"$AB33-'Cqinward SVM 5'!AB33","v":3},5.0]
["quinidine",{"$f":"$AB34-'Cqinward SVM 5'!C34","v":0},{"$f":"$AB34-'Cqinward SVM 5'!D34","v":0},{"$f":"$AB34-'Cqinward SVM 5'!E34","v":0},{"$f":"$AB34-'Cqinward SVM 5'!F34","v":0},{"$f":"$AB34-'Cqinward SVM 5'!G34","v":0},{"$f":"$AB34-'Cqinward SVM 5'!H34","v":0},{"$f":"$AB34-'Cqinward SVM 5'!I34","v":0},{"$f":"$AB34-'Cqinward SVM 5'!J34","v":0},{"$f":"$AB34-'Cqinward SVM 5'!K34","v":0},{"$f":"$AB34-'Cqinward SVM 5'!L34","v":0},{"$f":"$AB34-'Cqinward SVM 5'!M34","v":0},{"$f":"$AB34-'Cqinward SVM 5'!N34","v":0},{"$f":"$AB34-'Cqinward SVM 5'!O34","v":0},{"$f":"$AB34-'Cqinward SVM 5'!P34","v":0},{"$f":"$AB34-'Cqinward SVM 5'!Q34","v":0},{"$f":"$AB34-'Cqinward SVM 5'!R34","v":0},{"$f":"$AB34-'Cqinward SVM 5'!S34","v":0},{"$f":"$AB34-'Cqinward SVM 5'!T34","v":0},{"$f":"$AB34-'Cqinward SVM 5'!U34","v":0},{"$f":"$AB34-'Cqinward SVM 5'!V34","v":0},{"$f":"$AB34-'Cqinward SVM 5'!W34","v":0},{"$f":"$AB34-'Cqinward SVM 5'!X34","v":0},{"$f":"$AB34-'Cqinward SVM 5'!Y34","v":0},{"$f":"$AB34-'Cqinward SVM 5'!Z34","v":0},{"$f":"$AB34-'Cqinward SVM 5'!AA34","v":0},{"$f":"$AB34-'Cqinward SVM 5'!AB34","v":0},2.0]
["ranolazine",{"$f":"$AB35-'Cqinward SVM 5'!C35","v":1},{"$f":"$AB35-'Cqinward SVM 5'!D35","v":1},{"$f":"$AB35-'Cqinward SVM 5'!E35","v":1},{"$f":"$AB35-'Cqinward SVM 5'!F35","v":1},{"$f":"$AB35-'Cqinward SVM 5'!G35","v":1},{"$f":"$AB35-'Cqinward SVM 5'!H35","v":1},{"$f":"$AB35-'Cqinward SVM 5'!I35","v":1},{"$f":"$AB35-'Cqinward SVM 5'!J35","v":1},{"$f":"$AB35-'Cqinward SVM 5'!K35","v":1},{"$f":"$AB35-'Cqinward SVM 5'!L35","v":1},{"$f":"$AB35-'Cqinward SVM 5'!M35","v":1},{"$f":"$AB35-'Cqinward SVM 5'!N35","v":1},{"$f":"$AB35-'Cqinward SVM 5'!O35","v":1},{"$f":"$AB35-'Cqinward SVM 5'!P35","v":1},{"$f":"$AB35-'Cqinward SVM 5'!Q35","v":1},{"$f":"$AB35-'Cqinward SVM 5'!R35","v":-1},{"$f":"$AB35-'Cqinward SVM 5'!S35","v":1},{"$f":"$AB35-'Cqinward SVM 5'!T35","v":1},{"$f":"$AB35-'Cqinward SVM 5'!U35","v":1},{"$f":"$AB35-'Cqinward SVM 5'!V35","v":1},{"$f":"$AB35-'Cqinward SVM 5'!W35","v":1},{"$f":"$AB35-'Cqinward SVM 5'!X35","v":1},{"$f":"$AB35-'Cqinward SVM 5'!Y35","v":1},{"$f":"$AB35-'Cqinward SVM 5'!Z35","v":1},{"$f":"$AB35-'Cqinward SVM 5'!AA35","v":1},{"$f":"$AB35-'Cqinward SVM 5'!AB35","v":-2},3.0]
["risperidone",{"$f":"$AB36-'Cqinward SVM 5'!C36","v":3},{"$f":"$AB36-'Cqinward SVM 5'!D36","v":3},{"$f":"$AB36-'Cqinward SVM 5'!E36","v":3},{"$f":"$AB36-'Cqinward SVM 5'!F36","v":3},{"$f":"$AB36-'Cqinward SVM 5'!G36","v":3},{"$f":"$AB36-'Cqinward SVM 5'!H36","v":3},{"$f":"$AB36-'Cqinward SVM 5'!I36","v":3},{"$f":"$AB36-'Cqinward SVM 5'!J36","v":3},{"$f":"$AB36-'Cqinward SVM 5'!K36","v":3},{"$f":"$AB36-'Cqinward SVM 5'!L36","v":3},{"$f":"$AB36-'Cqinward SVM 5'!M36","v":3},{"$f":"$AB36-'Cqinward SVM 5'!N36","v":3},{"$f":"$AB36-'Cqinward SVM 5'!O36","v":3},{"$f":"$AB36-'Cqinward SVM 5'!P36","v":3},{"$f":"$AB36-'Cqinward SVM 5'!Q36","v":3},{"$f":"$AB36-'Cqinward SVM 5'!R36","v":3},{"$f":"$AB36-'Cqinward SVM 5'!S36","v":3},{"$f":"$AB36-'Cqinward SVM 5'!T36","v":3},{"$f":"$AB36-'Cqinward SVM 5'!U36","v":3},{"$f":"$AB36-'Cqinward SVM 5'!V36","v":3},{"$f":"$AB36-'Cqinward SVM 5'!W36","v":3},{"$f":"$AB36-'Cqinward SVM 5'!X36","v":3},{"$f":"$AB36-'Cqinward SVM 5'!Y36","v":3},{"$f":"$AB36-'Cqinward SVM 5'!Z36","v":3},{"$f":"$AB36-'Cqinward SVM 5'!AA36","v":3},{"$f":"$AB36-'Cqinward SVM 5'!AB36","v":3},5.0]
["sertindole",{"$f":"$AB37-'Cqinward SVM 5'!C37","v":0},{"$f":"$AB37-'Cqinward SVM 5'!D37","v":0},{"$f":"$AB37-'Cqinward SVM 5'!E37","v":0},{"$f":"$AB37-'Cqinward SVM 5'!F37","v":0},{"$f":"$AB37-'Cqinward SVM 5'!G37","v":0},{"$f":"$AB37-'Cqinward SVM 5'!H37","v":0},{"$f":"$AB37-'Cqinward SVM 5'!I37","v":0},{"$f":"$AB37-'Cqinward SVM 5'!J37","v":0},{"$f":"$AB37-'Cqinward SVM 5'!K37","v":0},{"$f":"$AB37-'Cqinward SVM 5'!L37","v":0},{"$f":"$AB37-'Cqinward SVM 5'!M37","v":0},{"$f":"$AB37-'Cqinward SVM 5'!N37","v":0},{"$f":"$AB37-'Cqinward SVM 5'!O37","v":0},{"$f":"$AB37-'Cqinward SVM 5'!P37","v":0},{"$f":"$AB37-'Cqinward SVM 5'!Q37","v":0},{"$f":"$AB37-'Cqinward SVM 5'!R37","v":-2},{"$f":"$AB37-'Cqinward SVM 5'!S37","v":0},{"$f":"$AB37-'Cqinward SVM 5'!T37","v":0},{"$f":"$AB37-'Cqinward SVM 5'!U37","v":0},{"$f":"$AB37-'Cqinward SVM 5'!V37","v":0},{"$f":"$AB37-'Cqinward SVM 5'!W37","v":0},{"$f":"$AB37-'Cqinward SVM 5'!X37","v":0},{"$f":"$AB37-'Cqinward SVM 5'!Y37","v":0},{"$f":"$AB37-'Cqinward SVM 5'!Z37","v":0},{"$f":"$AB37-'Cqinward SVM 5'!AA37","v":0},{"$f":"$AB37-'Cqinward SVM 5'!AB37","v":0},2.0]
["tedisamil",{"$f":"$AB38-'Cqinward SVM 5'!C38","v":0},{"$f":"$AB38-'Cqinward SVM 5'!D38","v":0},{"$f":"$AB38-'Cqinward SVM 5'!E38","v":0},{"$f":"$AB38-'Cqinward SVM 5'!F38","v":0},{"$f":"$AB38-'Cqinward SVM 5'!G38","v":0},{"$f":"$AB38-'Cqinward SVM 5'!H38","v":0},{"$f":"$AB38-'Cqinward SVM 5'!I38","v":0},{"$f":"$AB38-'Cqinward SVM 5'!J38","v":0},{"$f":"$AB38-'Cqinward SVM 5'!K38","v":0},{"$f":"$AB38-'Cqinward SVM 5'!L38","v":0},{"$f":"$AB38-'Cqinward SVM 5'!M38","v":0},{"$f":"$AB38-'Cqinward SVM 5'!N38","v":0},{"$f":"$AB38-'Cqinward SVM 5'!O38","v":0},{"$f":"$AB38-'Cqinward SVM 5'!P38","v":0},{"$f":"$AB38-'Cqinward SVM 5'!Q38","v":0},{"$f":"$AB38-'Cqinward SVM 5'!R38","v":0},{"$f":"$AB38-'Cqinward SVM 5'!S38","v":0},{"$f":"$AB38-'Cqinward SVM 5'!T38","v":0},{"$f":"$AB38-'Cqinward SVM 5'!U38","v":0},{"$f":"$AB38-'Cqinward SVM 5'!V38","v":0},{"$f":"$AB38-'Cqinward SVM 5'!W38","v":0},{"$f":"$AB38-'Cqinward SVM 5'!X38","v":0},{"$f":"$AB38-'Cqinward SVM 5'!Y38","v":0},{"$f":"$AB38-'Cqinward SVM 5'!Z38","v":0},{"$f":"$AB38-'Cqinward SVM 5'!AA38","v":0},{"$f":"$AB38-'Cqinward SVM 5'!AB38","v":0},2.0]
["terfenadine",{"$f":"$AB39-'Cqinward SVM 5'!C39","v":0},{"$f":"$AB39-'Cqinward SVM 5'!D39","v":0},{"$f":"$AB39-'Cqinward SVM 5'!E39","v":0},{"$f":"$AB39-'Cqinward SVM 5'!F39","v":0},{"$f":"$AB39-'Cqinward SVM 5'!G39","v":0},{"$f":"$AB39-'Cqinward SVM 5'!H39","v":0},{"$f":"$AB39-'Cqinward SVM 5'!I39","v":0},{"$f":"$AB39-'Cqinward SVM 5'!J39","v":0},{"$f":"$AB39-'Cqinward SVM 5'!K39","v":0},{"$f":"$AB39-'Cqinward SVM 5'!L39","v":0},{"$f":"$AB39-'Cqinward SVM 5'!M39","v":0},{"$f":"$AB39-'Cqinward SVM 5'!N39","v":0},{"$f":"$AB39-'Cqinward SVM 5'!O39","v":0},{"$f":"$AB39-'Cqinward SVM 5'!P39","v":0},{"$f":"$AB39-'Cqinward SVM 5'!Q39","v":0},{"$f":"$AB39-'Cqinward SVM 5'!R39","v":0},{"$f":"$AB39-'Cqinward SVM 5'!S39","v":0},{"$f":"$AB39-'Cqinward SVM 5'!T39","v":0},{"$f":"$AB39-'Cqinward SVM 5'!U39","v":0},{"$f":"$AB39-'Cqinward SVM 5'!V39","v":0},{"$f":"$AB39-'Cqinward SVM 5'!W39","v":0},{"$f":"$AB39-'Cqinward SVM 5'!X39","v":0},{"$f":"$AB39-'Cqinward SVM 5'!Y39","v":0},{"$f":"$AB39-'Cqinward SVM 5'!Z39","v":0},{"$f":"$AB39-'Cqinward SVM 5'!AA39","v":0},{"$f":"$AB39-'Cqinward SVM 5'!AB39","v":0},2.0]
["terodiline",{"$f":"$AB40-'Cqinward SVM 5'!C40","v":0},{"$f":"$AB40-'Cqinward SVM 5'!D40","v":0},{"$f":"$AB40-'Cqinward SVM 5'!E40","v":0},{"$f":"$AB40-'Cqinward SVM 5'!F40","v":-1},{"$f":"$AB40-'Cqinward SVM 5'!G40","v":0},{"$f":"$AB40-'Cqinward SVM 5'!H40","v":0},{"$f":"$AB40-'Cqinward SVM 5'!I40","v":0},{"$f":"$AB40-'Cqinward SVM 5'!J40","v":0},{"$f":"$AB40-'Cqinward SVM 5'!K40","v":0},{"$f":"$AB40-'Cqinward SVM 5'!L40","v":0},{"$f":"$AB40-'Cqinward SVM 5'!M40","v":0},{"$f":"$AB40-'Cqinward SVM 5'!N40","v":0},{"$f":"$AB40-'Cqinward SVM 5'!O40","v":0},{"$f":"$AB40-'Cqinward SVM 5'!P40","v":0},{"$f":"$AB40-'Cqinward SVM 5'!Q40","v":0},{"$f":"$AB40-'Cqinward SVM 5'!R40","v":0},{"$f":"$AB40-'Cqinward SVM 5'!S40","v":0},{"$f":"$AB40-'Cqinward SVM 5'!T40","v":0},{"$f":"$AB40-'Cqinward SVM 5'!U40","v":0},{"$f":"$AB40-'Cqinward SVM 5'!V40","v":0},{"$f":"$AB40-'Cqinward SVM 5'!W40","v":0},{"$f":"$AB40-'Cqinward SVM 5'!X40","v":0},{"$f":"$AB40-'Cqinward SVM 5'!Y40","v":0},{"$f":"$AB40-'Cqinward SVM 5'!Z40","v":0},{"$f":"$AB40-'Cqinward SVM 5'!AA40","v":0},{"$f":"$AB40-'Cqinward SVM 5'!AB40","v":0},2.0]
["thioridazine",{"$f":"$AB41-'Cqinward SVM 5'!C41","v":1},{"$f":"$AB41-'Cqinward SVM 5'!D41","v":1},{"$f":"$AB41-'Cqinward SVM 5'!E41","v":1},{"$f":"$AB41-'Cqinward SVM 5'!F41","v":1},{"$f":"$AB41-'Cqinward SVM 5'!G41","v":1},{"$f":"$AB41-'Cqinward SVM 5'!H41","v":1},{"$f":"$AB41-'Cqinward SVM 5'!I41","v":-2},{"$f":"$AB41-'Cqinward SVM 5'!J41","v":1},{"$f":"$AB41-'Cqinward SVM 5'!K41","v":-2},{"$f":"$AB41-'Cqinward SVM 5'!L41","v":1},{"$f":"$AB41-'Cqinward SVM 5'!M41","v":-2},{"$f":"$AB41-'Cqinward SVM 5'!N41","v":1},{"$f":"$AB41-'Cqinward SVM 5'!O41","v":1},{"$f":"$AB41-'Cqinward SVM 5'!P41","v":1},{"$f":"$AB41-'Cqinward SVM 5'!Q41","v":1},{"$f":"$AB41-'Cqinward SVM 5'!R41","v":1},{"$f":"$AB41-'Cqinward SVM 5'!S41","v":1},{"$f":"$AB41-'Cqinward SVM 5'!T41","v":1},{"$f":"$AB41-'Cqinward SVM 5'!U41","v":1},{"$f":"$AB41-'Cqinward SVM 5'!V41","v":1},{"$f":"$AB41-'Cqinward SVM 5'!W41","v":1},{"$f":"$AB41-'Cqinward SVM 5'!X41","v":1},{"$f":"$AB41-'Cqinward SVM 5'!Y41","v":1},{"$f":"$AB41-'Cqinward SVM 5'!Z41","v":1},{"$f":"$AB41-'Cqinward SVM 5'!AA41","v":1},{"$f":"$AB41-'Cqinward SVM 5'!AB41","v":1},3.0]
["verapamil",{"$f":"$AB42-'Cqinward SVM 5'!C42","v":3},{"$f":"$AB42-'Cqinward SVM 5'!D42","v":3},{"$f":"$AB42-'Cqinward SVM 5'!E42","v":3},{"$f":"$AB42-'Cqinward SVM 5'!F42","v":3},{"$f":"$AB42-'Cqinward SVM 5'!G42","v":3},{"$f":"$AB42-'Cqinward SVM 5'!H42","v":3},{"$f":"$AB42-'Cqinward SVM 5'!I42","v":3},{"$f":"$AB42-'Cqinward SVM 5'!J42","v":3},{"$f":"$AB42-'Cqinward SVM 5'!K42","v":3},{"$f":"$AB42-'Cqinward SVM 5'!L42","v":3},{"$f":"$AB42-'Cqinward SVM 5'!M42","v":3},{"$f":"$AB42-'Cqinward SVM 5'!N42","v":3},{"$f":"$AB42-'Cqinward SVM 5'!O42","v":3},{"$f":"$AB42-'Cqinward SVM 5'!P42","v":3},{"$f":"$AB42-'Cqinward SVM 5'!Q42","v":3},{"$f":"$AB42-'Cqinward SVM 5'!R42","v":3},{"$f":"$AB42-'Cqinward SVM 5'!S42","v":3},{"$f":"$AB42-'Cqinward SVM 5'!T42","v":3},{"$f":"$AB42-'Cqinward SVM 5'!U42","v":3},{"$f":"$AB42-'Cqinward SVM 5'!V42","v":3},{"$f":"$AB42-'Cqinward SVM 5'!W42","v":3},{"$f":"$AB42-'Cqinward SVM 5'!X42","v":3},{"$f":"$AB42-'Cqinward SVM 5'!Y42","v":3},{"$f":"$AB42-'Cqinward SVM 5'!Z42","v":3},{"$f":"$AB42-'Cqinward SVM 5'!AA42","v":3},{"$f":"$AB42-'Cqinward SVM 5'!AB42","v":0},5.0]
["Total (abs)",{"$f":"sum(abs(B$2:B$42))","v":53},53,53,54,53,53,54,53,54,53,54,54,53,54,53,55,53,55,53,53,55,53,53,53,55,43]
["Mean (abs)",{"$f":"sum(abs(B$2:B$42))/count(B$2:B$42)","v":1.292682927},1.292682927,1.292682927,1.317073171,1.292682927,1.292682927,1.317073171,1.292682927,1.317073171,1.292682927,1.317073171,1.317073171,1.292682927,1.317073171,1.292682927,1.341463415,1.292682927,1.341463415,1.292682927,1.292682927,1.341463415,1.292682927,1.292682927,1.292682927,1.341463415,1.048780488]
["SD (abs)",{"$f":"STDEV(abs(B$2:B$42))","v":1.188358162},1.188358162,1.188358162,1.171303214,1.188358162,1.188358162,1.192455961,1.188358162,1.192455961,1.188358162,1.192455961,1.171303214,1.188358162,1.105419024,1.188358162,1.039465153,1.188358162,1.174941618,1.188358162,1.188358162,1.174941618,1.188358162,1.188358162,1.188358162,1.174941618,1.047645444]
["Total",{"$f":"sum(B$2:B$42)","v":53},53,53,52,53,53,50,53,50,53,50,52,53,34,53,19,53,51,53,47,51,47,53,47,51,21]

{"sheet":"Epi vs endo O'Hara Lancaster-So","index":22,"n_rows":46,"n_cols":13,"rows_kept":46,"cut":false,"hidden":false,"merged":[]}
["Drug","APD50 (epi)","Cai (epi)","APD50 (endo)","Cai (endo)","LDA 1 (epi)","SVM 1 (epi)","LDA 1 (endo)","SVM 1 (endo)","LDA 1 errors (epi)","SVM 1 errors (epi)","LDA 1 errors (endo)","SVM 1 errors (endo)"]
["ajmaline",445.218,7.59E-5,498.986,8.89E-5,3.0,2.0,2.0,2.0,-1.0,0.0,0.0,0.0]
["amiodarone",183.474,7.66771E-5,210.01,8.61167E-5,4.0,5.0,4.0,5.0,-2.0,-3.0,-2.0,-3.0]
["amitriptyline",183.096,7.66082E-5,209.484,8.60641E-5,4.0,5.0,4.0,5.0,0.0,-1.0,0.0,-1.0]
["azimilide",240.047,8.01E-5,272.705,8.8E-5,2.0,2.0,2.0,2.0,0.0,0.0,0.0,0.0]
["bepridil",184.385,7.57085E-5,207.154,8.39476E-5,4.0,5.0,5.0,5.0,-1.0,-2.0,-2.0,-2.0]
["chlorpromazine",184.196,7.65217E-5,210.739,8.59859E-5,4.0,5.0,4.0,5.0,-1.0,-2.0,-1.0,-2.0]
["cibenzoline",187.185,7.56686E-5,214.955,8.56741E-5,4.0,4.0,4.0,4.0,1.0,1.0,1.0,1.0]
["cisapride",242.388,8.03E-5,275.023,8.81E-5,2.0,2.0,2.0,2.0,0.0,0.0,0.0,0.0]
["clozapine",234.966,7.99E-5,267.327,8.8E-5,2.0,2.0,2.0,2.0,2.0,2.0,2.0,2.0]
["desipramine",188.92,7.6E-5,216.048,8.55E-5,4.0,5.0,4.0,5.0,0.0,-1.0,0.0,-1.0]
["diltiazem",167.338,6.25E-5,160.966,6.67E-5,5.0,4.0,5.0,5.0,0.0,1.0,0.0,0.0]
["disopyramide",218.582,7.88E-5,249.811,8.75E-5,2.0,2.0,2.0,2.0,0.0,0.0,0.0,0.0]
["dl-sotalol",187.116,7.69E-5,214.35,8.63E-5,4.0,5.0,4.0,4.0,-2.0,-3.0,-2.0,-2.0]
["dofetilide",217.445,7.88E-5,248.658,8.75E-5,2.0,2.0,2.0,2.0,0.0,0.0,0.0,0.0]
["flecainide",221.701,7.74251E-5,252.301,8.69007E-5,4.0,2.0,2.0,2.0,-1.0,1.0,1.0,1.0]
["fluvoxamine",187.695,7.66E-5,213.983,8.56E-5,4.0,5.0,4.0,5.0,0.0,-1.0,0.0,-1.0]
["halofantrine",184.158,7.67E-5,210.846,8.62E-5,4.0,5.0,4.0,5.0,-1.0,-2.0,-1.0,-2.0]
["imipramine",184.944,7.64E-5,211.882,8.6E-5,4.0,5.0,4.0,5.0,0.0,-1.0,0.0,-1.0]
["loratadine",181.822,7.66E-5,208.09,8.61E-5,4.0,5.0,4.0,4.0,1.0,0.0,1.0,1.0]
["methadone",192.218,7.67E-5,220.494,8.63E-5,4.0,5.0,4.0,4.0,-2.0,-3.0,-2.0,-2.0]
["mexiletine",188.448,7.59E-5,214.258,8.56E-5,4.0,5.0,4.0,5.0,0.0,-1.0,0.0,-1.0]
["mibefradil",181.014,7.59268E-5,205.588,8.49698E-5,4.0,5.0,4.0,5.0,0.0,-1.0,0.0,-1.0]
["nifedipine",179.318,7.56E-5,202.065,8.41E-5,5.0,5.0,5.0,5.0,-1.0,-1.0,-1.0,-1.0]
["nitrendipine",179.478,7.57E-5,202.463,8.42E-5,4.0,5.0,4.0,4.0,1.0,0.0,1.0,1.0]
["ondansetron",262.229,8.08956E-5,293.257,8.77388E-5,2.0,2.0,2.0,2.0,0.0,0.0,0.0,0.0]
["pentamidine",181.85,7.66E-5,208.112,8.61E-5,4.0,5.0,4.0,5.0,-1.0,-2.0,-1.0,-2.0]
["phenytoin",188.68,7.54E-5,216.403,8.53E-5,5.0,4.0,4.0,4.0,0.0,1.0,1.0,1.0]
["pimozide",184.75,7.67E-5,211.622,8.62E-5,4.0,5.0,4.0,5.0,-1.0,-2.0,-1.0,-2.0]
["prenylamine",205.979,7.8E-5,235.805,8.7E-5,4.0,4.0,4.0,4.0,-2.0,-2.0,-2.0,-2.0]
["propafenone",228.136,7.6655E-5,259.382,8.59381E-5,3.0,2.0,3.0,2.0,1.0,2.0,1.0,2.0]
["propranolol",182.834,7.65E-5,209.378,8.61E-5,4.0,5.0,4.0,4.0,1.0,0.0,1.0,1.0]
["quetiapine",182.348,7.66E-5,208.651,8.6E-5,4.0,5.0,4.0,4.0,1.0,0.0,1.0,1.0]
["quinidine",493.419,7.67672E-5,524.255,8.84805E-5,2.0,2.0,2.0,2.0,0.0,0.0,0.0,0.0]
["ranolazine",204.462,7.78E-5,230.731,8.67E-5,4.0,2.0,4.0,2.0,0.0,2.0,0.0,2.0]
["risperidone",182.131,7.66E-5,208.448,8.61E-5,4.0,5.0,4.0,4.0,1.0,0.0,1.0,1.0]
["sertindole",192.958,7.73E-5,221.196,8.66E-5,4.0,5.0,4.0,4.0,-2.0,-3.0,-2.0,-2.0]
["tedisamil",185.227,7.67E-5,212.221,8.62E-5,4.0,5.0,4.0,5.0,-2.0,-3.0,-2.0,-3.0]
["terfenadine",257.664,8.08E-5,289.854,8.8E-5,2.0,2.0,2.0,2.0,0.0,0.0,0.0,0.0]
["terodiline",332.102,8.37E-5,360.858,8.81E-5,2.0,2.0,2.0,2.0,0.0,0.0,0.0,0.0]
["thioridazine",491.473,7.41E-5,542.087,8.36E-5,2.0,2.0,2.0,2.0,1.0,1.0,1.0,1.0]
["verapamil",222.418,7.46E-5,233.627,7.69E-5,5.0,2.0,5.0,4.0,0.0,3.0,0.0,1.0]
[{"$nulls":8},"Total (abs)",{"$f":"sum(abs(J$2:J$42))","v":30},48,31,47]
[{"$nulls":8},"Mean (abs)",{"$f":"sum(abs(J$2:J$42))/count(J$2:J$42)","v":0.7317073171},1.170731707,0.756097561,1.146341463]
[{"$nulls":8},"SD (abs)",{"$f":"STDEV(abs(J$2:J$42))","v":0.7424415884},1.07010371,0.7674792442,0.8532577456]
[{"$nulls":8},"Total",{"$f":"sum(J$2:J$42)","v":-10},-20,-7,-15]

{"sheet":"Binary LDA 1","index":23,"n_rows":42,"n_cols":12,"rows_kept":42,"cut":false,"hidden":false,"merged":[]}
["Drug name","Grandi Lancaster-Sobie","OHara Lancaster-Sobie","APD90","INa shift","ICaL increase","IKr block","Herg block / Cmax","INa shift +ICaL increase +IKr block","APD90 +INa shift +ICaL increase +IKr block","APD90 +ICaL increase","Real category"]
["ajmaline",1.0,1.0,1.0,1.0,1.0,1.0,1.0,1.0,1.0,1.0,1.0]
["amiodarone",1.0,0.0,1.0,0.0,0.0,0.0,1.0,0.0,0.0,0.0,1.0]
["amitriptyline",1.0,0.0,1.0,0.0,0.0,0.0,1.0,0.0,0.0,0.0,0.0]
["azimilide",1.0,1.0,1.0,0.0,1.0,1.0,1.0,1.0,1.0,1.0,1.0]
["bepridil",0.0,0.0,0.0,0.0,0.0,0.0,1.0,0.0,0.0,0.0,1.0]
["chlorpromazine",1.0,0.0,1.0,0.0,0.0,0.0,1.0,0.0,0.0,0.0,1.0]
["cibenzoline",1.0,0.0,0.0,0.0,0.0,0.0,1.0,0.0,0.0,0.0,0.0]
["cisapride",1.0,1.0,1.0,1.0,1.0,1.0,1.0,1.0,1.0,1.0,1.0]
["clozapine",1.0,1.0,1.0,0.0,1.0,1.0,1.0,1.0,1.0,1.0,0.0]
["desipramine",0.0,0.0,0.0,0.0,0.0,0.0,1.0,0.0,0.0,0.0,0.0]
["diltiazem",0.0,0.0,0.0,0.0,0.0,0.0,1.0,0.0,0.0,0.0,0.0]
["disopyramide",1.0,1.0,1.0,0.0,1.0,0.0,1.0,1.0,1.0,1.0,1.0]
["dl-sotalol",1.0,0.0,1.0,0.0,0.0,0.0,1.0,0.0,0.0,0.0,1.0]
["dofetilide",1.0,1.0,1.0,0.0,1.0,0.0,1.0,1.0,1.0,1.0,1.0]
["flecainide",1.0,0.0,1.0,1.0,1.0,0.0,1.0,1.0,1.0,1.0,1.0]
["fluvoxamine",0.0,0.0,0.0,0.0,0.0,0.0,1.0,0.0,0.0,0.0,0.0]
["halofantrine",1.0,0.0,1.0,0.0,0.0,0.0,1.0,0.0,0.0,0.0,1.0]
["imipramine",1.0,0.0,1.0,0.0,0.0,0.0,1.0,0.0,0.0,0.0,0.0]
["loratadine",1.0,0.0,1.0,0.0,0.0,0.0,0.0,0.0,0.0,0.0,0.0]
["methadone",1.0,0.0,1.0,0.0,0.0,0.0,1.0,0.0,0.0,1.0,1.0]
["mexiletine",1.0,0.0,0.0,0.0,0.0,0.0,1.0,0.0,0.0,0.0,0.0]
["mibefradil",0.0,0.0,0.0,0.0,0.0,0.0,1.0,0.0,0.0,0.0,0.0]
["nifedipine",0.0,0.0,0.0,0.0,0.0,0.0,0.0,0.0,0.0,0.0,0.0]
["nitrendipine",0.0,0.0,0.0,0.0,0.0,0.0,0.0,0.0,0.0,0.0,0.0]
["ondansetron",1.0,1.0,1.0,1.0,1.0,1.0,1.0,1.0,1.0,1.0,1.0]
["pentamidine",1.0,0.0,1.0,0.0,0.0,0.0,0.0,0.0,0.0,0.0,1.0]
["phenytoin",0.0,0.0,0.0,0.0,0.0,0.0,1.0,0.0,0.0,0.0,0.0]
["pimozide",1.0,0.0,1.0,0.0,0.0,0.0,1.0,0.0,0.0,0.0,1.0]
["prenylamine",1.0,1.0,1.0,0.0,1.0,0.0,1.0,1.0,1.0,1.0,1.0]
["propafenone",1.0,0.0,1.0,0.0,1.0,0.0,1.0,1.0,0.0,1.0,0.0]
["propranolol",1.0,0.0,1.0,0.0,0.0,0.0,1.0,0.0,0.0,0.0,0.0]
["quetiapine",1.0,0.0,1.0,0.0,0.0,0.0,1.0,0.0,0.0,0.0,0.0]
["quinidine",1.0,1.0,1.0,1.0,1.0,1.0,1.0,1.0,1.0,1.0,1.0]
["ranolazine",1.0,1.0,1.0,0.0,1.0,0.0,1.0,1.0,1.0,1.0,0.0]
["risperidone",1.0,0.0,1.0,0.0,0.0,0.0,1.0,0.0,0.0,0.0,0.0]
["sertindole",1.0,0.0,1.0,0.0,0.0,0.0,1.0,0.0,1.0,1.0,1.0]
["tedisamil",1.0,0.0,1.0,0.0,0.0,0.0,1.0,0.0,0.0,0.0,1.0]
["terfenadine",1.0,1.0,1.0,1.0,1.0,1.0,1.0,1.0,1.0,1.0,1.0]
["terodiline",1.0,1.0,1.0,1.0,1.0,1.0,1.0,1.0,1.0,1.0,1.0]
["thioridazine",0.0,1.0,0.0,1.0,1.0,1.0,1.0,1.0,0.0,0.0,1.0]
["verapamil",0.0,0.0,0.0,0.0,1.0,0.0,1.0,1.0,0.0,0.0,0.0]

{"sheet":"Binary SVM 1","index":24,"n_rows":42,"n_cols":12,"rows_kept":42,"cut":false,"hidden":false,"merged":[]}
["Drug name","Grandi Lancaster-Sobie","OHara Lancaster-Sobie","APD90","INa shift","ICaL increase","IKr block","Herg block / Cmax","INa shift +ICaL increase +IKr block","APD90 +INa shift +ICaL increase +IKr block","APD90 +ICaL increase","Real category"]
["ajmaline",1.0,1.0,1.0,1.0,1.0,1.0,0.0,1.0,1.0,1.0,1.0]
["amiodarone",1.0,0.0,0.0,0.0,0.0,0.0,0.0,0.0,0.0,0.0,1.0]
["amitriptyline",1.0,0.0,0.0,0.0,0.0,1.0,0.0,0.0,0.0,0.0,0.0]
["azimilide",1.0,1.0,1.0,1.0,1.0,0.0,0.0,1.0,1.0,1.0,1.0]
["bepridil",0.0,0.0,0.0,0.0,0.0,0.0,0.0,0.0,0.0,0.0,1.0]
["chlorpromazine",0.0,0.0,0.0,0.0,0.0,0.0,0.0,0.0,0.0,0.0,1.0]
["cibenzoline",1.0,0.0,0.0,0.0,0.0,1.0,1.0,0.0,1.0,0.0,0.0]
["cisapride",1.0,1.0,1.0,1.0,1.0,0.0,0.0,1.0,1.0,1.0,1.0]
["clozapine",1.0,1.0,1.0,1.0,1.0,1.0,1.0,1.0,1.0,1.0,0.0]
["desipramine",0.0,0.0,0.0,0.0,0.0,1.0,1.0,0.0,0.0,0.0,0.0]
["diltiazem",0.0,0.0,0.0,0.0,0.0,1.0,1.0,0.0,0.0,0.0,0.0]
["disopyramide",1.0,1.0,1.0,1.0,1.0,0.0,0.0,1.0,1.0,1.0,1.0]
["dl-sotalol",1.0,0.0,0.0,0.0,0.0,0.0,0.0,0.0,0.0,0.0,1.0]
["dofetilide",1.0,1.0,1.0,1.0,1.0,0.0,0.0,1.0,1.0,1.0,1.0]
["flecainide",1.0,0.0,1.0,1.0,1.0,0.0,0.0,1.0,1.0,1.0,1.0]
["fluvoxamine",0.0,0.0,0.0,0.0,0.0,1.0,1.0,0.0,0.0,0.0,0.0]
["halofantrine",1.0,0.0,0.0,0.0,0.0,0.0,0.0,0.0,0.0,0.0,1.0]
["imipramine",1.0,0.0,0.0,0.0,0.0,1.0,1.0,0.0,1.0,0.0,0.0]
["loratadine",1.0,0.0,0.0,0.0,0.0,1.0,1.0,0.0,1.0,0.0,0.0]
["methadone",1.0,0.0,0.0,0.0,0.0,0.0,0.0,0.0,0.0,0.0,1.0]
["mexiletine",1.0,0.0,0.0,0.0,0.0,1.0,1.0,0.0,0.0,0.0,0.0]
["mibefradil",0.0,0.0,0.0,0.0,0.0,1.0,0.0,0.0,0.0,0.0,0.0]
["nifedipine",0.0,0.0,0.0,0.0,0.0,1.0,1.0,0.0,0.0,0.0,0.0]
["nitrendipine",0.0,0.0,0.0,0.0,0.0,1.0,0.0,0.0,0.0,0.0,0.0]
["ondansetron",1.0,1.0,1.0,1.0,1.0,0.0,0.0,1.0,1.0,1.0,1.0]
["pentamidine",1.0,0.0,0.0,0.0,0.0,0.0,0.0,0.0,0.0,0.0,1.0]
["phenytoin",0.0,0.0,0.0,0.0,0.0,1.0,1.0,0.0,0.0,0.0,0.0]
["pimozide",1.0,0.0,0.0,0.0,0.0,0.0,0.0,0.0,0.0,0.0,1.0]
["prenylamine",1.0,0.0,1.0,0.0,1.0,0.0,0.0,1.0,1.0,1.0,1.0]
["propafenone",0.0,1.0,0.0,1.0,1.0,1.0,1.0,1.0,0.0,1.0,0.0]
["propranolol",1.0,0.0,0.0,0.0,0.0,1.0,0.0,0.0,1.0,0.0,0.0]
["quetiapine",1.0,0.0,0.0,0.0,0.0,1.0,0.0,0.0,1.0,0.0,0.0]
["quinidine",1.0,1.0,1.0,1.0,1.0,1.0,0.0,1.0,1.0,1.0,1.0]
["ranolazine",1.0,1.0,1.0,0.0,1.0,1.0,1.0,1.0,1.0,1.0,0.0]
["risperidone",1.0,0.0,0.0,0.0,0.0,1.0,0.0,0.0,1.0,0.0,0.0]
["sertindole",1.0,0.0,1.0,0.0,0.0,0.0,0.0,0.0,1.0,0.0,1.0]
["tedisamil",1.0,0.0,0.0,0.0,0.0,0.0,0.0,0.0,0.0,0.0,1.0]
["terfenadine",1.0,1.0,1.0,1.0,1.0,0.0,0.0,1.0,1.0,1.0,1.0]
["terodiline",1.0,1.0,1.0,1.0,1.0,1.0,0.0,1.0,1.0,1.0,1.0]
["thioridazine",0.0,1.0,0.0,1.0,1.0,1.0,0.0,1.0,1.0,0.0,1.0]
["verapamil",0.0,1.0,0.0,1.0,1.0,1.0,1.0,1.0,0.0,0.0,0.0]

{"sheet":"Binary LDA 1 errors","index":25,"n_rows":46,"n_cols":11,"rows_kept":46,"cut":false,"hidden":false,"merged":[]}
[{"$f":"'Binary LDA 1'!A1","v":"Drug name"},{"$f":"'Binary LDA 1'!B1","v":"Grandi Lancaster-Sobie"},{"$f":"'Binary LDA 1'!C1","v":"OHara Lancaster-Sobie"},{"$f":"'Binary LDA 1'!D1","v":"APD90"},{"$f":"'Binary LDA 1'!E1","v":"INa shift"},{"$f":"'Binary LDA 1'!F1","v":"ICaL increase"},{"$f":"'Binary LDA 1'!G1","v":"IKr block"},{"$f":"'Binary LDA 1'!H1","v":"Herg block / Cmax"},{"$f":"'Binary LDA 1'!I1","v":"INa shift +ICaL increase +IKr block"},{"$f":"'Binary LDA 1'!J1","v":"APD90 +INa shift +ICaL increase +IKr block"},{"$f":"'Binary LDA 1'!K1","v":"APD90 +ICaL increase"}]
[{"$f":"'Binary LDA 1'!A2","v":"ajmaline"},{"$f":"'Binary LDA 1'!$L2-'Binary LDA 1'!B2","v":0},{"$f":"'Binary LDA 1'!$L2-'Binary LDA 1'!C2","v":0},{"$f":"'Binary LDA 1'!$L2-'Binary LDA 1'!D2","v":0},{"$f":"'Binary LDA 1'!$L2-'Binary LDA 1'!E2","v":0},{"$f":"'Binary LDA 1'!$L2-'Binary LDA 1'!F2","v":0},{"$f":"'Binary LDA 1'!$L2-'Binary LDA 1'!G2","v":0},{"$f":"'Binary LDA 1'!$L2-'Binary LDA 1'!H2","v":0},{"$f":"'Binary LDA 1'!$L2-'Binary LDA 1'!I2","v":0},{"$f":"'Binary LDA 1'!$L2-'Binary LDA 1'!J2","v":0},{"$f":"'Binary LDA 1'!$L2-'Binary LDA 1'!K2","v":0}]
[{"$f":"'Binary LDA 1'!A3","v":"amiodarone"},{"$f":"'Binary LDA 1'!$L3-'Binary LDA 1'!B3","v":0},{"$f":"'Binary LDA 1'!$L3-'Binary LDA 1'!C3","v":1},{"$f":"'Binary LDA 1'!$L3-'Binary LDA 1'!D3","v":0},{"$f":"'Binary LDA 1'!$L3-'Binary LDA 1'!E3","v":1},{"$f":"'Binary LDA 1'!$L3-'Binary LDA 1'!F3","v":1},{"$f":"'Binary LDA 1'!$L3-'Binary LDA 1'!G3","v":1},{"$f":"'Binary LDA 1'!$L3-'Binary LDA 1'!H3","v":0},{"$f":"'Binary LDA 1'!$L3-'Binary LDA 1'!I3","v":1},{"$f":"'Binary LDA 1'!$L3-'Binary LDA 1'!J3","v":1},{"$f":"'Binary LDA 1'!$L3-'Binary LDA 1'!K3","v":1}]
[{"$f":"'Binary LDA 1'!A4","v":"amitriptyline"},{"$f":"'Binary LDA 1'!$L4-'Binary LDA 1'!B4","v":-1},{"$f":"'Binary LDA 1'!$L4-'Binary LDA 1'!C4","v":0},{"$f":"'Binary LDA 1'!$L4-'Binary LDA 1'!D4","v":-1},{"$f":"'Binary LDA 1'!$L4-'Binary LDA 1'!E4","v":0},{"$f":"'Binary LDA 1'!$L4-'Binary LDA 1'!F4","v":0},{"$f":"'Binary LDA 1'!$L4-'Binary LDA 1'!G4","v":0},{"$f":"'Binary LDA 1'!$L4-'Binary LDA 1'!H4","v":-1},{"$f":"'Binary LDA 1'!$L4-'Binary LDA 1'!I4","v":0},{"$f":"'Binary LDA 1'!$L4-'Binary LDA 1'!J4","v":0},{"$f":"'Binary LDA 1'!$L4-'Binary LDA 1'!K4","v":0}]
[{"$f":"'Binary LDA 1'!A5","v":"azimilide"},{"$f":"'Binary LDA 1'!$L5-'Binary LDA 1'!B5","v":0},{"$f":"'Binary LDA 1'!$L5-'Binary LDA 1'!C5","v":0},{"$f":"'Binary LDA 1'!$L5-'Binary LDA 1'!D5","v":0},{"$f":"'Binary LDA 1'!$L5-'Binary LDA 1'!E5","v":1},{"$f":"'Binary LDA 1'!$L5-'Binary LDA 1'!F5","v":0},{"$f":"'Binary LDA 1'!$L5-'Binary LDA 1'!G5","v":0},{"$f":"'Binary LDA 1'!$L5-'Binary LDA 1'!H5","v":0},{"$f":"'Binary LDA 1'!$L5-'Binary LDA 1'!I5","v":0},{"$f":"'Binary LDA 1'!$L5-'Binary LDA 1'!J5","v":0},{"$f":"'Binary LDA 1'!$L5-'Binary LDA 1'!K5","v":0}]
[{"$f":"'Binary LDA 1'!A6","v":"bepridil"},{"$f":"'Binary LDA 1'!$L6-'Binary LDA 1'!B6","v":1},{"$f":"'Binary LDA 1'!$L6-'Binary LDA 1'!C6","v":1},{"$f":"'Binary LDA 1'!$L6-'Binary LDA 1'!D6","v":1},{"$f":"'Binary LDA 1'!$L6-'Binary LDA 1'!E6","v":1},{"$f":"'Binary LDA 1'!$L6-'Binary LDA 1'!F6","v":1},{"$f":"'Binary LDA 1'!$L6-'Binary LDA 1'!G6","v":1},{"$f":"'Binary LDA 1'!$L6-'Binary LDA 1'!H6","v":0},{"$f":"'Binary LDA 1'!$L6-'Binary LDA 1'!I6","v":1},{"$f":"'Binary LDA 1'!$L6-'Binary LDA 1'!J6","v":1},{"$f":"'Binary LDA 1'!$L6-'Binary LDA 1'!K6","v":1}]
[{"$f":"'Binary LDA 1'!A7","v":"chlorpromazine"},{"$f":"'Binary LDA 1'!$L7-'Binary LDA 1'!B7","v":0},{"$f":"'Binary LDA 1'!$L7-'Binary LDA 1'!C7","v":1},{"$f":"'Binary LDA 1'!$L7-'Binary LDA 1'!D7","v":0},{"$f":"'Binary LDA 1'!$L7-'Binary LDA 1'!E7","v":1},{"$f":"'Binary LDA 1'!$L7-'Binary LDA 1'!F7","v":1},{"$f":"'Binary LDA 1'!$L7-'Binary LDA 1'!G7","v":1},{"$f":"'Binary LDA 1'!$L7-'Binary LDA 1'!H7","v":0},{"$f":"'Binary LDA 1'!$L7-'Binary LDA 1'!I7","v":1},{"$f":"'Binary LDA 1'!$L7-'Binary LDA 1'!J7","v":1},{"$f":"'Binary LDA 1'!$L7-'Binary LDA 1'!K7","v":1}]
[{"$f":"'Binary LDA 1'!A8","v":"cibenzoline"},{"$f":"'Binary LDA 1'!$L8-'Binary LDA 1'!B8","v":-1},{"$f":"'Binary LDA 1'!$L8-'Binary LDA 1'!C8","v":0},{"$f":"'Binary LDA 1'!$L8-'Binary LDA 1'!D8","v":0},{"$f":"'Binary LDA 1'!$L8-'Binary LDA 1'!E8","v":0},{"$f":"'Binary LDA 1'!$L8-'Binary LDA 1'!F8","v":0},{"$f":"'Binary LDA 1'!$L8-'Binary LDA 1'!G8","v":0},{"$f":"'Binary LDA 1'!$L8-'Binary LDA 1'!H8","v":-1},{"$f":"'Binary LDA 1'!$L8-'Binary LDA 1'!I8","v":0},{"$f":"'Binary LDA 1'!$L8-'Binary LDA 1'!J8","v":0},{"$f":"'Binary LDA 1'!$L8-'Binary LDA 1'!K8","v":0}]
[{"$f":"'Binary LDA 1'!A9","v":"cisapride"},{"$f":"'Binary LDA 1'!$L9-'Binary LDA 1'!B9","v":0},{"$f":"'Binary LDA 1'!$L9-'Binary LDA 1'!C9","v":0},{"$f":"'Binary LDA 1'!$L9-'Binary LDA 1'!D9","v":0},{"$f":"'Binary LDA 1'!$L9-'Binary LDA 1'!E9","v":0},{"$f":"'Binary LDA 1'!$L9-'Binary LDA 1'!F9","v":0},{"$f":"'Binary LDA 1'!$L9-'Binary LDA 1'!G9","v":0},{"$f":"'Binary LDA 1'!$L9-'Binary LDA 1'!H9","v":0},{"$f":"'Binary LDA 1'!$L9-'Binary LDA 1'!I9","v":0},{"$f":"'Binary LDA 1'!$L9-'Binary LDA 1'!J9","v":0},{"$f":"'Binary LDA 1'!$L9-'Binary LDA 1'!K9","v":0}]
[{"$f":"'Binary LDA 1'!A10","v":"clozapine"},{"$f":"'Binary LDA 1'!$L10-'Binary LDA 1'!B10","v":-1},{"$f":"'Binary LDA 1'!$L10-'Binary LDA 1'!C10","v":-1},{"$f":"'Binary LDA 1'!$L10-'Binary LDA 1'!D10","v":-1},{"$f":"'Binary LDA 1'!$L10-'Binary LDA 1'!E10","v":0},{"$f":"'Binary LDA 1'!$L10-'Binary LDA 1'!F10","v":-1},{"$f":"'Binary LDA 1'!$L10-'Binary LDA 1'!G10","v":-1},{"$f":"'Binary LDA 1'!$L10-'Binary LDA 1'!H10","v":-1},{"$f":"'Binary LDA 1'!$L10-'Binary LDA 1'!I10","v":-1},{"$f":"'Binary LDA 1'!$L10-'Binary LDA 1'!J10","v":-1},{"$f":"'Binary LDA 1'!$L10-'Binary LDA 1'!K10","v":-1}]
[{"$f":"'Binary LDA 1'!A11","v":"desipramine"},{"$f":"'Binary LDA 1'!$L11-'Binary LDA 1'!B11","v":0},{"$f":"'Binary LDA 1'!$L11-'Binary LDA 1'!C11","v":0},{"$f":"'Binary LDA 1'!$L11-'Binary LDA 1'!D11","v":0},{"$f":"'Binary LDA 1'!$L11-'Binary LDA 1'!E11","v":0},{"$f":"'Binary LDA 1'!$L11-'Binary LDA 1'!F11","v":0},{"$f":"'Binary LDA 1'!$L11-'Binary LDA 1'!G11","v":0},{"$f":"'Binary LDA 1'!$L11-'Binary LDA 1'!H11","v":-1},{"$f":"'Binary LDA 1'!$L11-'Binary LDA 1'!I11","v":0},{"$f":"'Binary LDA 1'!$L11-'Binary LDA 1'!J11","v":0},{"$f":"'Binary LDA 1'!$L11-'Binary LDA 1'!K11","v":0}]
[{"$f":"'Binary LDA 1'!A12","v":"diltiazem"},{"$f":"'Binary LDA 1'!$L12-'Binary LDA 1'!B12","v":0},{"$f":"'Binary LDA 1'!$L12-'Binary LDA 1'!C12","v":0},{"$f":"'Binary LDA 1'!$L12-'Binary LDA 1'!D12","v":0},{"$f":"'Binary LDA 1'!$L12-'Binary LDA 1'!E12","v":0},{"$f":"'Binary LDA 1'!$L12-'Binary LDA 1'!F12","v":0},{"$f":"'Binary LDA 1'!$L12-'Binary LDA 1'!G12","v":0},{"$f":"'Binary LDA 1'!$L12-'Binary LDA 1'!H12","v":-1},{"$f":"'Binary LDA 1'!$L12-'Binary LDA 1'!I12","v":0},{"$f":"'Binary LDA 1'!$L12-'Binary LDA 1'!J12","v":0},{"$f":"'Binary LDA 1'!$L12-'Binary LDA 1'!K12","v":0}]
[{"$f":"'Binary LDA 1'!A13","v":"disopyramide"},{"$f":"'Binary LDA 1'!$L13-'Binary LDA 1'!B13","v":0},{"$f":"'Binary LDA 1'!$L13-'Binary LDA 1'!C13","v":0},{"$f":"'Binary LDA 1'!$L13-'Binary LDA 1'!D13","v":0},{"$f":"'Binary LDA 1'!$L13-'Binary LDA 1'!E13","v":1},{"$f":"'Binary LDA 1'!$L13-'Binary LDA 1'!F13","v":0},{"$f":"'Binary LDA 1'!$L13-'Binary LDA 1'!G13","v":1},{"$f":"'Binary LDA 1'!$L13-'Binary LDA 1'!H13","v":0},{"$f":"'Binary LDA 1'!$L13-'Binary LDA 1'!I13","v":0},{"$f":"'Binary LDA 1'!$L13-'Binary LDA 1'!J13","v":0},{"$f":"'Binary LDA 1'!$L13-'Binary LDA 1'!K13","v":0}]
[{"$f":"'Binary LDA 1'!A14","v":"dl-sotalol"},{"$f":"'Binary LDA 1'!$L14-'Binary LDA 1'!B14","v":0},{"$f":"'Binary LDA 1'!$L14-'Binary LDA 1'!C14","v":1},{"$f":"'Binary LDA 1'!$L14-'Binary LDA 1'!D14","v":0},{"$f":"'Binary LDA 1'!$L14-'Binary LDA 1'!E14","v":1},{"$f":"'Binary LDA 1'!$L14-'Binary LDA 1'!F14","v":1},{"$f":"'Binary LDA 1'!$L14-'Binary LDA 1'!G14","v":1},{"$f":"'Binary LDA 1'!$L14-'Binary LDA 1'!H14","v":0},{"$f":"'Binary LDA 1'!$L14-'Binary LDA 1'!I14","v":1},{"$f":"'Binary LDA 1'!$L14-'Binary LDA 1'!J14","v":1},{"$f":"'Binary LDA 1'!$L14-'Binary LDA 1'!K14","v":1}]
[{"$f":"'Binary LDA 1'!A15","v":"dofetilide"},{"$f":"'Binary LDA 1'!$L15-'Binary LDA 1'!B15","v":0},{"$f":"'Binary LDA 1'!$L15-'Binary LDA 1'!C15","v":0},{"$f":"'Binary LDA 1'!$L15-'Binary LDA 1'!D15","v":0},{"$f":"'Binary LDA 1'!$L15-'Binary LDA 1'!E15","v":1},{"$f":"'Binary LDA 1'!$L15-'Binary LDA 1'!F15","v":0},{"$f":"'Binary LDA 1'!$L15-'Binary LDA 1'!G15","v":1},{"$f":"'Binary LDA 1'!$L15-'Binary LDA 1'!H15","v":0},{"$f":"'Binary LDA 1'!$L15-'Binary LDA 1'!I15","v":0},{"$f":"'Binary LDA 1'!$L15-'Binary LDA 1'!J15","v":0},{"$f":"'Binary LDA 1'!$L15-'Binary LDA 1'!K15","v":0}]
[{"$f":"'Binary LDA 1'!A16","v":"flecainide"},{"$f":"'Binary LDA 1'!$L16-'Binary LDA 1'!B16","v":0},{"$f":"'Binary LDA 1'!$L16-'Binary LDA 1'!C16","v":1},{"$f":"'Binary LDA 1'!$L16-'Binary LDA 1'!D16","v":0},{"$f":"'Binary LDA 1'!$L16-'Binary LDA 1'!E16","v":0},{"$f":"'Binary LDA 1'!$L16-'Binary LDA 1'!F16","v":0},{"$f":"'Binary LDA 1'!$L16-'Binary LDA 1'!G16","v":1},{"$f":"'Binary LDA 1'!$L16-'Binary LDA 1'!H16","v":0},{"$f":"'Binary LDA 1'!$L16-'Binary LDA 1'!I16","v":0},{"$f":"'Binary LDA 1'!$L16-'Binary LDA 1'!J16","v":0},{"$f":"'Binary LDA 1'!$L16-'Binary LDA 1'!K16","v":0}]
[{"$f":"'Binary LDA 1'!A17","v":"fluvoxamine"},{"$f":"'Binary LDA 1'!$L17-'Binary LDA 1'!B17","v":0},{"$f":"'Binary LDA 1'!$L17-'Binary LDA 1'!C17","v":0},{"$f":"'Binary LDA 1'!$L17-'Binary LDA 1'!D17","v":0},{"$f":"'Binary LDA 1'!$L17-'Binary LDA 1'!E17","v":0},{"$f":"'Binary LDA 1'!$L17-'Binary LDA 1'!F17","v":0},{"$f":"'Binary LDA 1'!$L17-'Binary LDA 1'!G17","v":0},{"$f":"'Binary LDA 1'!$L17-'Binary LDA 1'!H17","v":-1},{"$f":"'Binary LDA 1'!$L17-'Binary LDA 1'!I17","v":0},{"$f":"'Binary LDA 1'!$L17-'Binary LDA 1'!J17","v":0},{"$f":"'Binary LDA 1'!$L17-'Binary LDA 1'!K17","v":0}]
[{"$f":"'Binary LDA 1'!A18","v":"halofantrine"},{"$f":"'Binary LDA 1'!$L18-'Binary LDA 1'!B18","v":0},{"$f":"'Binary LDA 1'!$L18-'Binary LDA 1'!C18","v":1},{"$f":"'Binary LDA 1'!$L18-'Binary LDA 1'!D18","v":0},{"$f":"'Binary LDA 1'!$L18-'Binary LDA 1'!E18","v":1},{"$f":"'Binary LDA 1'!$L18-'Binary LDA 1'!F18","v":1},{"$f":"'Binary LDA 1'!$L18-'Binary LDA 1'!G18","v":1},{"$f":"'Binary LDA 1'!$L18-'Binary LDA 1'!H18","v":0},{"$f":"'Binary LDA 1'!$L18-'Binary LDA 1'!I18","v":1},{"$f":"'Binary LDA 1'!$L18-'Binary LDA 1'!J18","v":1},{"$f":"'Binary LDA 1'!$L18-'Binary LDA 1'!K18","v":1}]
[{"$f":"'Binary LDA 1'!A19","v":"imipramine"},{"$f":"'Binary LDA 1'!$L19-'Binary LDA 1'!B19","v":-1},{"$f":"'Binary LDA 1'!$L19-'Binary LDA 1'!C19","v":0},{"$f":"'Binary LDA 1'!$L19-'Binary LDA 1'!D19","v":-1},{"$f":"'Binary LDA 1'!$L19-'Binary LDA 1'!E19","v":0},{"$f":"'Binary LDA 1'!$L19-'Binary LDA 1'!F19","v":0},{"$f":"'Binary LDA 1'!$L19-'Binary LDA 1'!G19","v":0},{"$f":"'Binary LDA 1'!$L19-'Binary LDA 1'!H19","v":-1},{"$f":"'Binary LDA 1'!$L19-'Binary LDA 1'!I19","v":0},{"$f":"'Binary LDA 1'!$L19-'Binary LDA 1'!J19","v":0},{"$f":"'Binary LDA 1'!$L19-'Binary LDA 1'!K19","v":0}]
[{"$f":"'Binary LDA 1'!A20","v":"loratadine"},{"$f":"'Binary LDA 1'!$L20-'Binary LDA 1'!B20","v":-1},{"$f":"'Binary LDA 1'!$L20-'Binary LDA 1'!C20","v":0},{"$f":"'Binary LDA 1'!$L20-'Binary LDA 1'!D20","v":-1},{"$f":"'Binary LDA 1'!$L20-'Binary LDA 1'!E20","v":0},{"$f":"'Binary LDA 1'!$L20-'Binary LDA 1'!F20","v":0},{"$f":"'Binary LDA 1'!$L20-'Binary LDA 1'!G20","v":0},{"$f":"'Binary LDA 1'!$L20-'Binary LDA 1'!H20","v":0},{"$f":"'Binary LDA 1'!$L20-'Binary LDA 1'!I20","v":0},{"$f":"'Binary LDA 1'!$L20-'Binary LDA 1'!J20","v":0},{"$f":"'Binary LDA 1'!$L20-'Binary LDA 1'!K20","v":0}]
[{"$f":"'Binary LDA 1'!A21","v":"methadone"},{"$f":"'Binary LDA 1'!$L21-'Binary LDA 1'!B21","v":0},{"$f":"'Binary LDA 1'!$L21-'Binary LDA 1'!C21","v":1},{"$f":"'Binary LDA 1'!$L21-'Binary LDA 1'!D21","v":0},{"$f":"'Binary LDA 1'!$L21-'Binary LDA 1'!E21","v":1},{"$f":"'Binary LDA 1'!$L21-'Binary LDA 1'!F21","v":1},{"$f":"'Binary LDA 1'!$L21-'Binary LDA 1'!G21","v":1},{"$f":"'Binary LDA 1'!$L21-'Binary LDA 1'!H21","v":0},{"$f":"'Binary LDA 1'!$L21-'Binary LDA 1'!I21","v":1},{"$f":"'Binary LDA 1'!$L21-'Binary LDA 1'!J21","v":1},{"$f":"'Binary LDA 1'!$L21-'Binary LDA 1'!K21","v":0}]
[{"$f":"'Binary LDA 1'!A22","v":"mexiletine"},{"$f":"'Binary LDA 1'!$L22-'Binary LDA 1'!B22","v":-1},{"$f":"'Binary LDA 1'!$L22-'Binary LDA 1'!C22","v":0},{"$f":"'Binary LDA 1'!$L22-'Binary LDA 1'!D22","v":0},{"$f":"'Binary LDA 1'!$L22-'Binary LDA 1'!E22","v":0},{"$f":"'Binary LDA 1'!$L22-'Binary LDA 1'!F22","v":0},{"$f":"'Binary LDA 1'!$L22-'Binary LDA 1'!G22","v":0},{"$f":"'Binary LDA 1'!$L22-'Binary LDA 1'!H22","v":-1},{"$f":"'Binary LDA 1'!$L22-'Binary LDA 1'!I22","v":0},{"$f":"'Binary LDA 1'!$L22-'Binary LDA 1'!J22","v":0},{"$f":"'Binary LDA 1'!$L22-'Binary LDA 1'!K22","v":0}]
[{"$f":"'Binary LDA 1'!A23","v":"mibefradil"},{"$f":"'Binary LDA 1'!$L23-'Binary LDA 1'!B23","v":0},{"$f":"'Binary LDA 1'!$L23-'Binary LDA 1'!C23","v":0},{"$f":"'Binary LDA 1'!$L23-'Binary LDA 1'!D23","v":0},{"$f":"'Binary LDA 1'!$L23-'Binary LDA 1'!E23","v":0},{"$f":"'Binary LDA 1'!$L23-'Binary LDA 1'!F23","v":0},{"$f":"'Binary LDA 1'!$L23-'Binary LDA 1'!G23","v":0},{"$f":"'Binary LDA 1'!$L23-'Binary LDA 1'!H23","v":-1},{"$f":"'Binary LDA 1'!$L23-'Binary LDA 1'!I23","v":0},{"$f":"'Binary LDA 1'!$L23-'Binary LDA 1'!J23","v":0},{"$f":"'Binary LDA 1'!$L23-'Binary LDA 1'!K23","v":0}]
[{"$f":"'Binary LDA 1'!A24","v":"nifedipine"},{"$f":"'Binary LDA 1'!$L24-'Binary LDA 1'!B24","v":0},{"$f":"'Binary LDA 1'!$L24-'Binary LDA 1'!C24","v":0},{"$f":"'Binary LDA 1'!$L24-'Binary LDA 1'!D24","v":0},{"$f":"'Binary LDA 1'!$L24-'Binary LDA 1'!E24","v":0},{"$f":"'Binary LDA 1'!$L24-'Binary LDA 1'!F24","v":0},{"$f":"'Binary LDA 1'!$L24-'Binary LDA 1'!G24","v":0},{"$f":"'Binary LDA 1'!$L24-'Binary LDA 1'!H24","v":0},{"$f":"'Binary LDA 1'!$L24-'Binary LDA 1'!I24","v":0},{"$f":"'Binary LDA 1'!$L24-'Binary LDA 1'!J24","v":0},{"$f":"'Binary LDA 1'!$L24-'Binary LDA 1'!K24","v":0}]
[{"$f":"'Binary LDA 1'!A25","v":"nitrendipine"},{"$f":"'Binary LDA 1'!$L25-'Binary LDA 1'!B25","v":0},{"$f":"'Binary LDA 1'!$L25-'Binary LDA 1'!C25","v":0},{"$f":"'Binary LDA 1'!$L25-'Binary LDA 1'!D25","v":0},{"$f":"'Binary LDA 1'!$L25-'Binary LDA 1'!E25","v":0},{"$f":"'Binary LDA 1'!$L25-'Binary LDA 1'!F25","v":0},{"$f":"'Binary LDA 1'!$L25-'Binary LDA 1'!G25","v":0},{"$f":"'Binary LDA 1'!$L25-'Binary LDA 1'!H25","v":0},{"$f":"'Binary LDA 1'!$L25-'Binary LDA 1'!I25","v":0},{"$f":"'Binary LDA 1'!$L25-'Binary LDA 1'!J25","v":0},{"$f":"'Binary LDA 1'!$L25-'Binary LDA 1'!K25","v":0}]
[{"$f":"'Binary LDA 1'!A26","v":"ondansetron"},{"$f":"'Binary LDA 1'!$L26-'Binary LDA 1'!B26","v":0},{"$f":"'Binary LDA 1'!$L26-'Binary LDA 1'!C26","v":0},{"$f":"'Binary LDA 1'!$L26-'Binary LDA 1'!D26","v":0},{"$f":"'Binary LDA 1'!$L26-'Binary LDA 1'!E26","v":0},{"$f":"'Binary LDA 1'!$L26-'Binary LDA 1'!F26","v":0},{"$f":"'Binary LDA 1'!$L26-'Binary LDA 1'!G26","v":0},{"$f":"'Binary LDA 1'!$L26-'Binary LDA 1'!H26","v":0},{"$f":"'Binary LDA 1'!$L26-'Binary LDA 1'!I26","v":0},{"$f":"'Binary LDA 1'!$L26-'Binary LDA 1'!J26","v":0},{"$f":"'Binary LDA 1'!$L26-'Binary LDA 1'!K26","v":0}]
[{"$f":"'Binary LDA 1'!A27","v":"pentamidine"},{"$f":"'Binary LDA 1'!$L27-'Binary LDA 1'!B27","v":0},{"$f":"'Binary LDA 1'!$L27-'Binary LDA 1'!C27","v":1},{"$f":"'Binary LDA 1'!$L27-'Binary LDA 1'!D27","v":0},{"$f":"'Binary LDA 1'!$L27-'Binary LDA 1'!E27","v":1},{"$f":"'Binary LDA 1'!$L27-'Binary LDA 1'!F27","v":1},{"$f":"'Binary LDA 1'!$L27-'Binary LDA 1'!G27","v":1},{"$f":"'Binary LDA 1'!$L27-'Binary LDA 1'!H27","v":1},{"$f":"'Binary LDA 1'!$L27-'Binary LDA 1'!I27","v":1},{"$f":"'Binary LDA 1'!$L27-'Binary LDA 1'!J27","v":1},{"$f":"'Binary LDA 1'!$L27-'Binary LDA 1'!K27","v":1}]
[{"$f":"'Binary LDA 1'!A28","v":"phenytoin"},{"$f":"'Binary LDA 1'!$L28-'Binary LDA 1'!B28","v":0},{"$f":"'Binary LDA 1'!$L28-'Binary LDA 1'!C28","v":0},{"$f":"'Binary LDA 1'!$L28-'Binary LDA 1'!D28","v":0},{"$f":"'Binary LDA 1'!$L28-'Binary LDA 1'!E28","v":0},{"$f":"'Binary LDA 1'!$L28-'Binary LDA 1'!F28","v":0},{"$f":"'Binary LDA 1'!$L28-'Binary LDA 1'!G28","v":0},{"$f":"'Binary LDA 1'!$L28-'Binary LDA 1'!H28","v":-1},{"$f":"'Binary LDA 1'!$L28-'Binary LDA 1'!I28","v":0},{"$f":"'Binary LDA 1'!$L28-'Binary LDA 1'!J28","v":0},{"$f":"'Binary LDA 1'!$L28-'Binary LDA 1'!K28","v":0}]
[{"$f":"'Binary LDA 1'!A29","v":"pimozide"},{"$f":"'Binary LDA 1'!$L29-'Binary LDA 1'!B29","v":0},{"$f":"'Binary LDA 1'!$L29-'Binary LDA 1'!C29","v":1},{"$f":"'Binary LDA 1'!$L29-'Binary LDA 1'!D29","v":0},{"$f":"'Binary LDA 1'!$L29-'Binary LDA 1'!E29","v":1},{"$f":"'Binary LDA 1'!$L29-'Binary LDA 1'!F29","v":1},{"$f":"'Binary LDA 1'!$L29-'Binary LDA 1'!G29","v":1},{"$f":"'Binary LDA 1'!$L29-'Binary LDA 1'!H29","v":0},{"$f":"'Binary LDA 1'!$L29-'Binary LDA 1'!I29","v":1},{"$f":"'Binary LDA 1'!$L29-'Binary LDA 1'!J29","v":1},{"$f":"'Binary LDA 1'!$L29-'Binary LDA 1'!K29","v":1}]
[{"$f":"'Binary LDA 1'!A30","v":"prenylamine"},{"$f":"'Binary LDA 1'!$L30-'Binary LDA 1'!B30","v":0},{"$f":"'Binary LDA 1'!$L30-'Binary LDA 1'!C30","v":0},{"$f":"'Binary LDA 1'!$L30-'Binary LDA 1'!D30","v":0},{"$f":"'Binary LDA 1'!$L30-'Binary LDA 1'!E30","v":1},{"$f":"'Binary LDA 1'!$L30-'Binary LDA 1'!F30","v":0},{"$f":"'Binary LDA 1'!$L30-'Binary LDA 1'!G30","v":1},{"$f":"'Binary LDA 1'!$L30-'Binary LDA 1'!H30","v":0},{"$f":"'Binary LDA 1'!$L30-'Binary LDA 1'!I30","v":0},{"$f":"'Binary LDA 1'!$L30-'Binary LDA 1'!J30","v":0},{"$f":"'Binary LDA 1'!$L30-'Binary LDA 1'!K30","v":0}]
[{"$f":"'Binary LDA 1'!A31","v":"propafenone"},{"$f":"'Binary LDA 1'!$L31-'Binary LDA 1'!B31","v":-1},{"$f":"'Binary LDA 1'!$L31-'Binary LDA 1'!C31","v":0},{"$f":"'Binary LDA 1'!$L31-'Binary LDA 1'!D31","v":-1},{"$f":"'Binary LDA 1'!$L31-'Binary LDA 1'!E31","v":0},{"$f":"'Binary LDA 1'!$L31-'Binary LDA 1'!F31","v":-1},{"$f":"'Binary LDA 1'!$L31-'Binary LDA 1'!G31","v":0},{"$f":"'Binary LDA 1'!$L31-'Binary LDA 1'!H31","v":-1},{"$f":"'Binary LDA 1'!$L31-'Binary LDA 1'!I31","v":-1},{"$f":"'Binary LDA 1'!$L31-'Binary LDA 1'!J31","v":0},{"$f":"'Binary LDA 1'!$L31-'Binary LDA 1'!K31","v":-1}]
[{"$f":"'Binary LDA 1'!A32","v":"propranolol"},{"$f":"'Binary LDA 1'!$L32-'Binary LDA 1'!B32","v":-1},{"$f":"'Binary LDA 1'!$L32-'Binary LDA 1'!C32","v":0},{"$f":"'Binary LDA 1'!$L32-'Binary LDA 1'!D32","v":-1},{"$f":"'Binary LDA 1'!$L32-'Binary LDA 1'!E32","v":0},{"$f":"'Binary LDA 1'!$L32-'Binary LDA 1'!F32","v":0},{"$f":"'Binary LDA 1'!$L32-'Binary LDA 1'!G32","v":0},{"$f":"'Binary LDA 1'!$L32-'Binary LDA 1'!H32","v":-1},{"$f":"'Binary LDA 1'!$L32-'Binary LDA 1'!I32","v":0},{"$f":"'Binary LDA 1'!$L32-'Binary LDA 1'!J32","v":0},{"$f":"'Binary LDA 1'!$L32-'Binary LDA 1'!K32","v":0}]
[{"$f":"'Binary LDA 1'!A33","v":"quetiapine"},{"$f":"'Binary LDA 1'!$L33-'Binary LDA 1'!B33","v":-1},{"$f":"'Binary LDA 1'!$L33-'Binary LDA 1'!C33","v":0},{"$f":"'Binary LDA 1'!$L33-'Binary LDA 1'!D33","v":-1},{"$f":"'Binary LDA 1'!$L33-'Binary LDA 1'!E33","v":0},{"$f":"'Binary LDA 1'!$L33-'Binary LDA 1'!F33","v":0},{"$f":"'Binary LDA 1'!$L33-'Binary LDA 1'!G33","v":0},{"$f":"'Binary LDA 1'!$L33-'Binary LDA 1'!H33","v":-1},{"$f":"'Binary LDA 1'!$L33-'Binary LDA 1'!I33","v":0},{"$f":"'Binary LDA 1'!$L33-'Binary LDA 1'!J33","v":0},{"$f":"'Binary LDA 1'!$L33-'Binary LDA 1'!K33","v":0}]
[{"$f":"'Binary LDA 1'!A34","v":"quinidine"},{"$f":"'Binary LDA 1'!$L34-'Binary LDA 1'!B34","v":0},{"$f":"'Binary LDA 1'!$L34-'Binary LDA 1'!C34","v":0},{"$f":"'Binary LDA 1'!$L34-'Binary LDA 1'!D34","v":0},{"$f":"'Binary LDA 1'!$L34-'Binary LDA 1'!E34","v":0},{"$f":"'Binary LDA 1'!$L34-'Binary LDA 1'!F34","v":0},{"$f":"'Binary LDA 1'!$L34-'Binary LDA 1'!G34","v":0},{"$f":"'Binary LDA 1'!$L34-'Binary LDA 1'!H34","v":0},{"$f":"'Binary LDA 1'!$L34-'Binary LDA 1'!I34","v":0},{"$f":"'Binary LDA 1'!$L34-'Binary LDA 1'!J34","v":0},{"$f":"'Binary LDA 1'!$L34-'Binary LDA 1'!K34","v":0}]
[{"$f":"'Binary LDA 1'!A35","v":"ranolazine"},{"$f":"'Binary LDA 1'!$L35-'Binary LDA 1'!B35","v":-1},{"$f":"'Binary LDA 1'!$L35-'Binary LDA 1'!C35","v":-1},{"$f":"'Binary LDA 1'!$L35-'Binary LDA 1'!D35","v":-1},{"$f":"'Binary LDA 1'!$L35-'Binary LDA 1'!E35","v":0},{"$f":"'Binary LDA 1'!$L35-'Binary LDA 1'!F35","v":-1},{"$f":"'Binary LDA 1'!$L35-'Binary LDA 1'!G35","v":0},{"$f":"'Binary LDA 1'!$L35-'Binary LDA 1'!H35","v":-1},{"$f":"'Binary LDA 1'!$L35-'Binary LDA 1'!I35","v":-1},{"$f":"'Binary LDA 1'!$L35-'Binary LDA 1'!J35","v":-1},{"$f":"'Binary LDA 1'!$L35-'Binary LDA 1'!K35","v":-1}]
[{"$f":"'Binary LDA 1'!A36","v":"risperidone"},{"$f":"'Binary LDA 1'!$L36-'Binary LDA 1'!B36","v":-1},{"$f":"'Binary LDA 1'!$L36-'Binary LDA 1'!C36","v":0},{"$f":"'Binary LDA 1'!$L36-'Binary LDA 1'!D36","v":-1},{"$f":"'Binary LDA 1'!$L36-'Binary LDA 1'!E36","v":0},{"$f":"'Binary LDA 1'!$L36-'Binary LDA 1'!F36","v":0},{"$f":"'Binary LDA 1'!$L36-'Binary LDA 1'!G36","v":0},{"$f":"'Binary LDA 1'!$L36-'Binary LDA 1'!H36","v":-1},{"$f":"'Binary LDA 1'!$L36-'Binary LDA 1'!I36","v":0},{"$f":"'Binary LDA 1'!$L36-'Binary LDA 1'!J36","v":0},{"$f":"'Binary LDA 1'!$L36-'Binary LDA 1'!K36","v":0}]
[{"$f":"'Binary LDA 1'!A37","v":"sertindole"},{"$f":"'Binary LDA 1'!$L37-'Binary LDA 1'!B37","v":0},{"$f":"'Binary LDA 1'!$L37-'Binary LDA 1'!C37","v":1},{"$f":"'Binary LDA 1'!$L37-'Binary LDA 1'!D37","v":0},{"$f":"'Binary LDA 1'!$L37-'Binary LDA 1'!E37","v":1},{"$f":"'Binary LDA 1'!$L37-'Binary LDA 1'!F37","v":1},{"$f":"'Binary LDA 1'!$L37-'Binary LDA 1'!G37","v":1},{"$f":"'Binary LDA 1'!$L37-'Binary LDA 1'!H37","v":0},{"$f":"'Binary LDA 1'!$L37-'Binary LDA 1'!I37","v":1},{"$f":"'Binary LDA 1'!$L37-'Binary LDA 1'!J37","v":0},{"$f":"'Binary LDA 1'!$L37-'Binary LDA 1'!K37","v":0}]
[{"$f":"'Binary LDA 1'!A38","v":"tedisamil"},{"$f":"'Binary LDA 1'!$L38-'Binary LDA 1'!B38","v":0},{"$f":"'Binary LDA 1'!$L38-'Binary LDA 1'!C38","v":1},{"$f":"'Binary LDA 1'!$L38-'Binary LDA 1'!D38","v":0},{"$f":"'Binary LDA 1'!$L38-'Binary LDA 1'!E38","v":1},{"$f":"'Binary LDA 1'!$L38-'Binary LDA 1'!F38","v":1},{"$f":"'Binary LDA 1'!$L38-'Binary LDA 1'!G38","v":1},{"$f":"'Binary LDA 1'!$L38-'Binary LDA 1'!H38","v":0},{"$f":"'Binary LDA 1'!$L38-'Binary LDA 1'!I38","v":1},{"$f":"'Binary LDA 1'!$L38-'Binary LDA 1'!J38","v":1},{"$f":"'Binary LDA 1'!$L38-'Binary LDA 1'!K38","v":1}]
[{"$f":"'Binary LDA 1'!A39","v":"terfenadine"},{"$f":"'Binary LDA 1'!$L39-'Binary LDA 1'!B39","v":0},{"$f":"'Binary LDA 1'!$L39-'Binary LDA 1'!C39","v":0},{"$f":"'Binary LDA 1'!$L39-'Binary LDA 1'!D39","v":0},{"$f":"'Binary LDA 1'!$L39-'Binary LDA 1'!E39","v":0},{"$f":"'Binary LDA 1'!$L39-'Binary LDA 1'!F39","v":0},{"$f":"'Binary LDA 1'!$L39-'Binary LDA 1'!G39","v":0},{"$f":"'Binary LDA 1'!$L39-'Binary LDA 1'!H39","v":0},{"$f":"'Binary LDA 1'!$L39-'Binary LDA 1'!I39","v":0},{"$f":"'Binary LDA 1'!$L39-'Binary LDA 1'!J39","v":0},{"$f":"'Binary LDA 1'!$L39-'Binary LDA 1'!K39","v":0}]
[{"$f":"'Binary LDA 1'!A40","v":"terodiline"},{"$f":"'Binary LDA 1'!$L40-'Binary LDA 1'!B40","v":0},{"$f":"'Binary LDA 1'!$L40-'Binary LDA 1'!C40","v":0},{"$f":"'Binary LDA 1'!$L40-'Binary LDA 1'!D40","v":0},{"$f":"'Binary LDA 1'!$L40-'Binary LDA 1'!E40","v":0},{"$f":"'Binary LDA 1'!$L40-'Binary LDA 1'!F40","v":0},{"$f":"'Binary LDA 1'!$L40-'Binary LDA 1'!G40","v":0},{"$f":"'Binary LDA 1'!$L40-'Binary LDA 1'!H40","v":0},{"$f":"'Binary LDA 1'!$L40-'Binary LDA 1'!I40","v":0},{"$f":"'Binary LDA 1'!$L40-'Binary LDA 1'!J40","v":0},{"$f":"'Binary LDA 1'!$L40-'Binary LDA 1'!K40","v":0}]
[{"$f":"'Binary LDA 1'!A41","v":"thioridazine"},{"$f":"'Binary LDA 1'!$L41-'Binary LDA 1'!B41","v":1},{"$f":"'Binary LDA 1'!$L41-'Binary LDA 1'!C41","v":0},{"$f":"'Binary LDA 1'!$L41-'Binary LDA 1'!D41","v":1},{"$f":"'Binary LDA 1'!$L41-'Binary LDA 1'!E41","v":0},{"$f":"'Binary LDA 1'!$L41-'Binary LDA 1'!F41","v":0},{"$f":"'Binary LDA 1'!$L41-'Binary LDA 1'!G41","v":0},{"$f":"'Binary LDA 1'!$L41-'Binary LDA 1'!H41","v":0},{"$f":"'Binary LDA 1'!$L41-'Binary LDA 1'!I41","v":0},{"$f":"'Binary LDA 1'!$L41-'Binary LDA 1'!J41","v":1},{"$f":"'Binary LDA 1'!$L41-'Binary LDA 1'!K41","v":1}]
[{"$f":"'Binary LDA 1'!A42","v":"verapamil"},{"$f":"'Binary LDA 1'!$L42-'Binary LDA 1'!B42","v":0},{"$f":"'Binary LDA 1'!$L42-'Binary LDA 1'!C42","v":0},{"$f":"'Binary LDA 1'!$L42-'Binary LDA 1'!D42","v":0},{"$f":"'Binary LDA 1'!$L42-'Binary LDA 1'!E42","v":0},{"$f":"'Binary LDA 1'!$L42-'Binary LDA 1'!F42","v":-1},{"$f":"'Binary LDA 1'!$L42-'Binary LDA 1'!G42","v":0},{"$f":"'Binary LDA 1'!$L42-'Binary LDA 1'!H42","v":-1},{"$f":"'Binary LDA 1'!$L42-'Binary LDA 1'!I42","v":-1},{"$f":"'Binary LDA 1'!$L42-'Binary LDA 1'!J42","v":0},{"$f":"'Binary LDA 1'!$L42-'Binary LDA 1'!K42","v":0}]
["Total (abs)",{"$f":"sum(abs(B$2:B$42))","v":13},13,11,14,14,15,17,14,12,12]
["Mean (abs)",{"$f":"sum(abs(B$2:B$42))/count(B$2:B$42)","v":0.3170731707},0.3170731707,0.2682926829,0.3414634146,0.3414634146,0.3658536585,0.4146341463,0.3414634146,0.2926829268,0.2926829268]
["SD (abs)",{"$f":"STDEV(abs(B$2:B$42))","v":0.4711169913},0.4711169913,0.4485749795,0.4800914547,0.4800914547,0.4876524152,0.498778997,0.4800914547,0.4606464175,0.4606464175]
["Total",{"$f":"sum(B$2:B$42)","v":-9},9,-7,14,6,13,-15,6,8,6]

{"sheet":"Binary SVM 1 errors","index":26,"n_rows":46,"n_cols":11,"rows_kept":46,"cut":false,"hidden":false,"merged":[]}
[{"$f":"'Binary SVM 1'!A1","v":"Drug name"},{"$f":"'Binary SVM 1'!B1","v":"Grandi Lancaster-Sobie"},{"$f":"'Binary SVM 1'!C1","v":"OHara Lancaster-Sobie"},{"$f":"'Binary SVM 1'!D1","v":"APD90"},{"$f":"'Binary SVM 1'!E1","v":"INa shift"},{"$f":"'Binary SVM 1'!F1","v":"ICaL increase"},{"$f":"'Binary SVM 1'!G1","v":"IKr block"},{"$f":"'Binary SVM 1'!H1","v":"Herg block / Cmax"},{"$f":"'Binary SVM 1'!I1","v":"INa shift +ICaL increase +IKr block"},{"$f":"'Binary SVM 1'!J1","v":"APD90 +INa shift +ICaL increase +IKr block"},{"$f":"'Binary SVM 1'!K1","v":"APD90 +ICaL increase"}]
[{"$f":"'Binary SVM 1'!A2","v":"ajmaline"},{"$f":"'Binary SVM 1'!$L2-'Binary SVM 1'!B2","v":0},{"$f":"'Binary SVM 1'!$L2-'Binary SVM 1'!C2","v":0},{"$f":"'Binary SVM 1'!$L2-'Binary SVM 1'!D2","v":0},{"$f":"'Binary SVM 1'!$L2-'Binary SVM 1'!E2","v":0},{"$f":"'Binary SVM 1'!$L2-'Binary SVM 1'!F2","v":0},{"$f":"'Binary SVM 1'!$L2-'Binary SVM 1'!G2","v":0},{"$f":"'Binary SVM 1'!$L2-'Binary SVM 1'!H2","v":1},{"$f":"'Binary SVM 1'!$L2-'Binary SVM 1'!I2","v":0},{"$f":"'Binary SVM 1'!$L2-'Binary SVM 1'!J2","v":0},{"$f":"'Binary SVM 1'!$L2-'Binary SVM 1'!K2","v":0}]
[{"$f":"'Binary SVM 1'!A3","v":"amiodarone"},{"$f":"'Binary SVM 1'!$L3-'Binary SVM 1'!B3","v":0},{"$f":"'Binary SVM 1'!$L3-'Binary SVM 1'!C3","v":1},{"$f":"'Binary SVM 1'!$L3-'Binary SVM 1'!D3","v":1},{"$f":"'Binary SVM 1'!$L3-'Binary SVM 1'!E3","v":1},{"$f":"'Binary SVM 1'!$L3-'Binary SVM 1'!F3","v":1},{"$f":"'Binary SVM 1'!$L3-'Binary SVM 1'!G3","v":1},{"$f":"'Binary SVM 1'!$L3-'Binary SVM 1'!H3","v":1},{"$f":"'Binary SVM 1'!$L3-'Binary SVM 1'!I3","v":1},{"$f":"'Binary SVM 1'!$L3-'Binary SVM 1'!J3","v":1},{"$f":"'Binary SVM 1'!$L3-'Binary SVM 1'!K3","v":1}]
[{"$f":"'Binary SVM 1'!A4","v":"amitriptyline"},{"$f":"'Binary SVM 1'!$L4-'Binary SVM 1'!B4","v":-1},{"$f":"'Binary SVM 1'!$L4-'Binary SVM 1'!C4","v":0},{"$f":"'Binary SVM 1'!$L4-'Binary SVM 1'!D4","v":0},{"$f":"'Binary SVM 1'!$L4-'Binary SVM 1'!E4","v":0},{"$f":"'Binary SVM 1'!$L4-'Binary SVM 1'!F4","v":0},{"$f":"'Binary SVM 1'!$L4-'Binary SVM 1'!G4","v":-1},{"$f":"'Binary SVM 1'!$L4-'Binary SVM 1'!H4","v":0},{"$f":"'Binary SVM 1'!$L4-'Binary SVM 1'!I4","v":0},{"$f":"'Binary SVM 1'!$L4-'Binary SVM 1'!J4","v":0},{"$f":"'Binary SVM 1'!$L4-'Binary SVM 1'!K4","v":0}]
[{"$f":"'Binary SVM 1'!A5","v":"azimilide"},{"$f":"'Binary SVM 1'!$L5-'Binary SVM 1'!B5","v":0},{"$f":"'Binary SVM 1'!$L5-'Binary SVM 1'!C5","v":0},{"$f":"'Binary SVM 1'!$L5-'Binary SVM 1'!D5","v":0},{"$f":"'Binary SVM 1'!$L5-'Binary SVM 1'!E5","v":0},{"$f":"'Binary SVM 1'!$L5-'Binary SVM 1'!F5","v":0},{"$f":"'Binary SVM 1'!$L5-'Binary SVM 1'!G5","v":1},{"$f":"'Binary SVM 1'!$L5-'Binary SVM 1'!H5","v":1},{"$f":"'Binary SVM 1'!$L5-'Binary SVM 1'!I5","v":0},{"$f":"'Binary SVM 1'!$L5-'Binary SVM 1'!J5","v":0},{"$f":"'Binary SVM 1'!$L5-'Binary SVM 1'!K5","v":0}]
[{"$f":"'Binary SVM 1'!A6","v":"bepridil"},{"$f":"'Binary SVM 1'!$L6-'Binary SVM 1'!B6","v":1},{"$f":"'Binary SVM 1'!$L6-'Binary SVM 1'!C6","v":1},{"$f":"'Binary SVM 1'!$L6-'Binary SVM 1'!D6","v":1},{"$f":"'Binary SVM 1'!$L6-'Binary SVM 1'!E6","v":1},{"$f":"'Binary SVM 1'!$L6-'Binary SVM 1'!F6","v":1},{"$f":"'Binary SVM 1'!$L6-'Binary SVM 1'!G6","v":1},{"$f":"'Binary SVM 1'!$L6-'Binary SVM 1'!H6","v":1},{"$f":"'Binary SVM 1'!$L6-'Binary SVM 1'!I6","v":1},{"$f":"'Binary SVM 1'!$L6-'Binary SVM 1'!J6","v":1},{"$f":"'Binary SVM 1'!$L6-'Binary SVM 1'!K6","v":1}]
[{"$f":"'Binary SVM 1'!A7","v":"chlorpromazine"},{"$f":"'Binary SVM 1'!$L7-'Binary SVM 1'!B7","v":1},{"$f":"'Binary SVM 1'!$L7-'Binary SVM 1'!C7","v":1},{"$f":"'Binary SVM 1'!$L7-'Binary SVM 1'!D7","v":1},{"$f":"'Binary SVM 1'!$L7-'Binary SVM 1'!E7","v":1},{"$f":"'Binary SVM 1'!$L7-'Binary SVM 1'!F7","v":1},{"$f":"'Binary SVM 1'!$L7-'Binary SVM 1'!G7","v":1},{"$f":"'Binary SVM 1'!$L7-'Binary SVM 1'!H7","v":1},{"$f":"'Binary SVM 1'!$L7-'Binary SVM 1'!I7","v":1},{"$f":"'Binary SVM 1'!$L7-'Binary SVM 1'!J7","v":1},{"$f":"'Binary SVM 1'!$L7-'Binary SVM 1'!K7","v":1}]
[{"$f":"'Binary SVM 1'!A8","v":"cibenzoline"},{"$f":"'Binary SVM 1'!$L8-'Binary SVM 1'!B8","v":-1},{"$f":"'Binary SVM 1'!$L8-'Binary SVM 1'!C8","v":0},{"$f":"'Binary SVM 1'!$L8-'Binary SVM 1'!D8","v":0},{"$f":"'Binary SVM 1'!$L8-'Binary SVM 1'!E8","v":0},{"$f":"'Binary SVM 1'!$L8-'Binary SVM 1'!F8","v":0},{"$f":"'Binary SVM 1'!$L8-'Binary SVM 1'!G8","v":-1},{"$f":"'Binary SVM 1'!$L8-'Binary SVM 1'!H8","v":-1},{"$f":"'Binary SVM 1'!$L8-'Binary SVM 1'!I8","v":0},{"$f":"'Binary SVM 1'!$L8-'Binary SVM 1'!J8","v":-1},{"$f":"'Binary SVM 1'!$L8-'Binary SVM 1'!K8","v":0}]
[{"$f":"'Binary SVM 1'!A9","v":"cisapride"},{"$f":"'Binary SVM 1'!$L9-'Binary SVM 1'!B9","v":0},{"$f":"'Binary SVM 1'!$L9-'Binary SVM 1'!C9","v":0},{"$f":"'Binary SVM 1'!$L9-'Binary SVM 1'!D9","v":0},{"$f":"'Binary SVM 1'!$L9-'Binary SVM 1'!E9","v":0},{"$f":"'Binary SVM 1'!$L9-'Binary SVM 1'!F9","v":0},{"$f":"'Binary SVM 1'!$L9-'Binary SVM 1'!G9","v":1},{"$f":"'Binary SVM 1'!$L9-'Binary SVM 1'!H9","v":1},{"$f":"'Binary SVM 1'!$L9-'Binary SVM 1'!I9","v":0},{"$f":"'Binary SVM 1'!$L9-'Binary SVM 1'!J9","v":0},{"$f":"'Binary SVM 1'!$L9-'Binary SVM 1'!K9","v":0}]
[{"$f":"'Binary SVM 1'!A10","v":"clozapine"},{"$f":"'Binary SVM 1'!$L10-'Binary SVM 1'!B10","v":-1},{"$f":"'Binary SVM 1'!$L10-'Binary SVM 1'!C10","v":-1},{"$f":"'Binary SVM 1'!$L10-'Binary SVM 1'!D10","v":-1},{"$f":"'Binary SVM 1'!$L10-'Binary SVM 1'!E10","v":-1},{"$f":"'Binary SVM 1'!$L10-'Binary SVM 1'!F10","v":-1},{"$f":"'Binary SVM 1'!$L10-'Binary SVM 1'!G10","v":-1},{"$f":"'Binary SVM 1'!$L10-'Binary SVM 1'!H10","v":-1},{"$f":"'Binary SVM 1'!$L10-'Binary SVM 1'!I10","v":-1},{"$f":"'Binary SVM 1'!$L10-'Binary SVM 1'!J10","v":-1},{"$f":"'Binary SVM 1'!$L10-'Binary SVM 1'!K10","v":-1}]
[{"$f":"'Binary SVM 1'!A11","v":"desipramine"},{"$f":"'Binary SVM 1'!$L11-'Binary SVM 1'!B11","v":0},{"$f":"'Binary SVM 1'!$L11-'Binary SVM 1'!C11","v":0},{"$f":"'Binary SVM 1'!$L11-'Binary SVM 1'!D11","v":0},{"$f":"'Binary SVM 1'!$L11-'Binary SVM 1'!E11","v":0},{"$f":"'Binary SVM 1'!$L11-'Binary SVM 1'!F11","v":0},{"$f":"'Binary SVM 1'!$L11-'Binary SVM 1'!G11","v":-1},{"$f":"'Binary SVM 1'!$L11-'Binary SVM 1'!H11","v":-1},{"$f":"'Binary SVM 1'!$L11-'Binary SVM 1'!I11","v":0},{"$f":"'Binary SVM 1'!$L11-'Binary SVM 1'!J11","v":0},{"$f":"'Binary SVM 1'!$L11-'Binary SVM 1'!K11","v":0}]
[{"$f":"'Binary SVM 1'!A12","v":"diltiazem"},{"$f":"'Binary SVM 1'!$L12-'Binary SVM 1'!B12","v":0},{"$f":"'Binary SVM 1'!$L12-'Binary SVM 1'!C12","v":0},{"$f":"'Binary SVM 1'!$L12-'Binary SVM 1'!D12","v":0},{"$f":"'Binary SVM 1'!$L12-'Binary SVM 1'!E12","v":0},{"$f":"'Binary SVM 1'!$L12-'Binary SVM 1'!F12","v":0},{"$f":"'Binary SVM 1'!$L12-'Binary SVM 1'!G12","v":-1},{"$f":"'Binary SVM 1'!$L12-'Binary SVM 1'!H12","v":-1},{"$f":"'Binary SVM 1'!$L12-'Binary SVM 1'!I12","v":0},{"$f":"'Binary SVM 1'!$L12-'Binary SVM 1'!J12","v":0},{"$f":"'Binary SVM 1'!$L12-'Binary SVM 1'!K12","v":0}]
[{"$f":"'Binary SVM 1'!A13","v":"disopyramide"},{"$f":"'Binary SVM 1'!$L13-'Binary SVM 1'!B13","v":0},{"$f":"'Binary SVM 1'!$L13-'Binary SVM 1'!C13","v":0},{"$f":"'Binary SVM 1'!$L13-'Binary SVM 1'!D13","v":0},{"$f":"'Binary SVM 1'!$L13-'Binary SVM 1'!E13","v":0},{"$f":"'Binary SVM 1'!$L13-'Binary SVM 1'!F13","v":0},{"$f":"'Binary SVM 1'!$L13-'Binary SVM 1'!G13","v":1},{"$f":"'Binary SVM 1'!$L13-'Binary SVM 1'!H13","v":1},{"$f":"'Binary SVM 1'!$L13-'Binary SVM 1'!I13","v":0},{"$f":"'Binary SVM 1'!$L13-'Binary SVM 1'!J13","v":0},{"$f":"'Binary SVM 1'!$L13-'Binary SVM 1'!K13","v":0}]
[{"$f":"'Binary SVM 1'!A14","v":"dl-sotalol"},{"$f":"'Binary SVM 1'!$L14-'Binary SVM 1'!B14","v":0},{"$f":"'Binary SVM 1'!$L14-'Binary SVM 1'!C14","v":1},{"$f":"'Binary SVM 1'!$L14-'Binary SVM 1'!D14","v":1},{"$f":"'Binary SVM 1'!$L14-'Binary SVM 1'!E14","v":1},{"$f":"'Binary SVM 1'!$L14-'Binary SVM 1'!F14","v":1},{"$f":"'Binary SVM 1'!$L14-'Binary SVM 1'!G14","v":1},{"$f":"'Binary SVM 1'!$L14-'Binary SVM 1'!H14","v":1},{"$f":"'Binary SVM 1'!$L14-'Binary SVM 1'!I14","v":1},{"$f":"'Binary SVM 1'!$L14-'Binary SVM 1'!J14","v":1},{"$f":"'Binary SVM 1'!$L14-'Binary SVM 1'!K14","v":1}]
[{"$f":"'Binary SVM 1'!A15","v":"dofetilide"},{"$f":"'Binary SVM 1'!$L15-'Binary SVM 1'!B15","v":0},{"$f":"'Binary SVM 1'!$L15-'Binary SVM 1'!C15","v":0},{"$f":"'Binary SVM 1'!$L15-'Binary SVM 1'!D15","v":0},{"$f":"'Binary SVM 1'!$L15-'Binary SVM 1'!E15","v":0},{"$f":"'Binary SVM 1'!$L15-'Binary SVM 1'!F15","v":0},{"$f":"'Binary SVM 1'!$L15-'Binary SVM 1'!G15","v":1},{"$f":"'Binary SVM 1'!$L15-'Binary SVM 1'!H15","v":1},{"$f":"'Binary SVM 1'!$L15-'Binary SVM 1'!I15","v":0},{"$f":"'Binary SVM 1'!$L15-'Binary SVM 1'!J15","v":0},{"$f":"'Binary SVM 1'!$L15-'Binary SVM 1'!K15","v":0}]
[{"$f":"'Binary SVM 1'!A16","v":"flecainide"},{"$f":"'Binary SVM 1'!$L16-'Binary SVM 1'!B16","v":0},{"$f":"'Binary SVM 1'!$L16-'Binary SVM 1'!C16","v":1},{"$f":"'Binary SVM 1'!$L16-'Binary SVM 1'!D16","v":0},{"$f":"'Binary SVM 1'!$L16-'Binary SVM 1'!E16","v":0},{"$f":"'Binary SVM 1'!$L16-'Binary SVM 1'!F16","v":0},{"$f":"'Binary SVM 1'!$L16-'Binary SVM 1'!G16","v":1},{"$f":"'Binary SVM 1'!$L16-'Binary SVM 1'!H16","v":1},{"$f":"'Binary SVM 1'!$L16-'Binary SVM 1'!I16","v":0},{"$f":"'Binary SVM 1'!$L16-'Binary SVM 1'!J16","v":0},{"$f":"'Binary SVM 1'!$L16-'Binary SVM 1'!K16","v":0}]
[{"$f":"'Binary SVM 1'!A17","v":"fluvoxamine"},{"$f":"'Binary SVM 1'!$L17-'Binary SVM 1'!B17","v":0},{"$f":"'Binary SVM 1'!$L17-'Binary SVM 1'!C17","v":0},{"$f":"'Binary SVM 1'!$L17-'Binary SVM 1'!D17","v":0},{"$f":"'Binary SVM 1'!$L17-'Binary SVM 1'!E17","v":0},{"$f":"'Binary SVM 1'!$L17-'Binary SVM 1'!F17","v":0},{"$f":"'Binary SVM 1'!$L17-'Binary SVM 1'!G17","v":-1},{"$f":"'Binary SVM 1'!$L17-'Binary SVM 1'!H17","v":-1},{"$f":"'Binary SVM 1'!$L17-'Binary SVM 1'!I17","v":0},{"$f":"'Binary SVM 1'!$L17-'Binary SVM 1'!J17","v":0},{"$f":"'Binary SVM 1'!$L17-'Binary SVM 1'!K17","v":0}]
[{"$f":"'Binary SVM 1'!A18","v":"halofantrine"},{"$f":"'Binary SVM 1'!$L18-'Binary SVM 1'!B18","v":0},{"$f":"'Binary SVM 1'!$L18-'Binary SVM 1'!C18","v":1},{"$f":"'Binary SVM 1'!$L18-'Binary SVM 1'!D18","v":1},{"$f":"'Binary SVM 1'!$L18-'Binary SVM 1'!E18","v":1},{"$f":"'Binary SVM 1'!$L18-'Binary SVM 1'!F18","v":1},{"$f":"'Binary SVM 1'!$L18-'Binary SVM 1'!G18","v":1},{"$f":"'Binary SVM 1'!$L18-'Binary SVM 1'!H18","v":1},{"$f":"'Binary SVM 1'!$L18-'Binary SVM 1'!I18","v":1},{"$f":"'Binary SVM 1'!$L18-'Binary SVM 1'!J18","v":1},{"$f":"'Binary SVM 1'!$L18-'Binary SVM 1'!K18","v":1}]
[{"$f":"'Binary SVM 1'!A19","v":"imipramine"},{"$f":"'Binary SVM 1'!$L19-'Binary SVM 1'!B19","v":-1},{"$f":"'Binary SVM 1'!$L19-'Binary SVM 1'!C19","v":0},{"$f":"'Binary SVM 1'!$L19-'Binary SVM 1'!D19","v":0},{"$f":"'Binary SVM 1'!$L19-'Binary SVM 1'!E19","v":0},{"$f":"'Binary SVM 1'!$L19-'Binary SVM 1'!F19","v":0},{"$f":"'Binary SVM 1'!$L19-'Binary SVM 1'!G19","v":-1},{"$f":"'Binary SVM 1'!$L19-'Binary SVM 1'!H19","v":-1},{"$f":"'Binary SVM 1'!$L19-'Binary SVM 1'!I19","v":0},{"$f":"'Binary SVM 1'!$L19-'Binary SVM 1'!J19","v":-1},{"$f":"'Binary SVM 1'!$L19-'Binary SVM 1'!K19","v":0}]
[{"$f":"'Binary SVM 1'!A20","v":"loratadine"},{"$f":"'Binary SVM 1'!$L20-'Binary SVM 1'!B20","v":-1},{"$f":"'Binary SVM 1'!$L20-'Binary SVM 1'!C20","v":0},{"$f":"'Binary SVM 1'!$L20-'Binary SVM 1'!D20","v":0},{"$f":"'Binary SVM 1'!$L20-'Binary SVM 1'!E20","v":0},{"$f":"'Binary SVM 1'!$L20-'Binary SVM 1'!F20","v":0},{"$f":"'Binary SVM 1'!$L20-'Binary SVM 1'!G20","v":-1},{"$f":"'Binary SVM 1'!$L20-'Binary SVM 1'!H20","v":-1},{"$f":"'Binary SVM 1'!$L20-'Binary SVM 1'!I20","v":0},{"$f":"'Binary SVM 1'!$L20-'Binary SVM 1'!J20","v":-1},{"$f":"'Binary SVM 1'!$L20-'Binary SVM 1'!K20","v":0}]
[{"$f":"'Binary SVM 1'!A21","v":"methadone"},{"$f":"'Binary SVM 1'!$L21-'Binary SVM 1'!B21","v":0},{"$f":"'Binary SVM 1'!$L21-'Binary SVM 1'!C21","v":1},{"$f":"'Binary SVM 1'!$L21-'Binary SVM 1'!D21","v":1},{"$f":"'Binary SVM 1'!$L21-'Binary SVM 1'!E21","v":1},{"$f":"'Binary SVM 1'!$L21-'Binary SVM 1'!F21","v":1},{"$f":"'Binary SVM 1'!$L21-'Binary SVM 1'!G21","v":1},{"$f":"'Binary SVM 1'!$L21-'Binary SVM 1'!H21","v":1},{"$f":"'Binary SVM 1'!$L21-'Binary SVM 1'!I21","v":1},{"$f":"'Binary SVM 1'!$L21-'Binary SVM 1'!J21","v":1},{"$f":"'Binary SVM 1'!$L21-'Binary SVM 1'!K21","v":1}]
[{"$f":"'Binary SVM 1'!A22","v":"mexiletine"},{"$f":"'Binary SVM 1'!$L22-'Binary SVM 1'!B22","v":-1},{"$f":"'Binary SVM 1'!$L22-'Binary SVM 1'!C22","v":0},{"$f":"'Binary SVM 1'!$L22-'Binary SVM 1'!D22","v":0},{"$f":"'Binary SVM 1'!$L22-'Binary SVM 1'!E22","v":0},{"$f":"'Binary SVM 1'!$L22-'Binary SVM 1'!F22","v":0},{"$f":"'Binary SVM 1'!$L22-'Binary SVM 1'!G22","v":-1},{"$f":"'Binary SVM 1'!$L22-'Binary SVM 1'!H22","v":-1},{"$f":"'Binary SVM 1'!$L22-'Binary SVM 1'!I22","v":0},{"$f":"'Binary SVM 1'!$L22-'Binary SVM 1'!J22","v":0},{"$f":"'Binary SVM 1'!$L22-'Binary SVM 1'!K22","v":0}]
[{"$f":"'Binary SVM 1'!A23","v":"mibefradil"},{"$f":"'Binary SVM 1'!$L23-'Binary SVM 1'!B23","v":0},{"$f":"'Binary SVM 1'!$L23-'Binary SVM 1'!C23","v":0},{"$f":"'Binary SVM 1'!$L23-'Binary SVM 1'!D23","v":0},{"$f":"'Binary SVM 1'!$L23-'Binary SVM 1'!E23","v":0},{"$f":"'Binary SVM 1'!$L23-'Binary SVM 1'!F23","v":0},{"$f":"'Binary SVM 1'!$L23-'Binary SVM 1'!G23","v":-1},{"$f":"'Binary SVM 1'!$L23-'Binary SVM 1'!H23","v":0},{"$f":"'Binary SVM 1'!$L23-'Binary SVM 1'!I23","v":0},{"$f":"'Binary SVM 1'!$L23-'Binary SVM 1'!J23","v":0},{"$f":"'Binary SVM 1'!$L23-'Binary SVM 1'!K23","v":0}]
[{"$f":"'Binary SVM 1'!A24","v":"nifedipine"},{"$f":"'Binary SVM 1'!$L24-'Binary SVM 1'!B24","v":0},{"$f":"'Binary SVM 1'!$L24-'Binary SVM 1'!C24","v":0},{"$f":"'Binary SVM 1'!$L24-'Binary SVM 1'!D24","v":0},{"$f":"'Binary SVM 1'!$L24-'Binary SVM 1'!E24","v":0},{"$f":"'Binary SVM 1'!$L24-'Binary SVM 1'!F24","v":0},{"$f":"'Binary SVM 1'!$L24-'Binary SVM 1'!G24","v":-1},{"$f":"'Binary SVM 1'!$L24-'Binary SVM 1'!H24","v":-1},{"$f":"'Binary SVM 1'!$L24-'Binary SVM 1'!I24","v":0},{"$f":"'Binary SVM 1'!$L24-'Binary SVM 1'!J24","v":0},{"$f":"'Binary SVM 1'!$L24-'Binary SVM 1'!K24","v":0}]
[{"$f":"'Binary SVM 1'!A25","v":"nitrendipine"},{"$f":"'Binary SVM 1'!$L25-'Binary SVM 1'!B25","v":0},{"$f":"'Binary SVM 1'!$L25-'Binary SVM 1'!C25","v":0},{"$f":"'Binary SVM 1'!$L25-'Binary SVM 1'!D25","v":0},{"$f":"'Binary SVM 1'!$L25-'Binary SVM 1'!E25","v":0},{"$f":"'Binary SVM 1'!$L25-'Binary SVM 1'!F25","v":0},{"$f":"'Binary SVM 1'!$L25-'Binary SVM 1'!G25","v":-1},{"$f":"'Binary SVM 1'!$L25-'Binary SVM 1'!H25","v":0},{"$f":"'Binary SVM 1'!$L25-'Binary SVM 1'!I25","v":0},{"$f":"'Binary SVM 1'!$L25-'Binary SVM 1'!J25","v":0},{"$f":"'Binary SVM 1'!$L25-'Binary SVM 1'!K25","v":0}]
[{"$f":"'Binary SVM 1'!A26","v":"ondansetron"},{"$f":"'Binary SVM 1'!$L26-'Binary SVM 1'!B26","v":0},{"$f":"'Binary SVM 1'!$L26-'Binary SVM 1'!C26","v":0},{"$f":"'Binary SVM 1'!$L26-'Binary SVM 1'!D26","v":0},{"$f":"'Binary SVM 1'!$L26-'Binary SVM 1'!E26","v":0},{"$f":"'Binary SVM 1'!$L26-'Binary SVM 1'!F26","v":0},{"$f":"'Binary SVM 1'!$L26-'Binary SVM 1'!G26","v":1},{"$f":"'Binary SVM 1'!$L26-'Binary SVM 1'!H26","v":1},{"$f":"'Binary SVM 1'!$L26-'Binary SVM 1'!I26","v":0},{"$f":"'Binary SVM 1'!$L26-'Binary SVM 1'!J26","v":0},{"$f":"'Binary SVM 1'!$L26-'Binary SVM 1'!K26","v":0}]
[{"$f":"'Binary SVM 1'!A27","v":"pentamidine"},{"$f":"'Binary SVM 1'!$L27-'Binary SVM 1'!B27","v":0},{"$f":"'Binary SVM 1'!$L27-'Binary SVM 1'!C27","v":1},{"$f":"'Binary SVM 1'!$L27-'Binary SVM 1'!D27","v":1},{"$f":"'Binary SVM 1'!$L27-'Binary SVM 1'!E27","v":1},{"$f":"'Binary SVM 1'!$L27-'Binary SVM 1'!F27","v":1},{"$f":"'Binary SVM 1'!$L27-'Binary SVM 1'!G27","v":1},{"$f":"'Binary SVM 1'!$L27-'Binary SVM 1'!H27","v":1},{"$f":"'Binary SVM 1'!$L27-'Binary SVM 1'!I27","v":1},{"$f":"'Binary SVM 1'!$L27-'Binary SVM 1'!J27","v":1},{"$f":"'Binary SVM 1'!$L27-'Binary SVM 1'!K27","v":1}]
[{"$f":"'Binary SVM 1'!A28","v":"phenytoin"},{"$f":"'Binary SVM 1'!$L28-'Binary SVM 1'!B28","v":0},{"$f":"'Binary SVM 1'!$L28-'Binary SVM 1'!C28","v":0},{"$f":"'Binary SVM 1'!$L28-'Binary SVM 1'!D28","v":0},{"$f":"'Binary SVM 1'!$L28-'Binary SVM 1'!E28","v":0},{"$f":"'Binary SVM 1'!$L28-'Binary SVM 1'!F28","v":0},{"$f":"'Binary SVM 1'!$L28-'Binary SVM 1'!G28","v":-1},{"$f":"'Binary SVM 1'!$L28-'Binary SVM 1'!H28","v":-1},{"$f":"'Binary SVM 1'!$L28-'Binary SVM 1'!I28","v":0},{"$f":"'Binary SVM 1'!$L28-'Binary SVM 1'!J28","v":0},{"$f":"'Binary SVM 1'!$L28-'Binary SVM 1'!K28","v":0}]
[{"$f":"'Binary SVM 1'!A29","v":"pimozide"},{"$f":"'Binary SVM 1'!$L29-'Binary SVM 1'!B29","v":0},{"$f":"'Binary SVM 1'!$L29-'Binary SVM 1'!C29","v":1},{"$f":"'Binary SVM 1'!$L29-'Binary SVM 1'!D29","v":1},{"$f":"'Binary SVM 1'!$L29-'Binary SVM 1'!E29","v":1},{"$f":"'Binary SVM 1'!$L29-'Binary SVM 1'!F29","v":1},{"$f":"'Binary SVM 1'!$L29-'Binary SVM 1'!G29","v":1},{"$f":"'Binary SVM 1'!$L29-'Binary SVM 1'!H29","v":1},{"$f":"'Binary SVM 1'!$L29-'Binary SVM 1'!I29","v":1},{"$f":"'Binary SVM 1'!$L29-'Binary SVM 1'!J29","v":1},{"$f":"'Binary SVM 1'!$L29-'Binary SVM 1'!K29","v":1}]
[{"$f":"'Binary SVM 1'!A30","v":"prenylamine"},{"$f":"'Binary SVM 1'!$L30-'Binary SVM 1'!B30","v":0},{"$f":"'Binary SVM 1'!$L30-'Binary SVM 1'!C30","v":1},{"$f":"'Binary SVM 1'!$L30-'Binary SVM 1'!D30","v":0},{"$f":"'Binary SVM 1'!$L30-'Binary SVM 1'!E30","v":1},{"$f":"'Binary SVM 1'!$L30-'Binary SVM 1'!F30","v":0},{"$f":"'Binary SVM 1'!$L30-'Binary SVM 1'!G30","v":1},{"$f":"'Binary SVM 1'!$L30-'Binary SVM 1'!H30","v":1},{"$f":"'Binary SVM 1'!$L30-'Binary SVM 1'!I30","v":0},{"$f":"'Binary SVM 1'!$L30-'Binary SVM 1'!J30","v":0},{"$f":"'Binary SVM 1'!$L30-'Binary SVM 1'!K30","v":0}]
[{"$f":"'Binary SVM 1'!A31","v":"propafenone"},{"$f":"'Binary SVM 1'!$L31-'Binary SVM 1'!B31","v":0},{"$f":"'Binary SVM 1'!$L31-'Binary SVM 1'!C31","v":-1},{"$f":"'Binary SVM 1'!$L31-'Binary SVM 1'!D31","v":0},{"$f":"'Binary SVM 1'!$L31-'Binary SVM 1'!E31","v":-1},{"$f":"'Binary SVM 1'!$L31-'Binary SVM 1'!F31","v":-1},{"$f":"'Binary SVM 1'!$L31-'Binary SVM 1'!G31","v":-1},{"$f":"'Binary SVM 1'!$L31-'Binary SVM 1'!H31","v":-1},{"$f":"'Binary SVM 1'!$L31-'Binary SVM 1'!I31","v":-1},{"$f":"'Binary SVM 1'!$L31-'Binary SVM 1'!J31","v":0},{"$f":"'Binary SVM 1'!$L31-'Binary SVM 1'!K31","v":-1}]
[{"$f":"'Binary SVM 1'!A32","v":"propranolol"},{"$f":"'Binary SVM 1'!$L32-'Binary SVM 1'!B32","v":-1},{"$f":"'Binary SVM 1'!$L32-'Binary SVM 1'!C32","v":0},{"$f":"'Binary SVM 1'!$L32-'Binary SVM 1'!D32","v":0},{"$f":"'Binary SVM 1'!$L32-'Binary SVM 1'!E32","v":0},{"$f":"'Binary SVM 1'!$L32-'Binary SVM 1'!F32","v":0},{"$f":"'Binary SVM 1'!$L32-'Binary SVM 1'!G32","v":-1},{"$f":"'Binary SVM 1'!$L32-'Binary SVM 1'!H32","v":0},{"$f":"'Binary SVM 1'!$L32-'Binary SVM 1'!I32","v":0},{"$f":"'Binary SVM 1'!$L32-'Binary SVM 1'!J32","v":-1},{"$f":"'Binary SVM 1'!$L32-'Binary SVM 1'!K32","v":0}]
[{"$f":"'Binary SVM 1'!A33","v":"quetiapine"},{"$f":"'Binary SVM 1'!$L33-'Binary SVM 1'!B33","v":-1},{"$f":"'Binary SVM 1'!$L33-'Binary SVM 1'!C33","v":0},{"$f":"'Binary SVM 1'!$L33-'Binary SVM 1'!D33","v":0},{"$f":"'Binary SVM 1'!$L33-'Binary SVM 1'!E33","v":0},{"$f":"'Binary SVM 1'!$L33-'Binary SVM 1'!F33","v":0},{"$f":"'Binary SVM 1'!$L33-'Binary SVM 1'!G33","v":-1},{"$f":"'Binary SVM 1'!$L33-'Binary SVM 1'!H33","v":0},{"$f":"'Binary SVM 1'!$L33-'Binary SVM 1'!I33","v":0},{"$f":"'Binary SVM 1'!$L33-'Binary SVM 1'!J33","v":-1},{"$f":"'Binary SVM 1'!$L33-'Binary SVM 1'!K33","v":0}]
[{"$f":"'Binary SVM 1'!A34","v":"quinidine"},{"$f":"'Binary SVM 1'!$L34-'Binary SVM 1'!B34","v":0},{"$f":"'Binary SVM 1'!$L34-'Binary SVM 1'!C34","v":0},{"$f":"'Binary SVM 1'!$L34-'Binary SVM 1'!D34","v":0},{"$f":"'Binary SVM 1'!$L34-'Binary SVM 1'!E34","v":0},{"$f":"'Binary SVM 1'!$L34-'Binary SVM 1'!F34","v":0},{"$f":"'Binary SVM 1'!$L34-'Binary SVM 1'!G34","v":0},{"$f":"'Binary SVM 1'!$L34-'Binary SVM 1'!H34","v":1},{"$f":"'Binary SVM 1'!$L34-'Binary SVM 1'!I34","v":0},{"$f":"'Binary SVM 1'!$L34-'Binary SVM 1'!J34","v":0},{"$f":"'Binary SVM 1'!$L34-'Binary SVM 1'!K34","v":0}]
[{"$f":"'Binary SVM 1'!A35","v":"ranolazine"},{"$f":"'Binary SVM 1'!$L35-'Binary SVM 1'!B35","v":-1},{"$f":"'Binary SVM 1'!$L35-'Binary SVM 1'!C35","v":-1},{"$f":"'Binary SVM 1'!$L35-'Binary SVM 1'!D35","v":-1},{"$f":"'Binary SVM 1'!$L35-'Binary SVM 1'!E35","v":0},{"$f":"'Binary SVM 1'!$L35-'Binary SVM 1'!F35","v":-1},{"$f":"'Binary SVM 1'!$L35-'Binary SVM 1'!G35","v":-1},{"$f":"'Binary SVM 1'!$L35-'Binary SVM 1'!H35","v":-1},{"$f":"'Binary SVM 1'!$L35-'Binary SVM 1'!I35","v":-1},{"$f":"'Binary SVM 1'!$L35-'Binary SVM 1'!J35","v":-1},{"$f":"'Binary SVM 1'!$L35-'Binary SVM 1'!K35","v":-1}]
[{"$f":"'Binary SVM 1'!A36","v":"risperidone"},{"$f":"'Binary SVM 1'!$L36-'Binary SVM 1'!B36","v":-1},{"$f":"'Binary SVM 1'!$L36-'Binary SVM 1'!C36","v":0},{"$f":"'Binary SVM 1'!$L36-'Binary SVM 1'!D36","v":0},{"$f":"'Binary SVM 1'!$L36-'Binary SVM 1'!E36","v":0},{"$f":"'Binary SVM 1'!$L36-'Binary SVM 1'!F36","v":0},{"$f":"'Binary SVM 1'!$L36-'Binary SVM 1'!G36","v":-1},{"$f":"'Binary SVM 1'!$L36-'Binary SVM 1'!H36","v":0},{"$f":"'Binary SVM 1'!$L36-'Binary SVM 1'!I36","v":0},{"$f":"'Binary SVM 1'!$L36-'Binary SVM 1'!J36","v":-1},{"$f":"'Binary SVM 1'!$L36-'Binary SVM 1'!K36","v":0}]
[{"$f":"'Binary SVM 1'!A37","v":"sertindole"},{"$f":"'Binary SVM 1'!$L37-'Binary SVM 1'!B37","v":0},{"$f":"'Binary SVM 1'!$L37-'Binary SVM 1'!C37","v":1},{"$f":"'Binary SVM 1'!$L37-'Binary SVM 1'!D37","v":0},{"$f":"'Binary SVM 1'!$L37-'Binary SVM 1'!E37","v":1},{"$f":"'Binary SVM 1'!$L37-'Binary SVM 1'!F37","v":1},{"$f":"'Binary SVM 1'!$L37-'Binary SVM 1'!G37","v":1},{"$f":"'Binary SVM 1'!$L37-'Binary SVM 1'!H37","v":1},{"$f":"'Binary SVM 1'!$L37-'Binary SVM 1'!I37","v":1},{"$f":"'Binary SVM 1'!$L37-'Binary SVM 1'!J37","v":0},{"$f":"'Binary SVM 1'!$L37-'Binary SVM 1'!K37","v":1}]
[{"$f":"'Binary SVM 1'!A38","v":"tedisamil"},{"$f":"'Binary SVM 1'!$L38-'Binary SVM 1'!B38","v":0},{"$f":"'Binary SVM 1'!$L38-'Binary SVM 1'!C38","v":1},{"$f":"'Binary SVM 1'!$L38-'Binary SVM 1'!D38","v":1},{"$f":"'Binary SVM 1'!$L38-'Binary SVM 1'!E38","v":1},{"$f":"'Binary SVM 1'!$L38-'Binary SVM 1'!F38","v":1},{"$f":"'Binary SVM 1'!$L38-'Binary SVM 1'!G38","v":1},{"$f":"'Binary SVM 1'!$L38-'Binary SVM 1'!H38","v":1},{"$f":"'Binary SVM 1'!$L38-'Binary SVM 1'!I38","v":1},{"$f":"'Binary SVM 1'!$L38-'Binary SVM 1'!J38","v":1},{"$f":"'Binary SVM 1'!$L38-'Binary SVM 1'!K38","v":1}]
[{"$f":"'Binary SVM 1'!A39","v":"terfenadine"},{"$f":"'Binary SVM 1'!$L39-'Binary SVM 1'!B39","v":0},{"$f":"'Binary SVM 1'!$L39-'Binary SVM 1'!C39","v":0},{"$f":"'Binary SVM 1'!$L39-'Binary SVM 1'!D39","v":0},{"$f":"'Binary SVM 1'!$L39-'Binary SVM 1'!E39","v":0},{"$f":"'Binary SVM 1'!$L39-'Binary SVM 1'!F39","v":0},{"$f":"'Binary SVM 1'!$L39-'Binary SVM 1'!G39","v":1},{"$f":"'Binary SVM 1'!$L39-'Binary SVM 1'!H39","v":1},{"$f":"'Binary SVM 1'!$L39-'Binary SVM 1'!I39","v":0},{"$f":"'Binary SVM 1'!$L39-'Binary SVM 1'!J39","v":0},{"$f":"'Binary SVM 1'!$L39-'Binary SVM 1'!K39","v":0}]
[{"$f":"'Binary SVM 1'!A40","v":"terodiline"},{"$f":"'Binary SVM 1'!$L40-'Binary SVM 1'!B40","v":0},{"$f":"'Binary SVM 1'!$L40-'Binary SVM 1'!C40","v":0},{"$f":"'Binary SVM 1'!$L40-'Binary SVM 1'!D40","v":0},{"$f":"'Binary SVM 1'!$L40-'Binary SVM 1'!E40","v":0},{"$f":"'Binary SVM 1'!$L40-'Binary SVM 1'!F40","v":0},{"$f":"'Binary SVM 1'!$L40-'Binary SVM 1'!G40","v":0},{"$f":"'Binary SVM 1'!$L40-'Binary SVM 1'!H40","v":1},{"$f":"'Binary SVM 1'!$L40-'Binary SVM 1'!I40","v":0},{"$f":"'Binary SVM 1'!$L40-'Binary SVM 1'!J40","v":0},{"$f":"'Binary SVM 1'!$L40-'Binary SVM 1'!K40","v":0}]
[{"$f":"'Binary SVM 1'!A41","v":"thioridazine"},{"$f":"'Binary SVM 1'!$L41-'Binary SVM 1'!B41","v":1},{"$f":"'Binary SVM 1'!$L41-'Binary SVM 1'!C41","v":0},{"$f":"'Binary SVM 1'!$L41-'Binary SVM 1'!D41","v":1},{"$f":"'Binary SVM 1'!$L41-'Binary SVM 1'!E41","v":0},{"$f":"'Binary SVM 1'!$L41-'Binary SVM 1'!F41","v":0},{"$f":"'Binary SVM 1'!$L41-'Binary SVM 1'!G41","v":0},{"$f":"'Binary SVM 1'!$L41-'Binary SVM 1'!H41","v":1},{"$f":"'Binary SVM 1'!$L41-'Binary SVM 1'!I41","v":0},{"$f":"'Binary SVM 1'!$L41-'Binary SVM 1'!J41","v":0},{"$f":"'Binary SVM 1'!$L41-'Binary SVM 1'!K41","v":1}]
[{"$f":"'Binary SVM 1'!A42","v":"verapamil"},{"$f":"'Binary SVM 1'!$L42-'Binary SVM 1'!B42","v":0},{"$f":"'Binary SVM 1'!$L42-'Binary SVM 1'!C42","v":-1},{"$f":"'Binary SVM 1'!$L42-'Binary SVM 1'!D42","v":0},{"$f":"'Binary SVM 1'!$L42-'Binary SVM 1'!E42","v":-1},{"$f":"'Binary SVM 1'!$L42-'Binary SVM 1'!F42","v":-1},{"$f":"'Binary SVM 1'!$L42-'Binary SVM 1'!G42","v":-1},{"$f":"'Binary SVM 1'!$L42-'Binary SVM 1'!H42","v":-1},{"$f":"'Binary SVM 1'!$L42-'Binary SVM 1'!I42","v":-1},{"$f":"'Binary SVM 1'!$L42-'Binary SVM 1'!J42","v":0},{"$f":"'Binary SVM 1'!$L42-'Binary SVM 1'!K42","v":0}]
["Total (abs)",{"$f":"sum(abs(B$2:B$42))","v":13},16,12,14,14,37,35,14,17,14]
["Mean (abs)",{"$f":"sum(abs(B$2:B$42))/count(B$2:B$42)","v":0.3170731707},0.3902439024,0.2926829268,0.3414634146,0.3414634146,0.9024390244,0.8536585366,0.3414634146,0.4146341463,0.3414634146]
["SD (abs)",{"$f":"STDEV(abs(B$2:B$42))","v":0.4711169913},0.4938647983,0.4606464175,0.4800914547,0.4800914547,0.300406229,0.3578390427,0.4800914547,0.498778997,0.4800914547]
["Total",{"$f":"sum(B$2:B$42)","v":-7},8,8,8,6,-1,9,6,1,8]

{"sheet":"EAD thresholds at faster pacing","index":27,"n_rows":42,"n_cols":10,"rows_kept":42,"cut":false,"hidden":false,"merged":[]}
[null,"INa 500","INa 1000","INa 2000","ICaL 500","ICal 1000","ICal 2000","IKr 500","IKr 1000","IKr 2000"]
["ajmaline",25.2167,21.7348,0.0,1.49787,1.08904,1.0,"No thresholds found",0.858887,1.0]
["amiodarone",18.0582,17.6427,17.4194,36.1613,28.9719,24.8852,null,0.0747681,0.128296]
["amitriptyline",18.0828,17.6677,17.4445,36.5022,29.2257,25.1204,null,0.0741577,0.127502]
["azimilide",16.2956,15.8443,15.6274,14.6438,12.0811,8.79869,null,0.147766,0.225586]
["bepridil",17.934,17.5395,17.3217,39.4931,31.8133,27.0249,null,0.05896,0.113403]
["chlorpromazine",18.0597,17.6445,17.4205,36.0101,28.866,24.7365,null,0.0742798,0.128113]
["cibenzoline",18.4028,17.9781,17.7514,35.0778,28.041,24.0623,null,0.0787354,0.13269]
["cisapride",16.2033,15.7488,15.5299,14.133,11.5508,8.49363,null,0.147461,0.22821]
["clozapine",16.3903,15.9386,15.722,15.7267,12.9389,9.47196,null,0.136169,0.21283]
["desipramine",18.085,17.6714,17.4448,34.7749,27.9593,23.6601,null,0.0720825,0.127563]
["diltiazem",18.0937,17.8042,17.584,113.038,97.3195,84.3984,null,-2.0,0.00195312]
["disopyramide",16.7802,16.4121,16.1885,20.1304,16.596,13.0063,null,0.114746,0.182861]
["dl-sotalol",17.9144,17.4984,17.2738,33.8599,27.262,23.2549,null,0.0784912,0.133362]
["dofetilide",16.8119,16.4435,16.2188,20.496,16.8871,13.3146,null,0.112305,0.180115]
["flecainide",17.1149,16.6734,16.4533,19.3173,15.8974,12.1457,null,0.110352,0.183533]
["fluvoxamine",17.8751,17.4691,17.244,34.8809,28.1273,23.794,null,0.0726318,0.12793]
["halofantrine",18.032,17.6161,17.3925,35.6772,28.6088,24.5466,null,0.0756226,0.129395]
["imipramine",18.1125,17.695,17.4705,35.7062,28.609,24.5037,null,0.0745239,0.128601]
["loratadine",18.1274,17.7112,17.4884,37.1905,29.7184,25.6128,null,0.0734253,0.126343]
["methadone",17.8924,17.4723,17.2446,31.6931,25.5889,21.5918,null,0.0806274,0.137512]
["mexiletine",18.1624,17.7431,17.5179,34.4676,27.7811,23.5237,null,0.0688477,0.126526]
["mibefradil",18.1432,17.7388,17.5179,39.8227,31.8833,27.2626,null,0.06427,0.117065]
["nifedipine",18.1181,17.7239,17.5083,42.3619,33.9396,28.761,null,0.0577393,0.110107]
["nitrendipine",18.1173,17.7221,17.506,42.0394,33.678,28.6514,null,0.0585938,0.111023]
["ondansetron",15.7625,15.3053,15.0787,10.6389,8.11671,6.33947,null,0.182678,0.276672]
["pentamidine",18.0019,17.5849,17.3602,37.0936,29.6503,25.5392,null,0.0748901,0.127747]
["phenytoin",18.3675,17.945,17.7162,35.4579,28.3628,24.0834,null,0.0705566,0.125854]
["pimozide",18.0407,17.6241,17.4001,35.4066,28.398,24.3431,null,0.0758667,0.129883]
["prenylamine",17.2372,16.8388,16.6064,24.9268,20.4052,16.7148,null,0.0963745,0.158997]
["propafenone",17.1542,16.7101,16.4881,20.0442,16.1483,11.8135,null,0.102783,0.174927]
["propranolol",18.1374,17.7198,17.4963,36.6504,29.3026,25.216,null,0.0740356,0.127319]
["quetiapine",18.111,17.6953,17.4723,36.9384,29.5425,25.4264,null,0.0735474,0.126648]
["quinidine",21.5733,20.7246,0.0,1.71374,1.25329,1.0,null,0.692993,1.0]
["ranolazine",17.2121,16.8107,16.5837,25.2569,20.8215,16.8223,null,0.0846558,0.151611]
["risperidone",18.115,17.6988,17.476,36.9913,29.573,25.4735,null,0.0736694,0.126709]
["sertindole",17.6961,17.2786,17.0519,30.5979,24.8057,20.8961,null,0.0844116,0.141602]
["tedisamil",18.0043,17.5883,17.3644,35.0024,28.1056,24.0658,null,0.0767212,0.13092]
["terfenadine",15.8772,15.4236,15.1985,11.7713,9.0464,7.1151,null,0.167053,0.257019]
["terodiline",14.6153,14.1145,13.8541,4.72937,3.2763,2.10553,null,0.36615,0.529846]
["thioridazine",25.4743,21.5713,0.0,1.75651,1.15926,1.0,null,0.550598,1.0]
["verapamil",16.5261,16.1736,15.9401,32.3873,23.6408,19.6807,null,0.00970459,0.0876465]

{"sheet":"Hypokalemia","index":28,"n_rows":42,"n_cols":4,"rows_kept":42,"cut":false,"hidden":false,"merged":[]}
[null,"ICaL EADs ","IKr EADs","INa EADs"]
["ajmaline",1.0,1.0,0.0]
["amiodarone",21.0178,0.174072,16.0737]
["amitriptyline",21.2026,0.173828,16.2002]
["azimilide",7.79065,0.299438,14.2608]
["bepridil",23.1238,0.157593,16.142]
["chlorpromazine",20.8983,0.173767,16.1793]
["cibenzoline",20.3488,0.178589,16.7267]
["cisapride",7.34076,0.30426,14.3347]
["clozapine",8.58588,0.284241,14.4855]
["desipramine",19.9561,0.174805,16.1714]
["diltiazem",70.839,0.0167236,16.1976]
["disopyramide",11.4331,0.244995,14.8679]
["dl-sotalol",19.6148,0.180664,15.9007]
["dofetilide",11.6071,0.241638,15.0065]
["flecainide",11.0581,0.239807,13.927]
["fluvoxamine",20.4145,0.174927,16.0364]
["halofantrine",20.708,0.175476,16.0389]
["imipramine",20.6611,0.174744,16.3674]
["loratadine",21.6827,0.171448,16.2153]
["methadone",18.4089,0.186646,15.9788]
["mexiletine",19.8895,0.172791,16.3579]
["mibefradil",23.063,0.161011,15.7556]
["nifedipine",24.5721,0.153076,16.4059]
["nitrendipine",24.3632,0.154114,16.3922]
["ondansetron",5.1958,0.351562,6.9807]
["pentamidine",21.6359,0.172363,16.0927]
["phenytoin",20.2108,0.172668,16.4568]
["pimozide",20.5205,0.176147,16.1762]
["prenylamine",13.7363,0.2146,15.4646]
["propafenone",10.9604,0.236633,15.1097]
["propranolol",21.3274,0.172791,16.1375]
["quetiapine",21.5108,0.171936,16.1428]
["quinidine",1.0,1.0,0.0]
["ranolazine",14.1079,0.20459,15.3427]
["risperidone",21.5573,0.171936,16.3501]
["sertindole",17.8091,0.191406,15.8729]
["tedisamil",20.2516,0.177429,16.1053]
["terfenadine",5.63425,0.342773,14.0267]
["terodiline",1.56793,0.698547,12.6431]
["thioridazine",1.0,1.0,0.0]
["verapamil",16.7353,0.138611,14.6191]