{"text_format":"2","workbook":"xlsx","n_sheets":3,"sheets":["Spearman.Correlations","NRRs","Filtered.Correlations"],"not_rendered":{"charts":0,"images":0,"macros":0,"external_links":0,"defined_names":0,"comments":0,"pivot_tables":0},"unopened":[],"bounds":{"document_bytes":16777216,"sheet_cells":100000,"run_cost":"one","rows_first":2000,"rows_last":500,"rows_between":2000,"halvings":0,"cell_chars":16384,"cell_head_chars":4096},"cells_cut":0,"cells_raw":0,"read":"whole","date_system":"1900"}

{"sheet":"Spearman.Correlations","index":0,"n_rows":60,"n_cols":60,"rows_kept":60,"cut":false,"hidden":false,"merged":[]}
["Variable","LC1","LC2","LC3","LC4","LC5","LC6","LC7","LC8","LC9","2-OH-Butanoic Acid","3-OH-Benzoic Acid ","3-OH-Butanoic Acid ","5-OH-1H-Indole-3-Acetic Acid ","Alanine","Arachidonic acid ","Asparagine ","Aspartic Acid ","Cholesterol ","Citric acid ","Decanoic acid ","Fructose ","Fumaric Acid ","Glutamic Acid ","Glutamine ","Glycerol-3-P ","Glycine ","Indole-3-Latic Acid ","Indole-3-Propionic Acid ","Isoleucine ","Lactic Acid","Leucine ","Linoleic Acid ","Lysine ","Malic Acid ","Methionine ","Oleic Acid ","Palmitic Acid ","Phenylalanine ","Proline ","Serine ","Stearic Acid ","Succinic Acid ","Threonine ","Tyrosine ","Valine ","Sex","Age","BMI","NAFLD.Category","T2DM","Steatosis","Ballooning","Inflammation","Fibrosis","NAS","Platelets","ALT","AST","AST.ALT.Ratio"]
["LC1",1,0.350647245401245,0.731800953473335,0.14727276446493,0.190269721900152,0.234167560739382,0.346131810084429,0.220813597771335,0.755959089762331,-0.0375338698837787,-0.00460044897389793,-0.0832888519409334,-0.0933215481404803,0.0461002106465591,-0.1496379259003,-0.11235361667415,-0.109823018326203,-0.0607375143819959,-0.116567139343731,0.0994826226009835,0.0632313774571522,-0.0141711076106801,-0.113799952181064,-0.0161027868950065,-0.0896969531141665,-0.151175093792809,-0.228372620542885,-0.0209569682625347,0.31407014006663,-0.0746820142711155,0.00560962483790846,0.0834677382536477,-0.201345787672671,-0.0426824458981197,-0.0472514528822732,0.0850686796197409,-0.167587258101853,-0.140130134854147,0.0348141886473837,0.154550001171698,-0.0176316471019069,0.0221931562219652,0.0842321367111226,-0.0827818161201691,-0.0562044231223843,0.0189958394599654,-0.0014329951789748,0.0693704348437455,0.0873394446663829,0.0403638478328968,0.0550716864149199,0.0797784719052367,-0.0206158499853707,0.0564725296495931,0.0507466190022394,-0.0264145791663588,0.065846986269031,0.0429155850679148,-0.0634435942094308]
["LC2",0.350647245401245,1,0.521527146360025,0.438627439528914,0.666871915523247,0.685343838280107,0.649479580011627,0.761594667996387,0.494389828352862,0.0200169018124236,-0.00651094263533015,-0.0625575633197033,0.0257410618496944,0.0885767338466541,0.120013797252004,-0.0795063563540422,6.8898385386464E-005,0.199309486321503,0.050014418371163,0.0301256763380741,0.00674741803885878,0.0323686914147644,-0.0379556902273758,-0.0359835481013717,-0.000380849197447992,-0.0336589552449515,-0.133826686859553,0.0495447216166902,0.0770365072734614,-0.105528239751082,-0.00508530486706368,0.17382875613479,-0.0836064424867866,0.0408064599566701,0.0743838201424051,0.0485578364897004,0.00603425977490762,9.60531721904696E-005,-0.00952235489335785,0.0443412959652789,-0.0553791554170153,-0.0964204524586543,-0.00977595606224028,-0.0306071506408925,-0.110368250811396,-0.215167523968159,0.0988053112004014,0.0334775807228378,0.0290978004476732,0.046613113674433,0.0640278385876083,0.0510668870975408,-0.0117418303866787,-0.00030420655506544,0.0541130555867689,0.101991440148824,0.00833508857467056,0.0457315379855016,0.0577071017503246]
["LC3",0.731800953473335,0.521527146360025,1,0.182183134354597,0.189939228748517,0.134839486401547,0.588343683231742,0.233096985865696,0.739430400330137,-0.0640939538226071,-0.0104137116727067,-0.128059451430848,-0.0405398205276332,0.157840831088333,-0.0793541795164635,-0.169331937793982,-0.0928352972374345,0.0213182312865071,-0.122848076324726,0.189296069987129,0.168046801097602,0.0690081218927867,-0.0411803428765342,-0.0681248492501608,-0.0426241583344666,-0.175175674854678,-0.173259279791369,-0.0228930075192601,0.300199761018685,-0.0344371242594656,0.0800218526938258,0.037466332560602,-0.133080575195168,0.0321866740123828,-0.0690317474089949,0.0367824594552904,-0.0301044768530949,-0.0664309075156632,0.0899301368264665,0.054319265987833,-0.00830798800120789,-0.025494142133253,-0.0452582806549369,-0.0200817418328197,-0.0109786358564094,-0.0856269015520755,0.0678732807395854,0.115224223911395,0.154818267315203,0.185026340185176,0.139499652886792,0.15819111628133,0.0262199289142496,0.122858331020833,0.158521050597556,0.0217730984212409,0.0759172965004599,0.114594100848841,0.0104156213276508]
["LC4",0.14727276446493,0.438627439528914,0.182183134354597,1,0.263819093242767,0.382399016228494,0.142613605538577,0.426604935874308,0.0788746749691163,-0.0400428753195174,0.0510847074355317,-0.117270906548825,0.0925858235372477,0.241642486911213,0.193871073368049,0.169131292783119,0.291875617467254,0.0309109521363026,0.033791550055327,0.0811592527404202,-0.0335060828682713,0.146075077014823,0.261739801078504,0.0911339211794237,0.266008311120838,0.0793603576496119,-0.00359511755703171,0.0945687966089969,0.261920247026368,-0.0551073083621817,0.188534089292509,0.163605701084962,0.023207271674321,0.130815712724983,0.0453891224941528,0.0504888560227148,-0.0269892187975057,0.260582295083035,0.177298562684959,0.320767678458013,-0.029567590925395,0.168416277475665,0.230110701238932,0.0141189604244949,0.00501266908206094,0.0108732573399461,-0.081252054471879,-0.164835724207131,-0.148823757643726,-0.122918251975447,-0.132394664622358,-0.159557390201019,-0.083492071202391,-0.193134126506306,-0.160642734597934,0.0704479891831206,-0.0176170983343452,-0.0708096507800276,-0.0492683524841841]
["LC5",0.190269721900152,0.666871915523247,0.189939228748517,0.263819093242767,1,0.642060026544992,0.413549448422109,0.563395067090288,0.398165804512767,0.066400298785254,-0.0446619174272909,-0.00974613128988577,0.0164515435216132,0.0322350821872625,0.140292259234955,0.09450943288148,0.0354782807971627,0.0778926822211108,0.0724933209612388,-0.102311203512863,-0.0409152752309849,0.0550656543079009,-0.0556187657281347,0.0429233331746424,0.0301700990343913,-0.0169783895397281,-0.0540004679056082,0.128044884542911,0.0976916814313582,-0.0604055190376522,0.0590345865895511,0.162742588479273,0.0425445499857837,-0.00583172237182373,0.241862873543248,0.0165315383848241,-0.0635568140600237,0.043206969950374,0.0568208897109444,0.119354510691037,-0.0422925920163687,-0.167604046381488,0.0803247900396344,0.030566459243021,-0.0477351457019118,-0.114072119414613,0.148239937676941,-0.0538250510201847,0.0171187872517887,-0.01693711280642,-0.00541342911948473,0.0357005302687079,0.00977011346208597,-0.00200993181636749,0.0243329053546965,-0.0275774396718935,-0.00246766391846358,-0.0347458817318241,-0.0121109131900036]
["LC6",0.234167560739382,0.685343838280107,0.134839486401547,0.382399016228494,0.642060026544992,1,0.297629242299684,0.714289559790118,0.239344219527141,0.0689263803521367,-0.0637827813230562,-0.0471382497692618,-0.036172287693397,-0.045483159215586,0.110235417462623,0.0467335671136169,0.0749600202701378,0.163962490746755,0.103592473371189,-0.0261339412128343,-0.0549162402961072,0.0329217282139706,-0.0385436886152275,-0.0107891470783874,0.0281524224828172,0.0132442964779265,-0.119201512735089,0.120157411633387,0.0406149705560322,-0.0971872251447434,0.0159571028829066,0.221823615761743,-0.0152815821875736,0.00470271496355043,0.167907266653828,0.0211488380382866,-0.0738439071375568,0.0405473643381668,0.0127549548696088,0.127516482461514,-0.0591571198722034,-0.0911573159314077,0.109435708583397,-0.0363399838858792,-0.0865822341848298,-0.048573688295414,-0.0456853146149972,-0.047481185875231,-0.11658169475598,-0.235501179674507,0.0271001976074624,-0.126721029212539,-0.0604554226103109,-0.117588077328861,-0.0769566765104882,0.00766211941501168,0.000722776775252977,-0.0527119934718988,-0.0586572051639487]
["LC7",0.346131810084429,0.649479580011627,0.588343683231742,0.142613605538577,0.413549448422109,0.297629242299684,1,0.354411689283075,0.622742719619488,0.0305415499330115,-0.140085511018722,0.0311036625799145,-0.0778168734572063,0.160942037780522,0.14902692168775,-0.0481231405399161,-0.112728371926837,0.109413214567669,0.0540003337560081,-0.0162504211704842,0.0808625254094428,0.0562825134735012,-0.0761608217391816,-0.031886582268071,-0.0523723086939318,-0.122076347374372,-0.179523208573101,-0.059453084849565,0.0991748733362385,-0.0147904972069369,0.0398742284284709,0.104086684325386,-0.0667984452672929,0.0891408220252329,0.0670983841384214,0.0251607078080715,0.0376074573850303,-0.0406594856644706,0.0544377662544981,-0.0759488439675559,0.0141371574585498,-0.231939532456639,-0.135895323428187,-0.0822466824727951,-0.047409276556694,-0.301474004103982,0.245318109773017,0.165098982188901,0.1938402095682,0.35289123494398,0.0997940093138447,0.198465938010163,0.0922878378005989,0.208647564355294,0.18548011481142,0.0819913304506352,-0.0317977308014137,0.106048264964238,0.189261204777671]
["LC8",0.220813597771335,0.761594667996387,0.233096985865696,0.426604935874308,0.563395067090288,0.714289559790118,0.354411689283075,1,0.181026704783464,0.0177321391821949,0.0373430390622657,-0.0552593637495695,0.0374664139585238,0.015905424105613,0.073697424844134,-0.0921715390344508,0.143980667679551,0.23691384380315,0.0621910118843514,0.067239290518904,-0.0693755438186614,0.00989692320538639,0.0386591300653785,-0.0316755023762282,0.047485663059605,0.00136241211810594,-0.0803982524811311,0.0746207318395614,0.0353666116575999,-0.132016802866249,-0.00481528867943198,0.142480401942358,-0.109552355549756,0.00635845016887613,-0.0144783158063737,0.101796177828828,0.0325690651098215,0.0236634104741014,-0.030051855006656,0.166412155354318,-0.0246670519852877,0.104176435199238,0.0582611477224742,-0.0107865616650865,-0.0900354035839359,-0.281183729246404,-0.0354204093338249,0.057485167059533,-0.0665517869780963,-0.154613246423033,0.0627629394201555,-0.0723962563736193,-0.00100021562436866,-0.0867998642826168,0.0114725890469896,0.198990086657604,0.0306438021734358,0.0352127558128528,-0.0130401456349809]
["LC9",0.755959089762331,0.494389828352862,0.739430400330137,0.0788746749691163,0.398165804512767,0.239344219527141,0.622742719619488,0.181026704783464,1,-0.0201873666632542,-0.0869070486711939,-0.0219683580249239,-0.0730188993738448,0.0926298729616622,0.0383295601377922,-0.0872135201785396,-0.21901575279986,-0.0462637642482185,-0.059993585181819,0.012722951605249,0.114898158182413,-0.00101833618139548,-0.200460313147588,0.00108569772458784,-0.0730807095676546,-0.149817721496708,-0.196244681405314,-0.0263548243066603,0.224877329091143,0.0280049549102516,0.0130312160117907,0.136948524289119,-0.113519765782465,-0.0179300348182167,0.0821838591403873,0.0220403514778102,-0.108508408857694,-0.162420281426332,0.0344539304401991,-0.0128594472020774,0.0163833143915341,-0.212047460485785,-0.0609794514478316,-0.0836476121238534,-0.0294753859550555,-0.0392213925476627,0.19105688932721,0.14624057967403,0.180340638188498,0.272964727206589,0.0389072427372961,0.187141392490725,0.0135794177881278,0.133620384107775,0.10947182695551,-0.0382179809160922,0.0021772249451935,0.0376296239119383,0.0499068143886963]
["2-OH-Butanoic Acid",-0.0375338698837787,0.0200169018124236,-0.0640939538226071,-0.0400428753195174,0.066400298785254,0.0689263803521367,0.0305415499330115,0.0177321391821949,-0.0201873666632542,1,0.0531241997395021,0.626414813317116,0.0181943581237088,0.202052516849361,0.235784075408941,-0.0355578097234036,0.124302364402379,0.0744540070124452,0.232127139902184,0.153485121047472,0.145883703339314,0.223251239054298,0.124614641684999,0.00341817193038102,0.0299886124595955,0.215372968567056,0.0131300227886051,-0.15062488802879,0.0861695955583003,0.125452191664057,0.117356174306914,0.109685316493686,0.0165441747594756,0.343805880195681,0.0904282239235712,0.214115334108748,0.144888369042333,0.122133095705693,-0.180268407517835,-0.0560257961814282,0.0487823822617011,0.104457410836748,0.0465762068332582,-0.0947733659757618,0.229142620566874,-0.0327655086805952,-0.000871847016529235,0.0600761227306253,0.0162303649178772,0.134375701461191,0.111761106382927,0.00882351340646189,0.0921491101079614,0.150765140967698,0.0986977753445216,0.0151711956619344,0.0697784108328286,0.0703581718991795,-0.0204384110276852]
["3-OH-Benzoic Acid ",-0.00460044897389793,-0.00651094263533015,-0.0104137116727067,0.0510847074355317,-0.0446619174272909,-0.0637827813230562,-0.140085511018722,0.0373430390622657,-0.0869070486711939,0.0531241997395021,1,0.0234196906183665,0.732298535852062,-0.00289896231320804,0.104935927226225,-0.0779599101922384,0.0375788519531484,0.0981259656824912,-0.0368394965365766,0.0715408513387423,0.096131609406895,-0.0263813699635859,0.0424855021585125,0.0543465254205223,0.107254413469542,0.19694277808629,0.70630956268184,0.0517825280967637,-0.0862627148017958,0.0149835510330881,-0.00531384425516021,0.00277346026707754,-0.0293234350754743,-0.0605702191434544,-0.0873672842205384,-0.00610918617376723,0.151385204410292,0.0270875372234829,-0.155650684553376,-0.0807660209275945,0.128775194623396,0.248462545197205,0.00573744294372185,0.563982164363004,0.126496683255565,0.0279415839360254,-0.113141571272861,0.022418165024306,-0.0233344491983269,-0.0608235166188939,0.0223034715099384,0.0114104437789641,0.0522750641227425,-0.0323280869980248,0.0515941770505423,-0.024286166094095,0.153831487381311,0.111174292023229,-0.0833320637766267]
["3-OH-Butanoic Acid ",-0.0832888519409334,-0.0625575633197033,-0.128059451430848,-0.117270906548825,-0.00974613128988577,-0.0471382497692618,0.0311036625799145,-0.0552593637495695,-0.0219683580249239,0.626414813317116,0.0234196906183665,1,0.0584414500774102,0.0457818876819132,0.137765251586406,-0.010379222900874,-0.0415622750522144,0.0432203494597678,0.151555877236256,0.102335895553929,0.0133770801528537,0.146306219209273,0.0707577956954067,0.0360355109525203,-0.0496305805212366,0.128370044024148,0.0628404273460247,-0.162325708603976,0.0080083058936301,0.028979365788697,0.055861934965095,0.131367170939045,-0.0198262756191618,0.208226849643154,-0.0112469086110008,0.267588672097602,0.167312999747283,0.0559733943964175,-0.112548484292887,-0.0797187579831613,0.0519942670483698,-0.0195952829408721,0.0361622795334643,-0.0915942784320649,0.162587373715783,-0.0528454457400253,0.0911546038621224,0.125182094599384,0.0586345757644563,0.214446450441903,0.0244696967691465,0.0645974827271082,0.0859602765220823,0.196191411655242,0.0736553938151703,-0.0172704923986679,-0.0335422201331375,0.0694292331945515,0.141133844053138]
["5-OH-1H-Indole-3-Acetic Acid ",-0.0933215481404803,0.0257410618496944,-0.0405398205276332,0.0925858235372477,0.0164515435216132,-0.036172287693397,-0.0778168734572063,0.0374664139585238,-0.0730188993738448,0.0181943581237088,0.732298535852062,0.0584414500774102,1,0.0487289394541352,0.158096621628898,0.0958563108069423,0.0459552606454526,0.0159737142450613,0.0206758497640948,-0.0170863893527437,0.0575101166141214,-0.0116639670944424,0.109827535535701,0.101826808873805,0.133230388665802,0.13123647099007,0.804508301496443,0.0457456989082441,-0.00519785843752288,-0.0532022036681671,0.0765032267141224,0.11844986692263,0.139301315238966,-0.038180824706979,0.00628497202227951,0.00888382361704278,0.150343106111549,0.122210652070779,-0.0392490940274695,-0.0131048029351099,0.127634114947199,0.15981457429194,0.0750051387904971,0.678940673107555,0.142483234221385,0.0405861142811218,-0.0039658114830822,0.0650144139268371,-0.00816210935531061,0.0229109260527567,0.0058583391414327,0.0448966878457609,0.0636775287345607,0.0288050926865442,0.0577704080728018,-0.04963019225493,0.118709701424787,0.11678117416265,-0.0144610439612056]
["Alanine",0.0461002106465591,0.0885767338466541,0.157840831088333,0.241642486911213,0.0322350821872625,-0.045483159215586,0.160942037780522,0.015905424105613,0.0926298729616622,0.202052516849361,-0.00289896231320804,0.0457818876819132,0.0487289394541352,1,0.213606809645402,0.196328347851254,0.286419507900749,-0.0631931934252728,0.216025294528551,-0.0175145048292684,0.20075505539882,0.286981127413647,0.282242865919344,0.012850209064147,0.271850623316131,0.2682902237524,0.0543575635143486,0.01390215451284,0.333560165309805,-0.0599600715820446,0.282637510985678,0.204078991135286,0.216014532496889,0.358768986217903,0.255287202692533,0.0554564622022659,0.079436024109429,0.391763517634134,0.23575000197152,0.264424991090545,-0.00948719304832241,0.140700429413937,0.255335118065451,0.041916256670382,0.19375383230803,0.0403216913246487,0.0422132718903903,0.0640998955666678,0.105007365738945,0.222361855859901,0.0593063131790782,0.104076476129871,0.104720179913522,0.131731917977642,0.123814683104203,0.0150900113233405,0.0824061579026166,0.0740920263757371,-0.0343155433611555]
["Arachidonic acid ",-0.1496379259003,0.120013797252004,-0.0793541795164635,0.193871073368049,0.140292259234955,0.110235417462623,0.14902692168775,0.073697424844134,0.0383295601377922,0.235784075408941,0.104935927226225,0.137765251586406,0.158096621628898,0.213606809645402,1,-0.0259231227152441,0.207839611437265,0.0911216285264581,0.448548759788179,0.194462660692345,0.185137702080491,0.343875218895579,0.0261490430410052,0.0381980815475132,0.283574886843378,0.161280022009237,0.142381616351104,0.169905169350612,0.0254279629297148,0.0572173948773659,0.027346713683024,0.318291450484572,0.0307829806225327,0.329830611113819,0.351744171433964,0.0794682714884255,0.079795821927083,0.196880952749536,-0.137858103156219,0.0138821991651487,0.0710000614562488,0.104958596676747,-0.0963721057090458,0.149542025982315,0.0919906202184817,-0.0605958558540462,0.0943597634481567,0.0596261920308217,0.0593872944226487,0.0730684582105155,-0.0274857130617068,0.0541261535303517,0.0837467563571398,0.0586746811805222,0.040765277150907,-0.0503770171740085,-0.0512711605134084,0.0112967757902735,0.114802225019148]
["Asparagine ",-0.11235361667415,-0.0795063563540422,-0.169331937793982,0.169131292783119,0.09450943288148,0.0467335671136169,-0.0481231405399161,-0.0921715390344508,-0.0872135201785396,-0.0355578097234036,-0.0779599101922384,-0.010379222900874,0.0958563108069423,0.196328347851254,-0.0259231227152441,1,0.251622330681059,-0.128396027242789,0.173278156126781,-0.234165784703417,-0.182726695000514,0.0317602375286507,0.203930397951788,0.327127756162373,0.110945220426265,0.0770662611470262,0.190308643561165,0.102697333860006,0.23090899674275,-0.0405527311179889,0.189163708666676,0.203819465827861,0.559777083064684,0.00214484775170523,0.349091429058321,0.0612690461237972,-0.0515650199229427,0.375187756875027,0.35245519374153,0.318811577976081,0.0465406845781848,-0.18033493458947,0.420701141544228,0.261407943634106,0.0561155426254008,0.123781100472616,0.0178770132973123,-0.0727672095821386,-0.0397279062244229,-0.0660182669505282,-0.154148962372714,-0.0390225711018671,-0.0545182105273236,-0.0294144586113288,-0.113627749335172,-0.0605182799479802,-0.0300419287043921,-0.0837195115037809,-0.0302926666288211]
["Aspartic Acid ",-0.109823018326203,6.8898385386464E-005,-0.0928352972374345,0.291875617467254,0.0354782807971627,0.0749600202701378,-0.112728371926837,0.143980667679551,-0.21901575279986,0.124302364402379,0.0375788519531484,-0.0415622750522144,0.0459552606454526,0.286419507900749,0.207839611437265,0.251622330681059,1,0.0428654091449625,0.228932595156691,0.133665463796267,0.136721998694124,0.303828844222984,0.586255372725817,-0.033078058680154,0.432597168627618,0.315398128760544,0.0487024154065479,0.16986705737486,0.27919152656708,-0.117809852918334,0.178381526539568,0.18585858612469,0.115408914157811,0.394916254243474,0.267973990492463,0.0217487101148167,-0.0140763258688047,0.68772180256515,0.0545025544387027,0.614268903904169,0.0126019483210297,0.411011280083698,0.342625130800499,0.140064898000998,0.0304838714731294,-0.0635740440694999,-0.107132855070442,-0.135268203843654,-0.0294964058431954,-0.119475184067633,0.0454793370440779,-0.0582550247362797,0.102597967481874,-0.0516324214794293,0.0468996552753063,0.0599896430609715,0.0828037092429213,0.0690216792057275,-0.0453173685100102]
["Cholesterol ",-0.0607375143819959,0.199309486321503,0.0213182312865071,0.0309109521363026,0.0778926822211108,0.163962490746755,0.109413214567669,0.23691384380315,-0.0462637642482185,0.0744540070124452,0.0981259656824912,0.0432203494597678,0.0159737142450613,-0.0631931934252728,0.0911216285264581,-0.128396027242789,0.0428654091449625,1,0.0780709936450285,0.0345927055538626,0.101719830602208,0.0721615008923421,0.0349955983129754,-0.0443331808342596,0.0529500752484909,0.171111147345396,0.0415443390594948,0.00545922631243933,-0.236388178982394,0.0338995240871868,-0.00654893016168128,0.104748145081659,-0.0813070960395422,0.0832430362931394,-0.0890758868179302,0.157689671025851,0.29177749689869,-0.0046944505606052,-0.141167735830081,-0.173973794674022,0.25018878556809,0.101511157388451,-0.170892164643855,0.00434437353843739,0.123545969769513,-0.113683788795329,-0.0855530567245651,0.0305724340262568,-0.0393498128464898,-0.0588552652204168,0.00213958353958114,0.0314387759605266,0.0554716765579963,-0.0655531623241456,0.050073102925851,0.140404733246501,0.00172804666374783,0.0673244642330799,0.0831647622198329]
["Citric acid ",-0.116567139343731,0.050014418371163,-0.122848076324726,0.033791550055327,0.0724933209612388,0.103592473371189,0.0540003337560081,0.0621910118843514,-0.059993585181819,0.232127139902184,-0.0368394965365766,0.151555877236256,0.0206758497640948,0.216025294528551,0.448548759788179,0.173278156126781,0.228932595156691,0.0780709936450285,1,0.171490433121482,0.13888704834706,0.387226266944256,0.00811496805577751,0.0615356415033277,0.12053884549919,0.118428382638075,0.0846152328606351,0.231338715674431,-0.0439442522730448,1.96553635085711E-005,-0.120291128912459,0.377213906613587,0.181485845725115,0.465365454008465,0.350953848625238,0.204832299956361,0.00739000010025213,0.18978591914085,-0.109569219618109,0.0575216877278821,0.0169560249093477,0.0929489245001404,-0.0257081924141028,0.141299066403193,-0.039445001561521,-0.0987172804511258,0.207068614714413,0.0438298155937573,0.0759128082659505,0.0222891386955861,-0.0550947826762743,0.0187954140269643,0.078097523067432,0.151257425247675,0.0146235394126943,-0.153441051175877,-0.0305435949191663,0.0558031851169177,0.116407915017181]
["Decanoic acid ",0.0994826226009835,0.0301256763380741,0.189296069987129,0.0811592527404202,-0.102311203512863,-0.0261339412128343,-0.0162504211704842,0.067239290518904,0.012722951605249,0.153485121047472,0.0715408513387423,0.102335895553929,-0.0170863893527437,-0.0175145048292684,0.194462660692345,-0.234165784703417,0.133665463796267,0.0345927055538626,0.171490433121482,1,0.219597930225548,0.331639080871625,-0.0765715297247399,-0.188706695902566,0.0845820373355934,0.020200509125561,-0.114145740497017,0.0871719397240585,0.113947099255704,0.0774663760948818,-0.0852170237513541,0.0560724389714606,-0.227987226715565,0.300751490634714,0.145335913500054,0.0382867661044602,-0.0557869571679315,0.0535177818737691,-0.151696497283328,0.13914880543258,-0.13604117702647,0.268168778757827,-0.00983800621657219,-0.00307569646145555,0.0207407418863729,-0.111987216138546,0.0320395010093863,-0.0324145039755427,-0.0494763677121312,-0.0643207303041315,0.0720846315430071,-0.0323331352008904,0.0120325916228601,-0.0323145602910966,0.0332566448131659,0.0262644122870952,0.050159690100843,0.105886225754017,0.034651997387229]
["Fructose ",0.0632313774571522,0.00674741803885878,0.168046801097602,-0.0335060828682713,-0.0409152752309849,-0.0549162402961072,0.0808625254094428,-0.0693755438186614,0.114898158182413,0.145883703339314,0.096131609406895,0.0133770801528537,0.0575101166141214,0.20075505539882,0.185137702080491,-0.182726695000514,0.136721998694124,0.101719830602208,0.13888704834706,0.219597930225548,1,0.161208661110431,0.110294725222766,-0.175340714687358,0.256634645216593,0.213113264531662,-0.00934862671524765,0.0390744885577824,0.0814093731844418,0.0558536470574166,-0.043380617153365,0.0791692961115505,-0.0751778675176432,0.338190435453391,0.115329244651489,-0.0458036735186482,0.0332195323411955,0.166554102705909,-0.17640550315855,0.0388172615265729,0.0282342569789936,0.222215561320907,-0.0551867197190521,0.0536066438926931,0.03586216290482,-0.0235107948831591,0.162318377178273,0.149473916544535,0.0869664026082184,0.204917158457412,0.0561417142127862,0.107127878563974,0.0668062607742707,0.134649078446467,0.0987642700673604,-0.0846798479338468,0.0277664929106651,0.107807690804226,0.0823690067400715]
["Fumaric Acid ",-0.0141711076106801,0.0323686914147644,0.0690081218927867,0.146075077014823,0.0550656543079009,0.0329217282139706,0.0562825134735012,0.00989692320538639,-0.00101833618139548,0.223251239054298,-0.0263813699635859,0.146306219209273,-0.0116639670944424,0.286981127413647,0.343875218895579,0.0317602375286507,0.303828844222984,0.0721615008923421,0.387226266944256,0.331639080871625,0.161208661110431,1,0.174884354801125,-0.052618438765667,0.149460165917192,0.00215916405304384,-0.0016751205008159,0.167802277858153,0.222501587519387,-0.0439043786127311,0.140992304464001,0.139435511896756,-0.0450743367258571,0.646015462397118,0.297011470548929,0.0611925822776619,-0.0172921793676873,0.267099065969172,0.143029212070771,0.295206215949615,-0.0652278442549658,0.320960654838366,0.137029329775831,0.0690236533292086,0.0930289971328885,-0.0516632004186455,0.0970250949267671,0.0143545846785249,0.0239902516669841,0.015363323649258,0.0318137892275232,0.0311202789093417,0.0596410070314905,0.089032353603195,0.0605080109742334,-0.0569895577427206,-0.002947854862568,0.0804816898602692,0.101755059599437]
["Glutamic Acid ",-0.113799952181064,-0.0379556902273758,-0.0411803428765342,0.261739801078504,-0.0556187657281347,-0.0385436886152275,-0.0761608217391816,0.0386591300653785,-0.200460313147588,0.124614641684999,0.0424855021585125,0.0707577956954067,0.109827535535701,0.282242865919344,0.0261490430410052,0.203930397951788,0.586255372725817,0.0349955983129754,0.00811496805577751,-0.0765715297247399,0.110294725222766,0.174884354801125,1,0.0462337345703522,0.243388521764349,0.284795720298719,0.116559970567903,0.0590483220220951,0.210770590065035,-0.107624201251518,0.287128839381437,0.132943719852091,0.178561756545748,0.202471421270044,0.0043077502510997,0.142463727913429,0.148170264059842,0.655021515334927,0.152040667703186,0.430624003800505,0.136519281889765,0.385594367781134,0.327517657559193,0.0826473034036297,0.145733728780211,0.0615342683200873,-0.108541947055395,-0.0589144228909387,0.0526549428740854,0.0168570065071375,0.0827646508475439,0.0310318820925001,0.109150858254874,0.0362802829879523,0.114759446648056,0.0305138155089543,0.193971098814907,0.169672557593622,-0.104014255124001]
["Glutamine ",-0.0161027868950065,-0.0359835481013717,-0.0681248492501608,0.0911339211794237,0.0429233331746424,-0.0107891470783874,-0.031886582268071,-0.0316755023762282,0.00108569772458784,0.00341817193038102,0.0543465254205223,0.0360355109525203,0.101826808873805,0.012850209064147,0.0381980815475132,0.327127756162373,-0.033078058680154,-0.0443331808342596,0.0615356415033277,-0.188706695902566,-0.175340714687358,-0.052618438765667,0.0462337345703522,1,-0.0480790862387203,0.00356607067323434,0.145997676852401,-0.044533074905107,0.00310424769945926,0.0585682749919237,0.132219409297714,0.143574433454096,0.165836673908454,-0.138663841132556,0.0585038856731437,0.0992091380537656,0.0674143226488699,0.062911082557936,0.17189564479925,0.00493291019199915,0.216223834455195,-0.194838622563789,0.127480580011009,0.0677752563606359,0.0663555800300972,0.0366326368696415,0.0370348770246569,0.010768411848331,0.0309886082198979,0.0181389517002543,-0.0840867142208434,0.0321909814190599,-0.0112510706844973,0.0214729750920263,-0.0228384553048786,-0.0124286591728414,-0.0628754915007025,-0.0703413074614626,0.0128473667176459]
["Glycerol-3-P ",-0.0896969531141665,-0.000380849197447992,-0.0426241583344666,0.266008311120838,0.0301700990343913,0.0281524224828172,-0.0523723086939318,0.047485663059605,-0.0730807095676546,0.0299886124595955,0.107254413469542,-0.0496305805212366,0.133230388665802,0.271850623316131,0.283574886843378,0.110945220426265,0.432597168627618,0.0529500752484909,0.12053884549919,0.0845820373355934,0.256634645216593,0.149460165917192,0.243388521764349,-0.0480790862387203,1,0.285712354670241,0.131960757036806,0.0888112972900516,0.195931773465257,-0.0802848183047789,0.123622867933356,0.190590034904075,0.0881712611015399,0.213474387237622,0.27891912371639,0.0620062686887128,0.0621052776067938,0.445276317394433,-0.0234344736774841,0.339075884151543,0.0703217991355395,0.232117974666,0.204746953075526,0.167059548659674,0.0682360264353738,0.0509221531909312,-0.0225451723410472,-0.0843217245073443,-0.0622258113102989,-0.012563194340836,-0.0194870825596653,-0.0337554099885458,0.0265343337918911,-0.0989597446910559,-0.0166033007035208,0.00804869007775538,-0.0661382787577847,-0.102920523292312,-0.00575525175746065]
["Glycine ",-0.151175093792809,-0.0336589552449515,-0.175175674854678,0.0793603576496119,-0.0169783895397281,0.0132442964779265,-0.122076347374372,0.00136241211810594,-0.149817721496708,0.215372968567056,0.19694277808629,0.128370044024148,0.13123647099007,0.2682902237524,0.161280022009237,0.0770662611470262,0.315398128760544,0.171111147345396,0.118428382638075,0.020200509125561,0.213113264531662,0.00215916405304384,0.284795720298719,0.00356607067323434,0.285712354670241,1,0.101389530618025,-0.0343203014692397,-0.168652767822595,0.104832042189452,0.0457511344598821,0.111850924173221,0.118647554980483,0.232945337828791,0.126491052092713,0.132058568434324,0.277306723852119,0.347381510271189,-0.197543812569121,0.0152863294422935,0.253508399846369,0.257963168764881,0.16168543313077,-0.0433414873356987,0.194695124295822,-0.0498034905115592,0.0126433177779961,-0.042715491939186,0.0192198113873158,-0.0243721801342291,-0.0465715588780929,-0.0328515967021049,0.0660278650833552,0.0409372049738388,0.00735327594533525,-0.0502384855630839,-0.0160963249349077,0.0188096559470874,0.040334226627655]
["Indole-3-Latic Acid ",-0.228372620542885,-0.133826686859553,-0.173259279791369,-0.00359511755703171,-0.0540004679056082,-0.119201512735089,-0.179523208573101,-0.0803982524811311,-0.196244681405314,0.0131300227886051,0.70630956268184,0.0628404273460247,0.804508301496443,0.0543575635143486,0.142381616351104,0.190308643561165,0.0487024154065479,0.0415443390594948,0.0846152328606351,-0.114145740497017,-0.00934862671524765,-0.0016751205008159,0.116559970567903,0.145997676852401,0.131960757036806,0.101389530618025,1,0.0740214985476533,-0.0324131277941465,-0.0267578526464862,0.0950720237302087,0.123760050408315,0.324317342658187,-0.0687052307438739,0.00780104502099593,0.0532448111481197,0.228534950016103,0.126406196622111,0.0210975234128782,-0.0541768668151267,0.108522164523103,0.117461027519827,0.031223890071805,0.767194977084475,0.148246392267267,0.122789187364502,-0.0576194893174187,0.0792958206424784,-0.00393597937999887,0.0104367397482154,0.0113533468068957,0.0466117569578758,0.072824252057965,0.0510920072114073,0.0597053726173811,-0.102142424419172,0.145120675294375,0.121171525120509,-0.0482058134644179]
["Indole-3-Propionic Acid ",-0.0209569682625347,0.0495447216166902,-0.0228930075192601,0.0945687966089969,0.128044884542911,0.120157411633387,-0.059453084849565,0.0746207318395614,-0.0263548243066603,-0.15062488802879,0.0517825280967637,-0.162325708603976,0.0457456989082441,0.01390215451284,0.169905169350612,0.102697333860006,0.16986705737486,0.00545922631243933,0.231338715674431,0.0871719397240585,0.0390744885577824,0.167802277858153,0.0590483220220951,-0.044533074905107,0.0888112972900516,-0.0343203014692397,0.0740214985476533,1,0.111598648958459,-0.0687403487169093,-0.0319268047187492,0.208593428455841,0.0393060078669027,0.0663205028794997,0.24926156585544,0.0190108818941679,-0.138516492762414,0.110906431113766,0.0556131343918934,0.200931953507297,-0.0535582175071763,0.112840242544132,0.0883551627262113,0.186077539125129,-0.0628534710412785,0.0836409771376884,-0.0064416003665901,-0.0184586472373678,-0.0180758613559136,-0.143804550848433,0.0214735922136135,-0.0189692505520923,0.0169410226743322,-0.0889299212074749,0.010663174351847,-0.136757616140622,-0.0142941459811599,-0.084099156930896,-0.086846162477611]
["Isoleucine ",0.31407014006663,0.0770365072734614,0.300199761018685,0.261920247026368,0.0976916814313582,0.0406149705560322,0.0991748733362385,0.0353666116575999,0.224877329091143,0.0861695955583003,-0.0862627148017958,0.0080083058936301,-0.00519785843752288,0.333560165309805,0.0254279629297148,0.23090899674275,0.27919152656708,-0.236388178982394,-0.0439442522730448,0.113947099255704,0.0814093731844418,0.222501587519387,0.210770590065035,0.00310424769945926,0.195931773465257,-0.168652767822595,-0.0324131277941465,0.111598648958459,1,-0.112807594279875,0.483974854501951,0.155531153558331,0.0871657176941842,0.155809314408591,0.342355772520794,0.0156501231794277,-0.223044679790826,0.322719701778901,0.437711869507516,0.623525141674453,-0.126061922094817,0.135819712365219,0.489686944672695,0.178551301796627,0.169893879045716,0.236510256791055,-0.157160830567808,-0.041491987194215,0.0535464059906424,0.0634863271866405,0.103110084760661,0.0592018039638764,0.0842749257142769,0.00178887894407954,0.10815992380102,-0.0228990897932758,0.144226224427872,0.0491643883661282,-0.186501238436716]
["Lactic Acid",-0.0746820142711155,-0.105528239751082,-0.0344371242594656,-0.0551073083621817,-0.0604055190376522,-0.0971872251447434,-0.0147904972069369,-0.132016802866249,0.0280049549102516,0.125452191664057,0.0149835510330881,0.028979365788697,-0.0532022036681671,-0.0599600715820446,0.0572173948773659,-0.0405527311179889,-0.117809852918334,0.0338995240871868,1.96553635085711E-005,0.0774663760948818,0.0558536470574166,-0.0439043786127311,-0.107624201251518,0.0585682749919237,-0.0802848183047789,0.104832042189452,-0.0267578526464862,-0.0687403487169093,-0.112807594279875,1,0.0534025248784502,0.00441668829341225,0.0142907617381881,0.0287929100432217,-0.0640705751953009,0.0400860836357121,0.186846322561496,-0.169388812377724,-0.0184592133013448,-0.213319692981164,0.169437944560213,-0.0280845479214916,-0.163845351031397,-0.134156314883708,0.215232560349507,-0.0226364537795021,0.0483940030490714,0.00385688017928746,-0.00931753462043242,0.0485520201273428,-0.0931880352225925,-0.00764571848025563,-0.0551402043553745,-0.0155675399968868,-0.0733776016647939,0.0342469816733829,-0.135507332512734,-0.116787127041983,0.0616334039862128]
["Leucine ",0.00560962483790846,-0.00508530486706368,0.0800218526938258,0.188534089292509,0.0590345865895511,0.0159571028829066,0.0398742284284709,-0.00481528867943198,0.0130312160117907,0.117356174306914,-0.00531384425516021,0.055861934965095,0.0765032267141224,0.282637510985678,0.027346713683024,0.189163708666676,0.178381526539568,-0.00654893016168128,-0.120291128912459,-0.0852170237513541,-0.043380617153365,0.140992304464001,0.287128839381437,0.132219409297714,0.123622867933356,0.0457511344598821,0.0950720237302087,-0.0319268047187492,0.483974854501951,0.0534025248784502,1,0.0412775610076542,0.164792028750821,0.00257650826387454,0.0600778672149484,0.0592779615258763,0.177428462873723,0.291953554715995,0.459767219508434,0.263453778757009,0.176384789044913,0.0207768825599396,0.283824269561983,0.0285527066705126,0.444225725286365,0.180412463044586,-0.0684291164258247,-0.0576311064177487,0.0603926164491769,0.061755746771524,0.0269817985374873,0.0709631683756774,0.0411209083481228,-0.00701142125990266,0.0743816951429145,-0.00889556507418612,0.0876793834934716,-0.00103579094499473,-0.135304870904716]
["Linoleic Acid ",0.0834677382536477,0.17382875613479,0.037466332560602,0.163605701084962,0.162742588479273,0.221823615761743,0.104086684325386,0.142480401942358,0.136948524289119,0.109685316493686,0.00277346026707754,0.131367170939045,0.11844986692263,0.204078991135286,0.318291450484572,0.203819465827861,0.18585858612469,0.104748145081659,0.377213906613587,0.0560724389714606,0.0791692961115505,0.139435511896756,0.132943719852091,0.143574433454096,0.190590034904075,0.111850924173221,0.123760050408315,0.208593428455841,0.155531153558331,0.00441668829341225,0.0412775610076542,1,0.31657538552244,0.15813394847297,0.231212369976242,0.44144108702521,0.0910957446786466,0.277357853065098,-0.0351598969220484,0.154040709485177,0.201651957023065,0.00693909817630231,0.139052917104923,0.19268839124107,-0.00659618322139795,-0.0184942490330693,0.0563265550079355,0.0684244674044037,0.0710893992343106,-0.000576855411058098,-0.0194693967985495,0.0952511822818983,0.110808596584001,0.0977762011927816,0.0863031421184149,-0.064724831994503,-0.0114647217594823,0.0143065023476245,0.0608135368683087]
["Lysine ",-0.201345787672671,-0.0836064424867866,-0.133080575195168,0.023207271674321,0.0425445499857837,-0.0152815821875736,-0.0667984452672929,-0.109552355549756,-0.113519765782465,0.0165441747594756,-0.0293234350754743,-0.0198262756191618,0.139301315238966,0.216014532496889,0.0307829806225327,0.559777083064684,0.115408914157811,-0.0813070960395422,0.181485845725115,-0.227987226715565,-0.0751778675176432,-0.0450743367258571,0.178561756545748,0.165836673908454,0.0881712611015399,0.118647554980483,0.324317342658187,0.0393060078669027,0.0871657176941842,0.0142907617381881,0.164792028750821,0.31657538552244,1,-0.0492603532011641,0.172872093571738,0.154520259185089,0.163999001640057,0.293216930031407,0.156042243999407,0.0529631833105183,0.10193815205397,-0.165479225123188,0.183107121694062,0.349678272428562,0.139444956745596,0.12069022809137,0.016503420305477,0.00617504595544859,-0.0267556026719345,0.0298042669241969,-0.0476076145565345,-0.0469850842002178,-0.0292633985227316,0.0177846464483104,-0.0476746813010336,-0.08111488558642,-0.0518291685327743,-0.0926561778524484,-0.0160209402761755]
["Malic Acid ",-0.0426824458981197,0.0408064599566701,0.0321866740123828,0.130815712724983,-0.00583172237182373,0.00470271496355043,0.0891408220252329,0.00635845016887613,-0.0179300348182167,0.343805880195681,-0.0605702191434544,0.208226849643154,-0.038180824706979,0.358768986217903,0.329830611113819,0.00214484775170523,0.394916254243474,0.0832430362931394,0.465365454008465,0.300751490634714,0.338190435453391,0.646015462397118,0.202471421270044,-0.138663841132556,0.213474387237622,0.232945337828791,-0.0687052307438739,0.0663205028794997,0.155809314408591,0.0287929100432217,0.00257650826387454,0.15813394847297,-0.0492603532011641,1,0.309099459118245,0.063029675558486,-0.0327245356436047,0.283679668010244,-0.0859571825914511,0.190606583983332,-0.115404568182894,0.408896876042843,0.043412981901491,-0.00768761476822473,0.0314242910355268,-0.0531949085584972,0.136714903712001,0.0152584018722905,0.0332980491532528,0.141291469888946,-0.0180594936444469,0.0136411775836507,0.104606270566566,0.149078822452764,0.0434910313309373,-0.0760665468543816,0.0565356564613138,0.136007484965394,0.0728943990174287]
["Methionine ",-0.0472514528822732,0.0743838201424051,-0.0690317474089949,0.0453891224941528,0.241862873543248,0.167907266653828,0.0670983841384214,-0.0144783158063737,0.0821838591403873,0.0904282239235712,-0.0873672842205384,-0.0112469086110008,0.00628497202227951,0.255287202692533,0.351744171433964,0.349091429058321,0.267973990492463,-0.0890758868179302,0.350953848625238,0.145335913500054,0.115329244651489,0.297011470548929,0.0043077502510997,0.0585038856731437,0.27891912371639,0.126491052092713,0.00780104502099593,0.24926156585544,0.342355772520794,-0.0640705751953009,0.0600778672149484,0.231212369976242,0.172872093571738,0.309099459118245,1,-0.0439589858018989,-0.229074714499651,0.437721126072714,0.0669272118629887,0.37123940032325,-0.105028517092196,-0.0415512706442731,0.407794074869737,0.242063013508716,-0.0426281599594877,0.179638217355456,0.115688423695426,-0.0356566547358282,0.0558059870756537,0.00182673842494538,0.00871933859993591,0.0253474910516483,0.052985005203928,0.0799966404244139,0.0349269683952971,-0.194947996246471,0.0179139979321041,-0.0212372770013217,-0.0192969202487165]
["Oleic Acid ",0.0850686796197409,0.0485578364897004,0.0367824594552904,0.0504888560227148,0.0165315383848241,0.0211488380382866,0.0251607078080715,0.101796177828828,0.0220403514778102,0.214115334108748,-0.00610918617376723,0.267588672097602,0.00888382361704278,0.0554564622022659,0.0794682714884255,0.0612690461237972,0.0217487101148167,0.157689671025851,0.204832299956361,0.0382867661044602,-0.0458036735186482,0.0611925822776619,0.142463727913429,0.0992091380537656,0.0620062686887128,0.132058568434324,0.0532448111481197,0.0190108818941679,0.0156501231794277,0.0400860836357121,0.0592779615258763,0.44144108702521,0.154520259185089,0.063029675558486,-0.0439589858018989,1,0.214572604762889,0.0816021648257062,-0.0519970202206327,-0.0381084585406183,0.385988349248407,0.0361268868591057,0.00617470574236876,0.00211356647301743,0.0696501842132054,-0.0402731284718367,-0.00420135351531287,0.0968772943382762,0.0276093721733842,0.0430398231695014,0.039939810972727,0.0883519600933318,0.0779580458093878,0.157753208334914,0.0993570033102602,-0.0145075649281599,0.0282634884452094,0.0567056392284569,0.016168481399518]
["Palmitic Acid ",-0.167587258101853,0.00603425977490762,-0.0301044768530949,-0.0269892187975057,-0.0635568140600237,-0.0738439071375568,0.0376074573850303,0.0325690651098215,-0.108508408857694,0.144888369042333,0.151385204410292,0.167312999747283,0.150343106111549,0.079436024109429,0.079795821927083,-0.0515650199229427,-0.0140763258688047,0.29177749689869,0.00739000010025213,-0.0557869571679315,0.0332195323411955,-0.0172921793676873,0.148170264059842,0.0674143226488699,0.0621052776067938,0.277306723852119,0.228534950016103,-0.138516492762414,-0.223044679790826,0.186846322561496,0.177428462873723,0.0910957446786466,0.163999001640057,-0.0327245356436047,-0.229074714499651,0.214572604762889,1,0.087329211306693,-0.0363910459905615,-0.247942808007417,0.409785286856213,0.0398364010779103,-0.144208727113338,0.013981707755205,0.290423534024514,-0.0736048655280579,0.00843192200653367,0.0512128608944825,0.0189862587217797,0.121524239020579,-0.0287579949107596,0.039606815890193,0.0283579299073689,0.0423666903304896,0.031703279079764,0.0980712765525801,-0.030191791039743,0.0104072577471187,0.0474241092428654]
["Phenylalanine ",-0.140130134854147,9.60531721904696E-005,-0.0664309075156632,0.260582295083035,0.043206969950374,0.0405473643381668,-0.0406594856644706,0.0236634104741014,-0.162420281426332,0.122133095705693,0.0270875372234829,0.0559733943964175,0.122210652070779,0.391763517634134,0.196880952749536,0.375187756875027,0.68772180256515,-0.0046944505606052,0.18978591914085,0.0535177818737691,0.166554102705909,0.267099065969172,0.655021515334927,0.062911082557936,0.445276317394433,0.347381510271189,0.126406196622111,0.110906431113766,0.322719701778901,-0.169388812377724,0.291953554715995,0.277357853065098,0.293216930031407,0.283679668010244,0.437721126072714,0.0816021648257062,0.087329211306693,1,0.152121848721569,0.554169865854541,0.0775570783682676,0.238467627187039,0.498664101764227,0.185891049278214,0.0986739947107867,0.0173454821508564,0.0390165583691779,-0.0224964941828159,0.0590200293874006,0.000656975912623537,0.0574791434266443,0.0294731126829107,0.130289988228046,0.110208752903095,0.104339654838601,-0.0526128234951222,0.104551054693438,0.133908834896285,0.0120344590132573]
["Proline ",0.0348141886473837,-0.00952235489335785,0.0899301368264665,0.177298562684959,0.0568208897109444,0.0127549548696088,0.0544377662544981,-0.030051855006656,0.0344539304401991,-0.180268407517835,-0.155650684553376,-0.112548484292887,-0.0392490940274695,0.23575000197152,-0.137858103156219,0.35245519374153,0.0545025544387027,-0.141167735830081,-0.109569219618109,-0.151696497283328,-0.17640550315855,0.143029212070771,0.152040667703186,0.17189564479925,-0.0234344736774841,-0.197543812569121,0.0210975234128782,0.0556131343918934,0.437711869507516,-0.0184592133013448,0.459767219508434,-0.0351598969220484,0.156042243999407,-0.0859571825914511,0.0669272118629887,-0.0519970202206327,-0.0363910459905615,0.152121848721569,1,0.355790127271676,-0.0294074852161358,-0.164026472384227,0.322173820728334,0.0749306905557107,0.190006528954226,0.147145153212206,-0.0279161310793237,-0.0336578180340512,0.0292896140734925,0.0580060885593834,0.0124526766849534,0.0734516600305033,0.00832871797937469,-0.00849108465666473,0.0454402161681483,-0.0288754410869774,0.0110381198306951,-0.0128075924581591,-0.0235399958450935]
["Serine ",0.154550001171698,0.0443412959652789,0.054319265987833,0.320767678458013,0.119354510691037,0.127516482461514,-0.0759488439675559,0.166412155354318,-0.0128594472020774,-0.0560257961814282,-0.0807660209275945,-0.0797187579831613,-0.0131048029351099,0.264424991090545,0.0138821991651487,0.318811577976081,0.614268903904169,-0.173973794674022,0.0575216877278821,0.13914880543258,0.0388172615265729,0.295206215949615,0.430624003800505,0.00493291019199915,0.339075884151543,0.0152863294422935,-0.0541768668151267,0.200931953507297,0.623525141674453,-0.213319692981164,0.263453778757009,0.154040709485177,0.0529631833105183,0.190606583983332,0.37123940032325,-0.0381084585406183,-0.247942808007417,0.554169865854541,0.355790127271676,1,-0.13871455027616,0.276587120782728,0.658818578510298,0.174301701863614,-0.070022170255229,0.0466483539351893,-0.102440893344961,-0.139661678694993,-0.0181682075744909,-0.107760095835692,0.0510175624910484,0.00223986685758603,0.0765807474777234,-0.0463510985212345,0.0548474759265926,-0.0167544432725075,0.124714764045915,0.0814393434725346,-0.104244482779925]
["Stearic Acid ",-0.0176316471019069,-0.0553791554170153,-0.00830798800120789,-0.029567590925395,-0.0422925920163687,-0.0591571198722034,0.0141371574585498,-0.0246670519852877,0.0163833143915341,0.0487823822617011,0.128775194623396,0.0519942670483698,0.127634114947199,-0.00948719304832241,0.0710000614562488,0.0465406845781848,0.0126019483210297,0.25018878556809,0.0169560249093477,-0.13604117702647,0.0282342569789936,-0.0652278442549658,0.136519281889765,0.216223834455195,0.0703217991355395,0.253508399846369,0.108522164523103,-0.0535582175071763,-0.126061922094817,0.169437944560213,0.176384789044913,0.201651957023065,0.10193815205397,-0.115404568182894,-0.105028517092196,0.385988349248407,0.409785286856213,0.0775570783682676,-0.0294074852161358,-0.13871455027616,1,0.00197261734155532,-0.0541271860401719,-0.0263994832610917,0.241329117547642,-0.0110997894576802,-0.0240303377688353,0.131266517930621,0.0748136693110887,0.0619158361468997,-0.0421657472886169,0.0993144882765722,0.051959632017075,0.0635850212653798,0.0600993621154319,0.0371494758996546,-0.0390986331897978,-0.00600899052130642,0.0569165848925536]
["Succinic Acid ",0.0221931562219652,-0.0964204524586543,-0.025494142133253,0.168416277475665,-0.167604046381488,-0.0911573159314077,-0.231939532456639,0.104176435199238,-0.212047460485785,0.104457410836748,0.248462545197205,-0.0195952829408721,0.15981457429194,0.140700429413937,0.104958596676747,-0.18033493458947,0.411011280083698,0.101511157388451,0.0929489245001404,0.268168778757827,0.222215561320907,0.320960654838366,0.385594367781134,-0.194838622563789,0.232117974666,0.257963168764881,0.117461027519827,0.112840242544132,0.135819712365219,-0.0280845479214916,0.0207768825599396,0.00693909817630231,-0.165479225123188,0.408896876042843,-0.0415512706442731,0.0361268868591057,0.0398364010779103,0.238467627187039,-0.164026472384227,0.276587120782728,0.00197261734155532,1,0.106886289969161,0.134348570099993,0.0639308544072085,-0.0359875371133268,-0.0790963777695376,-0.0173277490977646,-0.0421652850808347,-0.16378899958165,0.0493559029642434,-0.03163447240532,0.139412167341618,-0.061594045172984,0.0775902184324375,-0.0102882065290901,0.183961513886716,0.147335077992891,-0.141705771715146]
["Threonine ",0.0842321367111226,-0.00977595606224028,-0.0452582806549369,0.230110701238932,0.0803247900396344,0.109435708583397,-0.135895323428187,0.0582611477224742,-0.0609794514478316,0.0465762068332582,0.00573744294372185,0.0361622795334643,0.0750051387904971,0.255335118065451,-0.0963721057090458,0.420701141544228,0.342625130800499,-0.170892164643855,-0.0257081924141028,-0.00983800621657219,-0.0551867197190521,0.137029329775831,0.327517657559193,0.127480580011009,0.204746953075526,0.16168543313077,0.031223890071805,0.0883551627262113,0.489686944672695,-0.163845351031397,0.283824269561983,0.139052917104923,0.183107121694062,0.043412981901491,0.407794074869737,0.00617470574236876,-0.144208727113338,0.498664101764227,0.322173820728334,0.658818578510298,-0.0541271860401719,0.106886289969161,1,0.108845362089201,0.0494725203046872,0.127793437714388,-0.0509689935319008,-0.149993162096542,-0.0553758419927528,-0.140112077219902,-0.00883395609068307,-0.0307466565708323,0.021974723419042,-0.0323937500190739,-0.00277365510374118,-0.0806597642347281,0.0731989482696578,0.0318648543394406,-0.059195988497271]
["Tyrosine ",-0.0827818161201691,-0.0306071506408925,-0.0200817418328197,0.0141189604244949,0.030566459243021,-0.0363399838858792,-0.0822466824727951,-0.0107865616650865,-0.0836476121238534,-0.0947733659757618,0.563982164363004,-0.0915942784320649,0.678940673107555,0.041916256670382,0.149542025982315,0.261407943634106,0.140064898000998,0.00434437353843739,0.141299066403193,-0.00307569646145555,0.0536066438926931,0.0690236533292086,0.0826473034036297,0.0677752563606359,0.167059548659674,-0.0433414873356987,0.767194977084475,0.186077539125129,0.178551301796627,-0.134156314883708,0.0285527066705126,0.19268839124107,0.349678272428562,-0.00768761476822473,0.242063013508716,0.00211356647301743,0.013981707755205,0.185891049278214,0.0749306905557107,0.174301701863614,-0.0263994832610917,0.134348570099993,0.108845362089201,1,0.0490379628033509,0.0977257741097779,-0.0358598073789331,0.0824087491706655,0.0591519600909617,0.00319265740079361,0.0840698980337324,0.0686401030131586,0.0880000965756995,0.065598286181203,0.110307412403823,-0.126837987089196,0.174879431019766,0.138656304625564,-0.0927126885861988]
["Valine ",-0.0562044231223843,-0.110368250811396,-0.0109786358564094,0.00501266908206094,-0.0477351457019118,-0.0865822341848298,-0.047409276556694,-0.0900354035839359,-0.0294753859550555,0.229142620566874,0.126496683255565,0.162587373715783,0.142483234221385,0.19375383230803,0.0919906202184817,0.0561155426254008,0.0304838714731294,0.123545969769513,-0.039445001561521,0.0207407418863729,0.03586216290482,0.0930289971328885,0.145733728780211,0.0663555800300972,0.0682360264353738,0.194695124295822,0.148246392267267,-0.0628534710412785,0.169893879045716,0.215232560349507,0.444225725286365,-0.00659618322139795,0.139444956745596,0.0314242910355268,-0.0426281599594877,0.0696501842132054,0.290423534024514,0.0986739947107867,0.190006528954226,-0.070022170255229,0.241329117547642,0.0639308544072085,0.0494725203046872,0.0490379628033509,1,0.171739618598197,-0.0921169704876586,0.0618348792272561,0.0372018886586336,0.101334486513058,0.0107866681282765,-0.00839815631191219,0.0796012726939481,-0.0347418222548494,0.0496658768664788,0.00371310435233573,0.0086774924484166,-0.0295241908394524,-0.0554436208908376]
["Sex",0.0189958394599654,-0.215167523968159,-0.0856269015520755,0.0108732573399461,-0.114072119414613,-0.048573688295414,-0.301474004103982,-0.281183729246404,-0.0392213925476627,-0.0327655086805952,0.0279415839360254,-0.0528454457400253,0.0405861142811218,0.0403216913246487,-0.0605958558540462,0.123781100472616,-0.0635740440694999,-0.113683788795329,-0.0987172804511258,-0.111987216138546,-0.0235107948831591,-0.0516632004186455,0.0615342683200873,0.0366326368696415,0.0509221531909312,-0.0498034905115592,0.122789187364502,0.0836409771376884,0.236510256791055,-0.0226364537795021,0.180412463044586,-0.0184942490330693,0.12069022809137,-0.0531949085584972,0.179638217355456,-0.0402731284718367,-0.0736048655280579,0.0173454821508564,0.147145153212206,0.0466483539351893,-0.0110997894576802,-0.0359875371133268,0.127793437714388,0.0977257741097779,0.171739618598197,1,-0.21212785192771,-0.126823206675428,-0.0927795956918132,-0.0888447191313799,-0.0450299792670481,-0.0900753812130554,-0.0519222125089988,-0.0936385488498666,-0.0900101950183116,-0.252485575090203,0.178891519246892,-0.0377917025060853,-0.310101351628727]
["Age",-0.0014329951789748,0.0988053112004014,0.0678732807395854,-0.081252054471879,0.148239937676941,-0.0456853146149972,0.245318109773017,-0.0354204093338249,0.19105688932721,-0.000871847016529235,-0.113141571272861,0.0911546038621224,-0.0039658114830822,0.0422132718903903,0.0943597634481567,0.0178770132973123,-0.107132855070442,-0.0855530567245651,0.207068614714413,0.0320395010093863,0.162318377178273,0.0970250949267671,-0.108541947055395,0.0370348770246569,-0.0225451723410472,0.0126433177779961,-0.0576194893174187,-0.0064416003665901,-0.157160830567808,0.0483940030490714,-0.0684291164258247,0.0563265550079355,0.016503420305477,0.136714903712001,0.115688423695426,-0.00420135351531287,0.00843192200653367,0.0390165583691779,-0.0279161310793237,-0.102440893344961,-0.0240303377688353,-0.0790963777695376,-0.0509689935319008,-0.0358598073789331,-0.0921169704876586,-0.21212785192771,1,0.128480384856188,0.188530956370451,0.311175180876423,-0.10512793925123,0.177626761450748,0.0188604165172941,0.313157789275796,0.0485250920325966,-0.27955038163487,-0.280167650451159,-0.0274617094531565,0.405894919967219]
["BMI",0.0693704348437455,0.0334775807228378,0.115224223911395,-0.164835724207131,-0.0538250510201847,-0.047481185875231,0.165098982188901,0.057485167059533,0.14624057967403,0.0600761227306253,0.022418165024306,0.125182094599384,0.0650144139268371,0.0640998955666678,0.0596261920308217,-0.0727672095821386,-0.135268203843654,0.0305724340262568,0.0438298155937573,-0.0324145039755427,0.149473916544535,0.0143545846785249,-0.0589144228909387,0.010768411848331,-0.0843217245073443,-0.042715491939186,0.0792958206424784,-0.0184586472373678,-0.041491987194215,0.00385688017928746,-0.0576311064177487,0.0684244674044037,0.00617504595544859,0.0152584018722905,-0.0356566547358282,0.0968772943382762,0.0512128608944825,-0.0224964941828159,-0.0336578180340512,-0.139661678694993,0.131266517930621,-0.0173277490977646,-0.149993162096542,0.0824087491706655,0.0618348792272561,-0.126823206675428,0.128480384856188,1,0.163678403208196,0.258433009289027,0.0722696431392997,0.182780495384426,0.0836570599198205,0.337968110733046,0.151843102077212,0.0174422307086031,-0.0258171123209556,0.115540499646773,0.184498090857032]
["NAFLD.Category",0.0873394446663829,0.0290978004476732,0.154818267315203,-0.148823757643726,0.0171187872517887,-0.11658169475598,0.1938402095682,-0.0665517869780963,0.180340638188498,0.0162303649178772,-0.0233344491983269,0.0586345757644563,-0.00816210935531061,0.105007365738945,0.0593872944226487,-0.0397279062244229,-0.0294964058431954,-0.0393498128464898,0.0759128082659505,-0.0494763677121312,0.0869664026082184,0.0239902516669841,0.0526549428740854,0.0309886082198979,-0.0622258113102989,0.0192198113873158,-0.00393597937999887,-0.0180758613559136,0.0535464059906424,-0.00931753462043242,0.0603926164491769,0.0710893992343106,-0.0267556026719345,0.0332980491532528,0.0558059870756537,0.0276093721733842,0.0189862587217797,0.0590200293874006,0.0292896140734925,-0.0181682075744909,0.0748136693110887,-0.0421652850808347,-0.0553758419927528,0.0591519600909617,0.0372018886586336,-0.0927795956918132,0.188530956370451,0.163678403208196,1,0.279709921081779,0.1980184092051,0.764406141504808,0.339439526820953,0.564276185178755,0.585779343644006,-0.063263174101672,0.164612411583646,0.308681381707556,0.117703888029222]
["T2DM",0.0403638478328968,0.046613113674433,0.185026340185176,-0.122918251975447,-0.01693711280642,-0.235501179674507,0.35289123494398,-0.154613246423033,0.272964727206589,0.134375701461191,-0.0608235166188939,0.214446450441903,0.0229109260527567,0.222361855859901,0.0730684582105155,-0.0660182669505282,-0.119475184067633,-0.0588552652204168,0.0222891386955861,-0.0643207303041315,0.204917158457412,0.015363323649258,0.0168570065071375,0.0181389517002543,-0.012563194340836,-0.0243721801342291,0.0104367397482154,-0.143804550848433,0.0634863271866405,0.0485520201273428,0.061755746771524,-0.000576855411058098,0.0298042669241969,0.141291469888946,0.00182673842494538,0.0430398231695014,0.121524239020579,0.000656975912623537,0.0580060885593834,-0.107760095835692,0.0619158361468997,-0.16378899958165,-0.140112077219902,0.00319265740079361,0.101334486513058,-0.0888447191313799,0.311175180876423,0.258433009289027,0.279709921081779,1,0.0540187702904223,0.283137224086587,0.101964958274092,0.36919865107484,0.201574554070663,-0.0311348967103316,-0.0988277602483114,0.0731204494748794,0.253161950933678]
["Steatosis",0.0550716864149199,0.0640278385876083,0.139499652886792,-0.132394664622358,-0.00541342911948473,0.0271001976074624,0.0997940093138447,0.0627629394201555,0.0389072427372961,0.111761106382927,0.0223034715099384,0.0244696967691465,0.0058583391414327,0.0593063131790782,-0.0274857130617068,-0.154148962372714,0.0454793370440779,0.00213958353958114,-0.0550947826762743,0.0720846315430071,0.0561417142127862,0.0318137892275232,0.0827646508475439,-0.0840867142208434,-0.0194870825596653,-0.0465715588780929,0.0113533468068957,0.0214735922136135,0.103110084760661,-0.0931880352225925,0.0269817985374873,-0.0194693967985495,-0.0476076145565345,-0.0180594936444469,0.00871933859993591,0.039939810972727,-0.0287579949107596,0.0574791434266443,0.0124526766849534,0.0510175624910484,-0.0421657472886169,0.0493559029642434,-0.00883395609068307,0.0840698980337324,0.0107866681282765,-0.0450299792670481,-0.10512793925123,0.0722696431392997,0.1980184092051,0.0540187702904223,1,0.178363018005463,0.301873184307355,0.131536189381492,0.687804101406353,0.102992427853745,0.315182775532192,0.289645839832434,-0.1590501611717]
["Ballooning",0.0797784719052367,0.0510668870975408,0.15819111628133,-0.159557390201019,0.0357005302687079,-0.126721029212539,0.198465938010163,-0.0723962563736193,0.187141392490725,0.00882351340646189,0.0114104437789641,0.0645974827271082,0.0448966878457609,0.104076476129871,0.0541261535303517,-0.0390225711018671,-0.0582550247362797,0.0314387759605266,0.0187954140269643,-0.0323331352008904,0.107127878563974,0.0311202789093417,0.0310318820925001,0.0321909814190599,-0.0337554099885458,-0.0328515967021049,0.0466117569578758,-0.0189692505520923,0.0592018039638764,-0.00764571848025563,0.0709631683756774,0.0952511822818983,-0.0469850842002178,0.0136411775836507,0.0253474910516483,0.0883519600933318,0.039606815890193,0.0294731126829107,0.0734516600305033,0.00223986685758603,0.0993144882765722,-0.03163447240532,-0.0307466565708323,0.0686401030131586,-0.00839815631191219,-0.0900753812130554,0.177626761450748,0.182780495384426,0.764406141504808,0.283137224086587,0.178363018005463,1,0.414131482823549,0.549855612050851,0.705185762803661,-0.0950105681687798,0.146401060141599,0.345333392258924,0.199352882459561]
["Inflammation",-0.0206158499853707,-0.0117418303866787,0.0262199289142496,-0.083492071202391,0.00977011346208597,-0.0604554226103109,0.0922878378005989,-0.00100021562436866,0.0135794177881278,0.0921491101079614,0.0522750641227425,0.0859602765220823,0.0636775287345607,0.104720179913522,0.0837467563571398,-0.0545182105273236,0.102597967481874,0.0554716765579963,0.078097523067432,0.0120325916228601,0.0668062607742707,0.0596410070314905,0.109150858254874,-0.0112510706844973,0.0265343337918911,0.0660278650833552,0.072824252057965,0.0169410226743322,0.0842749257142769,-0.0551402043553745,0.0411209083481228,0.110808596584001,-0.0292633985227316,0.104606270566566,0.052985005203928,0.0779580458093878,0.0283579299073689,0.130289988228046,0.00832871797937469,0.0765807474777234,0.051959632017075,0.139412167341618,0.021974723419042,0.0880000965756995,0.0796012726939481,-0.0519222125089988,0.0188604165172941,0.0836570599198205,0.339439526820953,0.101964958274092,0.301873184307355,0.414131482823549,1,0.383075224491526,0.750636183383208,-0.0740847023816108,0.273959105538007,0.364265742062086,0.00759727995705948]
["Fibrosis",0.0564725296495931,-0.00030420655506544,0.122858331020833,-0.193134126506306,-0.00200993181636749,-0.117588077328861,0.208647564355294,-0.0867998642826168,0.133620384107775,0.150765140967698,-0.0323280869980248,0.196191411655242,0.0288050926865442,0.131731917977642,0.0586746811805222,-0.0294144586113288,-0.0516324214794293,-0.0655531623241456,0.151257425247675,-0.0323145602910966,0.134649078446467,0.089032353603195,0.0362802829879523,0.0214729750920263,-0.0989597446910559,0.0409372049738388,0.0510920072114073,-0.0889299212074749,0.00178887894407954,-0.0155675399968868,-0.00701142125990266,0.0977762011927816,0.0177846464483104,0.149078822452764,0.0799966404244139,0.157753208334914,0.0423666903304896,0.110208752903095,-0.00849108465666473,-0.0463510985212345,0.0635850212653798,-0.061594045172984,-0.0323937500190739,0.065598286181203,-0.0347418222548494,-0.0936385488498666,0.313157789275796,0.337968110733046,0.564276185178755,0.36919865107484,0.131536189381492,0.549855612050851,0.383075224491526,1,0.480050973166405,-0.183737627722702,0.130999669204554,0.379146951780568,0.245810486866802]
["NAS",0.0507466190022394,0.0541130555867689,0.158521050597556,-0.160642734597934,0.0243329053546965,-0.0769566765104882,0.18548011481142,0.0114725890469896,0.10947182695551,0.0986977753445216,0.0515941770505423,0.0736553938151703,0.0577704080728018,0.123814683104203,0.040765277150907,-0.113627749335172,0.0468996552753063,0.050073102925851,0.0146235394126943,0.0332566448131659,0.0987642700673604,0.0605080109742334,0.114759446648056,-0.0228384553048786,-0.0166033007035208,0.00735327594533525,0.0597053726173811,0.010663174351847,0.10815992380102,-0.0733776016647939,0.0743816951429145,0.0863031421184149,-0.0476746813010336,0.0434910313309373,0.0349269683952971,0.0993570033102602,0.031703279079764,0.104339654838601,0.0454402161681483,0.0548474759265926,0.0600993621154319,0.0775902184324375,-0.00277365510374118,0.110307412403823,0.0496658768664788,-0.0900101950183116,0.0485250920325966,0.151843102077212,0.585779343644006,0.201574554070663,0.687804101406353,0.705185762803661,0.750636183383208,0.480050973166405,1,-0.0167371606135424,0.330249889503055,0.452216147364359,0.0246321098133709]
["Platelets",-0.0264145791663588,0.101991440148824,0.0217730984212409,0.0704479891831206,-0.0275774396718935,0.00766211941501168,0.0819913304506352,0.198990086657604,-0.0382179809160922,0.0151711956619344,-0.024286166094095,-0.0172704923986679,-0.04963019225493,0.0150900113233405,-0.0503770171740085,-0.0605182799479802,0.0599896430609715,0.140404733246501,-0.153441051175877,0.0262644122870952,-0.0846798479338468,-0.0569895577427206,0.0305138155089543,-0.0124286591728414,0.00804869007775538,-0.0502384855630839,-0.102142424419172,-0.136757616140622,-0.0228990897932758,0.0342469816733829,-0.00889556507418612,-0.064724831994503,-0.08111488558642,-0.0760665468543816,-0.194947996246471,-0.0145075649281599,0.0980712765525801,-0.0526128234951222,-0.0288754410869774,-0.0167544432725075,0.0371494758996546,-0.0102882065290901,-0.0806597642347281,-0.126837987089196,0.00371310435233573,-0.252485575090203,-0.27955038163487,0.0174422307086031,-0.063263174101672,-0.0311348967103316,0.102992427853745,-0.0950105681687798,-0.0740847023816108,-0.183737627722702,-0.0167371606135424,1,0.0027844372936851,-0.0916525017255538,-0.128112641860992]
["ALT",0.065846986269031,0.00833508857467056,0.0759172965004599,-0.0176170983343452,-0.00246766391846358,0.000722776775252977,-0.0317977308014137,0.0306438021734358,0.0021772249451935,0.0697784108328286,0.153831487381311,-0.0335422201331375,0.118709701424787,0.0824061579026166,-0.0512711605134084,-0.0300419287043921,0.0828037092429213,0.00172804666374783,-0.0305435949191663,0.050159690100843,0.0277664929106651,-0.002947854862568,0.193971098814907,-0.0628754915007025,-0.0661382787577847,-0.0160963249349077,0.145120675294375,-0.0142941459811599,0.144226224427872,-0.135507332512734,0.0876793834934716,-0.0114647217594823,-0.0518291685327743,0.0565356564613138,0.0179139979321041,0.0282634884452094,-0.030191791039743,0.104551054693438,0.0110381198306951,0.124714764045915,-0.0390986331897978,0.183961513886716,0.0731989482696578,0.174879431019766,0.0086774924484166,0.178891519246892,-0.280167650451159,-0.0258171123209556,0.164612411583646,-0.0988277602483114,0.315182775532192,0.146401060141599,0.273959105538007,0.130999669204554,0.330249889503055,0.0027844372936851,1,0.729392477347165,-0.603502988091771]
["AST",0.0429155850679148,0.0457315379855016,0.114594100848841,-0.0708096507800276,-0.0347458817318241,-0.0527119934718988,0.106048264964238,0.0352127558128528,0.0376296239119383,0.0703581718991795,0.111174292023229,0.0694292331945515,0.11678117416265,0.0740920263757371,0.0112967757902735,-0.0837195115037809,0.0690216792057275,0.0673244642330799,0.0558031851169177,0.105886225754017,0.107807690804226,0.0804816898602692,0.169672557593622,-0.0703413074614626,-0.102920523292312,0.0188096559470874,0.121171525120509,-0.084099156930896,0.0491643883661282,-0.116787127041983,-0.00103579094499473,0.0143065023476245,-0.0926561778524484,0.136007484965394,-0.0212372770013217,0.0567056392284569,0.0104072577471187,0.133908834896285,-0.0128075924581591,0.0814393434725346,-0.00600899052130642,0.147335077992891,0.0318648543394406,0.138656304625564,-0.0295241908394524,-0.0377917025060853,-0.0274617094531565,0.115540499646773,0.308681381707556,0.0731204494748794,0.289645839832434,0.345333392258924,0.364265742062086,0.379146951780568,0.452216147364359,-0.0916525017255538,0.729392477347165,1,0.04874510023691]
["AST.ALT.Ratio",-0.0634435942094308,0.0577071017503246,0.0104156213276508,-0.0492683524841841,-0.0121109131900036,-0.0586572051639487,0.189261204777671,-0.0130401456349809,0.0499068143886963,-0.0204384110276852,-0.0833320637766267,0.141133844053138,-0.0144610439612056,-0.0343155433611555,0.114802225019148,-0.0302926666288211,-0.0453173685100102,0.0831647622198329,0.116407915017181,0.034651997387229,0.0823690067400715,0.101755059599437,-0.104014255124001,0.0128473667176459,-0.00575525175746065,0.040334226627655,-0.0482058134644179,-0.086846162477611,-0.186501238436716,0.0616334039862128,-0.135304870904716,0.0608135368683087,-0.0160209402761755,0.0728943990174287,-0.0192969202487165,0.016168481399518,0.0474241092428654,0.0120344590132573,-0.0235399958450935,-0.104244482779925,0.0569165848925536,-0.141705771715146,-0.059195988497271,-0.0927126885861988,-0.0554436208908376,-0.310101351628727,0.405894919967219,0.184498090857032,0.117703888029222,0.253161950933678,-0.1590501611717,0.199352882459561,0.00759727995705948,0.245810486866802,0.0246321098133709,-0.128112641860992,-0.603502988091771,0.04874510023691,1]

{"sheet":"NRRs","index":1,"n_rows":60,"n_cols":60,"rows_kept":60,"cut":false,"hidden":false,"merged":[]}
["Variable","LC1","LC2","LC3","LC4","LC5","LC6","LC7","LC8","LC9","2-OH-Butanoic Acid","3-OH-Benzoic Acid ","3-OH-Butanoic Acid ","5-OH-1H-Indole-3-Acetic Acid ","Alanine","Arachidonic acid ","Asparagine ","Aspartic Acid ","Cholesterol ","Citric acid ","Decanoic acid ","Fructose ","Fumaric Acid ","Glutamic Acid ","Glutamine ","Glycerol-3-P ","Glycine ","Indole-3-Latic Acid ","Indole-3-Propionic Acid ","Isoleucine ","Lactic Acid","Leucine ","Linoleic Acid ","Lysine ","Malic Acid ","Methionine ","Oleic Acid ","Palmitic Acid ","Phenylalanine ","Proline ","Serine ","Stearic Acid ","Succinic Acid ","Threonine ","Tyrosine ","Valine ","Sex","Age","BMI","NAFLD.Category","T2DM","Steatosis","Ballooning","Inflammation","Fibrosis","NAS","Platelets","ALT","AST","AST.ALT.Ratio"]
["LC1","NA",0.133333333333333,0,0.559139784946237,0.307692307692308,0.296703296703297,0.0326086956521739,0.269662921348315,0,0.804347826086957,0.655913978494624,0.640449438202247,0.285714285714286,0.968085106382979,0.208791208791209,0.362637362637363,0.315217391304348,0.728260869565217,0.213483146067416,0.838709677419355,0.925531914893617,0.901098901098901,0.318681318681319,0.923913043478261,0.468085106382979,0.136363636363636,0.0978260869565217,0.935483870967742,0.120879120879121,0.884210526315789,0.925531914893617,0.989130434782609,0.129032258064516,0.822222222222222,0.884210526315789,1,0.10752688172043,0.333333333333333,0.930232558139535,0.752688172043011,0.819148936170213,0.778947368421053,0.802197802197802,0.372340425531915,0.619565217391304,0.853932584269663,0.897727272727273,0.967032967032967,0.924731182795699,0.75,1,0.931818181818182,0.923913043478261,0.957446808510638,0.978494623655914,0.989130434782609,0.978021978021978,1,0.876288659793814]
["LC2",0.133333333333333,"NA",0.0697674418604651,0.147727272727273,0.0116279069767442,0.0588235294117647,0,0,0.0681818181818182,0.953488372093023,0.715909090909091,0.595238095238095,0.651162790697674,0.97752808988764,0.942528735632184,0.569767441860465,0.701149425287356,0.579545454545455,0.904761904761905,0.921348314606742,0.877777777777778,0.976744186046512,0.36046511627907,0.873563218390805,0.808988764044944,0.385542168674699,0.195402298850575,0.853932584269663,0.862068965517241,0.566666666666667,0.876404494382023,0.862068965517241,0.431818181818182,0.941176470588235,0.866666666666667,0.988505747126437,0.704545454545455,0.467391304347826,0.91358024691358,0.75,0.696629213483146,0.422222222222222,0.709302325581395,0.48314606741573,0.218390804597701,0.129411764705882,0.773809523809524,0.827586206896552,0.761363636363636,0.735632183908046,0.96551724137931,0.759036144578313,0.850574712643678,0.674157303370786,0.840909090909091,0.781609195402299,0.965116279069767,0.978260869565217,0.83695652173913]
["LC3",0,0.0697674418604651,"NA",0.6,0.170454545454545,0.310344827586207,0.0555555555555556,0.197674418604651,0,0.670454545454545,0.677777777777778,0.476744186046512,0.363636363636364,0.923076923076923,0.397727272727273,0.157303370786517,0.292134831460674,0.876404494382023,0.186046511627907,0.733333333333333,0.758241758241758,0.965909090909091,0.318181818181818,0.568181818181818,0.477777777777778,0.0941176470588235,0.112359550561798,0.822222222222222,0.375,0.945652173913043,0.945054945054945,0.842696629213483,0.133333333333333,0.908045977011494,0.673913043478261,1,0.577777777777778,0.32258064516129,0.892857142857143,0.788888888888889,0.813186813186813,0.630434782608696,0.625,0.43956043956044,0.752808988764045,0.64367816091954,0.8,0.797752808988764,0.744444444444444,0.444444444444444,0.865168539325843,0.741176470588235,0.923076923076923,0.858695652173913,0.833333333333333,0.966666666666667,0.920454545454545,0.936170212765957,0.904255319148936]
["LC4",0.559139784946237,0.147727272727273,0.6,"NA",0.239130434782609,0.112359550561798,0.494505494505495,0.0681818181818182,0.648351648351648,0.788888888888889,0.978260869565217,0.204545454545455,0.955555555555556,0.376344086021505,0.911111111111111,0.593406593406593,0.0879120879120879,0.857142857142857,0.988636363636364,0.989130434782609,0.849462365591398,0.744444444444444,0.322222222222222,0.977777777777778,0.141304347826087,0.920454545454545,0.844444444444444,0.793478260869565,0.188888888888889,0.648936170212766,0.56989247311828,0.83695652173913,0.902173913043478,0.865168539325843,0.861702127659574,0.967032967032967,0.75,0.326315789473684,0.482352941176471,0.0217391304347826,0.741935483870968,0.659574468085106,0.142857142857143,0.989247311827957,0.879120879120879,0.784090909090909,0.540229885057471,0.0444444444444444,0.152173913043478,0.186813186813187,0.277777777777778,0.123595505617978,0.241758241758242,0.043010752688172,0.152173913043478,0.89010989010989,0.877777777777778,0.333333333333333,0.739583333333333]
["LC5",0.307692307692308,0.0116279069767442,0.170454545454545,0.239130434782609,"NA",0,0.0561797752808989,0.174418604651163,0.112359550561798,1,0.633333333333333,0.883720930232558,0.886363636363636,0.989010989010989,0.954545454545455,0.795454545454545,0.844444444444444,0.786516853932584,0.953488372093023,0.711111111111111,0.615384615384615,0.954545454545455,0.465909090909091,0.921348314606742,0.955555555555556,0.581395348837209,0.431818181818182,0.8,0.920454545454545,0.717391304347826,0.967391304347826,0.741573033707865,0.833333333333333,0.942528735632184,0.532608695652174,0.977777777777778,0.488888888888889,0.913978494623656,0.916666666666667,0.866666666666667,0.681318681318681,0.119565217391304,0.863636363636364,0.934065934065934,0.325842696629214,0.441860465116279,0.729411764705882,0.795454545454545,0.844444444444444,0.662921348314607,0.97752808988764,0.827586206896552,0.955056179775281,0.747252747252747,0.9,0.855555555555556,1,0.797872340425532,0.904255319148936]
["LC6",0.296703296703297,0.0588235294117647,0.310344827586207,0.112359550561798,0,"NA",0.113636363636364,0.0117647058823529,0.202247191011236,0.977011494252874,0.688888888888889,0.790697674418605,0.793103448275862,0.9,0.988505747126437,0.770114942528736,0.797752808988764,0.659090909090909,0.941176470588235,0.966292134831461,0.611111111111111,1,0.793103448275862,0.965909090909091,0.921348314606742,0.880952380952381,0.379310344827586,0.733333333333333,0.965909090909091,0.604395604395604,0.966666666666667,0.397727272727273,0.775280898876405,0.954022988505747,0.747252747252747,0.988636363636364,0.539325842696629,0.847826086956522,0.951807228915663,0.8,0.7,0.648351648351648,0.804597701149425,0.802197802197802,0.318181818181818,0.552941176470588,0.776470588235294,0.551724137931034,0.280898876404494,0.136363636363636,0.942528735632184,0.238095238095238,0.363636363636364,0.311111111111111,0.337078651685393,0.920454545454545,0.988636363636364,0.634408602150538,0.806451612903226]
["LC7",0.0326086956521739,0,0.0555555555555556,0.494505494505495,0.0561797752808989,0.113636363636364,"NA",0.102272727272727,0,0.98876404494382,0.120879120879121,0.942528735632184,0.211111111111111,0.902173913043478,0.898876404494382,0.488888888888889,0.208791208791209,0.866666666666667,0.862068965517241,0.89010989010989,0.902173913043478,0.943820224719101,0.134831460674157,0.943820224719101,0.384615384615385,0.241379310344828,0.0666666666666667,0.659340659340659,0.741573033707865,0.935483870967742,0.923913043478261,0.988888888888889,0.43956043956044,0.920454545454545,0.904255319148936,0.988888888888889,0.846153846153846,0.297872340425532,0.94047619047619,0.571428571428571,0.880434782608696,0.0752688172043011,0.303370786516854,0.228260869565217,0.488888888888889,0.0229885057471264,0.0930232558139535,0.466666666666667,0.571428571428571,0.0769230769230769,0.932584269662921,0.558139534883721,0.855555555555556,0.554347826086957,0.703296703296703,0.888888888888889,0.752808988764045,0.926315789473684,0.347368421052632]
["LC8",0.269662921348315,0,0.197674418604651,0.0681818181818182,0.174418604651163,0.0117647058823529,0.102272727272727,"NA",0.264367816091954,0.988372093023256,0.943181818181818,0.686046511627907,0.930232558139535,0.887640449438202,0.988505747126437,0.627906976744186,0.827586206896552,0.160919540229885,0.964285714285714,0.954545454545455,0.640449438202247,0.988372093023256,0.813953488372093,0.883720930232558,0.932584269662921,0.928571428571429,0.459770114942529,0.943181818181818,0.883720930232558,0.411111111111111,0.887640449438202,0.908045977011494,0.420454545454545,0.964705882352941,0.844444444444444,1,0.897727272727273,0.802197802197802,0.902439024390244,0.75,0.833333333333333,0.722222222222222,0.813953488372093,0.842696629213483,0.295454545454545,0.0833333333333333,0.75,0.837209302325581,0.449438202247191,0.264367816091954,0.965116279069767,0.433734939759036,0.863636363636364,0.337078651685393,0.775280898876405,0.146067415730337,0.976744186046512,0.967391304347826,0.858695652173913]
["LC9",0,0.0681818181818182,0,0.648351648351648,0.112359550561798,0.202247191011236,0,0.264367816091954,"NA",0.865168539325843,0.307692307692308,0.850574712643678,0.235955056179775,0.934782608695652,0.865168539325843,0.370786516853933,0.0777777777777778,0.822222222222222,0.597701149425287,0.89010989010989,0.934782608695652,0.842696629213483,0.0674157303370786,0.910112359550562,0.274725274725275,0.13953488372093,0.112359550561798,0.868131868131868,0.588888888888889,0.946236559139785,0.934782608695652,0.977777777777778,0.296703296703297,0.795454545454545,0.89247311827957,0.988888888888889,0.456521739130435,0.117021276595745,0.917647058823529,0.615384615384615,0.858695652173913,0.138297872340426,0.617977528089888,0.32258064516129,0.655555555555556,0.689655172413793,0.35632183908046,0.685393258426966,0.648351648351648,0.2,0.977777777777778,0.655172413793103,0.822222222222222,0.739130434782609,0.912087912087912,0.944444444444444,0.910112359550562,0.926315789473684,0.863157894736842]
["2-OH-Butanoic Acid",0.804347826086957,0.953488372093023,0.670454545454545,0.788888888888889,1,0.977011494252874,0.98876404494382,0.988372093023256,0.865168539325843,"NA",0.955555555555556,0,0.965909090909091,0.681318681318681,0.238636363636364,0.795454545454545,0.865168539325843,1,0.255813953488372,0.543478260869565,0.847826086956522,0.204545454545455,0.943181818181818,0.977272727272727,0.923076923076923,0.209302325581395,0.954545454545455,0.175824175824176,0.931818181818182,0.891304347826087,0.901098901098901,1,0.977777777777778,0,0.902173913043478,0.222222222222222,0.747252747252747,0.935483870967742,0.120481927710843,0.788888888888889,0.956043956043956,0.858695652173913,0.965909090909091,0.340659340659341,0.404494382022472,1,0.941176470588235,0.943820224719101,0.955555555555556,0.9,0.988636363636364,0.941176470588235,0.98876404494382,0.857142857142857,0.977777777777778,1,0.977272727272727,1,0.925531914893617]
["3-OH-Benzoic Acid ",0.655913978494624,0.715909090909091,0.677777777777778,0.978260869565217,0.633333333333333,0.688888888888889,0.120879120879121,0.943181818181818,0.307692307692308,0.955555555555556,"NA",0.988636363636364,0,0.709677419354839,0.945054945054945,0.811111111111111,0.912087912087912,0.89010989010989,0.876404494382023,0.91304347826087,0.946236559139785,0.833333333333333,0.955555555555556,0.9,0.91304347826087,0.701149425287356,0.0659340659340659,0.989130434782609,0.422222222222222,0.946808510638298,0.838709677419355,0.868131868131868,0.847826086956522,0.688888888888889,0.553191489361702,0.989010989010989,0.608695652173913,0.852631578947368,0.176470588235294,0.684782608695652,0.946808510638298,0.191489361702128,0.833333333333333,0.043010752688172,0.945054945054945,0.932584269662921,0.397727272727273,0.988888888888889,0.934782608695652,0.714285714285714,0.988888888888889,0.96551724137931,0.978021978021978,0.89247311827957,0.967391304347826,0.934065934065934,0.611111111111111,0.9375,0.75]
["3-OH-Butanoic Acid ",0.640449438202247,0.595238095238095,0.476744186046512,0.204545454545455,0.883720930232558,0.790697674418605,0.942528735632184,0.686046511627907,0.850574712643678,0,0.988636363636364,"NA",0.965909090909091,0.955056179775281,0.862068965517241,0.918604651162791,0.747126436781609,1,0.678571428571429,0.965909090909091,0.97752808988764,0.850574712643678,0.988372093023256,1,0.704545454545455,0.795180722891566,0.965116279069767,0.0681818181818182,0.837209302325581,1,0.97752808988764,0.977011494252874,1,0.458823529411765,0.855555555555556,0.0229885057471264,0.5,0.956043956043956,0.409638554216867,0.375,0.966292134831461,0.912087912087912,0.976744186046512,0.550561797752809,0.613636363636364,0.904761904761905,0.880952380952381,0.813953488372093,0.966292134831461,0.183908045977011,1,0.951807228915663,1,0.325842696629214,1,1,0.988372093023256,1,0.739130434782609]
["5-OH-1H-Indole-3-Acetic Acid ",0.285714285714286,0.651162790697674,0.363636363636364,0.955555555555556,0.886363636363636,0.793103448275862,0.211111111111111,0.930232558139535,0.235955056179775,0.965909090909091,0,0.965909090909091,"NA",0.989010989010989,0.943181818181818,0.818181818181818,0.966292134831461,0.943820224719101,0.976744186046512,0.877777777777778,0.956043956043956,0.829545454545455,0.97752808988764,0.943181818181818,0.9,0.894117647058824,0,0.966666666666667,0.840909090909091,0.923913043478261,0.978021978021978,0.966292134831461,0.477777777777778,0.574712643678161,0.934782608695652,0.98876404494382,0.755555555555556,0.924731182795699,0.845238095238095,0.923076923076923,0.967032967032967,0.731182795698925,0.943820224719101,0.0549450549450549,0.97752808988764,0.96551724137931,0.930232558139535,0.988636363636364,0.966666666666667,0.955555555555556,0.988636363636364,0.976470588235294,1,0.978021978021978,0.966666666666667,0.955056179775281,0.97752808988764,0.98936170212766,0.98936170212766]
["Alanine",0.968085106382979,0.97752808988764,0.923076923076923,0.376344086021505,0.989010989010989,0.9,0.902173913043478,0.887640449438202,0.934782608695652,0.681318681318681,0.709677419354839,0.955056179775281,0.989010989010989,"NA",0.615384615384615,0.406593406593407,0.130434782608696,0.304347826086957,0.606741573033708,0.881720430107527,0.574468085106383,0.0879120879120879,0.0879120879120879,0.945054945054945,0.129032258064516,0.337078651685393,0.967032967032967,0.978494623655914,0.0549450549450549,0.715789473684211,0.117021276595745,0.891304347826087,0.483870967741935,0.0666666666666667,0.168421052631579,0.989247311827957,0.935483870967742,0.0104166666666667,0.244186046511628,0.204301075268817,0.819148936170213,0.715789473684211,0.184782608695652,1,0.869565217391304,1,0.977272727272727,0.945054945054945,0.989247311827957,0.641304347826087,1,0.988636363636364,1,0.957446808510638,0.989473684210526,1,1,1,0.958762886597938]
["Arachidonic acid ",0.208791208791209,0.942528735632184,0.397727272727273,0.911111111111111,0.954545454545455,0.988505747126437,0.898876404494382,0.988505747126437,0.865168539325843,0.238636363636364,0.945054945054945,0.862068965517241,0.943181818181818,0.615384615384615,"NA",0.909090909090909,0.471910112359551,0.966292134831461,0,0.244444444444444,0.307692307692308,0.101123595505618,0.897727272727273,1,0.043956043956044,0.505882352941176,0.943820224719101,0.366666666666667,0.840909090909091,0.978260869565217,0.835164835164835,0.0777777777777778,0.977777777777778,0.0804597701149425,0.108695652173913,0.966292134831461,0.977777777777778,0.655913978494624,0.0843373493975904,0.833333333333333,1,0.793478260869565,0.772727272727273,0.956043956043956,1,0.906976744186046,0.741176470588235,1,1,1,0.931818181818182,0.988235294117647,0.97752808988764,1,0.977777777777778,1,0.863636363636364,0.98936170212766,0.808510638297872]
["Asparagine ",0.362637362637363,0.569767441860465,0.157303370786517,0.593406593406593,0.795454545454545,0.770114942528736,0.488888888888889,0.627906976744186,0.370786516853933,0.795454545454545,0.811111111111111,0.918604651162791,0.818181818181818,0.406593406593407,0.909090909090909,"NA",0.224719101123595,0.233333333333333,0.674418604651163,0.1,0.131868131868132,0.818181818181818,0.247191011235955,0,0.611111111111111,0.872093023255814,0.528089887640449,0.777777777777778,0.314606741573034,0.771739130434783,0.252747252747253,0.166666666666667,0,0.781609195402299,0.0434782608695652,0.97752808988764,0.755555555555556,0.0537634408602151,0,0.0888888888888889,0.89010989010989,0.456521739130435,0,0.152173913043478,0.97752808988764,0.36046511627907,0.988235294117647,0.386363636363636,0.744444444444444,0.688888888888889,0.227272727272727,0.647058823529412,0.685393258426966,0.78021978021978,0.277777777777778,0.865168539325843,0.920454545454545,0.393617021276596,0.925531914893617]
["Aspartic Acid ",0.315217391304348,0.701149425287356,0.292134831460674,0.0879120879120879,0.844444444444444,0.797752808988764,0.208791208791209,0.827586206896552,0.0777777777777778,0.865168539325843,0.912087912087912,0.747126436781609,0.966292134831461,0.130434782608696,0.471910112359551,0.224719101123595,"NA",0.833333333333333,0.379310344827586,0.714285714285714,0.666666666666667,0.0561797752808989,0,0.820224719101124,0,0.0930232558139535,0.932584269662921,0.285714285714286,0.0786516853932584,0.191489361702128,0.543478260869565,0.666666666666667,0.769230769230769,0.0227272727272727,0.106382978723404,0.955555555555556,0.681318681318681,0,0.658823529411765,0,0.695652173913043,0.010752688172043,0.0449438202247191,0.860215053763441,0.9,0.931034482758621,0.476744186046512,0.0786516853932584,0.494505494505495,0.211111111111111,0.98876404494382,0.372093023255814,0.835164835164835,0.489130434782609,0.846153846153846,0.967032967032967,0.921348314606742,0.926315789473684,0.715789473684211]
["Cholesterol ",0.728260869565217,0.579545454545455,0.876404494382023,0.857142857142857,0.786516853932584,0.659090909090909,0.866666666666667,0.160919540229885,0.822222222222222,1,0.89010989010989,1,0.943820224719101,0.304347826086957,0.966292134831461,0.233333333333333,0.833333333333333,"NA",0.988505747126437,0.989010989010989,0.989130434782609,0.98876404494382,0.898876404494382,0.955056179775281,0.934065934065934,0.465909090909091,0.955056179775281,0.978260869565217,0.0111111111111111,0.946236559139785,0.695652173913043,1,0.630434782608696,0.977272727272727,0.21505376344086,0.511111111111111,0.021978021978022,0.659574468085106,0.0952380952380952,0.153846153846154,0.0978260869565217,0.913978494623656,0.0786516853932584,0.858695652173913,0.933333333333333,0.310344827586207,0.802325581395349,1,0.901098901098901,0.744444444444444,1,0.954022988505747,1,0.739130434782609,1,0.3,0.98876404494382,0.978947368421053,0.91578947368421]
["Citric acid ",0.213483146067416,0.904761904761905,0.186046511627907,0.988636363636364,0.953488372093023,0.941176470588235,0.862068965517241,0.964285714285714,0.597701149425287,0.255813953488372,0.876404494382023,0.678571428571429,0.976744186046512,0.606741573033708,0,0.674418604651163,0.379310344827586,0.988505747126437,"NA",0.340909090909091,0.662921348314607,0.0344827586206897,0.908045977011494,0.953488372093023,0.625,0.726190476190476,0.906976744186046,0.0909090909090909,0.720930232558139,1,0.123595505617978,0,0.625,0.0114942528735632,0.0222222222222222,0.747126436781609,0.886363636363636,0.56043956043956,0.325301204819277,0.818181818181818,0.9,0.788888888888889,0.930232558139535,0.842696629213483,0.528089887640449,0.80952380952381,0.238095238095238,1,1,0.942528735632184,0.848837209302326,0.976190476190476,0.954022988505747,0.876404494382023,0.954545454545455,0.183908045977011,0.953488372093023,1,0.630434782608696]
["Decanoic acid ",0.838709677419355,0.921348314606742,0.733333333333333,0.989130434782609,0.711111111111111,0.966292134831461,0.89010989010989,0.954545454545455,0.89010989010989,0.543478260869565,0.91304347826087,0.965909090909091,0.877777777777778,0.881720430107527,0.244444444444444,0.1,0.714285714285714,0.989010989010989,0.340909090909091,"NA",0.117021276595745,0.0222222222222222,0.833333333333333,0,0.847826086956522,0.942528735632184,0.477777777777778,0.934782608695652,0.833333333333333,0.98936170212766,0.397849462365591,0.978021978021978,0.0543478260869565,0.0444444444444444,0.829787234042553,1,0.597826086956522,0.768421052631579,0.211764705882353,0.75,0.139784946236559,0.0531914893617021,0.844444444444444,0.956989247311828,0.989010989010989,0.761363636363636,1,0.966666666666667,0.934782608695652,0.91304347826087,1,0.919540229885057,1,0.967741935483871,0.989130434782609,1,1,1,1]
["Fructose ",0.925531914893617,0.877777777777778,0.758241758241758,0.849462365591398,0.615384615384615,0.611111111111111,0.902173913043478,0.640449438202247,0.934782608695652,0.847826086956522,0.946236559139785,0.97752808988764,0.956043956043956,0.574468085106383,0.307692307692308,0.131868131868132,0.666666666666667,0.989130434782609,0.662921348314607,0.117021276595745,"NA",0.197802197802198,0.923076923076923,0.010989010989011,0.204301075268817,0.340909090909091,0.934065934065934,1,0.857142857142857,1,0.521276595744681,1,0.344086021505376,0,0.884210526315789,0.891304347826087,0.967741935483871,0.791666666666667,0.0697674418604651,0.817204301075269,0.925531914893617,0.147368421052632,0.725274725274725,0.978723404255319,1,0.943820224719101,0.556818181818182,0.782608695652174,0.978494623655914,0.434782608695652,1,0.977272727272727,1,0.882978723404255,1,0.815217391304348,1,0.958762886597938,0.958762886597938]
["Fumaric Acid ",0.901098901098901,0.976744186046512,0.965909090909091,0.744444444444444,0.954545454545455,1,0.943820224719101,0.988372093023256,0.842696629213483,0.204545454545455,0.833333333333333,0.850574712643678,0.829545454545455,0.0879120879120879,0.101123595505618,0.818181818181818,0.0561797752808989,0.98876404494382,0.0344827586206897,0.0222222222222222,0.197802197802198,"NA",0.511363636363636,0.25,0.322222222222222,0.858823529411765,0.795454545454545,0.3,0.284090909090909,0.923913043478261,0.868131868131868,0.887640449438202,0.811111111111111,0,0.0978260869565217,0.988888888888889,0.466666666666667,0.225806451612903,0.819277108433735,0.133333333333333,0.164835164835165,0.0760869565217391,0.584269662921348,0.923076923076923,0.98876404494382,0.96551724137931,0.894117647058824,0.965909090909091,1,0.98876404494382,1,1,1,0.978260869565217,1,0.955056179775281,0.98876404494382,1,0.936170212765957]
["Glutamic Acid ",0.318681318681319,0.36046511627907,0.318181818181818,0.322222222222222,0.465909090909091,0.793103448275862,0.134831460674157,0.813953488372093,0.0674157303370786,0.943181818181818,0.955555555555556,0.988372093023256,0.97752808988764,0.0879120879120879,0.897727272727273,0.247191011235955,0,0.898876404494382,0.908045977011494,0.833333333333333,0.923076923076923,0.511363636363636,"NA",0.943820224719101,0.0888888888888889,0.104651162790698,0.910112359550562,0.944444444444444,0.247191011235955,0.25,0.0879120879120879,0.97752808988764,0.577777777777778,0.397727272727273,0.815217391304348,0.955056179775281,0.822222222222222,0,0.566265060240964,0.1,0.857142857142857,0.0652173913043478,0.0898876404494382,0.967032967032967,0.844444444444444,0.988505747126437,0.290697674418605,0.340909090909091,0.955555555555556,0.629213483146067,0.988636363636364,0.894117647058824,0.898876404494382,0.901098901098901,0.922222222222222,0.98876404494382,0.352272727272727,0.819148936170213,0.48936170212766]
["Glutamine ",0.923913043478261,0.873563218390805,0.568181818181818,0.977777777777778,0.921348314606742,0.965909090909091,0.943820224719101,0.883720930232558,0.910112359550562,0.977272727272727,0.9,1,0.943181818181818,0.945054945054945,1,0,0.820224719101124,0.955056179775281,0.953488372093023,0,0.010989010989011,0.25,0.943820224719101,"NA",0.866666666666667,0.988372093023256,0.761363636363636,0.944444444444444,0.806818181818182,0.989130434782609,0.747252747252747,0.887640449438202,0.122222222222222,0.0786516853932584,0.923913043478261,0.98876404494382,0.911111111111111,0.860215053763441,0.216867469879518,0.822222222222222,0.0879120879120879,0.0434782608695652,0.670454545454545,0.978021978021978,1,1,1,1,1,1,0.295454545454545,1,1,1,0.877777777777778,1,0.909090909090909,0.5,1]
["Glycerol-3-P ",0.468085106382979,0.808988764044944,0.477777777777778,0.141304347826087,0.955555555555556,0.921348314606742,0.384615384615385,0.932584269662921,0.274725274725275,0.923076923076923,0.91304347826087,0.704545454545455,0.9,0.129032258064516,0.043956043956044,0.611111111111111,0,0.934065934065934,0.625,0.847826086956522,0.204301075268817,0.322222222222222,0.0888888888888889,0.866666666666667,"NA",0.0229885057471264,0.901098901098901,0.554347826086957,0.355555555555556,0.617021276595745,0.806451612903226,0.483516483516484,0.804347826086957,0.202247191011236,0.105263157894737,0.989010989010989,0.880434782608696,0.0631578947368421,0.835294117647059,0.0760869565217391,0.924731182795699,0.127659574468085,0.155555555555556,0.817204301075269,1,0.966292134831461,0.885057471264368,0.266666666666667,0.369565217391304,0.626373626373626,0.855555555555556,0.333333333333333,0.945054945054945,0.247311827956989,0.532608695652174,1,0.788888888888889,0.5,0.979166666666667]
["Glycine ",0.136363636363636,0.385542168674699,0.0941176470588235,0.920454545454545,0.581395348837209,0.880952380952381,0.241379310344828,0.928571428571429,0.13953488372093,0.209302325581395,0.701149425287356,0.795180722891566,0.894117647058824,0.337078651685393,0.505882352941176,0.872093023255814,0.0930232558139535,0.465909090909091,0.726190476190476,0.942528735632184,0.340909090909091,0.858823529411765,0.104651162790698,0.988372093023256,0.0229885057471264,"NA",0.872093023255814,0.942528735632184,0.388235294117647,0.876404494382023,0.863636363636364,1,0.827586206896552,0.333333333333333,0.876404494382023,0.931034482758621,0.0574712643678161,0.111111111111111,0.0875,0.704545454545455,0.147727272727273,0.179775280898876,0.741176470588235,0.863636363636364,0.604651162790698,0.939759036144578,0.963414634146341,0.764705882352941,0.920454545454545,0.813953488372093,0.847058823529412,0.80952380952381,0.953488372093023,0.954545454545455,0.908045977011494,1,0.988235294117647,0.967032967032967,0.989010989010989]
["Indole-3-Latic Acid ",0.0978260869565217,0.195402298850575,0.112359550561798,0.844444444444444,0.431818181818182,0.379310344827586,0.0666666666666667,0.459770114942529,0.112359550561798,0.954545454545455,0.0659340659340659,0.965116279069767,0,0.967032967032967,0.943820224719101,0.528089887640449,0.932584269662921,0.955056179775281,0.906976744186046,0.477777777777778,0.934065934065934,0.795454545454545,0.910112359550562,0.761363636363636,0.901098901098901,0.872093023255814,"NA",0.955555555555556,0.704545454545455,0.967391304347826,0.989010989010989,0.97752808988764,0.0222222222222222,0.540229885057471,0.923913043478261,0.966292134831461,0.433333333333333,0.881720430107527,0.891566265060241,0.822222222222222,0.945054945054945,0.771739130434783,0.920454545454545,0,0.865168539325843,0.604651162790698,0.823529411764706,1,0.966666666666667,0.910112359550562,0.977272727272727,0.988235294117647,1,0.989130434782609,0.988888888888889,0.876404494382023,0.863636363636364,0.978723404255319,0.925531914893617]
["Indole-3-Propionic Acid ",0.935483870967742,0.853932584269663,0.822222222222222,0.793478260869565,0.8,0.733333333333333,0.659340659340659,0.943181818181818,0.868131868131868,0.175824175824176,0.989130434782609,0.0681818181818182,0.966666666666667,0.978494623655914,0.366666666666667,0.777777777777778,0.285714285714286,0.978260869565217,0.0909090909090909,0.934782608695652,1,0.3,0.944444444444444,0.944444444444444,0.554347826086957,0.942528735632184,0.955555555555556,"NA",0.8,0.648936170212766,0.89247311827957,0.164835164835165,0.967391304347826,0.865168539325843,0.0106382978723404,0.945054945054945,0.0752688172043011,0.666666666666667,0.976470588235294,0.118279569892473,0.559139784946237,0.840425531914894,0.711111111111111,0.225806451612903,0.483516483516484,0.852272727272727,0.96551724137931,0.833333333333333,0.934782608695652,0.010989010989011,1,0.908045977011494,1,0.591397849462366,1,0.461538461538462,1,0.895833333333333,0.822916666666667]
["Isoleucine ",0.120879120879121,0.862068965517241,0.375,0.188888888888889,0.920454545454545,0.965909090909091,0.741573033707865,0.883720930232558,0.588888888888889,0.931818181818182,0.422222222222222,0.837209302325581,0.840909090909091,0.0549450549450549,0.840909090909091,0.314606741573034,0.0786516853932584,0.0111111111111111,0.720930232558139,0.833333333333333,0.857142857142857,0.284090909090909,0.247191011235955,0.806818181818182,0.355555555555556,0.388235294117647,0.704545454545455,0.8,"NA",0.206521739130435,0.043956043956044,0.943820224719101,0.824175824175824,0.724137931034483,0.108695652173913,0.842696629213483,0.021978021978022,0.118279569892473,0,0,0.130434782608696,0.739130434782609,0.0337078651685393,0.846153846153846,0.876404494382023,0.127906976744186,0.435294117647059,0.465909090909091,0.955555555555556,0.842696629213483,0.943181818181818,0.952941176470588,1,0.824175824175824,0.977777777777778,0.966292134831461,0.775280898876405,0.946808510638298,0.127659574468085]
["Lactic Acid",0.884210526315789,0.566666666666667,0.945652173913043,0.648936170212766,0.717391304347826,0.604395604395604,0.935483870967742,0.411111111111111,0.946236559139785,0.891304347826087,0.946808510638298,1,0.923913043478261,0.715789473684211,0.978260869565217,0.771739130434783,0.191489361702128,0.946236559139785,1,0.98936170212766,1,0.923913043478261,0.25,0.989130434782609,0.617021276595745,0.876404494382023,0.967391304347826,0.648936170212766,0.206521739130435,"NA",0.894736842105263,0.978494623655914,0.968085106382979,1,0.375,0.989247311827957,0.127659574468085,0.154639175257732,0.942528735632184,0.0106382978723404,0.147368421052632,0.854166666666667,0.0978260869565217,0.1875,0.032258064516129,0.977777777777778,0.98876404494382,0.989247311827957,0.957446808510638,0.946236559139785,0.521739130434783,0.933333333333333,0.795698924731183,0.926315789473684,0.702127659574468,1,0.130434782608696,0.255102040816327,0.969387755102041]
["Leucine ",0.925531914893617,0.876404494382023,0.945054945054945,0.56989247311828,0.967391304347826,0.966666666666667,0.923913043478261,0.887640449438202,0.934782608695652,0.901098901098901,0.838709677419355,0.97752808988764,0.978021978021978,0.117021276595745,0.835164835164835,0.252747252747253,0.543478260869565,0.695652173913043,0.123595505617978,0.397849462365591,0.521276595744681,0.868131868131868,0.0879120879120879,0.747252747252747,0.806451612903226,0.863636363636364,0.989010989010989,0.89247311827957,0.043956043956044,0.894736842105263,"NA",0.934782608695652,0.43010752688172,0.8,0.831578947368421,0.978494623655914,0.698924731182796,0.239583333333333,0,0.21505376344086,0.765957446808511,0.873684210526316,0.142857142857143,0.978723404255319,0,0.144444444444444,0.431818181818182,0.494505494505495,1,0.978260869565217,1,0.988636363636364,1,0.776595744680851,1,1,1,0.927835051546392,0.381443298969072]
["Linoleic Acid ",0.989130434782609,0.862068965517241,0.842696629213483,0.83695652173913,0.741573033707865,0.397727272727273,0.988888888888889,0.908045977011494,0.977777777777778,1,0.868131868131868,0.977011494252874,0.966292134831461,0.891304347826087,0.0777777777777778,0.166666666666667,0.666666666666667,1,0,0.978021978021978,1,0.887640449438202,0.97752808988764,0.887640449438202,0.483516483516484,1,0.97752808988764,0.164835164835165,0.943820224719101,0.978494623655914,0.934782608695652,"NA",0.010989010989011,0.806818181818182,0.139784946236559,0,0.945054945054945,0.308510638297872,0.892857142857143,0.835164835164835,0.815217391304348,0.946236559139785,0.833333333333333,0.849462365591398,0.901098901098901,1,1,1,1,0.977777777777778,0.98876404494382,1,1,1,0.989010989010989,0.944444444444444,0.98876404494382,1,1]
["Lysine ",0.129032258064516,0.431818181818182,0.133333333333333,0.902173913043478,0.833333333333333,0.775280898876405,0.43956043956044,0.420454545454545,0.296703296703297,0.977777777777778,0.847826086956522,1,0.477777777777778,0.483870967741935,0.977777777777778,0,0.769230769230769,0.630434782608696,0.625,0.0543478260869565,0.344086021505376,0.811111111111111,0.577777777777778,0.122222222222222,0.804347826086957,0.827586206896552,0.0222222222222222,0.967391304347826,0.824175824175824,0.968085106382979,0.43010752688172,0.010989010989011,"NA",0.707865168539326,0.382978723404255,0.846153846153846,0.739130434782609,0.105263157894737,0.270588235294118,0.739130434782609,0.827956989247312,0.404255319148936,0.241758241758242,0.0645161290322581,0.879120879120879,0.443181818181818,0.988636363636364,0.977777777777778,0.891304347826087,0.978021978021978,0.622222222222222,0.865168539325843,0.923076923076923,0.978723404255319,0.717391304347826,0.879120879120879,0.944444444444444,0.541666666666667,0.979166666666667]
["Malic Acid ",0.822222222222222,0.941176470588235,0.908045977011494,0.865168539325843,0.942528735632184,0.954022988505747,0.920454545454545,0.964705882352941,0.795454545454545,0,0.688888888888889,0.458823529411765,0.574712643678161,0.0666666666666667,0.0804597701149425,0.781609195402299,0.0227272727272727,0.977272727272727,0.0114942528735632,0.0444444444444444,0,0,0.397727272727273,0.0786516853932584,0.202247191011236,0.333333333333333,0.540229885057471,0.865168539325843,0.724137931034483,1,0.8,0.806818181818182,0.707865168539326,"NA",0.131868131868132,0.977272727272727,0.662921348314607,0.173913043478261,0.530120481927711,0.292134831460674,0.155555555555556,0.021978021978022,0.772727272727273,0.777777777777778,0.955056179775281,0.929411764705882,0.797619047619048,0.988505747126437,1,0.909090909090909,0.988505747126437,0.94047619047619,0.954545454545455,0.888888888888889,0.97752808988764,0.931818181818182,0.988636363636364,0.989247311827957,0.924731182795699]
["Methionine ",0.884210526315789,0.866666666666667,0.673913043478261,0.861702127659574,0.532608695652174,0.747252747252747,0.904255319148936,0.844444444444444,0.89247311827957,0.902173913043478,0.553191489361702,0.855555555555556,0.934782608695652,0.168421052631579,0.108695652173913,0.0434782608695652,0.106382978723404,0.21505376344086,0.0222222222222222,0.829787234042553,0.884210526315789,0.0978260869565217,0.815217391304348,0.923913043478261,0.105263157894737,0.876404494382023,0.923913043478261,0.0106382978723404,0.108695652173913,0.375,0.831578947368421,0.139784946236559,0.382978723404255,0.131868131868132,"NA",0.817204301075269,0.0212765957446809,0.0515463917525773,0.689655172413793,0.0425531914893617,0.105263157894737,0.822916666666667,0.0543478260869565,0.747368421052632,0.580645161290323,0.527472527472527,0.797752808988764,0.554347826086957,1,0.924731182795699,0.956521739130435,0.98876404494382,1,0.989473684210526,1,0.032258064516129,0.989130434782609,0.959183673469388,0.959183673469388]
["Oleic Acid ",1,0.988505747126437,1,0.967032967032967,0.977777777777778,0.988636363636364,0.988888888888889,1,0.988888888888889,0.222222222222222,0.989010989010989,0.0229885057471264,0.98876404494382,0.989247311827957,0.966292134831461,0.97752808988764,0.955555555555556,0.511111111111111,0.747126436781609,1,0.891304347826087,0.988888888888889,0.955056179775281,0.98876404494382,0.989010989010989,0.931034482758621,0.966292134831461,0.945054945054945,0.842696629213483,0.989247311827957,0.978494623655914,0,0.846153846153846,0.977272727272727,0.817204301075269,"NA",0.0549450549450549,0.978723404255319,0.811764705882353,0.725274725274725,0,1,0.955056179775281,0.869565217391304,0.977777777777778,1,1,1,1,1,1,1,1,1,1,1,1,1,1]
["Palmitic Acid ",0.10752688172043,0.704545454545455,0.577777777777778,0.75,0.488888888888889,0.539325842696629,0.846153846153846,0.897727272727273,0.456521739130435,0.747252747252747,0.608695652173913,0.5,0.755555555555556,0.935483870967742,0.977777777777778,0.755555555555556,0.681318681318681,0.021978021978022,0.886363636363636,0.597826086956522,0.967741935483871,0.466666666666667,0.822222222222222,0.911111111111111,0.880434782608696,0.0574712643678161,0.433333333333333,0.0752688172043011,0.021978021978022,0.127659574468085,0.698924731182796,0.945054945054945,0.739130434782609,0.662921348314607,0.0212765957446809,0.0549450549450549,"NA",0.736842105263158,0.63953488372093,0.0326086956521739,0,0.936842105263158,0.122222222222222,0.849462365591398,0,0.806818181818182,0.96551724137931,0.977777777777778,0.989130434782609,0.879120879120879,0.988888888888889,0.988505747126437,1,0.978494623655914,0.989130434782609,0.791208791208791,0.967032967032967,0.979166666666667,0.979166666666667]
["Phenylalanine ",0.333333333333333,0.467391304347826,0.32258064516129,0.326315789473684,0.913978494623656,0.847826086956522,0.297872340425532,0.802197802197802,0.117021276595745,0.935483870967742,0.852631578947368,0.956043956043956,0.924731182795699,0.0104166666666667,0.655913978494624,0.0537634408602151,0,0.659574468085106,0.56043956043956,0.768421052631579,0.791666666666667,0.225806451612903,0,0.860215053763441,0.0631578947368421,0.111111111111111,0.881720430107527,0.666666666666667,0.118279569892473,0.154639175257732,0.239583333333333,0.308510638297872,0.105263157894737,0.173913043478261,0.0515463917525773,0.978723404255319,0.736842105263158,"NA",0.318181818181818,0.0842105263157895,0.875,0.164948453608247,0.032258064516129,0.739583333333333,0.936170212765957,0.923076923076923,0.822222222222222,0.344086021505376,0.978947368421053,0.595744680851064,0.989247311827957,0.922222222222222,0.925531914893617,0.90625,0.968421052631579,0.904255319148936,0.946236559139785,0.97979797979798,0.909090909090909]
["Proline ",0.930232558139535,0.91358024691358,0.892857142857143,0.482352941176471,0.916666666666667,0.951807228915663,0.94047619047619,0.902439024390244,0.917647058823529,0.120481927710843,0.176470588235294,0.409638554216867,0.845238095238095,0.244186046511628,0.0843373493975904,0,0.658823529411765,0.0952380952380952,0.325301204819277,0.211764705882353,0.0697674418604651,0.819277108433735,0.566265060240964,0.216867469879518,0.835294117647059,0.0875,0.891566265060241,0.976470588235294,0,0.942528735632184,0,0.892857142857143,0.270588235294118,0.530120481927711,0.689655172413793,0.811764705882353,0.63953488372093,0.318181818181818,"NA",0.117647058823529,0.779069767441861,0.402298850574713,0.0602409638554217,0.883720930232558,0.55952380952381,0.197530864197531,0.925925925925926,0.674698795180723,1,0.928571428571429,0.988095238095238,1,1,0.941860465116279,1,1,1,0.966292134831461,0.943820224719101]
["Serine ",0.752688172043011,0.75,0.788888888888889,0.0217391304347826,0.866666666666667,0.8,0.571428571428571,0.75,0.615384615384615,0.788888888888889,0.684782608695652,0.375,0.923076923076923,0.204301075268817,0.833333333333333,0.0888888888888889,0,0.153846153846154,0.818181818181818,0.75,0.817204301075269,0.133333333333333,0.1,0.822222222222222,0.0760869565217391,0.704545454545455,0.822222222222222,0.118279569892473,0,0.0106382978723404,0.21505376344086,0.835164835164835,0.739130434782609,0.292134831460674,0.0425531914893617,0.725274725274725,0.0326086956521739,0.0842105263157895,0.117647058823529,"NA",0.0860215053763441,0.25531914893617,0,0.827956989247312,0.637362637362637,0.681818181818182,0.568181818181818,0.10989010989011,0.826086956521739,0.263736263736264,0.966666666666667,0.738636363636364,0.978021978021978,0.612903225806452,0.956521739130435,0.967032967032967,0.877777777777778,0.96875,0.46875]
["Stearic Acid ",0.819148936170213,0.696629213483146,0.813186813186813,0.741935483870968,0.681318681318681,0.7,0.880434782608696,0.833333333333333,0.858695652173913,0.956043956043956,0.946808510638298,0.966292134831461,0.967032967032967,0.819148936170213,1,0.89010989010989,0.695652173913043,0.0978260869565217,0.9,0.139784946236559,0.925531914893617,0.164835164835165,0.857142857142857,0.0879120879120879,0.924731182795699,0.147727272727273,0.945054945054945,0.559139784946237,0.130434782608696,0.147368421052632,0.765957446808511,0.815217391304348,0.827956989247312,0.155555555555556,0.105263157894737,0,0,0.875,0.779069767441861,0.0860215053763441,"NA",0.863157894736842,0.428571428571429,0.861702127659574,0.0326086956521739,0.966292134831461,0.98876404494382,0.956043956043956,1,0.989130434782609,0.978021978021978,1,1,0.98936170212766,1,1,0.967032967032967,0.979381443298969,0.989690721649485]
["Succinic Acid ",0.778947368421053,0.422222222222222,0.630434782608696,0.659574468085106,0.119565217391304,0.648351648351648,0.0752688172043011,0.722222222222222,0.138297872340426,0.858695652173913,0.191489361702128,0.912087912087912,0.731182795698925,0.715789473684211,0.793478260869565,0.456521739130435,0.010752688172043,0.913978494623656,0.788888888888889,0.0531914893617021,0.147368421052632,0.0760869565217391,0.0652173913043478,0.0434782608695652,0.127659574468085,0.179775280898876,0.771739130434783,0.840425531914894,0.739130434782609,0.854166666666667,0.873684210526316,0.946236559139785,0.404255319148936,0.021978021978022,0.822916666666667,1,0.936842105263158,0.164948453608247,0.402298850574713,0.25531914893617,0.863157894736842,"NA",0.66304347826087,0.821052631578947,1,0.977777777777778,0.370786516853933,0.695652173913043,0.75531914893617,0.139784946236559,0.945652173913043,0.730337078651685,0.78494623655914,0.705263157894737,0.851063829787234,0.989247311827957,0.271739130434783,0.683673469387755,0.448979591836735]
["Threonine ",0.802197802197802,0.709302325581395,0.625,0.142857142857143,0.863636363636364,0.804597701149425,0.303370786516854,0.813953488372093,0.617977528089888,0.965909090909091,0.833333333333333,0.976744186046512,0.943820224719101,0.184782608695652,0.772727272727273,0,0.0449438202247191,0.0786516853932584,0.930232558139535,0.844444444444444,0.725274725274725,0.584269662921348,0.0898876404494382,0.670454545454545,0.155555555555556,0.741176470588235,0.920454545454545,0.711111111111111,0.0337078651685393,0.0978260869565217,0.142857142857143,0.833333333333333,0.241758241758242,0.772727272727273,0.0543478260869565,0.955056179775281,0.122222222222222,0.032258064516129,0.0602409638554217,0,0.428571428571429,0.66304347826087,"NA",0.824175824175824,0.898876404494382,0.337209302325581,0.616279069767442,0.0568181818181818,0.666666666666667,0.213483146067416,0.909090909090909,0.635294117647059,1,0.659340659340659,0.879120879120879,0.865168539325843,0.954545454545455,0.936170212765957,0.595744680851064]
["Tyrosine ",0.372340425531915,0.48314606741573,0.43956043956044,0.989247311827957,0.934065934065934,0.802197802197802,0.228260869565217,0.842696629213483,0.32258064516129,0.340659340659341,0.043010752688172,0.550561797752809,0.0549450549450549,1,0.956043956043956,0.152173913043478,0.860215053763441,0.858695652173913,0.842696629213483,0.956989247311828,0.978723404255319,0.923076923076923,0.967032967032967,0.978021978021978,0.817204301075269,0.863636363636364,0,0.225806451612903,0.846153846153846,0.1875,0.978723404255319,0.849462365591398,0.0645161290322581,0.777777777777778,0.747368421052632,0.869565217391304,0.849462365591398,0.739583333333333,0.883720930232558,0.827956989247312,0.861702127659574,0.821052631578947,0.824175824175824,"NA",0.880434782608696,0.651685393258427,0.909090909090909,1,1,0.880434782608696,0.989010989010989,1,1,0.98936170212766,1,0.456521739130435,0.582417582417582,0.948453608247423,0.793814432989691]
["Valine ",0.619565217391304,0.218390804597701,0.752808988764045,0.879120879120879,0.325842696629214,0.318181818181818,0.488888888888889,0.295454545454545,0.655555555555556,0.404494382022472,0.945054945054945,0.613636363636364,0.97752808988764,0.869565217391304,1,0.97752808988764,0.9,0.933333333333333,0.528089887640449,0.989010989010989,1,0.98876404494382,0.844444444444444,1,1,0.604651162790698,0.865168539325843,0.483516483516484,0.876404494382023,0.032258064516129,0,0.901098901098901,0.879120879120879,0.955056179775281,0.580645161290323,0.977777777777778,0,0.936170212765957,0.55952380952381,0.637362637362637,0.0326086956521739,1,0.898876404494382,0.880434782608696,"NA",0.284090909090909,0.465116279069767,1,0.945054945054945,0.955555555555556,1,0.906976744186046,1,0.760869565217391,0.989130434782609,1,0.98876404494382,0.863157894736842,0.91578947368421]
["Sex",0.853932584269663,0.129411764705882,0.64367816091954,0.784090909090909,0.441860465116279,0.552941176470588,0.0229885057471264,0.0833333333333333,0.689655172413793,1,0.932584269662921,0.904761904761905,0.96551724137931,1,0.906976744186046,0.36046511627907,0.931034482758621,0.310344827586207,0.80952380952381,0.761363636363636,0.943820224719101,0.96551724137931,0.988505747126437,1,0.966292134831461,0.939759036144578,0.604651162790698,0.852272727272727,0.127906976744186,0.977777777777778,0.144444444444444,1,0.443181818181818,0.929411764705882,0.527472527472527,1,0.806818181818182,0.923076923076923,0.197530864197531,0.681818181818182,0.966292134831461,0.977777777777778,0.337209302325581,0.651685393258427,0.284090909090909,"NA",0.0238095238095238,0.313953488372093,0.772727272727273,0.563218390804598,0.931034482758621,0.710843373493976,0.943181818181818,0.595505617977528,0.852272727272727,0.0689655172413793,0.348837209302326,0.923913043478261,0]
["Age",0.897727272727273,0.773809523809524,0.8,0.540229885057471,0.729411764705882,0.776470588235294,0.0930232558139535,0.75,0.35632183908046,0.941176470588235,0.397727272727273,0.880952380952381,0.930232558139535,0.977272727272727,0.741176470588235,0.988235294117647,0.476744186046512,0.802325581395349,0.238095238095238,1,0.556818181818182,0.894117647058824,0.290697674418605,1,0.885057471264368,0.963414634146341,0.823529411764706,0.96551724137931,0.435294117647059,0.98876404494382,0.431818181818182,1,0.988636363636364,0.797619047619048,0.797752808988764,1,0.96551724137931,0.822222222222222,0.925925925925926,0.568181818181818,0.98876404494382,0.370786516853933,0.616279069767442,0.909090909090909,0.465116279069767,0.0238095238095238,"NA",0.267441860465116,0.264367816091954,0,0.564705882352941,0.27710843373494,0.790697674418605,0.0454545454545455,0.758620689655172,0,0,0.802197802197802,0]
["BMI",0.967032967032967,0.827586206896552,0.797752808988764,0.0444444444444444,0.795454545454545,0.551724137931034,0.466666666666667,0.837209302325581,0.685393258426966,0.943820224719101,0.988888888888889,0.813953488372093,0.988636363636364,0.945054945054945,1,0.386363636363636,0.0786516853932584,1,1,0.966666666666667,0.782608695652174,0.965909090909091,0.340909090909091,1,0.266666666666667,0.764705882352941,1,0.833333333333333,0.465909090909091,0.989247311827957,0.494505494505495,1,0.977777777777778,0.988505747126437,0.554347826086957,1,0.977777777777778,0.344086021505376,0.674698795180723,0.10989010989011,0.956043956043956,0.695652173913043,0.0568181818181818,1,1,0.313953488372093,0.267441860465116,"NA",0.241758241758242,0,0.965909090909091,0.162790697674419,0.910112359550562,0,0.4,1,0.965909090909091,0.851063829787234,0.148936170212766]
["NAFLD.Category",0.924731182795699,0.761363636363636,0.744444444444444,0.152173913043478,0.844444444444444,0.280898876404494,0.571428571428571,0.449438202247191,0.648351648351648,0.955555555555556,0.934782608695652,0.966292134831461,0.966666666666667,0.989247311827957,1,0.744444444444444,0.494505494505495,0.901098901098901,1,0.934782608695652,0.978494623655914,1,0.955555555555556,1,0.369565217391304,0.920454545454545,0.966666666666667,0.934782608695652,0.955555555555556,0.957446808510638,1,1,0.891304347826087,1,1,1,0.989130434782609,0.978947368421053,1,0.826086956521739,1,0.75531914893617,0.666666666666667,1,0.945054945054945,0.772727272727273,0.264367816091954,0.241758241758242,"NA",0.131868131868132,0.144444444444444,0,0.0989010989010989,0.032258064516129,0.0978260869565217,0.78021978021978,0.455555555555556,0.208333333333333,0.666666666666667]
["T2DM",0.75,0.735632183908046,0.444444444444444,0.186813186813187,0.662921348314607,0.136363636363636,0.0769230769230769,0.264367816091954,0.2,0.9,0.714285714285714,0.183908045977011,0.955555555555556,0.641304347826087,1,0.688888888888889,0.211111111111111,0.744444444444444,0.942528735632184,0.91304347826087,0.434782608695652,0.98876404494382,0.629213483146067,1,0.626373626373626,0.813953488372093,0.910112359550562,0.010989010989011,0.842696629213483,0.946236559139785,0.978260869565217,0.977777777777778,0.978021978021978,0.909090909090909,0.924731182795699,1,0.879120879120879,0.595744680851064,0.928571428571429,0.263736263736264,0.989130434782609,0.139784946236559,0.213483146067416,0.880434782608696,0.955555555555556,0.563218390804598,0,0,0.131868131868132,"NA",0.898876404494382,0.0813953488372093,0.733333333333333,0,0.252747252747253,0.912087912087912,0.644444444444444,0.863157894736842,0.0842105263157895]
["Steatosis",1,0.96551724137931,0.865168539325843,0.277777777777778,0.97752808988764,0.942528735632184,0.932584269662921,0.965116279069767,0.977777777777778,0.988636363636364,0.988888888888889,1,0.988636363636364,1,0.931818181818182,0.227272727272727,0.98876404494382,1,0.848837209302326,1,1,1,0.988636363636364,0.295454545454545,0.855555555555556,0.847058823529412,0.977272727272727,1,0.943181818181818,0.521739130434783,1,0.98876404494382,0.622222222222222,0.988505747126437,0.956521739130435,1,0.988888888888889,0.989247311827957,0.988095238095238,0.966666666666667,0.978021978021978,0.945652173913043,0.909090909090909,0.989010989010989,1,0.931034482758621,0.564705882352941,0.965909090909091,0.144444444444444,0.898876404494382,"NA",0.104651162790698,0,0.208791208791209,0,0.831460674157303,0,0.0425531914893617,0.276595744680851]
["Ballooning",0.931818181818182,0.759036144578313,0.741176470588235,0.123595505617978,0.827586206896552,0.238095238095238,0.558139534883721,0.433734939759036,0.655172413793103,0.941176470588235,0.96551724137931,0.951807228915663,0.976470588235294,0.988636363636364,0.988235294117647,0.647058823529412,0.372093023255814,0.954022988505747,0.976190476190476,0.919540229885057,0.977272727272727,1,0.894117647058824,1,0.333333333333333,0.80952380952381,0.988235294117647,0.908045977011494,0.952941176470588,0.933333333333333,0.988636363636364,1,0.865168539325843,0.94047619047619,0.98876404494382,1,0.988505747126437,0.922222222222222,1,0.738636363636364,1,0.730337078651685,0.635294117647059,1,0.906976744186046,0.710843373493976,0.27710843373494,0.162790697674419,0,0.0813953488372093,0.104651162790698,"NA",0.0348837209302326,0.0449438202247191,0,0.697674418604651,0.458823529411765,0.153846153846154,0.450549450549451]
["Inflammation",0.923913043478261,0.850574712643678,0.923076923076923,0.241758241758242,0.955056179775281,0.363636363636364,0.855555555555556,0.863636363636364,0.822222222222222,0.98876404494382,0.978021978021978,1,1,1,0.97752808988764,0.685393258426966,0.835164835164835,1,0.954022988505747,1,1,1,0.898876404494382,1,0.945054945054945,0.953488372093023,1,1,1,0.795698924731183,1,1,0.923076923076923,0.954545454545455,1,1,1,0.925531914893617,1,0.978021978021978,1,0.78494623655914,1,1,1,0.943181818181818,0.790697674418605,0.910112359550562,0.0989010989010989,0.733333333333333,0,0.0348837209302326,"NA",0.16304347826087,0,0.934782608695652,0.101123595505618,0.0526315789473684,0.810526315789474]
["Fibrosis",0.957446808510638,0.674157303370786,0.858695652173913,0.043010752688172,0.747252747252747,0.311111111111111,0.554347826086957,0.337078651685393,0.739130434782609,0.857142857142857,0.89247311827957,0.325842696629214,0.978021978021978,0.957446808510638,1,0.78021978021978,0.489130434782609,0.739130434782609,0.876404494382023,0.967741935483871,0.882978723404255,0.978260869565217,0.901098901098901,1,0.247311827956989,0.954545454545455,0.989130434782609,0.591397849462366,0.824175824175824,0.926315789473684,0.776595744680851,1,0.978723404255319,0.888888888888889,0.989473684210526,1,0.978494623655914,0.90625,0.941860465116279,0.612903225806452,0.98936170212766,0.705263157894737,0.659340659340659,0.98936170212766,0.760869565217391,0.595505617977528,0.0454545454545455,0,0.032258064516129,0,0.208791208791209,0.0449438202247191,0.16304347826087,"NA",0.129032258064516,0.141304347826087,0.78021978021978,0.185567010309278,0.185567010309278]
["NAS",0.978494623655914,0.840909090909091,0.833333333333333,0.152173913043478,0.9,0.337078651685393,0.703296703296703,0.775280898876405,0.912087912087912,0.977777777777778,0.967391304347826,1,0.966666666666667,0.989473684210526,0.977777777777778,0.277777777777778,0.846153846153846,1,0.954545454545455,0.989130434782609,1,1,0.922222222222222,0.877777777777778,0.532608695652174,0.908045977011494,0.988888888888889,1,0.977777777777778,0.702127659574468,1,0.989010989010989,0.717391304347826,0.97752808988764,1,1,0.989130434782609,0.968421052631579,1,0.956521739130435,1,0.851063829787234,0.879120879120879,1,0.989130434782609,0.852272727272727,0.758620689655172,0.4,0.0978260869565217,0.252747252747253,0,0,0,0.129032258064516,"NA",0.945054945054945,0.120879120879121,0.0104166666666667,0.760416666666667]
["Platelets",0.989130434782609,0.781609195402299,0.966666666666667,0.89010989010989,0.855555555555556,0.920454545454545,0.888888888888889,0.146067415730337,0.944444444444444,1,0.934065934065934,1,0.955056179775281,1,1,0.865168539325843,0.967032967032967,0.3,0.183908045977011,1,0.815217391304348,0.955056179775281,0.98876404494382,1,1,1,0.876404494382023,0.461538461538462,0.966292134831461,1,1,0.944444444444444,0.879120879120879,0.931818181818182,0.032258064516129,1,0.791208791208791,0.904255319148936,1,0.967032967032967,1,0.989247311827957,0.865168539325843,0.456521739130435,1,0.0689655172413793,0,1,0.78021978021978,0.912087912087912,0.831460674157303,0.697674418604651,0.934782608695652,0.141304347826087,0.945054945054945,"NA",0.944444444444444,0.936842105263158,0.757894736842105]
["ALT",0.978021978021978,0.965116279069767,0.920454545454545,0.877777777777778,1,0.988636363636364,0.752808988764045,0.976744186046512,0.910112359550562,0.977272727272727,0.611111111111111,0.988372093023256,0.97752808988764,1,0.863636363636364,0.920454545454545,0.921348314606742,0.98876404494382,0.953488372093023,1,1,0.98876404494382,0.352272727272727,0.909090909090909,0.788888888888889,0.988235294117647,0.863636363636364,1,0.775280898876405,0.130434782608696,1,0.98876404494382,0.944444444444444,0.988636363636364,0.989130434782609,1,0.967032967032967,0.946236559139785,1,0.877777777777778,0.967032967032967,0.271739130434783,0.954545454545455,0.582417582417582,0.98876404494382,0.348837209302326,0,0.965909090909091,0.455555555555556,0.644444444444444,0,0.458823529411765,0.101123595505618,0.78021978021978,0.120879120879121,0.944444444444444,"NA",0,0]
["AST",1,0.978260869565217,0.936170212765957,0.333333333333333,0.797872340425532,0.634408602150538,0.926315789473684,0.967391304347826,0.926315789473684,1,0.9375,1,0.98936170212766,1,0.98936170212766,0.393617021276596,0.926315789473684,0.978947368421053,1,1,0.958762886597938,1,0.819148936170213,0.5,0.5,0.967032967032967,0.978723404255319,0.895833333333333,0.946808510638298,0.255102040816327,0.927835051546392,1,0.541666666666667,0.989247311827957,0.959183673469388,1,0.979166666666667,0.97979797979798,0.966292134831461,0.96875,0.979381443298969,0.683673469387755,0.936170212765957,0.948453608247423,0.863157894736842,0.923913043478261,0.802197802197802,0.851063829787234,0.208333333333333,0.863157894736842,0.0425531914893617,0.153846153846154,0.0526315789473684,0.185567010309278,0.0104166666666667,0.936842105263158,0,"NA",0.81]
["AST.ALT.Ratio",0.876288659793814,0.83695652173913,0.904255319148936,0.739583333333333,0.904255319148936,0.806451612903226,0.347368421052632,0.858695652173913,0.863157894736842,0.925531914893617,0.75,0.739130434782609,0.98936170212766,0.958762886597938,0.808510638297872,0.925531914893617,0.715789473684211,0.91578947368421,0.630434782608696,1,0.958762886597938,0.936170212765957,0.48936170212766,1,0.979166666666667,0.989010989010989,0.925531914893617,0.822916666666667,0.127659574468085,0.969387755102041,0.381443298969072,1,0.979166666666667,0.924731182795699,0.959183673469388,1,0.979166666666667,0.909090909090909,0.943820224719101,0.46875,0.989690721649485,0.448979591836735,0.595744680851064,0.793814432989691,0.91578947368421,0,0,0.148936170212766,0.666666666666667,0.0842105263157895,0.276595744680851,0.450549450549451,0.810526315789474,0.185567010309278,0.760416666666667,0.757894736842105,0,0.81,"NA"]

{"sheet":"Filtered.Correlations","index":2,"n_rows":66,"n_cols":60,"rows_kept":66,"cut":false,"hidden":false,"merged":[]}
["Variable","LC1","LC2","LC3","LC4","LC5","LC6","LC7","LC8","LC9","2-OH-Butanoic Acid","3-OH-Benzoic Acid ","3-OH-Butanoic Acid ","5-OH-1H-Indole-3-Acetic Acid ","Alanine","Arachidonic acid ","Asparagine ","Aspartic Acid ","Cholesterol ","Citric acid ","Decanoic acid ","Fructose ","Fumaric Acid ","Glutamic Acid ","Glutamine ","Glycerol-3-P ","Glycine ","Indole-3-Latic Acid ","Indole-3-Propionic Acid ","Isoleucine ","Lactic Acid","Leucine ","Linoleic Acid ","Lysine ","Malic Acid ","Methionine ","Oleic Acid ","Palmitic Acid ","Phenylalanine ","Proline ","Serine ","Stearic Acid ","Succinic Acid ","Threonine ","Tyrosine ","Valine ","Sex","Age","BMI","NAFLD.Category","T2DM","Steatosis","Ballooning","Inflammation","Fibrosis","NAS","Platelets","ALT","AST","AST.ALT.Ratio"]
["LC1",{"$f":"IF(NRRs!B2<$B$66,'Spearman.Correlations'!B2,0)","v":0},{"$f":"IF(NRRs!C2<$B$66,'Spearman.Correlations'!C2,0)","v":0.350647245401245},{"$f":"IF(NRRs!D2<$B$66,'Spearman.Correlations'!D2,0)","v":0.731800953473335},{"$f":"IF(NRRs!E2<$B$66,'Spearman.Correlations'!E2,0)","v":0},{"$f":"IF(NRRs!F2<$B$66,'Spearman.Correlations'!F2,0)","v":0.190269721900152},{"$f":"IF(NRRs!G2<$B$66,'Spearman.Correlations'!G2,0)","v":0.234167560739382},{"$f":"IF(NRRs!H2<$B$66,'Spearman.Correlations'!H2,0)","v":0.346131810084429},{"$f":"IF(NRRs!I2<$B$66,'Spearman.Correlations'!I2,0)","v":0.220813597771335},{"$f":"IF(NRRs!J2<$B$66,'Spearman.Correlations'!J2,0)","v":0.755959089762331},{"$f":"IF(NRRs!K2<$B$66,'Spearman.Correlations'!K2,0)","v":0},{"$f":"IF(NRRs!L2<$B$66,'Spearman.Correlations'!L2,0)","v":0},{"$f":"IF(NRRs!M2<$B$66,'Spearman.Correlations'!M2,0)","v":0},{"$f":"IF(NRRs!N2<$B$66,'Spearman.Correlations'!N2,0)","v":-0.0933215481404803},{"$f":"IF(NRRs!O2<$B$66,'Spearman.Correlations'!O2,0)","v":0},{"$f":"IF(NRRs!P2<$B$66,'Spearman.Correlations'!P2,0)","v":-0.1496379259003},{"$f":"IF(NRRs!Q2<$B$66,'Spearman.Correlations'!Q2,0)","v":-0.11235361667415},{"$f":"IF(NRRs!R2<$B$66,'Spearman.Correlations'!R2,0)","v":-0.109823018326203},{"$f":"IF(NRRs!S2<$B$66,'Spearman.Correlations'!S2,0)","v":0},{"$f":"IF(NRRs!T2<$B$66,'Spearman.Correlations'!T2,0)","v":-0.116567139343731},{"$f":"IF(NRRs!U2<$B$66,'Spearman.Correlations'!U2,0)","v":0},{"$f":"IF(NRRs!V2<$B$66,'Spearman.Correlations'!V2,0)","v":0},{"$f":"IF(NRRs!W2<$B$66,'Spearman.Correlations'!W2,0)","v":0},{"$f":"IF(NRRs!X2<$B$66,'Spearman.Correlations'!X2,0)","v":-0.113799952181064},{"$f":"IF(NRRs!Y2<$B$66,'Spearman.Correlations'!Y2,0)","v":0},{"$f":"IF(NRRs!Z2<$B$66,'Spearman.Correlations'!Z2,0)","v":0},{"$f":"IF(NRRs!AA2<$B$66,'Spearman.Correlations'!AA2,0)","v":-0.151175093792809},{"$f":"IF(NRRs!AB2<$B$66,'Spearman.Correlations'!AB2,0)","v":-0.228372620542885},{"$f":"IF(NRRs!AC2<$B$66,'Spearman.Correlations'!AC2,0)","v":0},{"$f":"IF(NRRs!AD2<$B$66,'Spearman.Correlations'!AD2,0)","v":0.31407014006663},{"$f":"IF(NRRs!AE2<$B$66,'Spearman.Correlations'!AE2,0)","v":0},{"$f":"IF(NRRs!AF2<$B$66,'Spearman.Correlations'!AF2,0)","v":0},{"$f":"IF(NRRs!AG2<$B$66,'Spearman.Correlations'!AG2,0)","v":0},{"$f":"IF(NRRs!AH2<$B$66,'Spearman.Correlations'!AH2,0)","v":-0.201345787672671},{"$f":"IF(NRRs!AI2<$B$66,'Spearman.Correlations'!AI2,0)","v":0},{"$f":"IF(NRRs!AJ2<$B$66,'Spearman.Correlations'!AJ2,0)","v":0},{"$f":"IF(NRRs!AK2<$B$66,'Spearman.Correlations'!AK2,0)","v":0},{"$f":"IF(NRRs!AL2<$B$66,'Spearman.Correlations'!AL2,0)","v":-0.167587258101853},{"$f":"IF(NRRs!AM2<$B$66,'Spearman.Correlations'!AM2,0)","v":-0.140130134854147},{"$f":"IF(NRRs!AN2<$B$66,'Spearman.Correlations'!AN2,0)","v":0},{"$f":"IF(NRRs!AO2<$B$66,'Spearman.Correlations'!AO2,0)","v":0},{"$f":"IF(NRRs!AP2<$B$66,'Spearman.Correlations'!AP2,0)","v":0},{"$f":"IF(NRRs!AQ2<$B$66,'Spearman.Correlations'!AQ2,0)","v":0},{"$f":"IF(NRRs!AR2<$B$66,'Spearman.Correlations'!AR2,0)","v":0},{"$f":"IF(NRRs!AS2<$B$66,'Spearman.Correlations'!AS2,0)","v":-0.0827818161201691},{"$f":"IF(NRRs!AT2<$B$66,'Spearman.Correlations'!AT2,0)","v":0},{"$f":"IF(NRRs!AU2<$B$66,'Spearman.Correlations'!AU2,0)","v":0},{"$f":"IF(NRRs!AV2<$B$66,'Spearman.Correlations'!AV2,0)","v":0},{"$f":"IF(NRRs!AW2<$B$66,'Spearman.Correlations'!AW2,0)","v":0},{"$f":"IF(NRRs!AX2<$B$66,'Spearman.Correlations'!AX2,0)","v":0},{"$f":"IF(NRRs!AY2<$B$66,'Spearman.Correlations'!AY2,0)","v":0},{"$f":"IF(NRRs!AZ2<$B$66,'Spearman.Correlations'!AZ2,0)","v":0},{"$f":"IF(NRRs!BA2<$B$66,'Spearman.Correlations'!BA2,0)","v":0},{"$f":"IF(NRRs!BB2<$B$66,'Spearman.Correlations'!BB2,0)","v":0},{"$f":"IF(NRRs!BC2<$B$66,'Spearman.Correlations'!BC2,0)","v":0},{"$f":"IF(NRRs!BD2<$B$66,'Spearman.Correlations'!BD2,0)","v":0},{"$f":"IF(NRRs!BE2<$B$66,'Spearman.Correlations'!BE2,0)","v":0},{"$f":"IF(NRRs!BF2<$B$66,'Spearman.Correlations'!BF2,0)","v":0},{"$f":"IF(NRRs!BG2<$B$66,'Spearman.Correlations'!BG2,0)","v":0},{"$f":"IF(NRRs!BH2<$B$66,'Spearman.Correlations'!BH2,0)","v":0}]
["LC2",{"$f":"IF(NRRs!B3<$B$66,'Spearman.Correlations'!B3,0)","v":0.350647245401245},{"$f":"IF(NRRs!C3<$B$66,'Spearman.Correlations'!C3,0)","v":0},{"$f":"IF(NRRs!D3<$B$66,'Spearman.Correlations'!D3,0)","v":0.521527146360025},{"$f":"IF(NRRs!E3<$B$66,'Spearman.Correlations'!E3,0)","v":0.438627439528914},{"$f":"IF(NRRs!F3<$B$66,'Spearman.Correlations'!F3,0)","v":0.666871915523247},{"$f":"IF(NRRs!G3<$B$66,'Spearman.Correlations'!G3,0)","v":0.685343838280107},{"$f":"IF(NRRs!H3<$B$66,'Spearman.Correlations'!H3,0)","v":0.649479580011627},{"$f":"IF(NRRs!I3<$B$66,'Spearman.Correlations'!I3,0)","v":0.761594667996387},{"$f":"IF(NRRs!J3<$B$66,'Spearman.Correlations'!J3,0)","v":0.494389828352862},{"$f":"IF(NRRs!K3<$B$66,'Spearman.Correlations'!K3,0)","v":0},{"$f":"IF(NRRs!L3<$B$66,'Spearman.Correlations'!L3,0)","v":0},{"$f":"IF(NRRs!M3<$B$66,'Spearman.Correlations'!M3,0)","v":0},{"$f":"IF(NRRs!N3<$B$66,'Spearman.Correlations'!N3,0)","v":0},{"$f":"IF(NRRs!O3<$B$66,'Spearman.Correlations'!O3,0)","v":0},{"$f":"IF(NRRs!P3<$B$66,'Spearman.Correlations'!P3,0)","v":0},{"$f":"IF(NRRs!Q3<$B$66,'Spearman.Correlations'!Q3,0)","v":0},{"$f":"IF(NRRs!R3<$B$66,'Spearman.Correlations'!R3,0)","v":0},{"$f":"IF(NRRs!S3<$B$66,'Spearman.Correlations'!S3,0)","v":0},{"$f":"IF(NRRs!T3<$B$66,'Spearman.Correlations'!T3,0)","v":0},{"$f":"IF(NRRs!U3<$B$66,'Spearman.Correlations'!U3,0)","v":0},{"$f":"IF(NRRs!V3<$B$66,'Spearman.Correlations'!V3,0)","v":0},{"$f":"IF(NRRs!W3<$B$66,'Spearman.Correlations'!W3,0)","v":0},{"$f":"IF(NRRs!X3<$B$66,'Spearman.Correlations'!X3,0)","v":-0.0379556902273758},{"$f":"IF(NRRs!Y3<$B$66,'Spearman.Correlations'!Y3,0)","v":0},{"$f":"IF(NRRs!Z3<$B$66,'Spearman.Correlations'!Z3,0)","v":0},{"$f":"IF(NRRs!AA3<$B$66,'Spearman.Correlations'!AA3,0)","v":-0.0336589552449515},{"$f":"IF(NRRs!AB3<$B$66,'Spearman.Correlations'!AB3,0)","v":-0.133826686859553},{"$f":"IF(NRRs!AC3<$B$66,'Spearman.Correlations'!AC3,0)","v":0},{"$f":"IF(NRRs!AD3<$B$66,'Spearman.Correlations'!AD3,0)","v":0},{"$f":"IF(NRRs!AE3<$B$66,'Spearman.Correlations'!AE3,0)","v":0},{"$f":"IF(NRRs!AF3<$B$66,'Spearman.Correlations'!AF3,0)","v":0},{"$f":"IF(NRRs!AG3<$B$66,'Spearman.Correlations'!AG3,0)","v":0},{"$f":"IF(NRRs!AH3<$B$66,'Spearman.Correlations'!AH3,0)","v":0},{"$f":"IF(NRRs!AI3<$B$66,'Spearman.Correlations'!AI3,0)","v":0},{"$f":"IF(NRRs!AJ3<$B$66,'Spearman.Correlations'!AJ3,0)","v":0},{"$f":"IF(NRRs!AK3<$B$66,'Spearman.Correlations'!AK3,0)","v":0},{"$f":"IF(NRRs!AL3<$B$66,'Spearman.Correlations'!AL3,0)","v":0},{"$f":"IF(NRRs!AM3<$B$66,'Spearman.Correlations'!AM3,0)","v":0},{"$f":"IF(NRRs!AN3<$B$66,'Spearman.Correlations'!AN3,0)","v":0},{"$f":"IF(NRRs!AO3<$B$66,'Spearman.Correlations'!AO3,0)","v":0},{"$f":"IF(NRRs!AP3<$B$66,'Spearman.Correlations'!AP3,0)","v":0},{"$f":"IF(NRRs!AQ3<$B$66,'Spearman.Correlations'!AQ3,0)","v":0},{"$f":"IF(NRRs!AR3<$B$66,'Spearman.Correlations'!AR3,0)","v":0},{"$f":"IF(NRRs!AS3<$B$66,'Spearman.Correlations'!AS3,0)","v":0},{"$f":"IF(NRRs!AT3<$B$66,'Spearman.Correlations'!AT3,0)","v":-0.110368250811396},{"$f":"IF(NRRs!AU3<$B$66,'Spearman.Correlations'!AU3,0)","v":-0.215167523968159},{"$f":"IF(NRRs!AV3<$B$66,'Spearman.Correlations'!AV3,0)","v":0},{"$f":"IF(NRRs!AW3<$B$66,'Spearman.Correlations'!AW3,0)","v":0},{"$f":"IF(NRRs!AX3<$B$66,'Spearman.Correlations'!AX3,0)","v":0},{"$f":"IF(NRRs!AY3<$B$66,'Spearman.Correlations'!AY3,0)","v":0},{"$f":"IF(NRRs!AZ3<$B$66,'Spearman.Correlations'!AZ3,0)","v":0},{"$f":"IF(NRRs!BA3<$B$66,'Spearman.Correlations'!BA3,0)","v":0},{"$f":"IF(NRRs!BB3<$B$66,'Spearman.Correlations'!BB3,0)","v":0},{"$f":"IF(NRRs!BC3<$B$66,'Spearman.Correlations'!BC3,0)","v":0},{"$f":"IF(NRRs!BD3<$B$66,'Spearman.Correlations'!BD3,0)","v":0},{"$f":"IF(NRRs!BE3<$B$66,'Spearman.Correlations'!BE3,0)","v":0},{"$f":"IF(NRRs!BF3<$B$66,'Spearman.Correlations'!BF3,0)","v":0},{"$f":"IF(NRRs!BG3<$B$66,'Spearman.Correlations'!BG3,0)","v":0},{"$f":"IF(NRRs!BH3<$B$66,'Spearman.Correlations'!BH3,0)","v":0}]
["LC3",{"$f":"IF(NRRs!B4<$B$66,'Spearman.Correlations'!B4,0)","v":0.731800953473335},{"$f":"IF(NRRs!C4<$B$66,'Spearman.Correlations'!C4,0)","v":0.521527146360025},{"$f":"IF(NRRs!D4<$B$66,'Spearman.Correlations'!D4,0)","v":0},{"$f":"IF(NRRs!E4<$B$66,'Spearman.Correlations'!E4,0)","v":0},{"$f":"IF(NRRs!F4<$B$66,'Spearman.Correlations'!F4,0)","v":0.189939228748517},{"$f":"IF(NRRs!G4<$B$66,'Spearman.Correlations'!G4,0)","v":0.134839486401547},{"$f":"IF(NRRs!H4<$B$66,'Spearman.Correlations'!H4,0)","v":0.588343683231742},{"$f":"IF(NRRs!I4<$B$66,'Spearman.Correlations'!I4,0)","v":0.233096985865696},{"$f":"IF(NRRs!J4<$B$66,'Spearman.Correlations'!J4,0)","v":0.739430400330137},{"$f":"IF(NRRs!K4<$B$66,'Spearman.Correlations'!K4,0)","v":0},{"$f":"IF(NRRs!L4<$B$66,'Spearman.Correlations'!L4,0)","v":0},{"$f":"IF(NRRs!M4<$B$66,'Spearman.Correlations'!M4,0)","v":0},{"$f":"IF(NRRs!N4<$B$66,'Spearman.Correlations'!N4,0)","v":-0.0405398205276332},{"$f":"IF(NRRs!O4<$B$66,'Spearman.Correlations'!O4,0)","v":0},{"$f":"IF(NRRs!P4<$B$66,'Spearman.Correlations'!P4,0)","v":-0.0793541795164635},{"$f":"IF(NRRs!Q4<$B$66,'Spearman.Correlations'!Q4,0)","v":-0.169331937793982},{"$f":"IF(NRRs!R4<$B$66,'Spearman.Correlations'!R4,0)","v":-0.0928352972374345},{"$f":"IF(NRRs!S4<$B$66,'Spearman.Correlations'!S4,0)","v":0},{"$f":"IF(NRRs!T4<$B$66,'Spearman.Correlations'!T4,0)","v":-0.122848076324726},{"$f":"IF(NRRs!U4<$B$66,'Spearman.Correlations'!U4,0)","v":0},{"$f":"IF(NRRs!V4<$B$66,'Spearman.Correlations'!V4,0)","v":0},{"$f":"IF(NRRs!W4<$B$66,'Spearman.Correlations'!W4,0)","v":0},{"$f":"IF(NRRs!X4<$B$66,'Spearman.Correlations'!X4,0)","v":-0.0411803428765342},{"$f":"IF(NRRs!Y4<$B$66,'Spearman.Correlations'!Y4,0)","v":0},{"$f":"IF(NRRs!Z4<$B$66,'Spearman.Correlations'!Z4,0)","v":0},{"$f":"IF(NRRs!AA4<$B$66,'Spearman.Correlations'!AA4,0)","v":-0.175175674854678},{"$f":"IF(NRRs!AB4<$B$66,'Spearman.Correlations'!AB4,0)","v":-0.173259279791369},{"$f":"IF(NRRs!AC4<$B$66,'Spearman.Correlations'!AC4,0)","v":0},{"$f":"IF(NRRs!AD4<$B$66,'Spearman.Correlations'!AD4,0)","v":0.300199761018685},{"$f":"IF(NRRs!AE4<$B$66,'Spearman.Correlations'!AE4,0)","v":0},{"$f":"IF(NRRs!AF4<$B$66,'Spearman.Correlations'!AF4,0)","v":0},{"$f":"IF(NRRs!AG4<$B$66,'Spearman.Correlations'!AG4,0)","v":0},{"$f":"IF(NRRs!AH4<$B$66,'Spearman.Correlations'!AH4,0)","v":-0.133080575195168},{"$f":"IF(NRRs!AI4<$B$66,'Spearman.Correlations'!AI4,0)","v":0},{"$f":"IF(NRRs!AJ4<$B$66,'Spearman.Correlations'!AJ4,0)","v":0},{"$f":"IF(NRRs!AK4<$B$66,'Spearman.Correlations'!AK4,0)","v":0},{"$f":"IF(NRRs!AL4<$B$66,'Spearman.Correlations'!AL4,0)","v":0},{"$f":"IF(NRRs!AM4<$B$66,'Spearman.Correlations'!AM4,0)","v":-0.0664309075156632},{"$f":"IF(NRRs!AN4<$B$66,'Spearman.Correlations'!AN4,0)","v":0},{"$f":"IF(NRRs!AO4<$B$66,'Spearman.Correlations'!AO4,0)","v":0},{"$f":"IF(NRRs!AP4<$B$66,'Spearman.Correlations'!AP4,0)","v":0},{"$f":"IF(NRRs!AQ4<$B$66,'Spearman.Correlations'!AQ4,0)","v":0},{"$f":"IF(NRRs!AR4<$B$66,'Spearman.Correlations'!AR4,0)","v":0},{"$f":"IF(NRRs!AS4<$B$66,'Spearman.Correlations'!AS4,0)","v":0},{"$f":"IF(NRRs!AT4<$B$66,'Spearman.Correlations'!AT4,0)","v":0},{"$f":"IF(NRRs!AU4<$B$66,'Spearman.Correlations'!AU4,0)","v":0},{"$f":"IF(NRRs!AV4<$B$66,'Spearman.Correlations'!AV4,0)","v":0},{"$f":"IF(NRRs!AW4<$B$66,'Spearman.Correlations'!AW4,0)","v":0},{"$f":"IF(NRRs!AX4<$B$66,'Spearman.Correlations'!AX4,0)","v":0},{"$f":"IF(NRRs!AY4<$B$66,'Spearman.Correlations'!AY4,0)","v":0},{"$f":"IF(NRRs!AZ4<$B$66,'Spearman.Correlations'!AZ4,0)","v":0},{"$f":"IF(NRRs!BA4<$B$66,'Spearman.Correlations'!BA4,0)","v":0},{"$f":"IF(NRRs!BB4<$B$66,'Spearman.Correlations'!BB4,0)","v":0},{"$f":"IF(NRRs!BC4<$B$66,'Spearman.Correlations'!BC4,0)","v":0},{"$f":"IF(NRRs!BD4<$B$66,'Spearman.Correlations'!BD4,0)","v":0},{"$f":"IF(NRRs!BE4<$B$66,'Spearman.Correlations'!BE4,0)","v":0},{"$f":"IF(NRRs!BF4<$B$66,'Spearman.Correlations'!BF4,0)","v":0},{"$f":"IF(NRRs!BG4<$B$66,'Spearman.Correlations'!BG4,0)","v":0},{"$f":"IF(NRRs!BH4<$B$66,'Spearman.Correlations'!BH4,0)","v":0}]
["LC4",{"$f":"IF(NRRs!B5<$B$66,'Spearman.Correlations'!B5,0)","v":0},{"$f":"IF(NRRs!C5<$B$66,'Spearman.Correlations'!C5,0)","v":0.438627439528914},{"$f":"IF(NRRs!D5<$B$66,'Spearman.Correlations'!D5,0)","v":0},{"$f":"IF(NRRs!E5<$B$66,'Spearman.Correlations'!E5,0)","v":0},{"$f":"IF(NRRs!F5<$B$66,'Spearman.Correlations'!F5,0)","v":0.263819093242767},{"$f":"IF(NRRs!G5<$B$66,'Spearman.Correlations'!G5,0)","v":0.382399016228494},{"$f":"IF(NRRs!H5<$B$66,'Spearman.Correlations'!H5,0)","v":0},{"$f":"IF(NRRs!I5<$B$66,'Spearman.Correlations'!I5,0)","v":0.426604935874308},{"$f":"IF(NRRs!J5<$B$66,'Spearman.Correlations'!J5,0)","v":0},{"$f":"IF(NRRs!K5<$B$66,'Spearman.Correlations'!K5,0)","v":0},{"$f":"IF(NRRs!L5<$B$66,'Spearman.Correlations'!L5,0)","v":0},{"$f":"IF(NRRs!M5<$B$66,'Spearman.Correlations'!M5,0)","v":-0.117270906548825},{"$f":"IF(NRRs!N5<$B$66,'Spearman.Correlations'!N5,0)","v":0},{"$f":"IF(NRRs!O5<$B$66,'Spearman.Correlations'!O5,0)","v":0.241642486911213},{"$f":"IF(NRRs!P5<$B$66,'Spearman.Correlations'!P5,0)","v":0},{"$f":"IF(NRRs!Q5<$B$66,'Spearman.Correlations'!Q5,0)","v":0},{"$f":"IF(NRRs!R5<$B$66,'Spearman.Correlations'!R5,0)","v":0.291875617467254},{"$f":"IF(NRRs!S5<$B$66,'Spearman.Correlations'!S5,0)","v":0},{"$f":"IF(NRRs!T5<$B$66,'Spearman.Correlations'!T5,0)","v":0},{"$f":"IF(NRRs!U5<$B$66,'Spearman.Correlations'!U5,0)","v":0},{"$f":"IF(NRRs!V5<$B$66,'Spearman.Correlations'!V5,0)","v":0},{"$f":"IF(NRRs!W5<$B$66,'Spearman.Correlations'!W5,0)","v":0},{"$f":"IF(NRRs!X5<$B$66,'Spearman.Correlations'!X5,0)","v":0.261739801078504},{"$f":"IF(NRRs!Y5<$B$66,'Spearman.Correlations'!Y5,0)","v":0},{"$f":"IF(NRRs!Z5<$B$66,'Spearman.Correlations'!Z5,0)","v":0.266008311120838},{"$f":"IF(NRRs!AA5<$B$66,'Spearman.Correlations'!AA5,0)","v":0},{"$f":"IF(NRRs!AB5<$B$66,'Spearman.Correlations'!AB5,0)","v":0},{"$f":"IF(NRRs!AC5<$B$66,'Spearman.Correlations'!AC5,0)","v":0},{"$f":"IF(NRRs!AD5<$B$66,'Spearman.Correlations'!AD5,0)","v":0.261920247026368},{"$f":"IF(NRRs!AE5<$B$66,'Spearman.Correlations'!AE5,0)","v":0},{"$f":"IF(NRRs!AF5<$B$66,'Spearman.Correlations'!AF5,0)","v":0},{"$f":"IF(NRRs!AG5<$B$66,'Spearman.Correlations'!AG5,0)","v":0},{"$f":"IF(NRRs!AH5<$B$66,'Spearman.Correlations'!AH5,0)","v":0},{"$f":"IF(NRRs!AI5<$B$66,'Spearman.Correlations'!AI5,0)","v":0},{"$f":"IF(NRRs!AJ5<$B$66,'Spearman.Correlations'!AJ5,0)","v":0},{"$f":"IF(NRRs!AK5<$B$66,'Spearman.Correlations'!AK5,0)","v":0},{"$f":"IF(NRRs!AL5<$B$66,'Spearman.Correlations'!AL5,0)","v":0},{"$f":"IF(NRRs!AM5<$B$66,'Spearman.Correlations'!AM5,0)","v":0.260582295083035},{"$f":"IF(NRRs!AN5<$B$66,'Spearman.Correlations'!AN5,0)","v":0},{"$f":"IF(NRRs!AO5<$B$66,'Spearman.Correlations'!AO5,0)","v":0.320767678458013},{"$f":"IF(NRRs!AP5<$B$66,'Spearman.Correlations'!AP5,0)","v":0},{"$f":"IF(NRRs!AQ5<$B$66,'Spearman.Correlations'!AQ5,0)","v":0},{"$f":"IF(NRRs!AR5<$B$66,'Spearman.Correlations'!AR5,0)","v":0.230110701238932},{"$f":"IF(NRRs!AS5<$B$66,'Spearman.Correlations'!AS5,0)","v":0},{"$f":"IF(NRRs!AT5<$B$66,'Spearman.Correlations'!AT5,0)","v":0},{"$f":"IF(NRRs!AU5<$B$66,'Spearman.Correlations'!AU5,0)","v":0},{"$f":"IF(NRRs!AV5<$B$66,'Spearman.Correlations'!AV5,0)","v":0},{"$f":"IF(NRRs!AW5<$B$66,'Spearman.Correlations'!AW5,0)","v":-0.164835724207131},{"$f":"IF(NRRs!AX5<$B$66,'Spearman.Correlations'!AX5,0)","v":-0.148823757643726},{"$f":"IF(NRRs!AY5<$B$66,'Spearman.Correlations'!AY5,0)","v":-0.122918251975447},{"$f":"IF(NRRs!AZ5<$B$66,'Spearman.Correlations'!AZ5,0)","v":-0.132394664622358},{"$f":"IF(NRRs!BA5<$B$66,'Spearman.Correlations'!BA5,0)","v":-0.159557390201019},{"$f":"IF(NRRs!BB5<$B$66,'Spearman.Correlations'!BB5,0)","v":-0.083492071202391},{"$f":"IF(NRRs!BC5<$B$66,'Spearman.Correlations'!BC5,0)","v":-0.193134126506306},{"$f":"IF(NRRs!BD5<$B$66,'Spearman.Correlations'!BD5,0)","v":-0.160642734597934},{"$f":"IF(NRRs!BE5<$B$66,'Spearman.Correlations'!BE5,0)","v":0},{"$f":"IF(NRRs!BF5<$B$66,'Spearman.Correlations'!BF5,0)","v":0},{"$f":"IF(NRRs!BG5<$B$66,'Spearman.Correlations'!BG5,0)","v":-0.0708096507800276},{"$f":"IF(NRRs!BH5<$B$66,'Spearman.Correlations'!BH5,0)","v":0}]
["LC5",{"$f":"IF(NRRs!B6<$B$66,'Spearman.Correlations'!B6,0)","v":0.190269721900152},{"$f":"IF(NRRs!C6<$B$66,'Spearman.Correlations'!C6,0)","v":0.666871915523247},{"$f":"IF(NRRs!D6<$B$66,'Spearman.Correlations'!D6,0)","v":0.189939228748517},{"$f":"IF(NRRs!E6<$B$66,'Spearman.Correlations'!E6,0)","v":0.263819093242767},{"$f":"IF(NRRs!F6<$B$66,'Spearman.Correlations'!F6,0)","v":0},{"$f":"IF(NRRs!G6<$B$66,'Spearman.Correlations'!G6,0)","v":0.642060026544992},{"$f":"IF(NRRs!H6<$B$66,'Spearman.Correlations'!H6,0)","v":0.413549448422109},{"$f":"IF(NRRs!I6<$B$66,'Spearman.Correlations'!I6,0)","v":0.563395067090288},{"$f":"IF(NRRs!J6<$B$66,'Spearman.Correlations'!J6,0)","v":0.398165804512767},{"$f":"IF(NRRs!K6<$B$66,'Spearman.Correlations'!K6,0)","v":0},{"$f":"IF(NRRs!L6<$B$66,'Spearman.Correlations'!L6,0)","v":0},{"$f":"IF(NRRs!M6<$B$66,'Spearman.Correlations'!M6,0)","v":0},{"$f":"IF(NRRs!N6<$B$66,'Spearman.Correlations'!N6,0)","v":0},{"$f":"IF(NRRs!O6<$B$66,'Spearman.Correlations'!O6,0)","v":0},{"$f":"IF(NRRs!P6<$B$66,'Spearman.Correlations'!P6,0)","v":0},{"$f":"IF(NRRs!Q6<$B$66,'Spearman.Correlations'!Q6,0)","v":0},{"$f":"IF(NRRs!R6<$B$66,'Spearman.Correlations'!R6,0)","v":0},{"$f":"IF(NRRs!S6<$B$66,'Spearman.Correlations'!S6,0)","v":0},{"$f":"IF(NRRs!T6<$B$66,'Spearman.Correlations'!T6,0)","v":0},{"$f":"IF(NRRs!U6<$B$66,'Spearman.Correlations'!U6,0)","v":0},{"$f":"IF(NRRs!V6<$B$66,'Spearman.Correlations'!V6,0)","v":0},{"$f":"IF(NRRs!W6<$B$66,'Spearman.Correlations'!W6,0)","v":0},{"$f":"IF(NRRs!X6<$B$66,'Spearman.Correlations'!X6,0)","v":0},{"$f":"IF(NRRs!Y6<$B$66,'Spearman.Correlations'!Y6,0)","v":0},{"$f":"IF(NRRs!Z6<$B$66,'Spearman.Correlations'!Z6,0)","v":0},{"$f":"IF(NRRs!AA6<$B$66,'Spearman.Correlations'!AA6,0)","v":0},{"$f":"IF(NRRs!AB6<$B$66,'Spearman.Correlations'!AB6,0)","v":0},{"$f":"IF(NRRs!AC6<$B$66,'Spearman.Correlations'!AC6,0)","v":0},{"$f":"IF(NRRs!AD6<$B$66,'Spearman.Correlations'!AD6,0)","v":0},{"$f":"IF(NRRs!AE6<$B$66,'Spearman.Correlations'!AE6,0)","v":0},{"$f":"IF(NRRs!AF6<$B$66,'Spearman.Correlations'!AF6,0)","v":0},{"$f":"IF(NRRs!AG6<$B$66,'Spearman.Correlations'!AG6,0)","v":0},{"$f":"IF(NRRs!AH6<$B$66,'Spearman.Correlations'!AH6,0)","v":0},{"$f":"IF(NRRs!AI6<$B$66,'Spearman.Correlations'!AI6,0)","v":0},{"$f":"IF(NRRs!AJ6<$B$66,'Spearman.Correlations'!AJ6,0)","v":0},{"$f":"IF(NRRs!AK6<$B$66,'Spearman.Correlations'!AK6,0)","v":0},{"$f":"IF(NRRs!AL6<$B$66,'Spearman.Correlations'!AL6,0)","v":0},{"$f":"IF(NRRs!AM6<$B$66,'Spearman.Correlations'!AM6,0)","v":0},{"$f":"IF(NRRs!AN6<$B$66,'Spearman.Correlations'!AN6,0)","v":0},{"$f":"IF(NRRs!AO6<$B$66,'Spearman.Correlations'!AO6,0)","v":0},{"$f":"IF(NRRs!AP6<$B$66,'Spearman.Correlations'!AP6,0)","v":0},{"$f":"IF(NRRs!AQ6<$B$66,'Spearman.Correlations'!AQ6,0)","v":-0.167604046381488},{"$f":"IF(NRRs!AR6<$B$66,'Spearman.Correlations'!AR6,0)","v":0},{"$f":"IF(NRRs!AS6<$B$66,'Spearman.Correlations'!AS6,0)","v":0},{"$f":"IF(NRRs!AT6<$B$66,'Spearman.Correlations'!AT6,0)","v":-0.0477351457019118},{"$f":"IF(NRRs!AU6<$B$66,'Spearman.Correlations'!AU6,0)","v":0},{"$f":"IF(NRRs!AV6<$B$66,'Spearman.Correlations'!AV6,0)","v":0},{"$f":"IF(NRRs!AW6<$B$66,'Spearman.Correlations'!AW6,0)","v":0},{"$f":"IF(NRRs!AX6<$B$66,'Spearman.Correlations'!AX6,0)","v":0},{"$f":"IF(NRRs!AY6<$B$66,'Spearman.Correlations'!AY6,0)","v":0},{"$f":"IF(NRRs!AZ6<$B$66,'Spearman.Correlations'!AZ6,0)","v":0},{"$f":"IF(NRRs!BA6<$B$66,'Spearman.Correlations'!BA6,0)","v":0},{"$f":"IF(NRRs!BB6<$B$66,'Spearman.Correlations'!BB6,0)","v":0},{"$f":"IF(NRRs!BC6<$B$66,'Spearman.Correlations'!BC6,0)","v":0},{"$f":"IF(NRRs!BD6<$B$66,'Spearman.Correlations'!BD6,0)","v":0},{"$f":"IF(NRRs!BE6<$B$66,'Spearman.Correlations'!BE6,0)","v":0},{"$f":"IF(NRRs!BF6<$B$66,'Spearman.Correlations'!BF6,0)","v":0},{"$f":"IF(NRRs!BG6<$B$66,'Spearman.Correlations'!BG6,0)","v":0},{"$f":"IF(NRRs!BH6<$B$66,'Spearman.Correlations'!BH6,0)","v":0}]
["LC6",{"$f":"IF(NRRs!B7<$B$66,'Spearman.Correlations'!B7,0)","v":0.234167560739382},{"$f":"IF(NRRs!C7<$B$66,'Spearman.Correlations'!C7,0)","v":0.685343838280107},{"$f":"IF(NRRs!D7<$B$66,'Spearman.Correlations'!D7,0)","v":0.134839486401547},{"$f":"IF(NRRs!E7<$B$66,'Spearman.Correlations'!E7,0)","v":0.382399016228494},{"$f":"IF(NRRs!F7<$B$66,'Spearman.Correlations'!F7,0)","v":0.642060026544992},{"$f":"IF(NRRs!G7<$B$66,'Spearman.Correlations'!G7,0)","v":0},{"$f":"IF(NRRs!H7<$B$66,'Spearman.Correlations'!H7,0)","v":0.297629242299684},{"$f":"IF(NRRs!I7<$B$66,'Spearman.Correlations'!I7,0)","v":0.714289559790118},{"$f":"IF(NRRs!J7<$B$66,'Spearman.Correlations'!J7,0)","v":0.239344219527141},{"$f":"IF(NRRs!K7<$B$66,'Spearman.Correlations'!K7,0)","v":0},{"$f":"IF(NRRs!L7<$B$66,'Spearman.Correlations'!L7,0)","v":0},{"$f":"IF(NRRs!M7<$B$66,'Spearman.Correlations'!M7,0)","v":0},{"$f":"IF(NRRs!N7<$B$66,'Spearman.Correlations'!N7,0)","v":0},{"$f":"IF(NRRs!O7<$B$66,'Spearman.Correlations'!O7,0)","v":0},{"$f":"IF(NRRs!P7<$B$66,'Spearman.Correlations'!P7,0)","v":0},{"$f":"IF(NRRs!Q7<$B$66,'Spearman.Correlations'!Q7,0)","v":0},{"$f":"IF(NRRs!R7<$B$66,'Spearman.Correlations'!R7,0)","v":0},{"$f":"IF(NRRs!S7<$B$66,'Spearman.Correlations'!S7,0)","v":0},{"$f":"IF(NRRs!T7<$B$66,'Spearman.Correlations'!T7,0)","v":0},{"$f":"IF(NRRs!U7<$B$66,'Spearman.Correlations'!U7,0)","v":0},{"$f":"IF(NRRs!V7<$B$66,'Spearman.Correlations'!V7,0)","v":0},{"$f":"IF(NRRs!W7<$B$66,'Spearman.Correlations'!W7,0)","v":0},{"$f":"IF(NRRs!X7<$B$66,'Spearman.Correlations'!X7,0)","v":0},{"$f":"IF(NRRs!Y7<$B$66,'Spearman.Correlations'!Y7,0)","v":0},{"$f":"IF(NRRs!Z7<$B$66,'Spearman.Correlations'!Z7,0)","v":0},{"$f":"IF(NRRs!AA7<$B$66,'Spearman.Correlations'!AA7,0)","v":0},{"$f":"IF(NRRs!AB7<$B$66,'Spearman.Correlations'!AB7,0)","v":-0.119201512735089},{"$f":"IF(NRRs!AC7<$B$66,'Spearman.Correlations'!AC7,0)","v":0},{"$f":"IF(NRRs!AD7<$B$66,'Spearman.Correlations'!AD7,0)","v":0},{"$f":"IF(NRRs!AE7<$B$66,'Spearman.Correlations'!AE7,0)","v":0},{"$f":"IF(NRRs!AF7<$B$66,'Spearman.Correlations'!AF7,0)","v":0},{"$f":"IF(NRRs!AG7<$B$66,'Spearman.Correlations'!AG7,0)","v":0.221823615761743},{"$f":"IF(NRRs!AH7<$B$66,'Spearman.Correlations'!AH7,0)","v":0},{"$f":"IF(NRRs!AI7<$B$66,'Spearman.Correlations'!AI7,0)","v":0},{"$f":"IF(NRRs!AJ7<$B$66,'Spearman.Correlations'!AJ7,0)","v":0},{"$f":"IF(NRRs!AK7<$B$66,'Spearman.Correlations'!AK7,0)","v":0},{"$f":"IF(NRRs!AL7<$B$66,'Spearman.Correlations'!AL7,0)","v":0},{"$f":"IF(NRRs!AM7<$B$66,'Spearman.Correlations'!AM7,0)","v":0},{"$f":"IF(NRRs!AN7<$B$66,'Spearman.Correlations'!AN7,0)","v":0},{"$f":"IF(NRRs!AO7<$B$66,'Spearman.Correlations'!AO7,0)","v":0},{"$f":"IF(NRRs!AP7<$B$66,'Spearman.Correlations'!AP7,0)","v":0},{"$f":"IF(NRRs!AQ7<$B$66,'Spearman.Correlations'!AQ7,0)","v":0},{"$f":"IF(NRRs!AR7<$B$66,'Spearman.Correlations'!AR7,0)","v":0},{"$f":"IF(NRRs!AS7<$B$66,'Spearman.Correlations'!AS7,0)","v":0},{"$f":"IF(NRRs!AT7<$B$66,'Spearman.Correlations'!AT7,0)","v":-0.0865822341848298},{"$f":"IF(NRRs!AU7<$B$66,'Spearman.Correlations'!AU7,0)","v":0},{"$f":"IF(NRRs!AV7<$B$66,'Spearman.Correlations'!AV7,0)","v":0},{"$f":"IF(NRRs!AW7<$B$66,'Spearman.Correlations'!AW7,0)","v":0},{"$f":"IF(NRRs!AX7<$B$66,'Spearman.Correlations'!AX7,0)","v":-0.11658169475598},{"$f":"IF(NRRs!AY7<$B$66,'Spearman.Correlations'!AY7,0)","v":-0.235501179674507},{"$f":"IF(NRRs!AZ7<$B$66,'Spearman.Correlations'!AZ7,0)","v":0},{"$f":"IF(NRRs!BA7<$B$66,'Spearman.Correlations'!BA7,0)","v":-0.126721029212539},{"$f":"IF(NRRs!BB7<$B$66,'Spearman.Correlations'!BB7,0)","v":-0.0604554226103109},{"$f":"IF(NRRs!BC7<$B$66,'Spearman.Correlations'!BC7,0)","v":-0.117588077328861},{"$f":"IF(NRRs!BD7<$B$66,'Spearman.Correlations'!BD7,0)","v":-0.0769566765104882},{"$f":"IF(NRRs!BE7<$B$66,'Spearman.Correlations'!BE7,0)","v":0},{"$f":"IF(NRRs!BF7<$B$66,'Spearman.Correlations'!BF7,0)","v":0},{"$f":"IF(NRRs!BG7<$B$66,'Spearman.Correlations'!BG7,0)","v":0},{"$f":"IF(NRRs!BH7<$B$66,'Spearman.Correlations'!BH7,0)","v":0}]
["LC7",{"$f":"IF(NRRs!B8<$B$66,'Spearman.Correlations'!B8,0)","v":0.346131810084429},{"$f":"IF(NRRs!C8<$B$66,'Spearman.Correlations'!C8,0)","v":0.649479580011627},{"$f":"IF(NRRs!D8<$B$66,'Spearman.Correlations'!D8,0)","v":0.588343683231742},{"$f":"IF(NRRs!E8<$B$66,'Spearman.Correlations'!E8,0)","v":0},{"$f":"IF(NRRs!F8<$B$66,'Spearman.Correlations'!F8,0)","v":0.413549448422109},{"$f":"IF(NRRs!G8<$B$66,'Spearman.Correlations'!G8,0)","v":0.297629242299684},{"$f":"IF(NRRs!H8<$B$66,'Spearman.Correlations'!H8,0)","v":0},{"$f":"IF(NRRs!I8<$B$66,'Spearman.Correlations'!I8,0)","v":0.354411689283075},{"$f":"IF(NRRs!J8<$B$66,'Spearman.Correlations'!J8,0)","v":0.622742719619488},{"$f":"IF(NRRs!K8<$B$66,'Spearman.Correlations'!K8,0)","v":0},{"$f":"IF(NRRs!L8<$B$66,'Spearman.Correlations'!L8,0)","v":-0.140085511018722},{"$f":"IF(NRRs!M8<$B$66,'Spearman.Correlations'!M8,0)","v":0},{"$f":"IF(NRRs!N8<$B$66,'Spearman.Correlations'!N8,0)","v":-0.0778168734572063},{"$f":"IF(NRRs!O8<$B$66,'Spearman.Correlations'!O8,0)","v":0},{"$f":"IF(NRRs!P8<$B$66,'Spearman.Correlations'!P8,0)","v":0},{"$f":"IF(NRRs!Q8<$B$66,'Spearman.Correlations'!Q8,0)","v":0},{"$f":"IF(NRRs!R8<$B$66,'Spearman.Correlations'!R8,0)","v":-0.112728371926837},{"$f":"IF(NRRs!S8<$B$66,'Spearman.Correlations'!S8,0)","v":0},{"$f":"IF(NRRs!T8<$B$66,'Spearman.Correlations'!T8,0)","v":0},{"$f":"IF(NRRs!U8<$B$66,'Spearman.Correlations'!U8,0)","v":0},{"$f":"IF(NRRs!V8<$B$66,'Spearman.Correlations'!V8,0)","v":0},{"$f":"IF(NRRs!W8<$B$66,'Spearman.Correlations'!W8,0)","v":0},{"$f":"IF(NRRs!X8<$B$66,'Spearman.Correlations'!X8,0)","v":-0.0761608217391816},{"$f":"IF(NRRs!Y8<$B$66,'Spearman.Correlations'!Y8,0)","v":0},{"$f":"IF(NRRs!Z8<$B$66,'Spearman.Correlations'!Z8,0)","v":-0.0523723086939318},{"$f":"IF(NRRs!AA8<$B$66,'Spearman.Correlations'!AA8,0)","v":-0.122076347374372},{"$f":"IF(NRRs!AB8<$B$66,'Spearman.Correlations'!AB8,0)","v":-0.179523208573101},{"$f":"IF(NRRs!AC8<$B$66,'Spearman.Correlations'!AC8,0)","v":0},{"$f":"IF(NRRs!AD8<$B$66,'Spearman.Correlations'!AD8,0)","v":0},{"$f":"IF(NRRs!AE8<$B$66,'Spearman.Correlations'!AE8,0)","v":0},{"$f":"IF(NRRs!AF8<$B$66,'Spearman.Correlations'!AF8,0)","v":0},{"$f":"IF(NRRs!AG8<$B$66,'Spearman.Correlations'!AG8,0)","v":0},{"$f":"IF(NRRs!AH8<$B$66,'Spearman.Correlations'!AH8,0)","v":0},{"$f":"IF(NRRs!AI8<$B$66,'Spearman.Correlations'!AI8,0)","v":0},{"$f":"IF(NRRs!AJ8<$B$66,'Spearman.Correlations'!AJ8,0)","v":0},{"$f":"IF(NRRs!AK8<$B$66,'Spearman.Correlations'!AK8,0)","v":0},{"$f":"IF(NRRs!AL8<$B$66,'Spearman.Correlations'!AL8,0)","v":0},{"$f":"IF(NRRs!AM8<$B$66,'Spearman.Correlations'!AM8,0)","v":-0.0406594856644706},{"$f":"IF(NRRs!AN8<$B$66,'Spearman.Correlations'!AN8,0)","v":0},{"$f":"IF(NRRs!AO8<$B$66,'Spearman.Correlations'!AO8,0)","v":0},{"$f":"IF(NRRs!AP8<$B$66,'Spearman.Correlations'!AP8,0)","v":0},{"$f":"IF(NRRs!AQ8<$B$66,'Spearman.Correlations'!AQ8,0)","v":-0.231939532456639},{"$f":"IF(NRRs!AR8<$B$66,'Spearman.Correlations'!AR8,0)","v":-0.135895323428187},{"$f":"IF(NRRs!AS8<$B$66,'Spearman.Correlations'!AS8,0)","v":-0.0822466824727951},{"$f":"IF(NRRs!AT8<$B$66,'Spearman.Correlations'!AT8,0)","v":0},{"$f":"IF(NRRs!AU8<$B$66,'Spearman.Correlations'!AU8,0)","v":-0.301474004103982},{"$f":"IF(NRRs!AV8<$B$66,'Spearman.Correlations'!AV8,0)","v":0.245318109773017},{"$f":"IF(NRRs!AW8<$B$66,'Spearman.Correlations'!AW8,0)","v":0},{"$f":"IF(NRRs!AX8<$B$66,'Spearman.Correlations'!AX8,0)","v":0},{"$f":"IF(NRRs!AY8<$B$66,'Spearman.Correlations'!AY8,0)","v":0.35289123494398},{"$f":"IF(NRRs!AZ8<$B$66,'Spearman.Correlations'!AZ8,0)","v":0},{"$f":"IF(NRRs!BA8<$B$66,'Spearman.Correlations'!BA8,0)","v":0},{"$f":"IF(NRRs!BB8<$B$66,'Spearman.Correlations'!BB8,0)","v":0},{"$f":"IF(NRRs!BC8<$B$66,'Spearman.Correlations'!BC8,0)","v":0},{"$f":"IF(NRRs!BD8<$B$66,'Spearman.Correlations'!BD8,0)","v":0},{"$f":"IF(NRRs!BE8<$B$66,'Spearman.Correlations'!BE8,0)","v":0},{"$f":"IF(NRRs!BF8<$B$66,'Spearman.Correlations'!BF8,0)","v":0},{"$f":"IF(NRRs!BG8<$B$66,'Spearman.Correlations'!BG8,0)","v":0},{"$f":"IF(NRRs!BH8<$B$66,'Spearman.Correlations'!BH8,0)","v":0.189261204777671}]
["LC8",{"$f":"IF(NRRs!B9<$B$66,'Spearman.Correlations'!B9,0)","v":0.220813597771335},{"$f":"IF(NRRs!C9<$B$66,'Spearman.Correlations'!C9,0)","v":0.761594667996387},{"$f":"IF(NRRs!D9<$B$66,'Spearman.Correlations'!D9,0)","v":0.233096985865696},{"$f":"IF(NRRs!E9<$B$66,'Spearman.Correlations'!E9,0)","v":0.426604935874308},{"$f":"IF(NRRs!F9<$B$66,'Spearman.Correlations'!F9,0)","v":0.563395067090288},{"$f":"IF(NRRs!G9<$B$66,'Spearman.Correlations'!G9,0)","v":0.714289559790118},{"$f":"IF(NRRs!H9<$B$66,'Spearman.Correlations'!H9,0)","v":0.354411689283075},{"$f":"IF(NRRs!I9<$B$66,'Spearman.Correlations'!I9,0)","v":0},{"$f":"IF(NRRs!J9<$B$66,'Spearman.Correlations'!J9,0)","v":0.181026704783464},{"$f":"IF(NRRs!K9<$B$66,'Spearman.Correlations'!K9,0)","v":0},{"$f":"IF(NRRs!L9<$B$66,'Spearman.Correlations'!L9,0)","v":0},{"$f":"IF(NRRs!M9<$B$66,'Spearman.Correlations'!M9,0)","v":0},{"$f":"IF(NRRs!N9<$B$66,'Spearman.Correlations'!N9,0)","v":0},{"$f":"IF(NRRs!O9<$B$66,'Spearman.Correlations'!O9,0)","v":0},{"$f":"IF(NRRs!P9<$B$66,'Spearman.Correlations'!P9,0)","v":0},{"$f":"IF(NRRs!Q9<$B$66,'Spearman.Correlations'!Q9,0)","v":0},{"$f":"IF(NRRs!R9<$B$66,'Spearman.Correlations'!R9,0)","v":0},{"$f":"IF(NRRs!S9<$B$66,'Spearman.Correlations'!S9,0)","v":0.23691384380315},{"$f":"IF(NRRs!T9<$B$66,'Spearman.Correlations'!T9,0)","v":0},{"$f":"IF(NRRs!U9<$B$66,'Spearman.Correlations'!U9,0)","v":0},{"$f":"IF(NRRs!V9<$B$66,'Spearman.Correlations'!V9,0)","v":0},{"$f":"IF(NRRs!W9<$B$66,'Spearman.Correlations'!W9,0)","v":0},{"$f":"IF(NRRs!X9<$B$66,'Spearman.Correlations'!X9,0)","v":0},{"$f":"IF(NRRs!Y9<$B$66,'Spearman.Correlations'!Y9,0)","v":0},{"$f":"IF(NRRs!Z9<$B$66,'Spearman.Correlations'!Z9,0)","v":0},{"$f":"IF(NRRs!AA9<$B$66,'Spearman.Correlations'!AA9,0)","v":0},{"$f":"IF(NRRs!AB9<$B$66,'Spearman.Correlations'!AB9,0)","v":0},{"$f":"IF(NRRs!AC9<$B$66,'Spearman.Correlations'!AC9,0)","v":0},{"$f":"IF(NRRs!AD9<$B$66,'Spearman.Correlations'!AD9,0)","v":0},{"$f":"IF(NRRs!AE9<$B$66,'Spearman.Correlations'!AE9,0)","v":0},{"$f":"IF(NRRs!AF9<$B$66,'Spearman.Correlations'!AF9,0)","v":0},{"$f":"IF(NRRs!AG9<$B$66,'Spearman.Correlations'!AG9,0)","v":0},{"$f":"IF(NRRs!AH9<$B$66,'Spearman.Correlations'!AH9,0)","v":0},{"$f":"IF(NRRs!AI9<$B$66,'Spearman.Correlations'!AI9,0)","v":0},{"$f":"IF(NRRs!AJ9<$B$66,'Spearman.Correlations'!AJ9,0)","v":0},{"$f":"IF(NRRs!AK9<$B$66,'Spearman.Correlations'!AK9,0)","v":0},{"$f":"IF(NRRs!AL9<$B$66,'Spearman.Correlations'!AL9,0)","v":0},{"$f":"IF(NRRs!AM9<$B$66,'Spearman.Correlations'!AM9,0)","v":0},{"$f":"IF(NRRs!AN9<$B$66,'Spearman.Correlations'!AN9,0)","v":0},{"$f":"IF(NRRs!AO9<$B$66,'Spearman.Correlations'!AO9,0)","v":0},{"$f":"IF(NRRs!AP9<$B$66,'Spearman.Correlations'!AP9,0)","v":0},{"$f":"IF(NRRs!AQ9<$B$66,'Spearman.Correlations'!AQ9,0)","v":0},{"$f":"IF(NRRs!AR9<$B$66,'Spearman.Correlations'!AR9,0)","v":0},{"$f":"IF(NRRs!AS9<$B$66,'Spearman.Correlations'!AS9,0)","v":0},{"$f":"IF(NRRs!AT9<$B$66,'Spearman.Correlations'!AT9,0)","v":-0.0900354035839359},{"$f":"IF(NRRs!AU9<$B$66,'Spearman.Correlations'!AU9,0)","v":-0.281183729246404},{"$f":"IF(NRRs!AV9<$B$66,'Spearman.Correlations'!AV9,0)","v":0},{"$f":"IF(NRRs!AW9<$B$66,'Spearman.Correlations'!AW9,0)","v":0},{"$f":"IF(NRRs!AX9<$B$66,'Spearman.Correlations'!AX9,0)","v":0},{"$f":"IF(NRRs!AY9<$B$66,'Spearman.Correlations'!AY9,0)","v":-0.154613246423033},{"$f":"IF(NRRs!AZ9<$B$66,'Spearman.Correlations'!AZ9,0)","v":0},{"$f":"IF(NRRs!BA9<$B$66,'Spearman.Correlations'!BA9,0)","v":0},{"$f":"IF(NRRs!BB9<$B$66,'Spearman.Correlations'!BB9,0)","v":0},{"$f":"IF(NRRs!BC9<$B$66,'Spearman.Correlations'!BC9,0)","v":-0.0867998642826168},{"$f":"IF(NRRs!BD9<$B$66,'Spearman.Correlations'!BD9,0)","v":0},{"$f":"IF(NRRs!BE9<$B$66,'Spearman.Correlations'!BE9,0)","v":0.198990086657604},{"$f":"IF(NRRs!BF9<$B$66,'Spearman.Correlations'!BF9,0)","v":0},{"$f":"IF(NRRs!BG9<$B$66,'Spearman.Correlations'!BG9,0)","v":0},{"$f":"IF(NRRs!BH9<$B$66,'Spearman.Correlations'!BH9,0)","v":0}]
["LC9",{"$f":"IF(NRRs!B10<$B$66,'Spearman.Correlations'!B10,0)","v":0.755959089762331},{"$f":"IF(NRRs!C10<$B$66,'Spearman.Correlations'!C10,0)","v":0.494389828352862},{"$f":"IF(NRRs!D10<$B$66,'Spearman.Correlations'!D10,0)","v":0.739430400330137},{"$f":"IF(NRRs!E10<$B$66,'Spearman.Correlations'!E10,0)","v":0},{"$f":"IF(NRRs!F10<$B$66,'Spearman.Correlations'!F10,0)","v":0.398165804512767},{"$f":"IF(NRRs!G10<$B$66,'Spearman.Correlations'!G10,0)","v":0.239344219527141},{"$f":"IF(NRRs!H10<$B$66,'Spearman.Correlations'!H10,0)","v":0.622742719619488},{"$f":"IF(NRRs!I10<$B$66,'Spearman.Correlations'!I10,0)","v":0.181026704783464},{"$f":"IF(NRRs!J10<$B$66,'Spearman.Correlations'!J10,0)","v":0},{"$f":"IF(NRRs!K10<$B$66,'Spearman.Correlations'!K10,0)","v":0},{"$f":"IF(NRRs!L10<$B$66,'Spearman.Correlations'!L10,0)","v":-0.0869070486711939},{"$f":"IF(NRRs!M10<$B$66,'Spearman.Correlations'!M10,0)","v":0},{"$f":"IF(NRRs!N10<$B$66,'Spearman.Correlations'!N10,0)","v":-0.0730188993738448},{"$f":"IF(NRRs!O10<$B$66,'Spearman.Correlations'!O10,0)","v":0},{"$f":"IF(NRRs!P10<$B$66,'Spearman.Correlations'!P10,0)","v":0},{"$f":"IF(NRRs!Q10<$B$66,'Spearman.Correlations'!Q10,0)","v":-0.0872135201785396},{"$f":"IF(NRRs!R10<$B$66,'Spearman.Correlations'!R10,0)","v":-0.21901575279986},{"$f":"IF(NRRs!S10<$B$66,'Spearman.Correlations'!S10,0)","v":0},{"$f":"IF(NRRs!T10<$B$66,'Spearman.Correlations'!T10,0)","v":0},{"$f":"IF(NRRs!U10<$B$66,'Spearman.Correlations'!U10,0)","v":0},{"$f":"IF(NRRs!V10<$B$66,'Spearman.Correlations'!V10,0)","v":0},{"$f":"IF(NRRs!W10<$B$66,'Spearman.Correlations'!W10,0)","v":0},{"$f":"IF(NRRs!X10<$B$66,'Spearman.Correlations'!X10,0)","v":-0.200460313147588},{"$f":"IF(NRRs!Y10<$B$66,'Spearman.Correlations'!Y10,0)","v":0},{"$f":"IF(NRRs!Z10<$B$66,'Spearman.Correlations'!Z10,0)","v":-0.0730807095676546},{"$f":"IF(NRRs!AA10<$B$66,'Spearman.Correlations'!AA10,0)","v":-0.149817721496708},{"$f":"IF(NRRs!AB10<$B$66,'Spearman.Correlations'!AB10,0)","v":-0.196244681405314},{"$f":"IF(NRRs!AC10<$B$66,'Spearman.Correlations'!AC10,0)","v":0},{"$f":"IF(NRRs!AD10<$B$66,'Spearman.Correlations'!AD10,0)","v":0},{"$f":"IF(NRRs!AE10<$B$66,'Spearman.Correlations'!AE10,0)","v":0},{"$f":"IF(NRRs!AF10<$B$66,'Spearman.Correlations'!AF10,0)","v":0},{"$f":"IF(NRRs!AG10<$B$66,'Spearman.Correlations'!AG10,0)","v":0},{"$f":"IF(NRRs!AH10<$B$66,'Spearman.Correlations'!AH10,0)","v":-0.113519765782465},{"$f":"IF(NRRs!AI10<$B$66,'Spearman.Correlations'!AI10,0)","v":0},{"$f":"IF(NRRs!AJ10<$B$66,'Spearman.Correlations'!AJ10,0)","v":0},{"$f":"IF(NRRs!AK10<$B$66,'Spearman.Correlations'!AK10,0)","v":0},{"$f":"IF(NRRs!AL10<$B$66,'Spearman.Correlations'!AL10,0)","v":0},{"$f":"IF(NRRs!AM10<$B$66,'Spearman.Correlations'!AM10,0)","v":-0.162420281426332},{"$f":"IF(NRRs!AN10<$B$66,'Spearman.Correlations'!AN10,0)","v":0},{"$f":"IF(NRRs!AO10<$B$66,'Spearman.Correlations'!AO10,0)","v":0},{"$f":"IF(NRRs!AP10<$B$66,'Spearman.Correlations'!AP10,0)","v":0},{"$f":"IF(NRRs!AQ10<$B$66,'Spearman.Correlations'!AQ10,0)","v":-0.212047460485785},{"$f":"IF(NRRs!AR10<$B$66,'Spearman.Correlations'!AR10,0)","v":0},{"$f":"IF(NRRs!AS10<$B$66,'Spearman.Correlations'!AS10,0)","v":-0.0836476121238534},{"$f":"IF(NRRs!AT10<$B$66,'Spearman.Correlations'!AT10,0)","v":0},{"$f":"IF(NRRs!AU10<$B$66,'Spearman.Correlations'!AU10,0)","v":0},{"$f":"IF(NRRs!AV10<$B$66,'Spearman.Correlations'!AV10,0)","v":0.19105688932721},{"$f":"IF(NRRs!AW10<$B$66,'Spearman.Correlations'!AW10,0)","v":0},{"$f":"IF(NRRs!AX10<$B$66,'Spearman.Correlations'!AX10,0)","v":0},{"$f":"IF(NRRs!AY10<$B$66,'Spearman.Correlations'!AY10,0)","v":0.272964727206589},{"$f":"IF(NRRs!AZ10<$B$66,'Spearman.Correlations'!AZ10,0)","v":0},{"$f":"IF(NRRs!BA10<$B$66,'Spearman.Correlations'!BA10,0)","v":0},{"$f":"IF(NRRs!BB10<$B$66,'Spearman.Correlations'!BB10,0)","v":0},{"$f":"IF(NRRs!BC10<$B$66,'Spearman.Correlations'!BC10,0)","v":0},{"$f":"IF(NRRs!BD10<$B$66,'Spearman.Correlations'!BD10,0)","v":0},{"$f":"IF(NRRs!BE10<$B$66,'Spearman.Correlations'!BE10,0)","v":0},{"$f":"IF(NRRs!BF10<$B$66,'Spearman.Correlations'!BF10,0)","v":0},{"$f":"IF(NRRs!BG10<$B$66,'Spearman.Correlations'!BG10,0)","v":0},{"$f":"IF(NRRs!BH10<$B$66,'Spearman.Correlations'!BH10,0)","v":0}]
["2-OH-Butanoic Acid",{"$f":"IF(NRRs!B11<$B$66,'Spearman.Correlations'!B11,0)","v":0},{"$f":"IF(NRRs!C11<$B$66,'Spearman.Correlations'!C11,0)","v":0},{"$f":"IF(NRRs!D11<$B$66,'Spearman.Correlations'!D11,0)","v":0},{"$f":"IF(NRRs!E11<$B$66,'Spearman.Correlations'!E11,0)","v":0},{"$f":"IF(NRRs!F11<$B$66,'Spearman.Correlations'!F11,0)","v":0},{"$f":"IF(NRRs!G11<$B$66,'Spearman.Correlations'!G11,0)","v":0},{"$f":"IF(NRRs!H11<$B$66,'Spearman.Correlations'!H11,0)","v":0},{"$f":"IF(NRRs!I11<$B$66,'Spearman.Correlations'!I11,0)","v":0},{"$f":"IF(NRRs!J11<$B$66,'Spearman.Correlations'!J11,0)","v":0},{"$f":"IF(NRRs!K11<$B$66,'Spearman.Correlations'!K11,0)","v":0},{"$f":"IF(NRRs!L11<$B$66,'Spearman.Correlations'!L11,0)","v":0},{"$f":"IF(NRRs!M11<$B$66,'Spearman.Correlations'!M11,0)","v":0.626414813317116},{"$f":"IF(NRRs!N11<$B$66,'Spearman.Correlations'!N11,0)","v":0},{"$f":"IF(NRRs!O11<$B$66,'Spearman.Correlations'!O11,0)","v":0},{"$f":"IF(NRRs!P11<$B$66,'Spearman.Correlations'!P11,0)","v":0.235784075408941},{"$f":"IF(NRRs!Q11<$B$66,'Spearman.Correlations'!Q11,0)","v":0},{"$f":"IF(NRRs!R11<$B$66,'Spearman.Correlations'!R11,0)","v":0},{"$f":"IF(NRRs!S11<$B$66,'Spearman.Correlations'!S11,0)","v":0},{"$f":"IF(NRRs!T11<$B$66,'Spearman.Correlations'!T11,0)","v":0.232127139902184},{"$f":"IF(NRRs!U11<$B$66,'Spearman.Correlations'!U11,0)","v":0},{"$f":"IF(NRRs!V11<$B$66,'Spearman.Correlations'!V11,0)","v":0},{"$f":"IF(NRRs!W11<$B$66,'Spearman.Correlations'!W11,0)","v":0.223251239054298},{"$f":"IF(NRRs!X11<$B$66,'Spearman.Correlations'!X11,0)","v":0},{"$f":"IF(NRRs!Y11<$B$66,'Spearman.Correlations'!Y11,0)","v":0},{"$f":"IF(NRRs!Z11<$B$66,'Spearman.Correlations'!Z11,0)","v":0},{"$f":"IF(NRRs!AA11<$B$66,'Spearman.Correlations'!AA11,0)","v":0.215372968567056},{"$f":"IF(NRRs!AB11<$B$66,'Spearman.Correlations'!AB11,0)","v":0},{"$f":"IF(NRRs!AC11<$B$66,'Spearman.Correlations'!AC11,0)","v":-0.15062488802879},{"$f":"IF(NRRs!AD11<$B$66,'Spearman.Correlations'!AD11,0)","v":0},{"$f":"IF(NRRs!AE11<$B$66,'Spearman.Correlations'!AE11,0)","v":0},{"$f":"IF(NRRs!AF11<$B$66,'Spearman.Correlations'!AF11,0)","v":0},{"$f":"IF(NRRs!AG11<$B$66,'Spearman.Correlations'!AG11,0)","v":0},{"$f":"IF(NRRs!AH11<$B$66,'Spearman.Correlations'!AH11,0)","v":0},{"$f":"IF(NRRs!AI11<$B$66,'Spearman.Correlations'!AI11,0)","v":0.343805880195681},{"$f":"IF(NRRs!AJ11<$B$66,'Spearman.Correlations'!AJ11,0)","v":0},{"$f":"IF(NRRs!AK11<$B$66,'Spearman.Correlations'!AK11,0)","v":0.214115334108748},{"$f":"IF(NRRs!AL11<$B$66,'Spearman.Correlations'!AL11,0)","v":0},{"$f":"IF(NRRs!AM11<$B$66,'Spearman.Correlations'!AM11,0)","v":0},{"$f":"IF(NRRs!AN11<$B$66,'Spearman.Correlations'!AN11,0)","v":-0.180268407517835},{"$f":"IF(NRRs!AO11<$B$66,'Spearman.Correlations'!AO11,0)","v":0},{"$f":"IF(NRRs!AP11<$B$66,'Spearman.Correlations'!AP11,0)","v":0},{"$f":"IF(NRRs!AQ11<$B$66,'Spearman.Correlations'!AQ11,0)","v":0},{"$f":"IF(NRRs!AR11<$B$66,'Spearman.Correlations'!AR11,0)","v":0},{"$f":"IF(NRRs!AS11<$B$66,'Spearman.Correlations'!AS11,0)","v":-0.0947733659757618},{"$f":"IF(NRRs!AT11<$B$66,'Spearman.Correlations'!AT11,0)","v":0},{"$f":"IF(NRRs!AU11<$B$66,'Spearman.Correlations'!AU11,0)","v":0},{"$f":"IF(NRRs!AV11<$B$66,'Spearman.Correlations'!AV11,0)","v":0},{"$f":"IF(NRRs!AW11<$B$66,'Spearman.Correlations'!AW11,0)","v":0},{"$f":"IF(NRRs!AX11<$B$66,'Spearman.Correlations'!AX11,0)","v":0},{"$f":"IF(NRRs!AY11<$B$66,'Spearman.Correlations'!AY11,0)","v":0},{"$f":"IF(NRRs!AZ11<$B$66,'Spearman.Correlations'!AZ11,0)","v":0},{"$f":"IF(NRRs!BA11<$B$66,'Spearman.Correlations'!BA11,0)","v":0},{"$f":"IF(NRRs!BB11<$B$66,'Spearman.Correlations'!BB11,0)","v":0},{"$f":"IF(NRRs!BC11<$B$66,'Spearman.Correlations'!BC11,0)","v":0},{"$f":"IF(NRRs!BD11<$B$66,'Spearman.Correlations'!BD11,0)","v":0},{"$f":"IF(NRRs!BE11<$B$66,'Spearman.Correlations'!BE11,0)","v":0},{"$f":"IF(NRRs!BF11<$B$66,'Spearman.Correlations'!BF11,0)","v":0},{"$f":"IF(NRRs!BG11<$B$66,'Spearman.Correlations'!BG11,0)","v":0},{"$f":"IF(NRRs!BH11<$B$66,'Spearman.Correlations'!BH11,0)","v":0}]
["3-OH-Benzoic Acid ",{"$f":"IF(NRRs!B12<$B$66,'Spearman.Correlations'!B12,0)","v":0},{"$f":"IF(NRRs!C12<$B$66,'Spearman.Correlations'!C12,0)","v":0},{"$f":"IF(NRRs!D12<$B$66,'Spearman.Correlations'!D12,0)","v":0},{"$f":"IF(NRRs!E12<$B$66,'Spearman.Correlations'!E12,0)","v":0},{"$f":"IF(NRRs!F12<$B$66,'Spearman.Correlations'!F12,0)","v":0},{"$f":"IF(NRRs!G12<$B$66,'Spearman.Correlations'!G12,0)","v":0},{"$f":"IF(NRRs!H12<$B$66,'Spearman.Correlations'!H12,0)","v":-0.140085511018722},{"$f":"IF(NRRs!I12<$B$66,'Spearman.Correlations'!I12,0)","v":0},{"$f":"IF(NRRs!J12<$B$66,'Spearman.Correlations'!J12,0)","v":-0.0869070486711939},{"$f":"IF(NRRs!K12<$B$66,'Spearman.Correlations'!K12,0)","v":0},{"$f":"IF(NRRs!L12<$B$66,'Spearman.Correlations'!L12,0)","v":0},{"$f":"IF(NRRs!M12<$B$66,'Spearman.Correlations'!M12,0)","v":0},{"$f":"IF(NRRs!N12<$B$66,'Spearman.Correlations'!N12,0)","v":0.732298535852062},{"$f":"IF(NRRs!O12<$B$66,'Spearman.Correlations'!O12,0)","v":0},{"$f":"IF(NRRs!P12<$B$66,'Spearman.Correlations'!P12,0)","v":0},{"$f":"IF(NRRs!Q12<$B$66,'Spearman.Correlations'!Q12,0)","v":0},{"$f":"IF(NRRs!R12<$B$66,'Spearman.Correlations'!R12,0)","v":0},{"$f":"IF(NRRs!S12<$B$66,'Spearman.Correlations'!S12,0)","v":0},{"$f":"IF(NRRs!T12<$B$66,'Spearman.Correlations'!T12,0)","v":0},{"$f":"IF(NRRs!U12<$B$66,'Spearman.Correlations'!U12,0)","v":0},{"$f":"IF(NRRs!V12<$B$66,'Spearman.Correlations'!V12,0)","v":0},{"$f":"IF(NRRs!W12<$B$66,'Spearman.Correlations'!W12,0)","v":0},{"$f":"IF(NRRs!X12<$B$66,'Spearman.Correlations'!X12,0)","v":0},{"$f":"IF(NRRs!Y12<$B$66,'Spearman.Correlations'!Y12,0)","v":0},{"$f":"IF(NRRs!Z12<$B$66,'Spearman.Correlations'!Z12,0)","v":0},{"$f":"IF(NRRs!AA12<$B$66,'Spearman.Correlations'!AA12,0)","v":0},{"$f":"IF(NRRs!AB12<$B$66,'Spearman.Correlations'!AB12,0)","v":0.70630956268184},{"$f":"IF(NRRs!AC12<$B$66,'Spearman.Correlations'!AC12,0)","v":0},{"$f":"IF(NRRs!AD12<$B$66,'Spearman.Correlations'!AD12,0)","v":0},{"$f":"IF(NRRs!AE12<$B$66,'Spearman.Correlations'!AE12,0)","v":0},{"$f":"IF(NRRs!AF12<$B$66,'Spearman.Correlations'!AF12,0)","v":0},{"$f":"IF(NRRs!AG12<$B$66,'Spearman.Correlations'!AG12,0)","v":0},{"$f":"IF(NRRs!AH12<$B$66,'Spearman.Correlations'!AH12,0)","v":0},{"$f":"IF(NRRs!AI12<$B$66,'Spearman.Correlations'!AI12,0)","v":0},{"$f":"IF(NRRs!AJ12<$B$66,'Spearman.Correlations'!AJ12,0)","v":0},{"$f":"IF(NRRs!AK12<$B$66,'Spearman.Correlations'!AK12,0)","v":0},{"$f":"IF(NRRs!AL12<$B$66,'Spearman.Correlations'!AL12,0)","v":0},{"$f":"IF(NRRs!AM12<$B$66,'Spearman.Correlations'!AM12,0)","v":0},{"$f":"IF(NRRs!AN12<$B$66,'Spearman.Correlations'!AN12,0)","v":-0.155650684553376},{"$f":"IF(NRRs!AO12<$B$66,'Spearman.Correlations'!AO12,0)","v":0},{"$f":"IF(NRRs!AP12<$B$66,'Spearman.Correlations'!AP12,0)","v":0},{"$f":"IF(NRRs!AQ12<$B$66,'Spearman.Correlations'!AQ12,0)","v":0.248462545197205},{"$f":"IF(NRRs!AR12<$B$66,'Spearman.Correlations'!AR12,0)","v":0},{"$f":"IF(NRRs!AS12<$B$66,'Spearman.Correlations'!AS12,0)","v":0.563982164363004},{"$f":"IF(NRRs!AT12<$B$66,'Spearman.Correlations'!AT12,0)","v":0},{"$f":"IF(NRRs!AU12<$B$66,'Spearman.Correlations'!AU12,0)","v":0},{"$f":"IF(NRRs!AV12<$B$66,'Spearman.Correlations'!AV12,0)","v":-0.113141571272861},{"$f":"IF(NRRs!AW12<$B$66,'Spearman.Correlations'!AW12,0)","v":0},{"$f":"IF(NRRs!AX12<$B$66,'Spearman.Correlations'!AX12,0)","v":0},{"$f":"IF(NRRs!AY12<$B$66,'Spearman.Correlations'!AY12,0)","v":0},{"$f":"IF(NRRs!AZ12<$B$66,'Spearman.Correlations'!AZ12,0)","v":0},{"$f":"IF(NRRs!BA12<$B$66,'Spearman.Correlations'!BA12,0)","v":0},{"$f":"IF(NRRs!BB12<$B$66,'Spearman.Correlations'!BB12,0)","v":0},{"$f":"IF(NRRs!BC12<$B$66,'Spearman.Correlations'!BC12,0)","v":0},{"$f":"IF(NRRs!BD12<$B$66,'Spearman.Correlations'!BD12,0)","v":0},{"$f":"IF(NRRs!BE12<$B$66,'Spearman.Correlations'!BE12,0)","v":0},{"$f":"IF(NRRs!BF12<$B$66,'Spearman.Correlations'!BF12,0)","v":0},{"$f":"IF(NRRs!BG12<$B$66,'Spearman.Correlations'!BG12,0)","v":0},{"$f":"IF(NRRs!BH12<$B$66,'Spearman.Correlations'!BH12,0)","v":0}]
["3-OH-Butanoic Acid ",{"$f":"IF(NRRs!B13<$B$66,'Spearman.Correlations'!B13,0)","v":0},{"$f":"IF(NRRs!C13<$B$66,'Spearman.Correlations'!C13,0)","v":0},{"$f":"IF(NRRs!D13<$B$66,'Spearman.Correlations'!D13,0)","v":0},{"$f":"IF(NRRs!E13<$B$66,'Spearman.Correlations'!E13,0)","v":-0.117270906548825},{"$f":"IF(NRRs!F13<$B$66,'Spearman.Correlations'!F13,0)","v":0},{"$f":"IF(NRRs!G13<$B$66,'Spearman.Correlations'!G13,0)","v":0},{"$f":"IF(NRRs!H13<$B$66,'Spearman.Correlations'!H13,0)","v":0},{"$f":"IF(NRRs!I13<$B$66,'Spearman.Correlations'!I13,0)","v":0},{"$f":"IF(NRRs!J13<$B$66,'Spearman.Correlations'!J13,0)","v":0},{"$f":"IF(NRRs!K13<$B$66,'Spearman.Correlations'!K13,0)","v":0.626414813317116},{"$f":"IF(NRRs!L13<$B$66,'Spearman.Correlations'!L13,0)","v":0},{"$f":"IF(NRRs!M13<$B$66,'Spearman.Correlations'!M13,0)","v":0},{"$f":"IF(NRRs!N13<$B$66,'Spearman.Correlations'!N13,0)","v":0},{"$f":"IF(NRRs!O13<$B$66,'Spearman.Correlations'!O13,0)","v":0},{"$f":"IF(NRRs!P13<$B$66,'Spearman.Correlations'!P13,0)","v":0},{"$f":"IF(NRRs!Q13<$B$66,'Spearman.Correlations'!Q13,0)","v":0},{"$f":"IF(NRRs!R13<$B$66,'Spearman.Correlations'!R13,0)","v":0},{"$f":"IF(NRRs!S13<$B$66,'Spearman.Correlations'!S13,0)","v":0},{"$f":"IF(NRRs!T13<$B$66,'Spearman.Correlations'!T13,0)","v":0},{"$f":"IF(NRRs!U13<$B$66,'Spearman.Correlations'!U13,0)","v":0},{"$f":"IF(NRRs!V13<$B$66,'Spearman.Correlations'!V13,0)","v":0},{"$f":"IF(NRRs!W13<$B$66,'Spearman.Correlations'!W13,0)","v":0},{"$f":"IF(NRRs!X13<$B$66,'Spearman.Correlations'!X13,0)","v":0},{"$f":"IF(NRRs!Y13<$B$66,'Spearman.Correlations'!Y13,0)","v":0},{"$f":"IF(NRRs!Z13<$B$66,'Spearman.Correlations'!Z13,0)","v":0},{"$f":"IF(NRRs!AA13<$B$66,'Spearman.Correlations'!AA13,0)","v":0},{"$f":"IF(NRRs!AB13<$B$66,'Spearman.Correlations'!AB13,0)","v":0},{"$f":"IF(NRRs!AC13<$B$66,'Spearman.Correlations'!AC13,0)","v":-0.162325708603976},{"$f":"IF(NRRs!AD13<$B$66,'Spearman.Correlations'!AD13,0)","v":0},{"$f":"IF(NRRs!AE13<$B$66,'Spearman.Correlations'!AE13,0)","v":0},{"$f":"IF(NRRs!AF13<$B$66,'Spearman.Correlations'!AF13,0)","v":0},{"$f":"IF(NRRs!AG13<$B$66,'Spearman.Correlations'!AG13,0)","v":0},{"$f":"IF(NRRs!AH13<$B$66,'Spearman.Correlations'!AH13,0)","v":0},{"$f":"IF(NRRs!AI13<$B$66,'Spearman.Correlations'!AI13,0)","v":0},{"$f":"IF(NRRs!AJ13<$B$66,'Spearman.Correlations'!AJ13,0)","v":0},{"$f":"IF(NRRs!AK13<$B$66,'Spearman.Correlations'!AK13,0)","v":0.267588672097602},{"$f":"IF(NRRs!AL13<$B$66,'Spearman.Correlations'!AL13,0)","v":0},{"$f":"IF(NRRs!AM13<$B$66,'Spearman.Correlations'!AM13,0)","v":0},{"$f":"IF(NRRs!AN13<$B$66,'Spearman.Correlations'!AN13,0)","v":0},{"$f":"IF(NRRs!AO13<$B$66,'Spearman.Correlations'!AO13,0)","v":-0.0797187579831613},{"$f":"IF(NRRs!AP13<$B$66,'Spearman.Correlations'!AP13,0)","v":0},{"$f":"IF(NRRs!AQ13<$B$66,'Spearman.Correlations'!AQ13,0)","v":0},{"$f":"IF(NRRs!AR13<$B$66,'Spearman.Correlations'!AR13,0)","v":0},{"$f":"IF(NRRs!AS13<$B$66,'Spearman.Correlations'!AS13,0)","v":0},{"$f":"IF(NRRs!AT13<$B$66,'Spearman.Correlations'!AT13,0)","v":0},{"$f":"IF(NRRs!AU13<$B$66,'Spearman.Correlations'!AU13,0)","v":0},{"$f":"IF(NRRs!AV13<$B$66,'Spearman.Correlations'!AV13,0)","v":0},{"$f":"IF(NRRs!AW13<$B$66,'Spearman.Correlations'!AW13,0)","v":0},{"$f":"IF(NRRs!AX13<$B$66,'Spearman.Correlations'!AX13,0)","v":0},{"$f":"IF(NRRs!AY13<$B$66,'Spearman.Correlations'!AY13,0)","v":0.214446450441903},{"$f":"IF(NRRs!AZ13<$B$66,'Spearman.Correlations'!AZ13,0)","v":0},{"$f":"IF(NRRs!BA13<$B$66,'Spearman.Correlations'!BA13,0)","v":0},{"$f":"IF(NRRs!BB13<$B$66,'Spearman.Correlations'!BB13,0)","v":0},{"$f":"IF(NRRs!BC13<$B$66,'Spearman.Correlations'!BC13,0)","v":0.196191411655242},{"$f":"IF(NRRs!BD13<$B$66,'Spearman.Correlations'!BD13,0)","v":0},{"$f":"IF(NRRs!BE13<$B$66,'Spearman.Correlations'!BE13,0)","v":0},{"$f":"IF(NRRs!BF13<$B$66,'Spearman.Correlations'!BF13,0)","v":0},{"$f":"IF(NRRs!BG13<$B$66,'Spearman.Correlations'!BG13,0)","v":0},{"$f":"IF(NRRs!BH13<$B$66,'Spearman.Correlations'!BH13,0)","v":0}]
["5-OH-1H-Indole-3-Acetic Acid ",{"$f":"IF(NRRs!B14<$B$66,'Spearman.Correlations'!B14,0)","v":-0.0933215481404803},{"$f":"IF(NRRs!C14<$B$66,'Spearman.Correlations'!C14,0)","v":0},{"$f":"IF(NRRs!D14<$B$66,'Spearman.Correlations'!D14,0)","v":-0.0405398205276332},{"$f":"IF(NRRs!E14<$B$66,'Spearman.Correlations'!E14,0)","v":0},{"$f":"IF(NRRs!F14<$B$66,'Spearman.Correlations'!F14,0)","v":0},{"$f":"IF(NRRs!G14<$B$66,'Spearman.Correlations'!G14,0)","v":0},{"$f":"IF(NRRs!H14<$B$66,'Spearman.Correlations'!H14,0)","v":-0.0778168734572063},{"$f":"IF(NRRs!I14<$B$66,'Spearman.Correlations'!I14,0)","v":0},{"$f":"IF(NRRs!J14<$B$66,'Spearman.Correlations'!J14,0)","v":-0.0730188993738448},{"$f":"IF(NRRs!K14<$B$66,'Spearman.Correlations'!K14,0)","v":0},{"$f":"IF(NRRs!L14<$B$66,'Spearman.Correlations'!L14,0)","v":0.732298535852062},{"$f":"IF(NRRs!M14<$B$66,'Spearman.Correlations'!M14,0)","v":0},{"$f":"IF(NRRs!N14<$B$66,'Spearman.Correlations'!N14,0)","v":0},{"$f":"IF(NRRs!O14<$B$66,'Spearman.Correlations'!O14,0)","v":0},{"$f":"IF(NRRs!P14<$B$66,'Spearman.Correlations'!P14,0)","v":0},{"$f":"IF(NRRs!Q14<$B$66,'Spearman.Correlations'!Q14,0)","v":0},{"$f":"IF(NRRs!R14<$B$66,'Spearman.Correlations'!R14,0)","v":0},{"$f":"IF(NRRs!S14<$B$66,'Spearman.Correlations'!S14,0)","v":0},{"$f":"IF(NRRs!T14<$B$66,'Spearman.Correlations'!T14,0)","v":0},{"$f":"IF(NRRs!U14<$B$66,'Spearman.Correlations'!U14,0)","v":0},{"$f":"IF(NRRs!V14<$B$66,'Spearman.Correlations'!V14,0)","v":0},{"$f":"IF(NRRs!W14<$B$66,'Spearman.Correlations'!W14,0)","v":0},{"$f":"IF(NRRs!X14<$B$66,'Spearman.Correlations'!X14,0)","v":0},{"$f":"IF(NRRs!Y14<$B$66,'Spearman.Correlations'!Y14,0)","v":0},{"$f":"IF(NRRs!Z14<$B$66,'Spearman.Correlations'!Z14,0)","v":0},{"$f":"IF(NRRs!AA14<$B$66,'Spearman.Correlations'!AA14,0)","v":0},{"$f":"IF(NRRs!AB14<$B$66,'Spearman.Correlations'!AB14,0)","v":0.804508301496443},{"$f":"IF(NRRs!AC14<$B$66,'Spearman.Correlations'!AC14,0)","v":0},{"$f":"IF(NRRs!AD14<$B$66,'Spearman.Correlations'!AD14,0)","v":0},{"$f":"IF(NRRs!AE14<$B$66,'Spearman.Correlations'!AE14,0)","v":0},{"$f":"IF(NRRs!AF14<$B$66,'Spearman.Correlations'!AF14,0)","v":0},{"$f":"IF(NRRs!AG14<$B$66,'Spearman.Correlations'!AG14,0)","v":0},{"$f":"IF(NRRs!AH14<$B$66,'Spearman.Correlations'!AH14,0)","v":0},{"$f":"IF(NRRs!AI14<$B$66,'Spearman.Correlations'!AI14,0)","v":0},{"$f":"IF(NRRs!AJ14<$B$66,'Spearman.Correlations'!AJ14,0)","v":0},{"$f":"IF(NRRs!AK14<$B$66,'Spearman.Correlations'!AK14,0)","v":0},{"$f":"IF(NRRs!AL14<$B$66,'Spearman.Correlations'!AL14,0)","v":0},{"$f":"IF(NRRs!AM14<$B$66,'Spearman.Correlations'!AM14,0)","v":0},{"$f":"IF(NRRs!AN14<$B$66,'Spearman.Correlations'!AN14,0)","v":0},{"$f":"IF(NRRs!AO14<$B$66,'Spearman.Correlations'!AO14,0)","v":0},{"$f":"IF(NRRs!AP14<$B$66,'Spearman.Correlations'!AP14,0)","v":0},{"$f":"IF(NRRs!AQ14<$B$66,'Spearman.Correlations'!AQ14,0)","v":0},{"$f":"IF(NRRs!AR14<$B$66,'Spearman.Correlations'!AR14,0)","v":0},{"$f":"IF(NRRs!AS14<$B$66,'Spearman.Correlations'!AS14,0)","v":0.678940673107555},{"$f":"IF(NRRs!AT14<$B$66,'Spearman.Correlations'!AT14,0)","v":0},{"$f":"IF(NRRs!AU14<$B$66,'Spearman.Correlations'!AU14,0)","v":0},{"$f":"IF(NRRs!AV14<$B$66,'Spearman.Correlations'!AV14,0)","v":0},{"$f":"IF(NRRs!AW14<$B$66,'Spearman.Correlations'!AW14,0)","v":0},{"$f":"IF(NRRs!AX14<$B$66,'Spearman.Correlations'!AX14,0)","v":0},{"$f":"IF(NRRs!AY14<$B$66,'Spearman.Correlations'!AY14,0)","v":0},{"$f":"IF(NRRs!AZ14<$B$66,'Spearman.Correlations'!AZ14,0)","v":0},{"$f":"IF(NRRs!BA14<$B$66,'Spearman.Correlations'!BA14,0)","v":0},{"$f":"IF(NRRs!BB14<$B$66,'Spearman.Correlations'!BB14,0)","v":0},{"$f":"IF(NRRs!BC14<$B$66,'Spearman.Correlations'!BC14,0)","v":0},{"$f":"IF(NRRs!BD14<$B$66,'Spearman.Correlations'!BD14,0)","v":0},{"$f":"IF(NRRs!BE14<$B$66,'Spearman.Correlations'!BE14,0)","v":0},{"$f":"IF(NRRs!BF14<$B$66,'Spearman.Correlations'!BF14,0)","v":0},{"$f":"IF(NRRs!BG14<$B$66,'Spearman.Correlations'!BG14,0)","v":0},{"$f":"IF(NRRs!BH14<$B$66,'Spearman.Correlations'!BH14,0)","v":0}]
["Alanine",{"$f":"IF(NRRs!B15<$B$66,'Spearman.Correlations'!B15,0)","v":0},{"$f":"IF(NRRs!C15<$B$66,'Spearman.Correlations'!C15,0)","v":0},{"$f":"IF(NRRs!D15<$B$66,'Spearman.Correlations'!D15,0)","v":0},{"$f":"IF(NRRs!E15<$B$66,'Spearman.Correlations'!E15,0)","v":0.241642486911213},{"$f":"IF(NRRs!F15<$B$66,'Spearman.Correlations'!F15,0)","v":0},{"$f":"IF(NRRs!G15<$B$66,'Spearman.Correlations'!G15,0)","v":0},{"$f":"IF(NRRs!H15<$B$66,'Spearman.Correlations'!H15,0)","v":0},{"$f":"IF(NRRs!I15<$B$66,'Spearman.Correlations'!I15,0)","v":0},{"$f":"IF(NRRs!J15<$B$66,'Spearman.Correlations'!J15,0)","v":0},{"$f":"IF(NRRs!K15<$B$66,'Spearman.Correlations'!K15,0)","v":0},{"$f":"IF(NRRs!L15<$B$66,'Spearman.Correlations'!L15,0)","v":0},{"$f":"IF(NRRs!M15<$B$66,'Spearman.Correlations'!M15,0)","v":0},{"$f":"IF(NRRs!N15<$B$66,'Spearman.Correlations'!N15,0)","v":0},{"$f":"IF(NRRs!O15<$B$66,'Spearman.Correlations'!O15,0)","v":0},{"$f":"IF(NRRs!P15<$B$66,'Spearman.Correlations'!P15,0)","v":0},{"$f":"IF(NRRs!Q15<$B$66,'Spearman.Correlations'!Q15,0)","v":0},{"$f":"IF(NRRs!R15<$B$66,'Spearman.Correlations'!R15,0)","v":0.286419507900749},{"$f":"IF(NRRs!S15<$B$66,'Spearman.Correlations'!S15,0)","v":-0.0631931934252728},{"$f":"IF(NRRs!T15<$B$66,'Spearman.Correlations'!T15,0)","v":0},{"$f":"IF(NRRs!U15<$B$66,'Spearman.Correlations'!U15,0)","v":0},{"$f":"IF(NRRs!V15<$B$66,'Spearman.Correlations'!V15,0)","v":0},{"$f":"IF(NRRs!W15<$B$66,'Spearman.Correlations'!W15,0)","v":0.286981127413647},{"$f":"IF(NRRs!X15<$B$66,'Spearman.Correlations'!X15,0)","v":0.282242865919344},{"$f":"IF(NRRs!Y15<$B$66,'Spearman.Correlations'!Y15,0)","v":0},{"$f":"IF(NRRs!Z15<$B$66,'Spearman.Correlations'!Z15,0)","v":0.271850623316131},{"$f":"IF(NRRs!AA15<$B$66,'Spearman.Correlations'!AA15,0)","v":0.2682902237524},{"$f":"IF(NRRs!AB15<$B$66,'Spearman.Correlations'!AB15,0)","v":0},{"$f":"IF(NRRs!AC15<$B$66,'Spearman.Correlations'!AC15,0)","v":0},{"$f":"IF(NRRs!AD15<$B$66,'Spearman.Correlations'!AD15,0)","v":0.333560165309805},{"$f":"IF(NRRs!AE15<$B$66,'Spearman.Correlations'!AE15,0)","v":0},{"$f":"IF(NRRs!AF15<$B$66,'Spearman.Correlations'!AF15,0)","v":0.282637510985678},{"$f":"IF(NRRs!AG15<$B$66,'Spearman.Correlations'!AG15,0)","v":0},{"$f":"IF(NRRs!AH15<$B$66,'Spearman.Correlations'!AH15,0)","v":0},{"$f":"IF(NRRs!AI15<$B$66,'Spearman.Correlations'!AI15,0)","v":0.358768986217903},{"$f":"IF(NRRs!AJ15<$B$66,'Spearman.Correlations'!AJ15,0)","v":0.255287202692533},{"$f":"IF(NRRs!AK15<$B$66,'Spearman.Correlations'!AK15,0)","v":0},{"$f":"IF(NRRs!AL15<$B$66,'Spearman.Correlations'!AL15,0)","v":0},{"$f":"IF(NRRs!AM15<$B$66,'Spearman.Correlations'!AM15,0)","v":0.391763517634134},{"$f":"IF(NRRs!AN15<$B$66,'Spearman.Correlations'!AN15,0)","v":0.23575000197152},{"$f":"IF(NRRs!AO15<$B$66,'Spearman.Correlations'!AO15,0)","v":0.264424991090545},{"$f":"IF(NRRs!AP15<$B$66,'Spearman.Correlations'!AP15,0)","v":0},{"$f":"IF(NRRs!AQ15<$B$66,'Spearman.Correlations'!AQ15,0)","v":0},{"$f":"IF(NRRs!AR15<$B$66,'Spearman.Correlations'!AR15,0)","v":0.255335118065451},{"$f":"IF(NRRs!AS15<$B$66,'Spearman.Correlations'!AS15,0)","v":0},{"$f":"IF(NRRs!AT15<$B$66,'Spearman.Correlations'!AT15,0)","v":0},{"$f":"IF(NRRs!AU15<$B$66,'Spearman.Correlations'!AU15,0)","v":0},{"$f":"IF(NRRs!AV15<$B$66,'Spearman.Correlations'!AV15,0)","v":0},{"$f":"IF(NRRs!AW15<$B$66,'Spearman.Correlations'!AW15,0)","v":0},{"$f":"IF(NRRs!AX15<$B$66,'Spearman.Correlations'!AX15,0)","v":0},{"$f":"IF(NRRs!AY15<$B$66,'Spearman.Correlations'!AY15,0)","v":0},{"$f":"IF(NRRs!AZ15<$B$66,'Spearman.Correlations'!AZ15,0)","v":0},{"$f":"IF(NRRs!BA15<$B$66,'Spearman.Correlations'!BA15,0)","v":0},{"$f":"IF(NRRs!BB15<$B$66,'Spearman.Correlations'!BB15,0)","v":0},{"$f":"IF(NRRs!BC15<$B$66,'Spearman.Correlations'!BC15,0)","v":0},{"$f":"IF(NRRs!BD15<$B$66,'Spearman.Correlations'!BD15,0)","v":0},{"$f":"IF(NRRs!BE15<$B$66,'Spearman.Correlations'!BE15,0)","v":0},{"$f":"IF(NRRs!BF15<$B$66,'Spearman.Correlations'!BF15,0)","v":0},{"$f":"IF(NRRs!BG15<$B$66,'Spearman.Correlations'!BG15,0)","v":0},{"$f":"IF(NRRs!BH15<$B$66,'Spearman.Correlations'!BH15,0)","v":0}]
["Arachidonic acid ",{"$f":"IF(NRRs!B16<$B$66,'Spearman.Correlations'!B16,0)","v":-0.1496379259003},{"$f":"IF(NRRs!C16<$B$66,'Spearman.Correlations'!C16,0)","v":0},{"$f":"IF(NRRs!D16<$B$66,'Spearman.Correlations'!D16,0)","v":-0.0793541795164635},{"$f":"IF(NRRs!E16<$B$66,'Spearman.Correlations'!E16,0)","v":0},{"$f":"IF(NRRs!F16<$B$66,'Spearman.Correlations'!F16,0)","v":0},{"$f":"IF(NRRs!G16<$B$66,'Spearman.Correlations'!G16,0)","v":0},{"$f":"IF(NRRs!H16<$B$66,'Spearman.Correlations'!H16,0)","v":0},{"$f":"IF(NRRs!I16<$B$66,'Spearman.Correlations'!I16,0)","v":0},{"$f":"IF(NRRs!J16<$B$66,'Spearman.Correlations'!J16,0)","v":0},{"$f":"IF(NRRs!K16<$B$66,'Spearman.Correlations'!K16,0)","v":0.235784075408941},{"$f":"IF(NRRs!L16<$B$66,'Spearman.Correlations'!L16,0)","v":0},{"$f":"IF(NRRs!M16<$B$66,'Spearman.Correlations'!M16,0)","v":0},{"$f":"IF(NRRs!N16<$B$66,'Spearman.Correlations'!N16,0)","v":0},{"$f":"IF(NRRs!O16<$B$66,'Spearman.Correlations'!O16,0)","v":0},{"$f":"IF(NRRs!P16<$B$66,'Spearman.Correlations'!P16,0)","v":0},{"$f":"IF(NRRs!Q16<$B$66,'Spearman.Correlations'!Q16,0)","v":0},{"$f":"IF(NRRs!R16<$B$66,'Spearman.Correlations'!R16,0)","v":0},{"$f":"IF(NRRs!S16<$B$66,'Spearman.Correlations'!S16,0)","v":0},{"$f":"IF(NRRs!T16<$B$66,'Spearman.Correlations'!T16,0)","v":0.448548759788179},{"$f":"IF(NRRs!U16<$B$66,'Spearman.Correlations'!U16,0)","v":0.194462660692345},{"$f":"IF(NRRs!V16<$B$66,'Spearman.Correlations'!V16,0)","v":0.185137702080491},{"$f":"IF(NRRs!W16<$B$66,'Spearman.Correlations'!W16,0)","v":0.343875218895579},{"$f":"IF(NRRs!X16<$B$66,'Spearman.Correlations'!X16,0)","v":0},{"$f":"IF(NRRs!Y16<$B$66,'Spearman.Correlations'!Y16,0)","v":0},{"$f":"IF(NRRs!Z16<$B$66,'Spearman.Correlations'!Z16,0)","v":0.283574886843378},{"$f":"IF(NRRs!AA16<$B$66,'Spearman.Correlations'!AA16,0)","v":0},{"$f":"IF(NRRs!AB16<$B$66,'Spearman.Correlations'!AB16,0)","v":0},{"$f":"IF(NRRs!AC16<$B$66,'Spearman.Correlations'!AC16,0)","v":0.169905169350612},{"$f":"IF(NRRs!AD16<$B$66,'Spearman.Correlations'!AD16,0)","v":0},{"$f":"IF(NRRs!AE16<$B$66,'Spearman.Correlations'!AE16,0)","v":0},{"$f":"IF(NRRs!AF16<$B$66,'Spearman.Correlations'!AF16,0)","v":0},{"$f":"IF(NRRs!AG16<$B$66,'Spearman.Correlations'!AG16,0)","v":0.318291450484572},{"$f":"IF(NRRs!AH16<$B$66,'Spearman.Correlations'!AH16,0)","v":0},{"$f":"IF(NRRs!AI16<$B$66,'Spearman.Correlations'!AI16,0)","v":0.329830611113819},{"$f":"IF(NRRs!AJ16<$B$66,'Spearman.Correlations'!AJ16,0)","v":0.351744171433964},{"$f":"IF(NRRs!AK16<$B$66,'Spearman.Correlations'!AK16,0)","v":0},{"$f":"IF(NRRs!AL16<$B$66,'Spearman.Correlations'!AL16,0)","v":0},{"$f":"IF(NRRs!AM16<$B$66,'Spearman.Correlations'!AM16,0)","v":0},{"$f":"IF(NRRs!AN16<$B$66,'Spearman.Correlations'!AN16,0)","v":-0.137858103156219},{"$f":"IF(NRRs!AO16<$B$66,'Spearman.Correlations'!AO16,0)","v":0},{"$f":"IF(NRRs!AP16<$B$66,'Spearman.Correlations'!AP16,0)","v":0},{"$f":"IF(NRRs!AQ16<$B$66,'Spearman.Correlations'!AQ16,0)","v":0},{"$f":"IF(NRRs!AR16<$B$66,'Spearman.Correlations'!AR16,0)","v":0},{"$f":"IF(NRRs!AS16<$B$66,'Spearman.Correlations'!AS16,0)","v":0},{"$f":"IF(NRRs!AT16<$B$66,'Spearman.Correlations'!AT16,0)","v":0},{"$f":"IF(NRRs!AU16<$B$66,'Spearman.Correlations'!AU16,0)","v":0},{"$f":"IF(NRRs!AV16<$B$66,'Spearman.Correlations'!AV16,0)","v":0},{"$f":"IF(NRRs!AW16<$B$66,'Spearman.Correlations'!AW16,0)","v":0},{"$f":"IF(NRRs!AX16<$B$66,'Spearman.Correlations'!AX16,0)","v":0},{"$f":"IF(NRRs!AY16<$B$66,'Spearman.Correlations'!AY16,0)","v":0},{"$f":"IF(NRRs!AZ16<$B$66,'Spearman.Correlations'!AZ16,0)","v":0},{"$f":"IF(NRRs!BA16<$B$66,'Spearman.Correlations'!BA16,0)","v":0},{"$f":"IF(NRRs!BB16<$B$66,'Spearman.Correlations'!BB16,0)","v":0},{"$f":"IF(NRRs!BC16<$B$66,'Spearman.Correlations'!BC16,0)","v":0},{"$f":"IF(NRRs!BD16<$B$66,'Spearman.Correlations'!BD16,0)","v":0},{"$f":"IF(NRRs!BE16<$B$66,'Spearman.Correlations'!BE16,0)","v":0},{"$f":"IF(NRRs!BF16<$B$66,'Spearman.Correlations'!BF16,0)","v":0},{"$f":"IF(NRRs!BG16<$B$66,'Spearman.Correlations'!BG16,0)","v":0},{"$f":"IF(NRRs!BH16<$B$66,'Spearman.Correlations'!BH16,0)","v":0}]
["Asparagine ",{"$f":"IF(NRRs!B17<$B$66,'Spearman.Correlations'!B17,0)","v":-0.11235361667415},{"$f":"IF(NRRs!C17<$B$66,'Spearman.Correlations'!C17,0)","v":0},{"$f":"IF(NRRs!D17<$B$66,'Spearman.Correlations'!D17,0)","v":-0.169331937793982},{"$f":"IF(NRRs!E17<$B$66,'Spearman.Correlations'!E17,0)","v":0},{"$f":"IF(NRRs!F17<$B$66,'Spearman.Correlations'!F17,0)","v":0},{"$f":"IF(NRRs!G17<$B$66,'Spearman.Correlations'!G17,0)","v":0},{"$f":"IF(NRRs!H17<$B$66,'Spearman.Correlations'!H17,0)","v":0},{"$f":"IF(NRRs!I17<$B$66,'Spearman.Correlations'!I17,0)","v":0},{"$f":"IF(NRRs!J17<$B$66,'Spearman.Correlations'!J17,0)","v":-0.0872135201785396},{"$f":"IF(NRRs!K17<$B$66,'Spearman.Correlations'!K17,0)","v":0},{"$f":"IF(NRRs!L17<$B$66,'Spearman.Correlations'!L17,0)","v":0},{"$f":"IF(NRRs!M17<$B$66,'Spearman.Correlations'!M17,0)","v":0},{"$f":"IF(NRRs!N17<$B$66,'Spearman.Correlations'!N17,0)","v":0},{"$f":"IF(NRRs!O17<$B$66,'Spearman.Correlations'!O17,0)","v":0},{"$f":"IF(NRRs!P17<$B$66,'Spearman.Correlations'!P17,0)","v":0},{"$f":"IF(NRRs!Q17<$B$66,'Spearman.Correlations'!Q17,0)","v":0},{"$f":"IF(NRRs!R17<$B$66,'Spearman.Correlations'!R17,0)","v":0.251622330681059},{"$f":"IF(NRRs!S17<$B$66,'Spearman.Correlations'!S17,0)","v":-0.128396027242789},{"$f":"IF(NRRs!T17<$B$66,'Spearman.Correlations'!T17,0)","v":0},{"$f":"IF(NRRs!U17<$B$66,'Spearman.Correlations'!U17,0)","v":-0.234165784703417},{"$f":"IF(NRRs!V17<$B$66,'Spearman.Correlations'!V17,0)","v":-0.182726695000514},{"$f":"IF(NRRs!W17<$B$66,'Spearman.Correlations'!W17,0)","v":0},{"$f":"IF(NRRs!X17<$B$66,'Spearman.Correlations'!X17,0)","v":0.203930397951788},{"$f":"IF(NRRs!Y17<$B$66,'Spearman.Correlations'!Y17,0)","v":0.327127756162373},{"$f":"IF(NRRs!Z17<$B$66,'Spearman.Correlations'!Z17,0)","v":0},{"$f":"IF(NRRs!AA17<$B$66,'Spearman.Correlations'!AA17,0)","v":0},{"$f":"IF(NRRs!AB17<$B$66,'Spearman.Correlations'!AB17,0)","v":0},{"$f":"IF(NRRs!AC17<$B$66,'Spearman.Correlations'!AC17,0)","v":0},{"$f":"IF(NRRs!AD17<$B$66,'Spearman.Correlations'!AD17,0)","v":0.23090899674275},{"$f":"IF(NRRs!AE17<$B$66,'Spearman.Correlations'!AE17,0)","v":0},{"$f":"IF(NRRs!AF17<$B$66,'Spearman.Correlations'!AF17,0)","v":0.189163708666676},{"$f":"IF(NRRs!AG17<$B$66,'Spearman.Correlations'!AG17,0)","v":0.203819465827861},{"$f":"IF(NRRs!AH17<$B$66,'Spearman.Correlations'!AH17,0)","v":0.559777083064684},{"$f":"IF(NRRs!AI17<$B$66,'Spearman.Correlations'!AI17,0)","v":0},{"$f":"IF(NRRs!AJ17<$B$66,'Spearman.Correlations'!AJ17,0)","v":0.349091429058321},{"$f":"IF(NRRs!AK17<$B$66,'Spearman.Correlations'!AK17,0)","v":0},{"$f":"IF(NRRs!AL17<$B$66,'Spearman.Correlations'!AL17,0)","v":0},{"$f":"IF(NRRs!AM17<$B$66,'Spearman.Correlations'!AM17,0)","v":0.375187756875027},{"$f":"IF(NRRs!AN17<$B$66,'Spearman.Correlations'!AN17,0)","v":0.35245519374153},{"$f":"IF(NRRs!AO17<$B$66,'Spearman.Correlations'!AO17,0)","v":0.318811577976081},{"$f":"IF(NRRs!AP17<$B$66,'Spearman.Correlations'!AP17,0)","v":0},{"$f":"IF(NRRs!AQ17<$B$66,'Spearman.Correlations'!AQ17,0)","v":0},{"$f":"IF(NRRs!AR17<$B$66,'Spearman.Correlations'!AR17,0)","v":0.420701141544228},{"$f":"IF(NRRs!AS17<$B$66,'Spearman.Correlations'!AS17,0)","v":0.261407943634106},{"$f":"IF(NRRs!AT17<$B$66,'Spearman.Correlations'!AT17,0)","v":0},{"$f":"IF(NRRs!AU17<$B$66,'Spearman.Correlations'!AU17,0)","v":0.123781100472616},{"$f":"IF(NRRs!AV17<$B$66,'Spearman.Correlations'!AV17,0)","v":0},{"$f":"IF(NRRs!AW17<$B$66,'Spearman.Correlations'!AW17,0)","v":-0.0727672095821386},{"$f":"IF(NRRs!AX17<$B$66,'Spearman.Correlations'!AX17,0)","v":0},{"$f":"IF(NRRs!AY17<$B$66,'Spearman.Correlations'!AY17,0)","v":0},{"$f":"IF(NRRs!AZ17<$B$66,'Spearman.Correlations'!AZ17,0)","v":-0.154148962372714},{"$f":"IF(NRRs!BA17<$B$66,'Spearman.Correlations'!BA17,0)","v":0},{"$f":"IF(NRRs!BB17<$B$66,'Spearman.Correlations'!BB17,0)","v":0},{"$f":"IF(NRRs!BC17<$B$66,'Spearman.Correlations'!BC17,0)","v":0},{"$f":"IF(NRRs!BD17<$B$66,'Spearman.Correlations'!BD17,0)","v":-0.113627749335172},{"$f":"IF(NRRs!BE17<$B$66,'Spearman.Correlations'!BE17,0)","v":0},{"$f":"IF(NRRs!BF17<$B$66,'Spearman.Correlations'!BF17,0)","v":0},{"$f":"IF(NRRs!BG17<$B$66,'Spearman.Correlations'!BG17,0)","v":-0.0837195115037809},{"$f":"IF(NRRs!BH17<$B$66,'Spearman.Correlations'!BH17,0)","v":0}]
["Aspartic Acid ",{"$f":"IF(NRRs!B18<$B$66,'Spearman.Correlations'!B18,0)","v":-0.109823018326203},{"$f":"IF(NRRs!C18<$B$66,'Spearman.Correlations'!C18,0)","v":0},{"$f":"IF(NRRs!D18<$B$66,'Spearman.Correlations'!D18,0)","v":-0.0928352972374345},{"$f":"IF(NRRs!E18<$B$66,'Spearman.Correlations'!E18,0)","v":0.291875617467254},{"$f":"IF(NRRs!F18<$B$66,'Spearman.Correlations'!F18,0)","v":0},{"$f":"IF(NRRs!G18<$B$66,'Spearman.Correlations'!G18,0)","v":0},{"$f":"IF(NRRs!H18<$B$66,'Spearman.Correlations'!H18,0)","v":-0.112728371926837},{"$f":"IF(NRRs!I18<$B$66,'Spearman.Correlations'!I18,0)","v":0},{"$f":"IF(NRRs!J18<$B$66,'Spearman.Correlations'!J18,0)","v":-0.21901575279986},{"$f":"IF(NRRs!K18<$B$66,'Spearman.Correlations'!K18,0)","v":0},{"$f":"IF(NRRs!L18<$B$66,'Spearman.Correlations'!L18,0)","v":0},{"$f":"IF(NRRs!M18<$B$66,'Spearman.Correlations'!M18,0)","v":0},{"$f":"IF(NRRs!N18<$B$66,'Spearman.Correlations'!N18,0)","v":0},{"$f":"IF(NRRs!O18<$B$66,'Spearman.Correlations'!O18,0)","v":0.286419507900749},{"$f":"IF(NRRs!P18<$B$66,'Spearman.Correlations'!P18,0)","v":0},{"$f":"IF(NRRs!Q18<$B$66,'Spearman.Correlations'!Q18,0)","v":0.251622330681059},{"$f":"IF(NRRs!R18<$B$66,'Spearman.Correlations'!R18,0)","v":0},{"$f":"IF(NRRs!S18<$B$66,'Spearman.Correlations'!S18,0)","v":0},{"$f":"IF(NRRs!T18<$B$66,'Spearman.Correlations'!T18,0)","v":0.228932595156691},{"$f":"IF(NRRs!U18<$B$66,'Spearman.Correlations'!U18,0)","v":0},{"$f":"IF(NRRs!V18<$B$66,'Spearman.Correlations'!V18,0)","v":0},{"$f":"IF(NRRs!W18<$B$66,'Spearman.Correlations'!W18,0)","v":0.303828844222984},{"$f":"IF(NRRs!X18<$B$66,'Spearman.Correlations'!X18,0)","v":0.586255372725817},{"$f":"IF(NRRs!Y18<$B$66,'Spearman.Correlations'!Y18,0)","v":0},{"$f":"IF(NRRs!Z18<$B$66,'Spearman.Correlations'!Z18,0)","v":0.432597168627618},{"$f":"IF(NRRs!AA18<$B$66,'Spearman.Correlations'!AA18,0)","v":0.315398128760544},{"$f":"IF(NRRs!AB18<$B$66,'Spearman.Correlations'!AB18,0)","v":0},{"$f":"IF(NRRs!AC18<$B$66,'Spearman.Correlations'!AC18,0)","v":0.16986705737486},{"$f":"IF(NRRs!AD18<$B$66,'Spearman.Correlations'!AD18,0)","v":0.27919152656708},{"$f":"IF(NRRs!AE18<$B$66,'Spearman.Correlations'!AE18,0)","v":-0.117809852918334},{"$f":"IF(NRRs!AF18<$B$66,'Spearman.Correlations'!AF18,0)","v":0},{"$f":"IF(NRRs!AG18<$B$66,'Spearman.Correlations'!AG18,0)","v":0},{"$f":"IF(NRRs!AH18<$B$66,'Spearman.Correlations'!AH18,0)","v":0},{"$f":"IF(NRRs!AI18<$B$66,'Spearman.Correlations'!AI18,0)","v":0.394916254243474},{"$f":"IF(NRRs!AJ18<$B$66,'Spearman.Correlations'!AJ18,0)","v":0.267973990492463},{"$f":"IF(NRRs!AK18<$B$66,'Spearman.Correlations'!AK18,0)","v":0},{"$f":"IF(NRRs!AL18<$B$66,'Spearman.Correlations'!AL18,0)","v":0},{"$f":"IF(NRRs!AM18<$B$66,'Spearman.Correlations'!AM18,0)","v":0.68772180256515},{"$f":"IF(NRRs!AN18<$B$66,'Spearman.Correlations'!AN18,0)","v":0},{"$f":"IF(NRRs!AO18<$B$66,'Spearman.Correlations'!AO18,0)","v":0.614268903904169},{"$f":"IF(NRRs!AP18<$B$66,'Spearman.Correlations'!AP18,0)","v":0},{"$f":"IF(NRRs!AQ18<$B$66,'Spearman.Correlations'!AQ18,0)","v":0.411011280083698},{"$f":"IF(NRRs!AR18<$B$66,'Spearman.Correlations'!AR18,0)","v":0.342625130800499},{"$f":"IF(NRRs!AS18<$B$66,'Spearman.Correlations'!AS18,0)","v":0},{"$f":"IF(NRRs!AT18<$B$66,'Spearman.Correlations'!AT18,0)","v":0},{"$f":"IF(NRRs!AU18<$B$66,'Spearman.Correlations'!AU18,0)","v":0},{"$f":"IF(NRRs!AV18<$B$66,'Spearman.Correlations'!AV18,0)","v":0},{"$f":"IF(NRRs!AW18<$B$66,'Spearman.Correlations'!AW18,0)","v":-0.135268203843654},{"$f":"IF(NRRs!AX18<$B$66,'Spearman.Correlations'!AX18,0)","v":0},{"$f":"IF(NRRs!AY18<$B$66,'Spearman.Correlations'!AY18,0)","v":-0.119475184067633},{"$f":"IF(NRRs!AZ18<$B$66,'Spearman.Correlations'!AZ18,0)","v":0},{"$f":"IF(NRRs!BA18<$B$66,'Spearman.Correlations'!BA18,0)","v":-0.0582550247362797},{"$f":"IF(NRRs!BB18<$B$66,'Spearman.Correlations'!BB18,0)","v":0},{"$f":"IF(NRRs!BC18<$B$66,'Spearman.Correlations'!BC18,0)","v":0},{"$f":"IF(NRRs!BD18<$B$66,'Spearman.Correlations'!BD18,0)","v":0},{"$f":"IF(NRRs!BE18<$B$66,'Spearman.Correlations'!BE18,0)","v":0},{"$f":"IF(NRRs!BF18<$B$66,'Spearman.Correlations'!BF18,0)","v":0},{"$f":"IF(NRRs!BG18<$B$66,'Spearman.Correlations'!BG18,0)","v":0},{"$f":"IF(NRRs!BH18<$B$66,'Spearman.Correlations'!BH18,0)","v":0}]
["Cholesterol ",{"$f":"IF(NRRs!B19<$B$66,'Spearman.Correlations'!B19,0)","v":0},{"$f":"IF(NRRs!C19<$B$66,'Spearman.Correlations'!C19,0)","v":0},{"$f":"IF(NRRs!D19<$B$66,'Spearman.Correlations'!D19,0)","v":0},{"$f":"IF(NRRs!E19<$B$66,'Spearman.Correlations'!E19,0)","v":0},{"$f":"IF(NRRs!F19<$B$66,'Spearman.Correlations'!F19,0)","v":0},{"$f":"IF(NRRs!G19<$B$66,'Spearman.Correlations'!G19,0)","v":0},{"$f":"IF(NRRs!H19<$B$66,'Spearman.Correlations'!H19,0)","v":0},{"$f":"IF(NRRs!I19<$B$66,'Spearman.Correlations'!I19,0)","v":0.23691384380315},{"$f":"IF(NRRs!J19<$B$66,'Spearman.Correlations'!J19,0)","v":0},{"$f":"IF(NRRs!K19<$B$66,'Spearman.Correlations'!K19,0)","v":0},{"$f":"IF(NRRs!L19<$B$66,'Spearman.Correlations'!L19,0)","v":0},{"$f":"IF(NRRs!M19<$B$66,'Spearman.Correlations'!M19,0)","v":0},{"$f":"IF(NRRs!N19<$B$66,'Spearman.Correlations'!N19,0)","v":0},{"$f":"IF(NRRs!O19<$B$66,'Spearman.Correlations'!O19,0)","v":-0.0631931934252728},{"$f":"IF(NRRs!P19<$B$66,'Spearman.Correlations'!P19,0)","v":0},{"$f":"IF(NRRs!Q19<$B$66,'Spearman.Correlations'!Q19,0)","v":-0.128396027242789},{"$f":"IF(NRRs!R19<$B$66,'Spearman.Correlations'!R19,0)","v":0},{"$f":"IF(NRRs!S19<$B$66,'Spearman.Correlations'!S19,0)","v":0},{"$f":"IF(NRRs!T19<$B$66,'Spearman.Correlations'!T19,0)","v":0},{"$f":"IF(NRRs!U19<$B$66,'Spearman.Correlations'!U19,0)","v":0},{"$f":"IF(NRRs!V19<$B$66,'Spearman.Correlations'!V19,0)","v":0},{"$f":"IF(NRRs!W19<$B$66,'Spearman.Correlations'!W19,0)","v":0},{"$f":"IF(NRRs!X19<$B$66,'Spearman.Correlations'!X19,0)","v":0},{"$f":"IF(NRRs!Y19<$B$66,'Spearman.Correlations'!Y19,0)","v":0},{"$f":"IF(NRRs!Z19<$B$66,'Spearman.Correlations'!Z19,0)","v":0},{"$f":"IF(NRRs!AA19<$B$66,'Spearman.Correlations'!AA19,0)","v":0},{"$f":"IF(NRRs!AB19<$B$66,'Spearman.Correlations'!AB19,0)","v":0},{"$f":"IF(NRRs!AC19<$B$66,'Spearman.Correlations'!AC19,0)","v":0},{"$f":"IF(NRRs!AD19<$B$66,'Spearman.Correlations'!AD19,0)","v":-0.236388178982394},{"$f":"IF(NRRs!AE19<$B$66,'Spearman.Correlations'!AE19,0)","v":0},{"$f":"IF(NRRs!AF19<$B$66,'Spearman.Correlations'!AF19,0)","v":0},{"$f":"IF(NRRs!AG19<$B$66,'Spearman.Correlations'!AG19,0)","v":0},{"$f":"IF(NRRs!AH19<$B$66,'Spearman.Correlations'!AH19,0)","v":0},{"$f":"IF(NRRs!AI19<$B$66,'Spearman.Correlations'!AI19,0)","v":0},{"$f":"IF(NRRs!AJ19<$B$66,'Spearman.Correlations'!AJ19,0)","v":-0.0890758868179302},{"$f":"IF(NRRs!AK19<$B$66,'Spearman.Correlations'!AK19,0)","v":0},{"$f":"IF(NRRs!AL19<$B$66,'Spearman.Correlations'!AL19,0)","v":0.29177749689869},{"$f":"IF(NRRs!AM19<$B$66,'Spearman.Correlations'!AM19,0)","v":0},{"$f":"IF(NRRs!AN19<$B$66,'Spearman.Correlations'!AN19,0)","v":-0.141167735830081},{"$f":"IF(NRRs!AO19<$B$66,'Spearman.Correlations'!AO19,0)","v":-0.173973794674022},{"$f":"IF(NRRs!AP19<$B$66,'Spearman.Correlations'!AP19,0)","v":0.25018878556809},{"$f":"IF(NRRs!AQ19<$B$66,'Spearman.Correlations'!AQ19,0)","v":0},{"$f":"IF(NRRs!AR19<$B$66,'Spearman.Correlations'!AR19,0)","v":-0.170892164643855},{"$f":"IF(NRRs!AS19<$B$66,'Spearman.Correlations'!AS19,0)","v":0},{"$f":"IF(NRRs!AT19<$B$66,'Spearman.Correlations'!AT19,0)","v":0},{"$f":"IF(NRRs!AU19<$B$66,'Spearman.Correlations'!AU19,0)","v":-0.113683788795329},{"$f":"IF(NRRs!AV19<$B$66,'Spearman.Correlations'!AV19,0)","v":0},{"$f":"IF(NRRs!AW19<$B$66,'Spearman.Correlations'!AW19,0)","v":0},{"$f":"IF(NRRs!AX19<$B$66,'Spearman.Correlations'!AX19,0)","v":0},{"$f":"IF(NRRs!AY19<$B$66,'Spearman.Correlations'!AY19,0)","v":0},{"$f":"IF(NRRs!AZ19<$B$66,'Spearman.Correlations'!AZ19,0)","v":0},{"$f":"IF(NRRs!BA19<$B$66,'Spearman.Correlations'!BA19,0)","v":0},{"$f":"IF(NRRs!BB19<$B$66,'Spearman.Correlations'!BB19,0)","v":0},{"$f":"IF(NRRs!BC19<$B$66,'Spearman.Correlations'!BC19,0)","v":0},{"$f":"IF(NRRs!BD19<$B$66,'Spearman.Correlations'!BD19,0)","v":0},{"$f":"IF(NRRs!BE19<$B$66,'Spearman.Correlations'!BE19,0)","v":0.140404733246501},{"$f":"IF(NRRs!BF19<$B$66,'Spearman.Correlations'!BF19,0)","v":0},{"$f":"IF(NRRs!BG19<$B$66,'Spearman.Correlations'!BG19,0)","v":0},{"$f":"IF(NRRs!BH19<$B$66,'Spearman.Correlations'!BH19,0)","v":0}]
["Citric acid ",{"$f":"IF(NRRs!B20<$B$66,'Spearman.Correlations'!B20,0)","v":-0.116567139343731},{"$f":"IF(NRRs!C20<$B$66,'Spearman.Correlations'!C20,0)","v":0},{"$f":"IF(NRRs!D20<$B$66,'Spearman.Correlations'!D20,0)","v":-0.122848076324726},{"$f":"IF(NRRs!E20<$B$66,'Spearman.Correlations'!E20,0)","v":0},{"$f":"IF(NRRs!F20<$B$66,'Spearman.Correlations'!F20,0)","v":0},{"$f":"IF(NRRs!G20<$B$66,'Spearman.Correlations'!G20,0)","v":0},{"$f":"IF(NRRs!H20<$B$66,'Spearman.Correlations'!H20,0)","v":0},{"$f":"IF(NRRs!I20<$B$66,'Spearman.Correlations'!I20,0)","v":0},{"$f":"IF(NRRs!J20<$B$66,'Spearman.Correlations'!J20,0)","v":0},{"$f":"IF(NRRs!K20<$B$66,'Spearman.Correlations'!K20,0)","v":0.232127139902184},{"$f":"IF(NRRs!L20<$B$66,'Spearman.Correlations'!L20,0)","v":0},{"$f":"IF(NRRs!M20<$B$66,'Spearman.Correlations'!M20,0)","v":0},{"$f":"IF(NRRs!N20<$B$66,'Spearman.Correlations'!N20,0)","v":0},{"$f":"IF(NRRs!O20<$B$66,'Spearman.Correlations'!O20,0)","v":0},{"$f":"IF(NRRs!P20<$B$66,'Spearman.Correlations'!P20,0)","v":0.448548759788179},{"$f":"IF(NRRs!Q20<$B$66,'Spearman.Correlations'!Q20,0)","v":0},{"$f":"IF(NRRs!R20<$B$66,'Spearman.Correlations'!R20,0)","v":0.228932595156691},{"$f":"IF(NRRs!S20<$B$66,'Spearman.Correlations'!S20,0)","v":0},{"$f":"IF(NRRs!T20<$B$66,'Spearman.Correlations'!T20,0)","v":0},{"$f":"IF(NRRs!U20<$B$66,'Spearman.Correlations'!U20,0)","v":0.171490433121482},{"$f":"IF(NRRs!V20<$B$66,'Spearman.Correlations'!V20,0)","v":0},{"$f":"IF(NRRs!W20<$B$66,'Spearman.Correlations'!W20,0)","v":0.387226266944256},{"$f":"IF(NRRs!X20<$B$66,'Spearman.Correlations'!X20,0)","v":0},{"$f":"IF(NRRs!Y20<$B$66,'Spearman.Correlations'!Y20,0)","v":0},{"$f":"IF(NRRs!Z20<$B$66,'Spearman.Correlations'!Z20,0)","v":0},{"$f":"IF(NRRs!AA20<$B$66,'Spearman.Correlations'!AA20,0)","v":0},{"$f":"IF(NRRs!AB20<$B$66,'Spearman.Correlations'!AB20,0)","v":0},{"$f":"IF(NRRs!AC20<$B$66,'Spearman.Correlations'!AC20,0)","v":0.231338715674431},{"$f":"IF(NRRs!AD20<$B$66,'Spearman.Correlations'!AD20,0)","v":0},{"$f":"IF(NRRs!AE20<$B$66,'Spearman.Correlations'!AE20,0)","v":0},{"$f":"IF(NRRs!AF20<$B$66,'Spearman.Correlations'!AF20,0)","v":-0.120291128912459},{"$f":"IF(NRRs!AG20<$B$66,'Spearman.Correlations'!AG20,0)","v":0.377213906613587},{"$f":"IF(NRRs!AH20<$B$66,'Spearman.Correlations'!AH20,0)","v":0},{"$f":"IF(NRRs!AI20<$B$66,'Spearman.Correlations'!AI20,0)","v":0.465365454008465},{"$f":"IF(NRRs!AJ20<$B$66,'Spearman.Correlations'!AJ20,0)","v":0.350953848625238},{"$f":"IF(NRRs!AK20<$B$66,'Spearman.Correlations'!AK20,0)","v":0},{"$f":"IF(NRRs!AL20<$B$66,'Spearman.Correlations'!AL20,0)","v":0},{"$f":"IF(NRRs!AM20<$B$66,'Spearman.Correlations'!AM20,0)","v":0},{"$f":"IF(NRRs!AN20<$B$66,'Spearman.Correlations'!AN20,0)","v":-0.109569219618109},{"$f":"IF(NRRs!AO20<$B$66,'Spearman.Correlations'!AO20,0)","v":0},{"$f":"IF(NRRs!AP20<$B$66,'Spearman.Correlations'!AP20,0)","v":0},{"$f":"IF(NRRs!AQ20<$B$66,'Spearman.Correlations'!AQ20,0)","v":0},{"$f":"IF(NRRs!AR20<$B$66,'Spearman.Correlations'!AR20,0)","v":0},{"$f":"IF(NRRs!AS20<$B$66,'Spearman.Correlations'!AS20,0)","v":0},{"$f":"IF(NRRs!AT20<$B$66,'Spearman.Correlations'!AT20,0)","v":0},{"$f":"IF(NRRs!AU20<$B$66,'Spearman.Correlations'!AU20,0)","v":0},{"$f":"IF(NRRs!AV20<$B$66,'Spearman.Correlations'!AV20,0)","v":0.207068614714413},{"$f":"IF(NRRs!AW20<$B$66,'Spearman.Correlations'!AW20,0)","v":0},{"$f":"IF(NRRs!AX20<$B$66,'Spearman.Correlations'!AX20,0)","v":0},{"$f":"IF(NRRs!AY20<$B$66,'Spearman.Correlations'!AY20,0)","v":0},{"$f":"IF(NRRs!AZ20<$B$66,'Spearman.Correlations'!AZ20,0)","v":0},{"$f":"IF(NRRs!BA20<$B$66,'Spearman.Correlations'!BA20,0)","v":0},{"$f":"IF(NRRs!BB20<$B$66,'Spearman.Correlations'!BB20,0)","v":0},{"$f":"IF(NRRs!BC20<$B$66,'Spearman.Correlations'!BC20,0)","v":0},{"$f":"IF(NRRs!BD20<$B$66,'Spearman.Correlations'!BD20,0)","v":0},{"$f":"IF(NRRs!BE20<$B$66,'Spearman.Correlations'!BE20,0)","v":-0.153441051175877},{"$f":"IF(NRRs!BF20<$B$66,'Spearman.Correlations'!BF20,0)","v":0},{"$f":"IF(NRRs!BG20<$B$66,'Spearman.Correlations'!BG20,0)","v":0},{"$f":"IF(NRRs!BH20<$B$66,'Spearman.Correlations'!BH20,0)","v":0}]
["Decanoic acid ",{"$f":"IF(NRRs!B21<$B$66,'Spearman.Correlations'!B21,0)","v":0},{"$f":"IF(NRRs!C21<$B$66,'Spearman.Correlations'!C21,0)","v":0},{"$f":"IF(NRRs!D21<$B$66,'Spearman.Correlations'!D21,0)","v":0},{"$f":"IF(NRRs!E21<$B$66,'Spearman.Correlations'!E21,0)","v":0},{"$f":"IF(NRRs!F21<$B$66,'Spearman.Correlations'!F21,0)","v":0},{"$f":"IF(NRRs!G21<$B$66,'Spearman.Correlations'!G21,0)","v":0},{"$f":"IF(NRRs!H21<$B$66,'Spearman.Correlations'!H21,0)","v":0},{"$f":"IF(NRRs!I21<$B$66,'Spearman.Correlations'!I21,0)","v":0},{"$f":"IF(NRRs!J21<$B$66,'Spearman.Correlations'!J21,0)","v":0},{"$f":"IF(NRRs!K21<$B$66,'Spearman.Correlations'!K21,0)","v":0},{"$f":"IF(NRRs!L21<$B$66,'Spearman.Correlations'!L21,0)","v":0},{"$f":"IF(NRRs!M21<$B$66,'Spearman.Correlations'!M21,0)","v":0},{"$f":"IF(NRRs!N21<$B$66,'Spearman.Correlations'!N21,0)","v":0},{"$f":"IF(NRRs!O21<$B$66,'Spearman.Correlations'!O21,0)","v":0},{"$f":"IF(NRRs!P21<$B$66,'Spearman.Correlations'!P21,0)","v":0.194462660692345},{"$f":"IF(NRRs!Q21<$B$66,'Spearman.Correlations'!Q21,0)","v":-0.234165784703417},{"$f":"IF(NRRs!R21<$B$66,'Spearman.Correlations'!R21,0)","v":0},{"$f":"IF(NRRs!S21<$B$66,'Spearman.Correlations'!S21,0)","v":0},{"$f":"IF(NRRs!T21<$B$66,'Spearman.Correlations'!T21,0)","v":0.171490433121482},{"$f":"IF(NRRs!U21<$B$66,'Spearman.Correlations'!U21,0)","v":0},{"$f":"IF(NRRs!V21<$B$66,'Spearman.Correlations'!V21,0)","v":0.219597930225548},{"$f":"IF(NRRs!W21<$B$66,'Spearman.Correlations'!W21,0)","v":0.331639080871625},{"$f":"IF(NRRs!X21<$B$66,'Spearman.Correlations'!X21,0)","v":0},{"$f":"IF(NRRs!Y21<$B$66,'Spearman.Correlations'!Y21,0)","v":-0.188706695902566},{"$f":"IF(NRRs!Z21<$B$66,'Spearman.Correlations'!Z21,0)","v":0},{"$f":"IF(NRRs!AA21<$B$66,'Spearman.Correlations'!AA21,0)","v":0},{"$f":"IF(NRRs!AB21<$B$66,'Spearman.Correlations'!AB21,0)","v":0},{"$f":"IF(NRRs!AC21<$B$66,'Spearman.Correlations'!AC21,0)","v":0},{"$f":"IF(NRRs!AD21<$B$66,'Spearman.Correlations'!AD21,0)","v":0},{"$f":"IF(NRRs!AE21<$B$66,'Spearman.Correlations'!AE21,0)","v":0},{"$f":"IF(NRRs!AF21<$B$66,'Spearman.Correlations'!AF21,0)","v":-0.0852170237513541},{"$f":"IF(NRRs!AG21<$B$66,'Spearman.Correlations'!AG21,0)","v":0},{"$f":"IF(NRRs!AH21<$B$66,'Spearman.Correlations'!AH21,0)","v":-0.227987226715565},{"$f":"IF(NRRs!AI21<$B$66,'Spearman.Correlations'!AI21,0)","v":0.300751490634714},{"$f":"IF(NRRs!AJ21<$B$66,'Spearman.Correlations'!AJ21,0)","v":0},{"$f":"IF(NRRs!AK21<$B$66,'Spearman.Correlations'!AK21,0)","v":0},{"$f":"IF(NRRs!AL21<$B$66,'Spearman.Correlations'!AL21,0)","v":0},{"$f":"IF(NRRs!AM21<$B$66,'Spearman.Correlations'!AM21,0)","v":0},{"$f":"IF(NRRs!AN21<$B$66,'Spearman.Correlations'!AN21,0)","v":-0.151696497283328},{"$f":"IF(NRRs!AO21<$B$66,'Spearman.Correlations'!AO21,0)","v":0},{"$f":"IF(NRRs!AP21<$B$66,'Spearman.Correlations'!AP21,0)","v":-0.13604117702647},{"$f":"IF(NRRs!AQ21<$B$66,'Spearman.Correlations'!AQ21,0)","v":0.268168778757827},{"$f":"IF(NRRs!AR21<$B$66,'Spearman.Correlations'!AR21,0)","v":0},{"$f":"IF(NRRs!AS21<$B$66,'Spearman.Correlations'!AS21,0)","v":0},{"$f":"IF(NRRs!AT21<$B$66,'Spearman.Correlations'!AT21,0)","v":0},{"$f":"IF(NRRs!AU21<$B$66,'Spearman.Correlations'!AU21,0)","v":0},{"$f":"IF(NRRs!AV21<$B$66,'Spearman.Correlations'!AV21,0)","v":0},{"$f":"IF(NRRs!AW21<$B$66,'Spearman.Correlations'!AW21,0)","v":0},{"$f":"IF(NRRs!AX21<$B$66,'Spearman.Correlations'!AX21,0)","v":0},{"$f":"IF(NRRs!AY21<$B$66,'Spearman.Correlations'!AY21,0)","v":0},{"$f":"IF(NRRs!AZ21<$B$66,'Spearman.Correlations'!AZ21,0)","v":0},{"$f":"IF(NRRs!BA21<$B$66,'Spearman.Correlations'!BA21,0)","v":0},{"$f":"IF(NRRs!BB21<$B$66,'Spearman.Correlations'!BB21,0)","v":0},{"$f":"IF(NRRs!BC21<$B$66,'Spearman.Correlations'!BC21,0)","v":0},{"$f":"IF(NRRs!BD21<$B$66,'Spearman.Correlations'!BD21,0)","v":0},{"$f":"IF(NRRs!BE21<$B$66,'Spearman.Correlations'!BE21,0)","v":0},{"$f":"IF(NRRs!BF21<$B$66,'Spearman.Correlations'!BF21,0)","v":0},{"$f":"IF(NRRs!BG21<$B$66,'Spearman.Correlations'!BG21,0)","v":0},{"$f":"IF(NRRs!BH21<$B$66,'Spearman.Correlations'!BH21,0)","v":0}]
["Fructose ",{"$f":"IF(NRRs!B22<$B$66,'Spearman.Correlations'!B22,0)","v":0},{"$f":"IF(NRRs!C22<$B$66,'Spearman.Correlations'!C22,0)","v":0},{"$f":"IF(NRRs!D22<$B$66,'Spearman.Correlations'!D22,0)","v":0},{"$f":"IF(NRRs!E22<$B$66,'Spearman.Correlations'!E22,0)","v":0},{"$f":"IF(NRRs!F22<$B$66,'Spearman.Correlations'!F22,0)","v":0},{"$f":"IF(NRRs!G22<$B$66,'Spearman.Correlations'!G22,0)","v":0},{"$f":"IF(NRRs!H22<$B$66,'Spearman.Correlations'!H22,0)","v":0},{"$f":"IF(NRRs!I22<$B$66,'Spearman.Correlations'!I22,0)","v":0},{"$f":"IF(NRRs!J22<$B$66,'Spearman.Correlations'!J22,0)","v":0},{"$f":"IF(NRRs!K22<$B$66,'Spearman.Correlations'!K22,0)","v":0},{"$f":"IF(NRRs!L22<$B$66,'Spearman.Correlations'!L22,0)","v":0},{"$f":"IF(NRRs!M22<$B$66,'Spearman.Correlations'!M22,0)","v":0},{"$f":"IF(NRRs!N22<$B$66,'Spearman.Correlations'!N22,0)","v":0},{"$f":"IF(NRRs!O22<$B$66,'Spearman.Correlations'!O22,0)","v":0},{"$f":"IF(NRRs!P22<$B$66,'Spearman.Correlations'!P22,0)","v":0.185137702080491},{"$f":"IF(NRRs!Q22<$B$66,'Spearman.Correlations'!Q22,0)","v":-0.182726695000514},{"$f":"IF(NRRs!R22<$B$66,'Spearman.Correlations'!R22,0)","v":0},{"$f":"IF(NRRs!S22<$B$66,'Spearman.Correlations'!S22,0)","v":0},{"$f":"IF(NRRs!T22<$B$66,'Spearman.Correlations'!T22,0)","v":0},{"$f":"IF(NRRs!U22<$B$66,'Spearman.Correlations'!U22,0)","v":0.219597930225548},{"$f":"IF(NRRs!V22<$B$66,'Spearman.Correlations'!V22,0)","v":0},{"$f":"IF(NRRs!W22<$B$66,'Spearman.Correlations'!W22,0)","v":0.161208661110431},{"$f":"IF(NRRs!X22<$B$66,'Spearman.Correlations'!X22,0)","v":0},{"$f":"IF(NRRs!Y22<$B$66,'Spearman.Correlations'!Y22,0)","v":-0.175340714687358},{"$f":"IF(NRRs!Z22<$B$66,'Spearman.Correlations'!Z22,0)","v":0.256634645216593},{"$f":"IF(NRRs!AA22<$B$66,'Spearman.Correlations'!AA22,0)","v":0.213113264531662},{"$f":"IF(NRRs!AB22<$B$66,'Spearman.Correlations'!AB22,0)","v":0},{"$f":"IF(NRRs!AC22<$B$66,'Spearman.Correlations'!AC22,0)","v":0},{"$f":"IF(NRRs!AD22<$B$66,'Spearman.Correlations'!AD22,0)","v":0},{"$f":"IF(NRRs!AE22<$B$66,'Spearman.Correlations'!AE22,0)","v":0},{"$f":"IF(NRRs!AF22<$B$66,'Spearman.Correlations'!AF22,0)","v":0},{"$f":"IF(NRRs!AG22<$B$66,'Spearman.Correlations'!AG22,0)","v":0},{"$f":"IF(NRRs!AH22<$B$66,'Spearman.Correlations'!AH22,0)","v":-0.0751778675176432},{"$f":"IF(NRRs!AI22<$B$66,'Spearman.Correlations'!AI22,0)","v":0.338190435453391},{"$f":"IF(NRRs!AJ22<$B$66,'Spearman.Correlations'!AJ22,0)","v":0},{"$f":"IF(NRRs!AK22<$B$66,'Spearman.Correlations'!AK22,0)","v":0},{"$f":"IF(NRRs!AL22<$B$66,'Spearman.Correlations'!AL22,0)","v":0},{"$f":"IF(NRRs!AM22<$B$66,'Spearman.Correlations'!AM22,0)","v":0},{"$f":"IF(NRRs!AN22<$B$66,'Spearman.Correlations'!AN22,0)","v":-0.17640550315855},{"$f":"IF(NRRs!AO22<$B$66,'Spearman.Correlations'!AO22,0)","v":0},{"$f":"IF(NRRs!AP22<$B$66,'Spearman.Correlations'!AP22,0)","v":0},{"$f":"IF(NRRs!AQ22<$B$66,'Spearman.Correlations'!AQ22,0)","v":0.222215561320907},{"$f":"IF(NRRs!AR22<$B$66,'Spearman.Correlations'!AR22,0)","v":0},{"$f":"IF(NRRs!AS22<$B$66,'Spearman.Correlations'!AS22,0)","v":0},{"$f":"IF(NRRs!AT22<$B$66,'Spearman.Correlations'!AT22,0)","v":0},{"$f":"IF(NRRs!AU22<$B$66,'Spearman.Correlations'!AU22,0)","v":0},{"$f":"IF(NRRs!AV22<$B$66,'Spearman.Correlations'!AV22,0)","v":0},{"$f":"IF(NRRs!AW22<$B$66,'Spearman.Correlations'!AW22,0)","v":0},{"$f":"IF(NRRs!AX22<$B$66,'Spearman.Correlations'!AX22,0)","v":0},{"$f":"IF(NRRs!AY22<$B$66,'Spearman.Correlations'!AY22,0)","v":0},{"$f":"IF(NRRs!AZ22<$B$66,'Spearman.Correlations'!AZ22,0)","v":0},{"$f":"IF(NRRs!BA22<$B$66,'Spearman.Correlations'!BA22,0)","v":0},{"$f":"IF(NRRs!BB22<$B$66,'Spearman.Correlations'!BB22,0)","v":0},{"$f":"IF(NRRs!BC22<$B$66,'Spearman.Correlations'!BC22,0)","v":0},{"$f":"IF(NRRs!BD22<$B$66,'Spearman.Correlations'!BD22,0)","v":0},{"$f":"IF(NRRs!BE22<$B$66,'Spearman.Correlations'!BE22,0)","v":0},{"$f":"IF(NRRs!BF22<$B$66,'Spearman.Correlations'!BF22,0)","v":0},{"$f":"IF(NRRs!BG22<$B$66,'Spearman.Correlations'!BG22,0)","v":0},{"$f":"IF(NRRs!BH22<$B$66,'Spearman.Correlations'!BH22,0)","v":0}]
["Fumaric Acid ",{"$f":"IF(NRRs!B23<$B$66,'Spearman.Correlations'!B23,0)","v":0},{"$f":"IF(NRRs!C23<$B$66,'Spearman.Correlations'!C23,0)","v":0},{"$f":"IF(NRRs!D23<$B$66,'Spearman.Correlations'!D23,0)","v":0},{"$f":"IF(NRRs!E23<$B$66,'Spearman.Correlations'!E23,0)","v":0},{"$f":"IF(NRRs!F23<$B$66,'Spearman.Correlations'!F23,0)","v":0},{"$f":"IF(NRRs!G23<$B$66,'Spearman.Correlations'!G23,0)","v":0},{"$f":"IF(NRRs!H23<$B$66,'Spearman.Correlations'!H23,0)","v":0},{"$f":"IF(NRRs!I23<$B$66,'Spearman.Correlations'!I23,0)","v":0},{"$f":"IF(NRRs!J23<$B$66,'Spearman.Correlations'!J23,0)","v":0},{"$f":"IF(NRRs!K23<$B$66,'Spearman.Correlations'!K23,0)","v":0.223251239054298},{"$f":"IF(NRRs!L23<$B$66,'Spearman.Correlations'!L23,0)","v":0},{"$f":"IF(NRRs!M23<$B$66,'Spearman.Correlations'!M23,0)","v":0},{"$f":"IF(NRRs!N23<$B$66,'Spearman.Correlations'!N23,0)","v":0},{"$f":"IF(NRRs!O23<$B$66,'Spearman.Correlations'!O23,0)","v":0.286981127413647},{"$f":"IF(NRRs!P23<$B$66,'Spearman.Correlations'!P23,0)","v":0.343875218895579},{"$f":"IF(NRRs!Q23<$B$66,'Spearman.Correlations'!Q23,0)","v":0},{"$f":"IF(NRRs!R23<$B$66,'Spearman.Correlations'!R23,0)","v":0.303828844222984},{"$f":"IF(NRRs!S23<$B$66,'Spearman.Correlations'!S23,0)","v":0},{"$f":"IF(NRRs!T23<$B$66,'Spearman.Correlations'!T23,0)","v":0.387226266944256},{"$f":"IF(NRRs!U23<$B$66,'Spearman.Correlations'!U23,0)","v":0.331639080871625},{"$f":"IF(NRRs!V23<$B$66,'Spearman.Correlations'!V23,0)","v":0.161208661110431},{"$f":"IF(NRRs!W23<$B$66,'Spearman.Correlations'!W23,0)","v":0},{"$f":"IF(NRRs!X23<$B$66,'Spearman.Correlations'!X23,0)","v":0},{"$f":"IF(NRRs!Y23<$B$66,'Spearman.Correlations'!Y23,0)","v":-0.052618438765667},{"$f":"IF(NRRs!Z23<$B$66,'Spearman.Correlations'!Z23,0)","v":0.149460165917192},{"$f":"IF(NRRs!AA23<$B$66,'Spearman.Correlations'!AA23,0)","v":0},{"$f":"IF(NRRs!AB23<$B$66,'Spearman.Correlations'!AB23,0)","v":0},{"$f":"IF(NRRs!AC23<$B$66,'Spearman.Correlations'!AC23,0)","v":0.167802277858153},{"$f":"IF(NRRs!AD23<$B$66,'Spearman.Correlations'!AD23,0)","v":0.222501587519387},{"$f":"IF(NRRs!AE23<$B$66,'Spearman.Correlations'!AE23,0)","v":0},{"$f":"IF(NRRs!AF23<$B$66,'Spearman.Correlations'!AF23,0)","v":0},{"$f":"IF(NRRs!AG23<$B$66,'Spearman.Correlations'!AG23,0)","v":0},{"$f":"IF(NRRs!AH23<$B$66,'Spearman.Correlations'!AH23,0)","v":0},{"$f":"IF(NRRs!AI23<$B$66,'Spearman.Correlations'!AI23,0)","v":0.646015462397118},{"$f":"IF(NRRs!AJ23<$B$66,'Spearman.Correlations'!AJ23,0)","v":0.297011470548929},{"$f":"IF(NRRs!AK23<$B$66,'Spearman.Correlations'!AK23,0)","v":0},{"$f":"IF(NRRs!AL23<$B$66,'Spearman.Correlations'!AL23,0)","v":0},{"$f":"IF(NRRs!AM23<$B$66,'Spearman.Correlations'!AM23,0)","v":0.267099065969172},{"$f":"IF(NRRs!AN23<$B$66,'Spearman.Correlations'!AN23,0)","v":0},{"$f":"IF(NRRs!AO23<$B$66,'Spearman.Correlations'!AO23,0)","v":0.295206215949615},{"$f":"IF(NRRs!AP23<$B$66,'Spearman.Correlations'!AP23,0)","v":-0.0652278442549658},{"$f":"IF(NRRs!AQ23<$B$66,'Spearman.Correlations'!AQ23,0)","v":0.320960654838366},{"$f":"IF(NRRs!AR23<$B$66,'Spearman.Correlations'!AR23,0)","v":0},{"$f":"IF(NRRs!AS23<$B$66,'Spearman.Correlations'!AS23,0)","v":0},{"$f":"IF(NRRs!AT23<$B$66,'Spearman.Correlations'!AT23,0)","v":0},{"$f":"IF(NRRs!AU23<$B$66,'Spearman.Correlations'!AU23,0)","v":0},{"$f":"IF(NRRs!AV23<$B$66,'Spearman.Correlations'!AV23,0)","v":0},{"$f":"IF(NRRs!AW23<$B$66,'Spearman.Correlations'!AW23,0)","v":0},{"$f":"IF(NRRs!AX23<$B$66,'Spearman.Correlations'!AX23,0)","v":0},{"$f":"IF(NRRs!AY23<$B$66,'Spearman.Correlations'!AY23,0)","v":0},{"$f":"IF(NRRs!AZ23<$B$66,'Spearman.Correlations'!AZ23,0)","v":0},{"$f":"IF(NRRs!BA23<$B$66,'Spearman.Correlations'!BA23,0)","v":0},{"$f":"IF(NRRs!BB23<$B$66,'Spearman.Correlations'!BB23,0)","v":0},{"$f":"IF(NRRs!BC23<$B$66,'Spearman.Correlations'!BC23,0)","v":0},{"$f":"IF(NRRs!BD23<$B$66,'Spearman.Correlations'!BD23,0)","v":0},{"$f":"IF(NRRs!BE23<$B$66,'Spearman.Correlations'!BE23,0)","v":0},{"$f":"IF(NRRs!BF23<$B$66,'Spearman.Correlations'!BF23,0)","v":0},{"$f":"IF(NRRs!BG23<$B$66,'Spearman.Correlations'!BG23,0)","v":0},{"$f":"IF(NRRs!BH23<$B$66,'Spearman.Correlations'!BH23,0)","v":0}]
["Glutamic Acid ",{"$f":"IF(NRRs!B24<$B$66,'Spearman.Correlations'!B24,0)","v":-0.113799952181064},{"$f":"IF(NRRs!C24<$B$66,'Spearman.Correlations'!C24,0)","v":-0.0379556902273758},{"$f":"IF(NRRs!D24<$B$66,'Spearman.Correlations'!D24,0)","v":-0.0411803428765342},{"$f":"IF(NRRs!E24<$B$66,'Spearman.Correlations'!E24,0)","v":0.261739801078504},{"$f":"IF(NRRs!F24<$B$66,'Spearman.Correlations'!F24,0)","v":0},{"$f":"IF(NRRs!G24<$B$66,'Spearman.Correlations'!G24,0)","v":0},{"$f":"IF(NRRs!H24<$B$66,'Spearman.Correlations'!H24,0)","v":-0.0761608217391816},{"$f":"IF(NRRs!I24<$B$66,'Spearman.Correlations'!I24,0)","v":0},{"$f":"IF(NRRs!J24<$B$66,'Spearman.Correlations'!J24,0)","v":-0.200460313147588},{"$f":"IF(NRRs!K24<$B$66,'Spearman.Correlations'!K24,0)","v":0},{"$f":"IF(NRRs!L24<$B$66,'Spearman.Correlations'!L24,0)","v":0},{"$f":"IF(NRRs!M24<$B$66,'Spearman.Correlations'!M24,0)","v":0},{"$f":"IF(NRRs!N24<$B$66,'Spearman.Correlations'!N24,0)","v":0},{"$f":"IF(NRRs!O24<$B$66,'Spearman.Correlations'!O24,0)","v":0.282242865919344},{"$f":"IF(NRRs!P24<$B$66,'Spearman.Correlations'!P24,0)","v":0},{"$f":"IF(NRRs!Q24<$B$66,'Spearman.Correlations'!Q24,0)","v":0.203930397951788},{"$f":"IF(NRRs!R24<$B$66,'Spearman.Correlations'!R24,0)","v":0.586255372725817},{"$f":"IF(NRRs!S24<$B$66,'Spearman.Correlations'!S24,0)","v":0},{"$f":"IF(NRRs!T24<$B$66,'Spearman.Correlations'!T24,0)","v":0},{"$f":"IF(NRRs!U24<$B$66,'Spearman.Correlations'!U24,0)","v":0},{"$f":"IF(NRRs!V24<$B$66,'Spearman.Correlations'!V24,0)","v":0},{"$f":"IF(NRRs!W24<$B$66,'Spearman.Correlations'!W24,0)","v":0},{"$f":"IF(NRRs!X24<$B$66,'Spearman.Correlations'!X24,0)","v":0},{"$f":"IF(NRRs!Y24<$B$66,'Spearman.Correlations'!Y24,0)","v":0},{"$f":"IF(NRRs!Z24<$B$66,'Spearman.Correlations'!Z24,0)","v":0.243388521764349},{"$f":"IF(NRRs!AA24<$B$66,'Spearman.Correlations'!AA24,0)","v":0.284795720298719},{"$f":"IF(NRRs!AB24<$B$66,'Spearman.Correlations'!AB24,0)","v":0},{"$f":"IF(NRRs!AC24<$B$66,'Spearman.Correlations'!AC24,0)","v":0},{"$f":"IF(NRRs!AD24<$B$66,'Spearman.Correlations'!AD24,0)","v":0.210770590065035},{"$f":"IF(NRRs!AE24<$B$66,'Spearman.Correlations'!AE24,0)","v":-0.107624201251518},{"$f":"IF(NRRs!AF24<$B$66,'Spearman.Correlations'!AF24,0)","v":0.287128839381437},{"$f":"IF(NRRs!AG24<$B$66,'Spearman.Correlations'!AG24,0)","v":0},{"$f":"IF(NRRs!AH24<$B$66,'Spearman.Correlations'!AH24,0)","v":0},{"$f":"IF(NRRs!AI24<$B$66,'Spearman.Correlations'!AI24,0)","v":0.202471421270044},{"$f":"IF(NRRs!AJ24<$B$66,'Spearman.Correlations'!AJ24,0)","v":0},{"$f":"IF(NRRs!AK24<$B$66,'Spearman.Correlations'!AK24,0)","v":0},{"$f":"IF(NRRs!AL24<$B$66,'Spearman.Correlations'!AL24,0)","v":0},{"$f":"IF(NRRs!AM24<$B$66,'Spearman.Correlations'!AM24,0)","v":0.655021515334927},{"$f":"IF(NRRs!AN24<$B$66,'Spearman.Correlations'!AN24,0)","v":0},{"$f":"IF(NRRs!AO24<$B$66,'Spearman.Correlations'!AO24,0)","v":0.430624003800505},{"$f":"IF(NRRs!AP24<$B$66,'Spearman.Correlations'!AP24,0)","v":0},{"$f":"IF(NRRs!AQ24<$B$66,'Spearman.Correlations'!AQ24,0)","v":0.385594367781134},{"$f":"IF(NRRs!AR24<$B$66,'Spearman.Correlations'!AR24,0)","v":0.327517657559193},{"$f":"IF(NRRs!AS24<$B$66,'Spearman.Correlations'!AS24,0)","v":0},{"$f":"IF(NRRs!AT24<$B$66,'Spearman.Correlations'!AT24,0)","v":0},{"$f":"IF(NRRs!AU24<$B$66,'Spearman.Correlations'!AU24,0)","v":0},{"$f":"IF(NRRs!AV24<$B$66,'Spearman.Correlations'!AV24,0)","v":-0.108541947055395},{"$f":"IF(NRRs!AW24<$B$66,'Spearman.Correlations'!AW24,0)","v":-0.0589144228909387},{"$f":"IF(NRRs!AX24<$B$66,'Spearman.Correlations'!AX24,0)","v":0},{"$f":"IF(NRRs!AY24<$B$66,'Spearman.Correlations'!AY24,0)","v":0},{"$f":"IF(NRRs!AZ24<$B$66,'Spearman.Correlations'!AZ24,0)","v":0},{"$f":"IF(NRRs!BA24<$B$66,'Spearman.Correlations'!BA24,0)","v":0},{"$f":"IF(NRRs!BB24<$B$66,'Spearman.Correlations'!BB24,0)","v":0},{"$f":"IF(NRRs!BC24<$B$66,'Spearman.Correlations'!BC24,0)","v":0},{"$f":"IF(NRRs!BD24<$B$66,'Spearman.Correlations'!BD24,0)","v":0},{"$f":"IF(NRRs!BE24<$B$66,'Spearman.Correlations'!BE24,0)","v":0},{"$f":"IF(NRRs!BF24<$B$66,'Spearman.Correlations'!BF24,0)","v":0.193971098814907},{"$f":"IF(NRRs!BG24<$B$66,'Spearman.Correlations'!BG24,0)","v":0},{"$f":"IF(NRRs!BH24<$B$66,'Spearman.Correlations'!BH24,0)","v":0}]
["Glutamine ",{"$f":"IF(NRRs!B25<$B$66,'Spearman.Correlations'!B25,0)","v":0},{"$f":"IF(NRRs!C25<$B$66,'Spearman.Correlations'!C25,0)","v":0},{"$f":"IF(NRRs!D25<$B$66,'Spearman.Correlations'!D25,0)","v":0},{"$f":"IF(NRRs!E25<$B$66,'Spearman.Correlations'!E25,0)","v":0},{"$f":"IF(NRRs!F25<$B$66,'Spearman.Correlations'!F25,0)","v":0},{"$f":"IF(NRRs!G25<$B$66,'Spearman.Correlations'!G25,0)","v":0},{"$f":"IF(NRRs!H25<$B$66,'Spearman.Correlations'!H25,0)","v":0},{"$f":"IF(NRRs!I25<$B$66,'Spearman.Correlations'!I25,0)","v":0},{"$f":"IF(NRRs!J25<$B$66,'Spearman.Correlations'!J25,0)","v":0},{"$f":"IF(NRRs!K25<$B$66,'Spearman.Correlations'!K25,0)","v":0},{"$f":"IF(NRRs!L25<$B$66,'Spearman.Correlations'!L25,0)","v":0},{"$f":"IF(NRRs!M25<$B$66,'Spearman.Correlations'!M25,0)","v":0},{"$f":"IF(NRRs!N25<$B$66,'Spearman.Correlations'!N25,0)","v":0},{"$f":"IF(NRRs!O25<$B$66,'Spearman.Correlations'!O25,0)","v":0},{"$f":"IF(NRRs!P25<$B$66,'Spearman.Correlations'!P25,0)","v":0},{"$f":"IF(NRRs!Q25<$B$66,'Spearman.Correlations'!Q25,0)","v":0.327127756162373},{"$f":"IF(NRRs!R25<$B$66,'Spearman.Correlations'!R25,0)","v":0},{"$f":"IF(NRRs!S25<$B$66,'Spearman.Correlations'!S25,0)","v":0},{"$f":"IF(NRRs!T25<$B$66,'Spearman.Correlations'!T25,0)","v":0},{"$f":"IF(NRRs!U25<$B$66,'Spearman.Correlations'!U25,0)","v":-0.188706695902566},{"$f":"IF(NRRs!V25<$B$66,'Spearman.Correlations'!V25,0)","v":-0.175340714687358},{"$f":"IF(NRRs!W25<$B$66,'Spearman.Correlations'!W25,0)","v":-0.052618438765667},{"$f":"IF(NRRs!X25<$B$66,'Spearman.Correlations'!X25,0)","v":0},{"$f":"IF(NRRs!Y25<$B$66,'Spearman.Correlations'!Y25,0)","v":0},{"$f":"IF(NRRs!Z25<$B$66,'Spearman.Correlations'!Z25,0)","v":0},{"$f":"IF(NRRs!AA25<$B$66,'Spearman.Correlations'!AA25,0)","v":0},{"$f":"IF(NRRs!AB25<$B$66,'Spearman.Correlations'!AB25,0)","v":0},{"$f":"IF(NRRs!AC25<$B$66,'Spearman.Correlations'!AC25,0)","v":0},{"$f":"IF(NRRs!AD25<$B$66,'Spearman.Correlations'!AD25,0)","v":0},{"$f":"IF(NRRs!AE25<$B$66,'Spearman.Correlations'!AE25,0)","v":0},{"$f":"IF(NRRs!AF25<$B$66,'Spearman.Correlations'!AF25,0)","v":0},{"$f":"IF(NRRs!AG25<$B$66,'Spearman.Correlations'!AG25,0)","v":0},{"$f":"IF(NRRs!AH25<$B$66,'Spearman.Correlations'!AH25,0)","v":0.165836673908454},{"$f":"IF(NRRs!AI25<$B$66,'Spearman.Correlations'!AI25,0)","v":-0.138663841132556},{"$f":"IF(NRRs!AJ25<$B$66,'Spearman.Correlations'!AJ25,0)","v":0},{"$f":"IF(NRRs!AK25<$B$66,'Spearman.Correlations'!AK25,0)","v":0},{"$f":"IF(NRRs!AL25<$B$66,'Spearman.Correlations'!AL25,0)","v":0},{"$f":"IF(NRRs!AM25<$B$66,'Spearman.Correlations'!AM25,0)","v":0},{"$f":"IF(NRRs!AN25<$B$66,'Spearman.Correlations'!AN25,0)","v":0.17189564479925},{"$f":"IF(NRRs!AO25<$B$66,'Spearman.Correlations'!AO25,0)","v":0},{"$f":"IF(NRRs!AP25<$B$66,'Spearman.Correlations'!AP25,0)","v":0.216223834455195},{"$f":"IF(NRRs!AQ25<$B$66,'Spearman.Correlations'!AQ25,0)","v":-0.194838622563789},{"$f":"IF(NRRs!AR25<$B$66,'Spearman.Correlations'!AR25,0)","v":0},{"$f":"IF(NRRs!AS25<$B$66,'Spearman.Correlations'!AS25,0)","v":0},{"$f":"IF(NRRs!AT25<$B$66,'Spearman.Correlations'!AT25,0)","v":0},{"$f":"IF(NRRs!AU25<$B$66,'Spearman.Correlations'!AU25,0)","v":0},{"$f":"IF(NRRs!AV25<$B$66,'Spearman.Correlations'!AV25,0)","v":0},{"$f":"IF(NRRs!AW25<$B$66,'Spearman.Correlations'!AW25,0)","v":0},{"$f":"IF(NRRs!AX25<$B$66,'Spearman.Correlations'!AX25,0)","v":0},{"$f":"IF(NRRs!AY25<$B$66,'Spearman.Correlations'!AY25,0)","v":0},{"$f":"IF(NRRs!AZ25<$B$66,'Spearman.Correlations'!AZ25,0)","v":-0.0840867142208434},{"$f":"IF(NRRs!BA25<$B$66,'Spearman.Correlations'!BA25,0)","v":0},{"$f":"IF(NRRs!BB25<$B$66,'Spearman.Correlations'!BB25,0)","v":0},{"$f":"IF(NRRs!BC25<$B$66,'Spearman.Correlations'!BC25,0)","v":0},{"$f":"IF(NRRs!BD25<$B$66,'Spearman.Correlations'!BD25,0)","v":0},{"$f":"IF(NRRs!BE25<$B$66,'Spearman.Correlations'!BE25,0)","v":0},{"$f":"IF(NRRs!BF25<$B$66,'Spearman.Correlations'!BF25,0)","v":0},{"$f":"IF(NRRs!BG25<$B$66,'Spearman.Correlations'!BG25,0)","v":0},{"$f":"IF(NRRs!BH25<$B$66,'Spearman.Correlations'!BH25,0)","v":0}]
["Glycerol-3-P ",{"$f":"IF(NRRs!B26<$B$66,'Spearman.Correlations'!B26,0)","v":0},{"$f":"IF(NRRs!C26<$B$66,'Spearman.Correlations'!C26,0)","v":0},{"$f":"IF(NRRs!D26<$B$66,'Spearman.Correlations'!D26,0)","v":0},{"$f":"IF(NRRs!E26<$B$66,'Spearman.Correlations'!E26,0)","v":0.266008311120838},{"$f":"IF(NRRs!F26<$B$66,'Spearman.Correlations'!F26,0)","v":0},{"$f":"IF(NRRs!G26<$B$66,'Spearman.Correlations'!G26,0)","v":0},{"$f":"IF(NRRs!H26<$B$66,'Spearman.Correlations'!H26,0)","v":-0.0523723086939318},{"$f":"IF(NRRs!I26<$B$66,'Spearman.Correlations'!I26,0)","v":0},{"$f":"IF(NRRs!J26<$B$66,'Spearman.Correlations'!J26,0)","v":-0.0730807095676546},{"$f":"IF(NRRs!K26<$B$66,'Spearman.Correlations'!K26,0)","v":0},{"$f":"IF(NRRs!L26<$B$66,'Spearman.Correlations'!L26,0)","v":0},{"$f":"IF(NRRs!M26<$B$66,'Spearman.Correlations'!M26,0)","v":0},{"$f":"IF(NRRs!N26<$B$66,'Spearman.Correlations'!N26,0)","v":0},{"$f":"IF(NRRs!O26<$B$66,'Spearman.Correlations'!O26,0)","v":0.271850623316131},{"$f":"IF(NRRs!P26<$B$66,'Spearman.Correlations'!P26,0)","v":0.283574886843378},{"$f":"IF(NRRs!Q26<$B$66,'Spearman.Correlations'!Q26,0)","v":0},{"$f":"IF(NRRs!R26<$B$66,'Spearman.Correlations'!R26,0)","v":0.432597168627618},{"$f":"IF(NRRs!S26<$B$66,'Spearman.Correlations'!S26,0)","v":0},{"$f":"IF(NRRs!T26<$B$66,'Spearman.Correlations'!T26,0)","v":0},{"$f":"IF(NRRs!U26<$B$66,'Spearman.Correlations'!U26,0)","v":0},{"$f":"IF(NRRs!V26<$B$66,'Spearman.Correlations'!V26,0)","v":0.256634645216593},{"$f":"IF(NRRs!W26<$B$66,'Spearman.Correlations'!W26,0)","v":0.149460165917192},{"$f":"IF(NRRs!X26<$B$66,'Spearman.Correlations'!X26,0)","v":0.243388521764349},{"$f":"IF(NRRs!Y26<$B$66,'Spearman.Correlations'!Y26,0)","v":0},{"$f":"IF(NRRs!Z26<$B$66,'Spearman.Correlations'!Z26,0)","v":0},{"$f":"IF(NRRs!AA26<$B$66,'Spearman.Correlations'!AA26,0)","v":0.285712354670241},{"$f":"IF(NRRs!AB26<$B$66,'Spearman.Correlations'!AB26,0)","v":0},{"$f":"IF(NRRs!AC26<$B$66,'Spearman.Correlations'!AC26,0)","v":0},{"$f":"IF(NRRs!AD26<$B$66,'Spearman.Correlations'!AD26,0)","v":0.195931773465257},{"$f":"IF(NRRs!AE26<$B$66,'Spearman.Correlations'!AE26,0)","v":0},{"$f":"IF(NRRs!AF26<$B$66,'Spearman.Correlations'!AF26,0)","v":0},{"$f":"IF(NRRs!AG26<$B$66,'Spearman.Correlations'!AG26,0)","v":0},{"$f":"IF(NRRs!AH26<$B$66,'Spearman.Correlations'!AH26,0)","v":0},{"$f":"IF(NRRs!AI26<$B$66,'Spearman.Correlations'!AI26,0)","v":0.213474387237622},{"$f":"IF(NRRs!AJ26<$B$66,'Spearman.Correlations'!AJ26,0)","v":0.27891912371639},{"$f":"IF(NRRs!AK26<$B$66,'Spearman.Correlations'!AK26,0)","v":0},{"$f":"IF(NRRs!AL26<$B$66,'Spearman.Correlations'!AL26,0)","v":0},{"$f":"IF(NRRs!AM26<$B$66,'Spearman.Correlations'!AM26,0)","v":0.445276317394433},{"$f":"IF(NRRs!AN26<$B$66,'Spearman.Correlations'!AN26,0)","v":0},{"$f":"IF(NRRs!AO26<$B$66,'Spearman.Correlations'!AO26,0)","v":0.339075884151543},{"$f":"IF(NRRs!AP26<$B$66,'Spearman.Correlations'!AP26,0)","v":0},{"$f":"IF(NRRs!AQ26<$B$66,'Spearman.Correlations'!AQ26,0)","v":0.232117974666},{"$f":"IF(NRRs!AR26<$B$66,'Spearman.Correlations'!AR26,0)","v":0.204746953075526},{"$f":"IF(NRRs!AS26<$B$66,'Spearman.Correlations'!AS26,0)","v":0},{"$f":"IF(NRRs!AT26<$B$66,'Spearman.Correlations'!AT26,0)","v":0},{"$f":"IF(NRRs!AU26<$B$66,'Spearman.Correlations'!AU26,0)","v":0},{"$f":"IF(NRRs!AV26<$B$66,'Spearman.Correlations'!AV26,0)","v":0},{"$f":"IF(NRRs!AW26<$B$66,'Spearman.Correlations'!AW26,0)","v":-0.0843217245073443},{"$f":"IF(NRRs!AX26<$B$66,'Spearman.Correlations'!AX26,0)","v":-0.0622258113102989},{"$f":"IF(NRRs!AY26<$B$66,'Spearman.Correlations'!AY26,0)","v":0},{"$f":"IF(NRRs!AZ26<$B$66,'Spearman.Correlations'!AZ26,0)","v":0},{"$f":"IF(NRRs!BA26<$B$66,'Spearman.Correlations'!BA26,0)","v":-0.0337554099885458},{"$f":"IF(NRRs!BB26<$B$66,'Spearman.Correlations'!BB26,0)","v":0},{"$f":"IF(NRRs!BC26<$B$66,'Spearman.Correlations'!BC26,0)","v":-0.0989597446910559},{"$f":"IF(NRRs!BD26<$B$66,'Spearman.Correlations'!BD26,0)","v":0},{"$f":"IF(NRRs!BE26<$B$66,'Spearman.Correlations'!BE26,0)","v":0},{"$f":"IF(NRRs!BF26<$B$66,'Spearman.Correlations'!BF26,0)","v":0},{"$f":"IF(NRRs!BG26<$B$66,'Spearman.Correlations'!BG26,0)","v":0},{"$f":"IF(NRRs!BH26<$B$66,'Spearman.Correlations'!BH26,0)","v":0}]
["Glycine ",{"$f":"IF(NRRs!B27<$B$66,'Spearman.Correlations'!B27,0)","v":-0.151175093792809},{"$f":"IF(NRRs!C27<$B$66,'Spearman.Correlations'!C27,0)","v":-0.0336589552449515},{"$f":"IF(NRRs!D27<$B$66,'Spearman.Correlations'!D27,0)","v":-0.175175674854678},{"$f":"IF(NRRs!E27<$B$66,'Spearman.Correlations'!E27,0)","v":0},{"$f":"IF(NRRs!F27<$B$66,'Spearman.Correlations'!F27,0)","v":0},{"$f":"IF(NRRs!G27<$B$66,'Spearman.Correlations'!G27,0)","v":0},{"$f":"IF(NRRs!H27<$B$66,'Spearman.Correlations'!H27,0)","v":-0.122076347374372},{"$f":"IF(NRRs!I27<$B$66,'Spearman.Correlations'!I27,0)","v":0},{"$f":"IF(NRRs!J27<$B$66,'Spearman.Correlations'!J27,0)","v":-0.149817721496708},{"$f":"IF(NRRs!K27<$B$66,'Spearman.Correlations'!K27,0)","v":0.215372968567056},{"$f":"IF(NRRs!L27<$B$66,'Spearman.Correlations'!L27,0)","v":0},{"$f":"IF(NRRs!M27<$B$66,'Spearman.Correlations'!M27,0)","v":0},{"$f":"IF(NRRs!N27<$B$66,'Spearman.Correlations'!N27,0)","v":0},{"$f":"IF(NRRs!O27<$B$66,'Spearman.Correlations'!O27,0)","v":0.2682902237524},{"$f":"IF(NRRs!P27<$B$66,'Spearman.Correlations'!P27,0)","v":0},{"$f":"IF(NRRs!Q27<$B$66,'Spearman.Correlations'!Q27,0)","v":0},{"$f":"IF(NRRs!R27<$B$66,'Spearman.Correlations'!R27,0)","v":0.315398128760544},{"$f":"IF(NRRs!S27<$B$66,'Spearman.Correlations'!S27,0)","v":0},{"$f":"IF(NRRs!T27<$B$66,'Spearman.Correlations'!T27,0)","v":0},{"$f":"IF(NRRs!U27<$B$66,'Spearman.Correlations'!U27,0)","v":0},{"$f":"IF(NRRs!V27<$B$66,'Spearman.Correlations'!V27,0)","v":0.213113264531662},{"$f":"IF(NRRs!W27<$B$66,'Spearman.Correlations'!W27,0)","v":0},{"$f":"IF(NRRs!X27<$B$66,'Spearman.Correlations'!X27,0)","v":0.284795720298719},{"$f":"IF(NRRs!Y27<$B$66,'Spearman.Correlations'!Y27,0)","v":0},{"$f":"IF(NRRs!Z27<$B$66,'Spearman.Correlations'!Z27,0)","v":0.285712354670241},{"$f":"IF(NRRs!AA27<$B$66,'Spearman.Correlations'!AA27,0)","v":0},{"$f":"IF(NRRs!AB27<$B$66,'Spearman.Correlations'!AB27,0)","v":0},{"$f":"IF(NRRs!AC27<$B$66,'Spearman.Correlations'!AC27,0)","v":0},{"$f":"IF(NRRs!AD27<$B$66,'Spearman.Correlations'!AD27,0)","v":-0.168652767822595},{"$f":"IF(NRRs!AE27<$B$66,'Spearman.Correlations'!AE27,0)","v":0},{"$f":"IF(NRRs!AF27<$B$66,'Spearman.Correlations'!AF27,0)","v":0},{"$f":"IF(NRRs!AG27<$B$66,'Spearman.Correlations'!AG27,0)","v":0},{"$f":"IF(NRRs!AH27<$B$66,'Spearman.Correlations'!AH27,0)","v":0},{"$f":"IF(NRRs!AI27<$B$66,'Spearman.Correlations'!AI27,0)","v":0.232945337828791},{"$f":"IF(NRRs!AJ27<$B$66,'Spearman.Correlations'!AJ27,0)","v":0},{"$f":"IF(NRRs!AK27<$B$66,'Spearman.Correlations'!AK27,0)","v":0},{"$f":"IF(NRRs!AL27<$B$66,'Spearman.Correlations'!AL27,0)","v":0.277306723852119},{"$f":"IF(NRRs!AM27<$B$66,'Spearman.Correlations'!AM27,0)","v":0.347381510271189},{"$f":"IF(NRRs!AN27<$B$66,'Spearman.Correlations'!AN27,0)","v":-0.197543812569121},{"$f":"IF(NRRs!AO27<$B$66,'Spearman.Correlations'!AO27,0)","v":0},{"$f":"IF(NRRs!AP27<$B$66,'Spearman.Correlations'!AP27,0)","v":0.253508399846369},{"$f":"IF(NRRs!AQ27<$B$66,'Spearman.Correlations'!AQ27,0)","v":0.257963168764881},{"$f":"IF(NRRs!AR27<$B$66,'Spearman.Correlations'!AR27,0)","v":0},{"$f":"IF(NRRs!AS27<$B$66,'Spearman.Correlations'!AS27,0)","v":0},{"$f":"IF(NRRs!AT27<$B$66,'Spearman.Correlations'!AT27,0)","v":0},{"$f":"IF(NRRs!AU27<$B$66,'Spearman.Correlations'!AU27,0)","v":0},{"$f":"IF(NRRs!AV27<$B$66,'Spearman.Correlations'!AV27,0)","v":0},{"$f":"IF(NRRs!AW27<$B$66,'Spearman.Correlations'!AW27,0)","v":0},{"$f":"IF(NRRs!AX27<$B$66,'Spearman.Correlations'!AX27,0)","v":0},{"$f":"IF(NRRs!AY27<$B$66,'Spearman.Correlations'!AY27,0)","v":0},{"$f":"IF(NRRs!AZ27<$B$66,'Spearman.Correlations'!AZ27,0)","v":0},{"$f":"IF(NRRs!BA27<$B$66,'Spearman.Correlations'!BA27,0)","v":0},{"$f":"IF(NRRs!BB27<$B$66,'Spearman.Correlations'!BB27,0)","v":0},{"$f":"IF(NRRs!BC27<$B$66,'Spearman.Correlations'!BC27,0)","v":0},{"$f":"IF(NRRs!BD27<$B$66,'Spearman.Correlations'!BD27,0)","v":0},{"$f":"IF(NRRs!BE27<$B$66,'Spearman.Correlations'!BE27,0)","v":0},{"$f":"IF(NRRs!BF27<$B$66,'Spearman.Correlations'!BF27,0)","v":0},{"$f":"IF(NRRs!BG27<$B$66,'Spearman.Correlations'!BG27,0)","v":0},{"$f":"IF(NRRs!BH27<$B$66,'Spearman.Correlations'!BH27,0)","v":0}]
["Indole-3-Latic Acid ",{"$f":"IF(NRRs!B28<$B$66,'Spearman.Correlations'!B28,0)","v":-0.228372620542885},{"$f":"IF(NRRs!C28<$B$66,'Spearman.Correlations'!C28,0)","v":-0.133826686859553},{"$f":"IF(NRRs!D28<$B$66,'Spearman.Correlations'!D28,0)","v":-0.173259279791369},{"$f":"IF(NRRs!E28<$B$66,'Spearman.Correlations'!E28,0)","v":0},{"$f":"IF(NRRs!F28<$B$66,'Spearman.Correlations'!F28,0)","v":0},{"$f":"IF(NRRs!G28<$B$66,'Spearman.Correlations'!G28,0)","v":-0.119201512735089},{"$f":"IF(NRRs!H28<$B$66,'Spearman.Correlations'!H28,0)","v":-0.179523208573101},{"$f":"IF(NRRs!I28<$B$66,'Spearman.Correlations'!I28,0)","v":0},{"$f":"IF(NRRs!J28<$B$66,'Spearman.Correlations'!J28,0)","v":-0.196244681405314},{"$f":"IF(NRRs!K28<$B$66,'Spearman.Correlations'!K28,0)","v":0},{"$f":"IF(NRRs!L28<$B$66,'Spearman.Correlations'!L28,0)","v":0.70630956268184},{"$f":"IF(NRRs!M28<$B$66,'Spearman.Correlations'!M28,0)","v":0},{"$f":"IF(NRRs!N28<$B$66,'Spearman.Correlations'!N28,0)","v":0.804508301496443},{"$f":"IF(NRRs!O28<$B$66,'Spearman.Correlations'!O28,0)","v":0},{"$f":"IF(NRRs!P28<$B$66,'Spearman.Correlations'!P28,0)","v":0},{"$f":"IF(NRRs!Q28<$B$66,'Spearman.Correlations'!Q28,0)","v":0},{"$f":"IF(NRRs!R28<$B$66,'Spearman.Correlations'!R28,0)","v":0},{"$f":"IF(NRRs!S28<$B$66,'Spearman.Correlations'!S28,0)","v":0},{"$f":"IF(NRRs!T28<$B$66,'Spearman.Correlations'!T28,0)","v":0},{"$f":"IF(NRRs!U28<$B$66,'Spearman.Correlations'!U28,0)","v":0},{"$f":"IF(NRRs!V28<$B$66,'Spearman.Correlations'!V28,0)","v":0},{"$f":"IF(NRRs!W28<$B$66,'Spearman.Correlations'!W28,0)","v":0},{"$f":"IF(NRRs!X28<$B$66,'Spearman.Correlations'!X28,0)","v":0},{"$f":"IF(NRRs!Y28<$B$66,'Spearman.Correlations'!Y28,0)","v":0},{"$f":"IF(NRRs!Z28<$B$66,'Spearman.Correlations'!Z28,0)","v":0},{"$f":"IF(NRRs!AA28<$B$66,'Spearman.Correlations'!AA28,0)","v":0},{"$f":"IF(NRRs!AB28<$B$66,'Spearman.Correlations'!AB28,0)","v":0},{"$f":"IF(NRRs!AC28<$B$66,'Spearman.Correlations'!AC28,0)","v":0},{"$f":"IF(NRRs!AD28<$B$66,'Spearman.Correlations'!AD28,0)","v":0},{"$f":"IF(NRRs!AE28<$B$66,'Spearman.Correlations'!AE28,0)","v":0},{"$f":"IF(NRRs!AF28<$B$66,'Spearman.Correlations'!AF28,0)","v":0},{"$f":"IF(NRRs!AG28<$B$66,'Spearman.Correlations'!AG28,0)","v":0},{"$f":"IF(NRRs!AH28<$B$66,'Spearman.Correlations'!AH28,0)","v":0.324317342658187},{"$f":"IF(NRRs!AI28<$B$66,'Spearman.Correlations'!AI28,0)","v":0},{"$f":"IF(NRRs!AJ28<$B$66,'Spearman.Correlations'!AJ28,0)","v":0},{"$f":"IF(NRRs!AK28<$B$66,'Spearman.Correlations'!AK28,0)","v":0},{"$f":"IF(NRRs!AL28<$B$66,'Spearman.Correlations'!AL28,0)","v":0},{"$f":"IF(NRRs!AM28<$B$66,'Spearman.Correlations'!AM28,0)","v":0},{"$f":"IF(NRRs!AN28<$B$66,'Spearman.Correlations'!AN28,0)","v":0},{"$f":"IF(NRRs!AO28<$B$66,'Spearman.Correlations'!AO28,0)","v":0},{"$f":"IF(NRRs!AP28<$B$66,'Spearman.Correlations'!AP28,0)","v":0},{"$f":"IF(NRRs!AQ28<$B$66,'Spearman.Correlations'!AQ28,0)","v":0},{"$f":"IF(NRRs!AR28<$B$66,'Spearman.Correlations'!AR28,0)","v":0},{"$f":"IF(NRRs!AS28<$B$66,'Spearman.Correlations'!AS28,0)","v":0.767194977084475},{"$f":"IF(NRRs!AT28<$B$66,'Spearman.Correlations'!AT28,0)","v":0},{"$f":"IF(NRRs!AU28<$B$66,'Spearman.Correlations'!AU28,0)","v":0},{"$f":"IF(NRRs!AV28<$B$66,'Spearman.Correlations'!AV28,0)","v":0},{"$f":"IF(NRRs!AW28<$B$66,'Spearman.Correlations'!AW28,0)","v":0},{"$f":"IF(NRRs!AX28<$B$66,'Spearman.Correlations'!AX28,0)","v":0},{"$f":"IF(NRRs!AY28<$B$66,'Spearman.Correlations'!AY28,0)","v":0},{"$f":"IF(NRRs!AZ28<$B$66,'Spearman.Correlations'!AZ28,0)","v":0},{"$f":"IF(NRRs!BA28<$B$66,'Spearman.Correlations'!BA28,0)","v":0},{"$f":"IF(NRRs!BB28<$B$66,'Spearman.Correlations'!BB28,0)","v":0},{"$f":"IF(NRRs!BC28<$B$66,'Spearman.Correlations'!BC28,0)","v":0},{"$f":"IF(NRRs!BD28<$B$66,'Spearman.Correlations'!BD28,0)","v":0},{"$f":"IF(NRRs!BE28<$B$66,'Spearman.Correlations'!BE28,0)","v":0},{"$f":"IF(NRRs!BF28<$B$66,'Spearman.Correlations'!BF28,0)","v":0},{"$f":"IF(NRRs!BG28<$B$66,'Spearman.Correlations'!BG28,0)","v":0},{"$f":"IF(NRRs!BH28<$B$66,'Spearman.Correlations'!BH28,0)","v":0}]
["Indole-3-Propionic Acid ",{"$f":"IF(NRRs!B29<$B$66,'Spearman.Correlations'!B29,0)","v":0},{"$f":"IF(NRRs!C29<$B$66,'Spearman.Correlations'!C29,0)","v":0},{"$f":"IF(NRRs!D29<$B$66,'Spearman.Correlations'!D29,0)","v":0},{"$f":"IF(NRRs!E29<$B$66,'Spearman.Correlations'!E29,0)","v":0},{"$f":"IF(NRRs!F29<$B$66,'Spearman.Correlations'!F29,0)","v":0},{"$f":"IF(NRRs!G29<$B$66,'Spearman.Correlations'!G29,0)","v":0},{"$f":"IF(NRRs!H29<$B$66,'Spearman.Correlations'!H29,0)","v":0},{"$f":"IF(NRRs!I29<$B$66,'Spearman.Correlations'!I29,0)","v":0},{"$f":"IF(NRRs!J29<$B$66,'Spearman.Correlations'!J29,0)","v":0},{"$f":"IF(NRRs!K29<$B$66,'Spearman.Correlations'!K29,0)","v":-0.15062488802879},{"$f":"IF(NRRs!L29<$B$66,'Spearman.Correlations'!L29,0)","v":0},{"$f":"IF(NRRs!M29<$B$66,'Spearman.Correlations'!M29,0)","v":-0.162325708603976},{"$f":"IF(NRRs!N29<$B$66,'Spearman.Correlations'!N29,0)","v":0},{"$f":"IF(NRRs!O29<$B$66,'Spearman.Correlations'!O29,0)","v":0},{"$f":"IF(NRRs!P29<$B$66,'Spearman.Correlations'!P29,0)","v":0.169905169350612},{"$f":"IF(NRRs!Q29<$B$66,'Spearman.Correlations'!Q29,0)","v":0},{"$f":"IF(NRRs!R29<$B$66,'Spearman.Correlations'!R29,0)","v":0.16986705737486},{"$f":"IF(NRRs!S29<$B$66,'Spearman.Correlations'!S29,0)","v":0},{"$f":"IF(NRRs!T29<$B$66,'Spearman.Correlations'!T29,0)","v":0.231338715674431},{"$f":"IF(NRRs!U29<$B$66,'Spearman.Correlations'!U29,0)","v":0},{"$f":"IF(NRRs!V29<$B$66,'Spearman.Correlations'!V29,0)","v":0},{"$f":"IF(NRRs!W29<$B$66,'Spearman.Correlations'!W29,0)","v":0.167802277858153},{"$f":"IF(NRRs!X29<$B$66,'Spearman.Correlations'!X29,0)","v":0},{"$f":"IF(NRRs!Y29<$B$66,'Spearman.Correlations'!Y29,0)","v":0},{"$f":"IF(NRRs!Z29<$B$66,'Spearman.Correlations'!Z29,0)","v":0},{"$f":"IF(NRRs!AA29<$B$66,'Spearman.Correlations'!AA29,0)","v":0},{"$f":"IF(NRRs!AB29<$B$66,'Spearman.Correlations'!AB29,0)","v":0},{"$f":"IF(NRRs!AC29<$B$66,'Spearman.Correlations'!AC29,0)","v":0},{"$f":"IF(NRRs!AD29<$B$66,'Spearman.Correlations'!AD29,0)","v":0},{"$f":"IF(NRRs!AE29<$B$66,'Spearman.Correlations'!AE29,0)","v":0},{"$f":"IF(NRRs!AF29<$B$66,'Spearman.Correlations'!AF29,0)","v":0},{"$f":"IF(NRRs!AG29<$B$66,'Spearman.Correlations'!AG29,0)","v":0.208593428455841},{"$f":"IF(NRRs!AH29<$B$66,'Spearman.Correlations'!AH29,0)","v":0},{"$f":"IF(NRRs!AI29<$B$66,'Spearman.Correlations'!AI29,0)","v":0},{"$f":"IF(NRRs!AJ29<$B$66,'Spearman.Correlations'!AJ29,0)","v":0.24926156585544},{"$f":"IF(NRRs!AK29<$B$66,'Spearman.Correlations'!AK29,0)","v":0},{"$f":"IF(NRRs!AL29<$B$66,'Spearman.Correlations'!AL29,0)","v":-0.138516492762414},{"$f":"IF(NRRs!AM29<$B$66,'Spearman.Correlations'!AM29,0)","v":0},{"$f":"IF(NRRs!AN29<$B$66,'Spearman.Correlations'!AN29,0)","v":0},{"$f":"IF(NRRs!AO29<$B$66,'Spearman.Correlations'!AO29,0)","v":0.200931953507297},{"$f":"IF(NRRs!AP29<$B$66,'Spearman.Correlations'!AP29,0)","v":0},{"$f":"IF(NRRs!AQ29<$B$66,'Spearman.Correlations'!AQ29,0)","v":0},{"$f":"IF(NRRs!AR29<$B$66,'Spearman.Correlations'!AR29,0)","v":0},{"$f":"IF(NRRs!AS29<$B$66,'Spearman.Correlations'!AS29,0)","v":0.186077539125129},{"$f":"IF(NRRs!AT29<$B$66,'Spearman.Correlations'!AT29,0)","v":0},{"$f":"IF(NRRs!AU29<$B$66,'Spearman.Correlations'!AU29,0)","v":0},{"$f":"IF(NRRs!AV29<$B$66,'Spearman.Correlations'!AV29,0)","v":0},{"$f":"IF(NRRs!AW29<$B$66,'Spearman.Correlations'!AW29,0)","v":0},{"$f":"IF(NRRs!AX29<$B$66,'Spearman.Correlations'!AX29,0)","v":0},{"$f":"IF(NRRs!AY29<$B$66,'Spearman.Correlations'!AY29,0)","v":-0.143804550848433},{"$f":"IF(NRRs!AZ29<$B$66,'Spearman.Correlations'!AZ29,0)","v":0},{"$f":"IF(NRRs!BA29<$B$66,'Spearman.Correlations'!BA29,0)","v":0},{"$f":"IF(NRRs!BB29<$B$66,'Spearman.Correlations'!BB29,0)","v":0},{"$f":"IF(NRRs!BC29<$B$66,'Spearman.Correlations'!BC29,0)","v":0},{"$f":"IF(NRRs!BD29<$B$66,'Spearman.Correlations'!BD29,0)","v":0},{"$f":"IF(NRRs!BE29<$B$66,'Spearman.Correlations'!BE29,0)","v":0},{"$f":"IF(NRRs!BF29<$B$66,'Spearman.Correlations'!BF29,0)","v":0},{"$f":"IF(NRRs!BG29<$B$66,'Spearman.Correlations'!BG29,0)","v":0},{"$f":"IF(NRRs!BH29<$B$66,'Spearman.Correlations'!BH29,0)","v":0}]
["Isoleucine ",{"$f":"IF(NRRs!B30<$B$66,'Spearman.Correlations'!B30,0)","v":0.31407014006663},{"$f":"IF(NRRs!C30<$B$66,'Spearman.Correlations'!C30,0)","v":0},{"$f":"IF(NRRs!D30<$B$66,'Spearman.Correlations'!D30,0)","v":0.300199761018685},{"$f":"IF(NRRs!E30<$B$66,'Spearman.Correlations'!E30,0)","v":0.261920247026368},{"$f":"IF(NRRs!F30<$B$66,'Spearman.Correlations'!F30,0)","v":0},{"$f":"IF(NRRs!G30<$B$66,'Spearman.Correlations'!G30,0)","v":0},{"$f":"IF(NRRs!H30<$B$66,'Spearman.Correlations'!H30,0)","v":0},{"$f":"IF(NRRs!I30<$B$66,'Spearman.Correlations'!I30,0)","v":0},{"$f":"IF(NRRs!J30<$B$66,'Spearman.Correlations'!J30,0)","v":0},{"$f":"IF(NRRs!K30<$B$66,'Spearman.Correlations'!K30,0)","v":0},{"$f":"IF(NRRs!L30<$B$66,'Spearman.Correlations'!L30,0)","v":0},{"$f":"IF(NRRs!M30<$B$66,'Spearman.Correlations'!M30,0)","v":0},{"$f":"IF(NRRs!N30<$B$66,'Spearman.Correlations'!N30,0)","v":0},{"$f":"IF(NRRs!O30<$B$66,'Spearman.Correlations'!O30,0)","v":0.333560165309805},{"$f":"IF(NRRs!P30<$B$66,'Spearman.Correlations'!P30,0)","v":0},{"$f":"IF(NRRs!Q30<$B$66,'Spearman.Correlations'!Q30,0)","v":0.23090899674275},{"$f":"IF(NRRs!R30<$B$66,'Spearman.Correlations'!R30,0)","v":0.27919152656708},{"$f":"IF(NRRs!S30<$B$66,'Spearman.Correlations'!S30,0)","v":-0.236388178982394},{"$f":"IF(NRRs!T30<$B$66,'Spearman.Correlations'!T30,0)","v":0},{"$f":"IF(NRRs!U30<$B$66,'Spearman.Correlations'!U30,0)","v":0},{"$f":"IF(NRRs!V30<$B$66,'Spearman.Correlations'!V30,0)","v":0},{"$f":"IF(NRRs!W30<$B$66,'Spearman.Correlations'!W30,0)","v":0.222501587519387},{"$f":"IF(NRRs!X30<$B$66,'Spearman.Correlations'!X30,0)","v":0.210770590065035},{"$f":"IF(NRRs!Y30<$B$66,'Spearman.Correlations'!Y30,0)","v":0},{"$f":"IF(NRRs!Z30<$B$66,'Spearman.Correlations'!Z30,0)","v":0.195931773465257},{"$f":"IF(NRRs!AA30<$B$66,'Spearman.Correlations'!AA30,0)","v":-0.168652767822595},{"$f":"IF(NRRs!AB30<$B$66,'Spearman.Correlations'!AB30,0)","v":0},{"$f":"IF(NRRs!AC30<$B$66,'Spearman.Correlations'!AC30,0)","v":0},{"$f":"IF(NRRs!AD30<$B$66,'Spearman.Correlations'!AD30,0)","v":0},{"$f":"IF(NRRs!AE30<$B$66,'Spearman.Correlations'!AE30,0)","v":-0.112807594279875},{"$f":"IF(NRRs!AF30<$B$66,'Spearman.Correlations'!AF30,0)","v":0.483974854501951},{"$f":"IF(NRRs!AG30<$B$66,'Spearman.Correlations'!AG30,0)","v":0},{"$f":"IF(NRRs!AH30<$B$66,'Spearman.Correlations'!AH30,0)","v":0},{"$f":"IF(NRRs!AI30<$B$66,'Spearman.Correlations'!AI30,0)","v":0},{"$f":"IF(NRRs!AJ30<$B$66,'Spearman.Correlations'!AJ30,0)","v":0.342355772520794},{"$f":"IF(NRRs!AK30<$B$66,'Spearman.Correlations'!AK30,0)","v":0},{"$f":"IF(NRRs!AL30<$B$66,'Spearman.Correlations'!AL30,0)","v":-0.223044679790826},{"$f":"IF(NRRs!AM30<$B$66,'Spearman.Correlations'!AM30,0)","v":0.322719701778901},{"$f":"IF(NRRs!AN30<$B$66,'Spearman.Correlations'!AN30,0)","v":0.437711869507516},{"$f":"IF(NRRs!AO30<$B$66,'Spearman.Correlations'!AO30,0)","v":0.623525141674453},{"$f":"IF(NRRs!AP30<$B$66,'Spearman.Correlations'!AP30,0)","v":-0.126061922094817},{"$f":"IF(NRRs!AQ30<$B$66,'Spearman.Correlations'!AQ30,0)","v":0},{"$f":"IF(NRRs!AR30<$B$66,'Spearman.Correlations'!AR30,0)","v":0.489686944672695},{"$f":"IF(NRRs!AS30<$B$66,'Spearman.Correlations'!AS30,0)","v":0},{"$f":"IF(NRRs!AT30<$B$66,'Spearman.Correlations'!AT30,0)","v":0},{"$f":"IF(NRRs!AU30<$B$66,'Spearman.Correlations'!AU30,0)","v":0.236510256791055},{"$f":"IF(NRRs!AV30<$B$66,'Spearman.Correlations'!AV30,0)","v":0},{"$f":"IF(NRRs!AW30<$B$66,'Spearman.Correlations'!AW30,0)","v":0},{"$f":"IF(NRRs!AX30<$B$66,'Spearman.Correlations'!AX30,0)","v":0},{"$f":"IF(NRRs!AY30<$B$66,'Spearman.Correlations'!AY30,0)","v":0},{"$f":"IF(NRRs!AZ30<$B$66,'Spearman.Correlations'!AZ30,0)","v":0},{"$f":"IF(NRRs!BA30<$B$66,'Spearman.Correlations'!BA30,0)","v":0},{"$f":"IF(NRRs!BB30<$B$66,'Spearman.Correlations'!BB30,0)","v":0},{"$f":"IF(NRRs!BC30<$B$66,'Spearman.Correlations'!BC30,0)","v":0},{"$f":"IF(NRRs!BD30<$B$66,'Spearman.Correlations'!BD30,0)","v":0},{"$f":"IF(NRRs!BE30<$B$66,'Spearman.Correlations'!BE30,0)","v":0},{"$f":"IF(NRRs!BF30<$B$66,'Spearman.Correlations'!BF30,0)","v":0},{"$f":"IF(NRRs!BG30<$B$66,'Spearman.Correlations'!BG30,0)","v":0},{"$f":"IF(NRRs!BH30<$B$66,'Spearman.Correlations'!BH30,0)","v":-0.186501238436716}]
["Lactic Acid",{"$f":"IF(NRRs!B31<$B$66,'Spearman.Correlations'!B31,0)","v":0},{"$f":"IF(NRRs!C31<$B$66,'Spearman.Correlations'!C31,0)","v":0},{"$f":"IF(NRRs!D31<$B$66,'Spearman.Correlations'!D31,0)","v":0},{"$f":"IF(NRRs!E31<$B$66,'Spearman.Correlations'!E31,0)","v":0},{"$f":"IF(NRRs!F31<$B$66,'Spearman.Correlations'!F31,0)","v":0},{"$f":"IF(NRRs!G31<$B$66,'Spearman.Correlations'!G31,0)","v":0},{"$f":"IF(NRRs!H31<$B$66,'Spearman.Correlations'!H31,0)","v":0},{"$f":"IF(NRRs!I31<$B$66,'Spearman.Correlations'!I31,0)","v":0},{"$f":"IF(NRRs!J31<$B$66,'Spearman.Correlations'!J31,0)","v":0},{"$f":"IF(NRRs!K31<$B$66,'Spearman.Correlations'!K31,0)","v":0},{"$f":"IF(NRRs!L31<$B$66,'Spearman.Correlations'!L31,0)","v":0},{"$f":"IF(NRRs!M31<$B$66,'Spearman.Correlations'!M31,0)","v":0},{"$f":"IF(NRRs!N31<$B$66,'Spearman.Correlations'!N31,0)","v":0},{"$f":"IF(NRRs!O31<$B$66,'Spearman.Correlations'!O31,0)","v":0},{"$f":"IF(NRRs!P31<$B$66,'Spearman.Correlations'!P31,0)","v":0},{"$f":"IF(NRRs!Q31<$B$66,'Spearman.Correlations'!Q31,0)","v":0},{"$f":"IF(NRRs!R31<$B$66,'Spearman.Correlations'!R31,0)","v":-0.117809852918334},{"$f":"IF(NRRs!S31<$B$66,'Spearman.Correlations'!S31,0)","v":0},{"$f":"IF(NRRs!T31<$B$66,'Spearman.Correlations'!T31,0)","v":0},{"$f":"IF(NRRs!U31<$B$66,'Spearman.Correlations'!U31,0)","v":0},{"$f":"IF(NRRs!V31<$B$66,'Spearman.Correlations'!V31,0)","v":0},{"$f":"IF(NRRs!W31<$B$66,'Spearman.Correlations'!W31,0)","v":0},{"$f":"IF(NRRs!X31<$B$66,'Spearman.Correlations'!X31,0)","v":-0.107624201251518},{"$f":"IF(NRRs!Y31<$B$66,'Spearman.Correlations'!Y31,0)","v":0},{"$f":"IF(NRRs!Z31<$B$66,'Spearman.Correlations'!Z31,0)","v":0},{"$f":"IF(NRRs!AA31<$B$66,'Spearman.Correlations'!AA31,0)","v":0},{"$f":"IF(NRRs!AB31<$B$66,'Spearman.Correlations'!AB31,0)","v":0},{"$f":"IF(NRRs!AC31<$B$66,'Spearman.Correlations'!AC31,0)","v":0},{"$f":"IF(NRRs!AD31<$B$66,'Spearman.Correlations'!AD31,0)","v":-0.112807594279875},{"$f":"IF(NRRs!AE31<$B$66,'Spearman.Correlations'!AE31,0)","v":0},{"$f":"IF(NRRs!AF31<$B$66,'Spearman.Correlations'!AF31,0)","v":0},{"$f":"IF(NRRs!AG31<$B$66,'Spearman.Correlations'!AG31,0)","v":0},{"$f":"IF(NRRs!AH31<$B$66,'Spearman.Correlations'!AH31,0)","v":0},{"$f":"IF(NRRs!AI31<$B$66,'Spearman.Correlations'!AI31,0)","v":0},{"$f":"IF(NRRs!AJ31<$B$66,'Spearman.Correlations'!AJ31,0)","v":-0.0640705751953009},{"$f":"IF(NRRs!AK31<$B$66,'Spearman.Correlations'!AK31,0)","v":0},{"$f":"IF(NRRs!AL31<$B$66,'Spearman.Correlations'!AL31,0)","v":0.186846322561496},{"$f":"IF(NRRs!AM31<$B$66,'Spearman.Correlations'!AM31,0)","v":-0.169388812377724},{"$f":"IF(NRRs!AN31<$B$66,'Spearman.Correlations'!AN31,0)","v":0},{"$f":"IF(NRRs!AO31<$B$66,'Spearman.Correlations'!AO31,0)","v":-0.213319692981164},{"$f":"IF(NRRs!AP31<$B$66,'Spearman.Correlations'!AP31,0)","v":0.169437944560213},{"$f":"IF(NRRs!AQ31<$B$66,'Spearman.Correlations'!AQ31,0)","v":0},{"$f":"IF(NRRs!AR31<$B$66,'Spearman.Correlations'!AR31,0)","v":-0.163845351031397},{"$f":"IF(NRRs!AS31<$B$66,'Spearman.Correlations'!AS31,0)","v":-0.134156314883708},{"$f":"IF(NRRs!AT31<$B$66,'Spearman.Correlations'!AT31,0)","v":0.215232560349507},{"$f":"IF(NRRs!AU31<$B$66,'Spearman.Correlations'!AU31,0)","v":0},{"$f":"IF(NRRs!AV31<$B$66,'Spearman.Correlations'!AV31,0)","v":0},{"$f":"IF(NRRs!AW31<$B$66,'Spearman.Correlations'!AW31,0)","v":0},{"$f":"IF(NRRs!AX31<$B$66,'Spearman.Correlations'!AX31,0)","v":0},{"$f":"IF(NRRs!AY31<$B$66,'Spearman.Correlations'!AY31,0)","v":0},{"$f":"IF(NRRs!AZ31<$B$66,'Spearman.Correlations'!AZ31,0)","v":0},{"$f":"IF(NRRs!BA31<$B$66,'Spearman.Correlations'!BA31,0)","v":0},{"$f":"IF(NRRs!BB31<$B$66,'Spearman.Correlations'!BB31,0)","v":0},{"$f":"IF(NRRs!BC31<$B$66,'Spearman.Correlations'!BC31,0)","v":0},{"$f":"IF(NRRs!BD31<$B$66,'Spearman.Correlations'!BD31,0)","v":0},{"$f":"IF(NRRs!BE31<$B$66,'Spearman.Correlations'!BE31,0)","v":0},{"$f":"IF(NRRs!BF31<$B$66,'Spearman.Correlations'!BF31,0)","v":-0.135507332512734},{"$f":"IF(NRRs!BG31<$B$66,'Spearman.Correlations'!BG31,0)","v":-0.116787127041983},{"$f":"IF(NRRs!BH31<$B$66,'Spearman.Correlations'!BH31,0)","v":0}]
["Leucine ",{"$f":"IF(NRRs!B32<$B$66,'Spearman.Correlations'!B32,0)","v":0},{"$f":"IF(NRRs!C32<$B$66,'Spearman.Correlations'!C32,0)","v":0},{"$f":"IF(NRRs!D32<$B$66,'Spearman.Correlations'!D32,0)","v":0},{"$f":"IF(NRRs!E32<$B$66,'Spearman.Correlations'!E32,0)","v":0},{"$f":"IF(NRRs!F32<$B$66,'Spearman.Correlations'!F32,0)","v":0},{"$f":"IF(NRRs!G32<$B$66,'Spearman.Correlations'!G32,0)","v":0},{"$f":"IF(NRRs!H32<$B$66,'Spearman.Correlations'!H32,0)","v":0},{"$f":"IF(NRRs!I32<$B$66,'Spearman.Correlations'!I32,0)","v":0},{"$f":"IF(NRRs!J32<$B$66,'Spearman.Correlations'!J32,0)","v":0},{"$f":"IF(NRRs!K32<$B$66,'Spearman.Correlations'!K32,0)","v":0},{"$f":"IF(NRRs!L32<$B$66,'Spearman.Correlations'!L32,0)","v":0},{"$f":"IF(NRRs!M32<$B$66,'Spearman.Correlations'!M32,0)","v":0},{"$f":"IF(NRRs!N32<$B$66,'Spearman.Correlations'!N32,0)","v":0},{"$f":"IF(NRRs!O32<$B$66,'Spearman.Correlations'!O32,0)","v":0.282637510985678},{"$f":"IF(NRRs!P32<$B$66,'Spearman.Correlations'!P32,0)","v":0},{"$f":"IF(NRRs!Q32<$B$66,'Spearman.Correlations'!Q32,0)","v":0.189163708666676},{"$f":"IF(NRRs!R32<$B$66,'Spearman.Correlations'!R32,0)","v":0},{"$f":"IF(NRRs!S32<$B$66,'Spearman.Correlations'!S32,0)","v":0},{"$f":"IF(NRRs!T32<$B$66,'Spearman.Correlations'!T32,0)","v":-0.120291128912459},{"$f":"IF(NRRs!U32<$B$66,'Spearman.Correlations'!U32,0)","v":-0.0852170237513541},{"$f":"IF(NRRs!V32<$B$66,'Spearman.Correlations'!V32,0)","v":0},{"$f":"IF(NRRs!W32<$B$66,'Spearman.Correlations'!W32,0)","v":0},{"$f":"IF(NRRs!X32<$B$66,'Spearman.Correlations'!X32,0)","v":0.287128839381437},{"$f":"IF(NRRs!Y32<$B$66,'Spearman.Correlations'!Y32,0)","v":0},{"$f":"IF(NRRs!Z32<$B$66,'Spearman.Correlations'!Z32,0)","v":0},{"$f":"IF(NRRs!AA32<$B$66,'Spearman.Correlations'!AA32,0)","v":0},{"$f":"IF(NRRs!AB32<$B$66,'Spearman.Correlations'!AB32,0)","v":0},{"$f":"IF(NRRs!AC32<$B$66,'Spearman.Correlations'!AC32,0)","v":0},{"$f":"IF(NRRs!AD32<$B$66,'Spearman.Correlations'!AD32,0)","v":0.483974854501951},{"$f":"IF(NRRs!AE32<$B$66,'Spearman.Correlations'!AE32,0)","v":0},{"$f":"IF(NRRs!AF32<$B$66,'Spearman.Correlations'!AF32,0)","v":0},{"$f":"IF(NRRs!AG32<$B$66,'Spearman.Correlations'!AG32,0)","v":0},{"$f":"IF(NRRs!AH32<$B$66,'Spearman.Correlations'!AH32,0)","v":0},{"$f":"IF(NRRs!AI32<$B$66,'Spearman.Correlations'!AI32,0)","v":0},{"$f":"IF(NRRs!AJ32<$B$66,'Spearman.Correlations'!AJ32,0)","v":0},{"$f":"IF(NRRs!AK32<$B$66,'Spearman.Correlations'!AK32,0)","v":0},{"$f":"IF(NRRs!AL32<$B$66,'Spearman.Correlations'!AL32,0)","v":0},{"$f":"IF(NRRs!AM32<$B$66,'Spearman.Correlations'!AM32,0)","v":0.291953554715995},{"$f":"IF(NRRs!AN32<$B$66,'Spearman.Correlations'!AN32,0)","v":0.459767219508434},{"$f":"IF(NRRs!AO32<$B$66,'Spearman.Correlations'!AO32,0)","v":0.263453778757009},{"$f":"IF(NRRs!AP32<$B$66,'Spearman.Correlations'!AP32,0)","v":0},{"$f":"IF(NRRs!AQ32<$B$66,'Spearman.Correlations'!AQ32,0)","v":0},{"$f":"IF(NRRs!AR32<$B$66,'Spearman.Correlations'!AR32,0)","v":0.283824269561983},{"$f":"IF(NRRs!AS32<$B$66,'Spearman.Correlations'!AS32,0)","v":0},{"$f":"IF(NRRs!AT32<$B$66,'Spearman.Correlations'!AT32,0)","v":0.444225725286365},{"$f":"IF(NRRs!AU32<$B$66,'Spearman.Correlations'!AU32,0)","v":0.180412463044586},{"$f":"IF(NRRs!AV32<$B$66,'Spearman.Correlations'!AV32,0)","v":0},{"$f":"IF(NRRs!AW32<$B$66,'Spearman.Correlations'!AW32,0)","v":0},{"$f":"IF(NRRs!AX32<$B$66,'Spearman.Correlations'!AX32,0)","v":0},{"$f":"IF(NRRs!AY32<$B$66,'Spearman.Correlations'!AY32,0)","v":0},{"$f":"IF(NRRs!AZ32<$B$66,'Spearman.Correlations'!AZ32,0)","v":0},{"$f":"IF(NRRs!BA32<$B$66,'Spearman.Correlations'!BA32,0)","v":0},{"$f":"IF(NRRs!BB32<$B$66,'Spearman.Correlations'!BB32,0)","v":0},{"$f":"IF(NRRs!BC32<$B$66,'Spearman.Correlations'!BC32,0)","v":0},{"$f":"IF(NRRs!BD32<$B$66,'Spearman.Correlations'!BD32,0)","v":0},{"$f":"IF(NRRs!BE32<$B$66,'Spearman.Correlations'!BE32,0)","v":0},{"$f":"IF(NRRs!BF32<$B$66,'Spearman.Correlations'!BF32,0)","v":0},{"$f":"IF(NRRs!BG32<$B$66,'Spearman.Correlations'!BG32,0)","v":0},{"$f":"IF(NRRs!BH32<$B$66,'Spearman.Correlations'!BH32,0)","v":-0.135304870904716}]
["Linoleic Acid ",{"$f":"IF(NRRs!B33<$B$66,'Spearman.Correlations'!B33,0)","v":0},{"$f":"IF(NRRs!C33<$B$66,'Spearman.Correlations'!C33,0)","v":0},{"$f":"IF(NRRs!D33<$B$66,'Spearman.Correlations'!D33,0)","v":0},{"$f":"IF(NRRs!E33<$B$66,'Spearman.Correlations'!E33,0)","v":0},{"$f":"IF(NRRs!F33<$B$66,'Spearman.Correlations'!F33,0)","v":0},{"$f":"IF(NRRs!G33<$B$66,'Spearman.Correlations'!G33,0)","v":0.221823615761743},{"$f":"IF(NRRs!H33<$B$66,'Spearman.Correlations'!H33,0)","v":0},{"$f":"IF(NRRs!I33<$B$66,'Spearman.Correlations'!I33,0)","v":0},{"$f":"IF(NRRs!J33<$B$66,'Spearman.Correlations'!J33,0)","v":0},{"$f":"IF(NRRs!K33<$B$66,'Spearman.Correlations'!K33,0)","v":0},{"$f":"IF(NRRs!L33<$B$66,'Spearman.Correlations'!L33,0)","v":0},{"$f":"IF(NRRs!M33<$B$66,'Spearman.Correlations'!M33,0)","v":0},{"$f":"IF(NRRs!N33<$B$66,'Spearman.Correlations'!N33,0)","v":0},{"$f":"IF(NRRs!O33<$B$66,'Spearman.Correlations'!O33,0)","v":0},{"$f":"IF(NRRs!P33<$B$66,'Spearman.Correlations'!P33,0)","v":0.318291450484572},{"$f":"IF(NRRs!Q33<$B$66,'Spearman.Correlations'!Q33,0)","v":0.203819465827861},{"$f":"IF(NRRs!R33<$B$66,'Spearman.Correlations'!R33,0)","v":0},{"$f":"IF(NRRs!S33<$B$66,'Spearman.Correlations'!S33,0)","v":0},{"$f":"IF(NRRs!T33<$B$66,'Spearman.Correlations'!T33,0)","v":0.377213906613587},{"$f":"IF(NRRs!U33<$B$66,'Spearman.Correlations'!U33,0)","v":0},{"$f":"IF(NRRs!V33<$B$66,'Spearman.Correlations'!V33,0)","v":0},{"$f":"IF(NRRs!W33<$B$66,'Spearman.Correlations'!W33,0)","v":0},{"$f":"IF(NRRs!X33<$B$66,'Spearman.Correlations'!X33,0)","v":0},{"$f":"IF(NRRs!Y33<$B$66,'Spearman.Correlations'!Y33,0)","v":0},{"$f":"IF(NRRs!Z33<$B$66,'Spearman.Correlations'!Z33,0)","v":0},{"$f":"IF(NRRs!AA33<$B$66,'Spearman.Correlations'!AA33,0)","v":0},{"$f":"IF(NRRs!AB33<$B$66,'Spearman.Correlations'!AB33,0)","v":0},{"$f":"IF(NRRs!AC33<$B$66,'Spearman.Correlations'!AC33,0)","v":0.208593428455841},{"$f":"IF(NRRs!AD33<$B$66,'Spearman.Correlations'!AD33,0)","v":0},{"$f":"IF(NRRs!AE33<$B$66,'Spearman.Correlations'!AE33,0)","v":0},{"$f":"IF(NRRs!AF33<$B$66,'Spearman.Correlations'!AF33,0)","v":0},{"$f":"IF(NRRs!AG33<$B$66,'Spearman.Correlations'!AG33,0)","v":0},{"$f":"IF(NRRs!AH33<$B$66,'Spearman.Correlations'!AH33,0)","v":0.31657538552244},{"$f":"IF(NRRs!AI33<$B$66,'Spearman.Correlations'!AI33,0)","v":0},{"$f":"IF(NRRs!AJ33<$B$66,'Spearman.Correlations'!AJ33,0)","v":0.231212369976242},{"$f":"IF(NRRs!AK33<$B$66,'Spearman.Correlations'!AK33,0)","v":0.44144108702521},{"$f":"IF(NRRs!AL33<$B$66,'Spearman.Correlations'!AL33,0)","v":0},{"$f":"IF(NRRs!AM33<$B$66,'Spearman.Correlations'!AM33,0)","v":0.277357853065098},{"$f":"IF(NRRs!AN33<$B$66,'Spearman.Correlations'!AN33,0)","v":0},{"$f":"IF(NRRs!AO33<$B$66,'Spearman.Correlations'!AO33,0)","v":0},{"$f":"IF(NRRs!AP33<$B$66,'Spearman.Correlations'!AP33,0)","v":0},{"$f":"IF(NRRs!AQ33<$B$66,'Spearman.Correlations'!AQ33,0)","v":0},{"$f":"IF(NRRs!AR33<$B$66,'Spearman.Correlations'!AR33,0)","v":0},{"$f":"IF(NRRs!AS33<$B$66,'Spearman.Correlations'!AS33,0)","v":0},{"$f":"IF(NRRs!AT33<$B$66,'Spearman.Correlations'!AT33,0)","v":0},{"$f":"IF(NRRs!AU33<$B$66,'Spearman.Correlations'!AU33,0)","v":0},{"$f":"IF(NRRs!AV33<$B$66,'Spearman.Correlations'!AV33,0)","v":0},{"$f":"IF(NRRs!AW33<$B$66,'Spearman.Correlations'!AW33,0)","v":0},{"$f":"IF(NRRs!AX33<$B$66,'Spearman.Correlations'!AX33,0)","v":0},{"$f":"IF(NRRs!AY33<$B$66,'Spearman.Correlations'!AY33,0)","v":0},{"$f":"IF(NRRs!AZ33<$B$66,'Spearman.Correlations'!AZ33,0)","v":0},{"$f":"IF(NRRs!BA33<$B$66,'Spearman.Correlations'!BA33,0)","v":0},{"$f":"IF(NRRs!BB33<$B$66,'Spearman.Correlations'!BB33,0)","v":0},{"$f":"IF(NRRs!BC33<$B$66,'Spearman.Correlations'!BC33,0)","v":0},{"$f":"IF(NRRs!BD33<$B$66,'Spearman.Correlations'!BD33,0)","v":0},{"$f":"IF(NRRs!BE33<$B$66,'Spearman.Correlations'!BE33,0)","v":0},{"$f":"IF(NRRs!BF33<$B$66,'Spearman.Correlations'!BF33,0)","v":0},{"$f":"IF(NRRs!BG33<$B$66,'Spearman.Correlations'!BG33,0)","v":0},{"$f":"IF(NRRs!BH33<$B$66,'Spearman.Correlations'!BH33,0)","v":0}]
["Lysine ",{"$f":"IF(NRRs!B34<$B$66,'Spearman.Correlations'!B34,0)","v":-0.201345787672671},{"$f":"IF(NRRs!C34<$B$66,'Spearman.Correlations'!C34,0)","v":0},{"$f":"IF(NRRs!D34<$B$66,'Spearman.Correlations'!D34,0)","v":-0.133080575195168},{"$f":"IF(NRRs!E34<$B$66,'Spearman.Correlations'!E34,0)","v":0},{"$f":"IF(NRRs!F34<$B$66,'Spearman.Correlations'!F34,0)","v":0},{"$f":"IF(NRRs!G34<$B$66,'Spearman.Correlations'!G34,0)","v":0},{"$f":"IF(NRRs!H34<$B$66,'Spearman.Correlations'!H34,0)","v":0},{"$f":"IF(NRRs!I34<$B$66,'Spearman.Correlations'!I34,0)","v":0},{"$f":"IF(NRRs!J34<$B$66,'Spearman.Correlations'!J34,0)","v":-0.113519765782465},{"$f":"IF(NRRs!K34<$B$66,'Spearman.Correlations'!K34,0)","v":0},{"$f":"IF(NRRs!L34<$B$66,'Spearman.Correlations'!L34,0)","v":0},{"$f":"IF(NRRs!M34<$B$66,'Spearman.Correlations'!M34,0)","v":0},{"$f":"IF(NRRs!N34<$B$66,'Spearman.Correlations'!N34,0)","v":0},{"$f":"IF(NRRs!O34<$B$66,'Spearman.Correlations'!O34,0)","v":0},{"$f":"IF(NRRs!P34<$B$66,'Spearman.Correlations'!P34,0)","v":0},{"$f":"IF(NRRs!Q34<$B$66,'Spearman.Correlations'!Q34,0)","v":0.559777083064684},{"$f":"IF(NRRs!R34<$B$66,'Spearman.Correlations'!R34,0)","v":0},{"$f":"IF(NRRs!S34<$B$66,'Spearman.Correlations'!S34,0)","v":0},{"$f":"IF(NRRs!T34<$B$66,'Spearman.Correlations'!T34,0)","v":0},{"$f":"IF(NRRs!U34<$B$66,'Spearman.Correlations'!U34,0)","v":-0.227987226715565},{"$f":"IF(NRRs!V34<$B$66,'Spearman.Correlations'!V34,0)","v":-0.0751778675176432},{"$f":"IF(NRRs!W34<$B$66,'Spearman.Correlations'!W34,0)","v":0},{"$f":"IF(NRRs!X34<$B$66,'Spearman.Correlations'!X34,0)","v":0},{"$f":"IF(NRRs!Y34<$B$66,'Spearman.Correlations'!Y34,0)","v":0.165836673908454},{"$f":"IF(NRRs!Z34<$B$66,'Spearman.Correlations'!Z34,0)","v":0},{"$f":"IF(NRRs!AA34<$B$66,'Spearman.Correlations'!AA34,0)","v":0},{"$f":"IF(NRRs!AB34<$B$66,'Spearman.Correlations'!AB34,0)","v":0.324317342658187},{"$f":"IF(NRRs!AC34<$B$66,'Spearman.Correlations'!AC34,0)","v":0},{"$f":"IF(NRRs!AD34<$B$66,'Spearman.Correlations'!AD34,0)","v":0},{"$f":"IF(NRRs!AE34<$B$66,'Spearman.Correlations'!AE34,0)","v":0},{"$f":"IF(NRRs!AF34<$B$66,'Spearman.Correlations'!AF34,0)","v":0},{"$f":"IF(NRRs!AG34<$B$66,'Spearman.Correlations'!AG34,0)","v":0.31657538552244},{"$f":"IF(NRRs!AH34<$B$66,'Spearman.Correlations'!AH34,0)","v":0},{"$f":"IF(NRRs!AI34<$B$66,'Spearman.Correlations'!AI34,0)","v":0},{"$f":"IF(NRRs!AJ34<$B$66,'Spearman.Correlations'!AJ34,0)","v":0.172872093571738},{"$f":"IF(NRRs!AK34<$B$66,'Spearman.Correlations'!AK34,0)","v":0},{"$f":"IF(NRRs!AL34<$B$66,'Spearman.Correlations'!AL34,0)","v":0},{"$f":"IF(NRRs!AM34<$B$66,'Spearman.Correlations'!AM34,0)","v":0.293216930031407},{"$f":"IF(NRRs!AN34<$B$66,'Spearman.Correlations'!AN34,0)","v":0.156042243999407},{"$f":"IF(NRRs!AO34<$B$66,'Spearman.Correlations'!AO34,0)","v":0},{"$f":"IF(NRRs!AP34<$B$66,'Spearman.Correlations'!AP34,0)","v":0},{"$f":"IF(NRRs!AQ34<$B$66,'Spearman.Correlations'!AQ34,0)","v":0},{"$f":"IF(NRRs!AR34<$B$66,'Spearman.Correlations'!AR34,0)","v":0.183107121694062},{"$f":"IF(NRRs!AS34<$B$66,'Spearman.Correlations'!AS34,0)","v":0.349678272428562},{"$f":"IF(NRRs!AT34<$B$66,'Spearman.Correlations'!AT34,0)","v":0},{"$f":"IF(NRRs!AU34<$B$66,'Spearman.Correlations'!AU34,0)","v":0},{"$f":"IF(NRRs!AV34<$B$66,'Spearman.Correlations'!AV34,0)","v":0},{"$f":"IF(NRRs!AW34<$B$66,'Spearman.Correlations'!AW34,0)","v":0},{"$f":"IF(NRRs!AX34<$B$66,'Spearman.Correlations'!AX34,0)","v":0},{"$f":"IF(NRRs!AY34<$B$66,'Spearman.Correlations'!AY34,0)","v":0},{"$f":"IF(NRRs!AZ34<$B$66,'Spearman.Correlations'!AZ34,0)","v":0},{"$f":"IF(NRRs!BA34<$B$66,'Spearman.Correlations'!BA34,0)","v":0},{"$f":"IF(NRRs!BB34<$B$66,'Spearman.Correlations'!BB34,0)","v":0},{"$f":"IF(NRRs!BC34<$B$66,'Spearman.Correlations'!BC34,0)","v":0},{"$f":"IF(NRRs!BD34<$B$66,'Spearman.Correlations'!BD34,0)","v":0},{"$f":"IF(NRRs!BE34<$B$66,'Spearman.Correlations'!BE34,0)","v":0},{"$f":"IF(NRRs!BF34<$B$66,'Spearman.Correlations'!BF34,0)","v":0},{"$f":"IF(NRRs!BG34<$B$66,'Spearman.Correlations'!BG34,0)","v":0},{"$f":"IF(NRRs!BH34<$B$66,'Spearman.Correlations'!BH34,0)","v":0}]
["Malic Acid ",{"$f":"IF(NRRs!B35<$B$66,'Spearman.Correlations'!B35,0)","v":0},{"$f":"IF(NRRs!C35<$B$66,'Spearman.Correlations'!C35,0)","v":0},{"$f":"IF(NRRs!D35<$B$66,'Spearman.Correlations'!D35,0)","v":0},{"$f":"IF(NRRs!E35<$B$66,'Spearman.Correlations'!E35,0)","v":0},{"$f":"IF(NRRs!F35<$B$66,'Spearman.Correlations'!F35,0)","v":0},{"$f":"IF(NRRs!G35<$B$66,'Spearman.Correlations'!G35,0)","v":0},{"$f":"IF(NRRs!H35<$B$66,'Spearman.Correlations'!H35,0)","v":0},{"$f":"IF(NRRs!I35<$B$66,'Spearman.Correlations'!I35,0)","v":0},{"$f":"IF(NRRs!J35<$B$66,'Spearman.Correlations'!J35,0)","v":0},{"$f":"IF(NRRs!K35<$B$66,'Spearman.Correlations'!K35,0)","v":0.343805880195681},{"$f":"IF(NRRs!L35<$B$66,'Spearman.Correlations'!L35,0)","v":0},{"$f":"IF(NRRs!M35<$B$66,'Spearman.Correlations'!M35,0)","v":0},{"$f":"IF(NRRs!N35<$B$66,'Spearman.Correlations'!N35,0)","v":0},{"$f":"IF(NRRs!O35<$B$66,'Spearman.Correlations'!O35,0)","v":0.358768986217903},{"$f":"IF(NRRs!P35<$B$66,'Spearman.Correlations'!P35,0)","v":0.329830611113819},{"$f":"IF(NRRs!Q35<$B$66,'Spearman.Correlations'!Q35,0)","v":0},{"$f":"IF(NRRs!R35<$B$66,'Spearman.Correlations'!R35,0)","v":0.394916254243474},{"$f":"IF(NRRs!S35<$B$66,'Spearman.Correlations'!S35,0)","v":0},{"$f":"IF(NRRs!T35<$B$66,'Spearman.Correlations'!T35,0)","v":0.465365454008465},{"$f":"IF(NRRs!U35<$B$66,'Spearman.Correlations'!U35,0)","v":0.300751490634714},{"$f":"IF(NRRs!V35<$B$66,'Spearman.Correlations'!V35,0)","v":0.338190435453391},{"$f":"IF(NRRs!W35<$B$66,'Spearman.Correlations'!W35,0)","v":0.646015462397118},{"$f":"IF(NRRs!X35<$B$66,'Spearman.Correlations'!X35,0)","v":0.202471421270044},{"$f":"IF(NRRs!Y35<$B$66,'Spearman.Correlations'!Y35,0)","v":-0.138663841132556},{"$f":"IF(NRRs!Z35<$B$66,'Spearman.Correlations'!Z35,0)","v":0.213474387237622},{"$f":"IF(NRRs!AA35<$B$66,'Spearman.Correlations'!AA35,0)","v":0.232945337828791},{"$f":"IF(NRRs!AB35<$B$66,'Spearman.Correlations'!AB35,0)","v":0},{"$f":"IF(NRRs!AC35<$B$66,'Spearman.Correlations'!AC35,0)","v":0},{"$f":"IF(NRRs!AD35<$B$66,'Spearman.Correlations'!AD35,0)","v":0},{"$f":"IF(NRRs!AE35<$B$66,'Spearman.Correlations'!AE35,0)","v":0},{"$f":"IF(NRRs!AF35<$B$66,'Spearman.Correlations'!AF35,0)","v":0},{"$f":"IF(NRRs!AG35<$B$66,'Spearman.Correlations'!AG35,0)","v":0},{"$f":"IF(NRRs!AH35<$B$66,'Spearman.Correlations'!AH35,0)","v":0},{"$f":"IF(NRRs!AI35<$B$66,'Spearman.Correlations'!AI35,0)","v":0},{"$f":"IF(NRRs!AJ35<$B$66,'Spearman.Correlations'!AJ35,0)","v":0.309099459118245},{"$f":"IF(NRRs!AK35<$B$66,'Spearman.Correlations'!AK35,0)","v":0},{"$f":"IF(NRRs!AL35<$B$66,'Spearman.Correlations'!AL35,0)","v":0},{"$f":"IF(NRRs!AM35<$B$66,'Spearman.Correlations'!AM35,0)","v":0.283679668010244},{"$f":"IF(NRRs!AN35<$B$66,'Spearman.Correlations'!AN35,0)","v":0},{"$f":"IF(NRRs!AO35<$B$66,'Spearman.Correlations'!AO35,0)","v":0.190606583983332},{"$f":"IF(NRRs!AP35<$B$66,'Spearman.Correlations'!AP35,0)","v":-0.115404568182894},{"$f":"IF(NRRs!AQ35<$B$66,'Spearman.Correlations'!AQ35,0)","v":0.408896876042843},{"$f":"IF(NRRs!AR35<$B$66,'Spearman.Correlations'!AR35,0)","v":0},{"$f":"IF(NRRs!AS35<$B$66,'Spearman.Correlations'!AS35,0)","v":0},{"$f":"IF(NRRs!AT35<$B$66,'Spearman.Correlations'!AT35,0)","v":0},{"$f":"IF(NRRs!AU35<$B$66,'Spearman.Correlations'!AU35,0)","v":0},{"$f":"IF(NRRs!AV35<$B$66,'Spearman.Correlations'!AV35,0)","v":0},{"$f":"IF(NRRs!AW35<$B$66,'Spearman.Correlations'!AW35,0)","v":0},{"$f":"IF(NRRs!AX35<$B$66,'Spearman.Correlations'!AX35,0)","v":0},{"$f":"IF(NRRs!AY35<$B$66,'Spearman.Correlations'!AY35,0)","v":0},{"$f":"IF(NRRs!AZ35<$B$66,'Spearman.Correlations'!AZ35,0)","v":0},{"$f":"IF(NRRs!BA35<$B$66,'Spearman.Correlations'!BA35,0)","v":0},{"$f":"IF(NRRs!BB35<$B$66,'Spearman.Correlations'!BB35,0)","v":0},{"$f":"IF(NRRs!BC35<$B$66,'Spearman.Correlations'!BC35,0)","v":0},{"$f":"IF(NRRs!BD35<$B$66,'Spearman.Correlations'!BD35,0)","v":0},{"$f":"IF(NRRs!BE35<$B$66,'Spearman.Correlations'!BE35,0)","v":0},{"$f":"IF(NRRs!BF35<$B$66,'Spearman.Correlations'!BF35,0)","v":0},{"$f":"IF(NRRs!BG35<$B$66,'Spearman.Correlations'!BG35,0)","v":0},{"$f":"IF(NRRs!BH35<$B$66,'Spearman.Correlations'!BH35,0)","v":0}]
["Methionine ",{"$f":"IF(NRRs!B36<$B$66,'Spearman.Correlations'!B36,0)","v":0},{"$f":"IF(NRRs!C36<$B$66,'Spearman.Correlations'!C36,0)","v":0},{"$f":"IF(NRRs!D36<$B$66,'Spearman.Correlations'!D36,0)","v":0},{"$f":"IF(NRRs!E36<$B$66,'Spearman.Correlations'!E36,0)","v":0},{"$f":"IF(NRRs!F36<$B$66,'Spearman.Correlations'!F36,0)","v":0},{"$f":"IF(NRRs!G36<$B$66,'Spearman.Correlations'!G36,0)","v":0},{"$f":"IF(NRRs!H36<$B$66,'Spearman.Correlations'!H36,0)","v":0},{"$f":"IF(NRRs!I36<$B$66,'Spearman.Correlations'!I36,0)","v":0},{"$f":"IF(NRRs!J36<$B$66,'Spearman.Correlations'!J36,0)","v":0},{"$f":"IF(NRRs!K36<$B$66,'Spearman.Correlations'!K36,0)","v":0},{"$f":"IF(NRRs!L36<$B$66,'Spearman.Correlations'!L36,0)","v":0},{"$f":"IF(NRRs!M36<$B$66,'Spearman.Correlations'!M36,0)","v":0},{"$f":"IF(NRRs!N36<$B$66,'Spearman.Correlations'!N36,0)","v":0},{"$f":"IF(NRRs!O36<$B$66,'Spearman.Correlations'!O36,0)","v":0.255287202692533},{"$f":"IF(NRRs!P36<$B$66,'Spearman.Correlations'!P36,0)","v":0.351744171433964},{"$f":"IF(NRRs!Q36<$B$66,'Spearman.Correlations'!Q36,0)","v":0.349091429058321},{"$f":"IF(NRRs!R36<$B$66,'Spearman.Correlations'!R36,0)","v":0.267973990492463},{"$f":"IF(NRRs!S36<$B$66,'Spearman.Correlations'!S36,0)","v":-0.0890758868179302},{"$f":"IF(NRRs!T36<$B$66,'Spearman.Correlations'!T36,0)","v":0.350953848625238},{"$f":"IF(NRRs!U36<$B$66,'Spearman.Correlations'!U36,0)","v":0},{"$f":"IF(NRRs!V36<$B$66,'Spearman.Correlations'!V36,0)","v":0},{"$f":"IF(NRRs!W36<$B$66,'Spearman.Correlations'!W36,0)","v":0.297011470548929},{"$f":"IF(NRRs!X36<$B$66,'Spearman.Correlations'!X36,0)","v":0},{"$f":"IF(NRRs!Y36<$B$66,'Spearman.Correlations'!Y36,0)","v":0},{"$f":"IF(NRRs!Z36<$B$66,'Spearman.Correlations'!Z36,0)","v":0.27891912371639},{"$f":"IF(NRRs!AA36<$B$66,'Spearman.Correlations'!AA36,0)","v":0},{"$f":"IF(NRRs!AB36<$B$66,'Spearman.Correlations'!AB36,0)","v":0},{"$f":"IF(NRRs!AC36<$B$66,'Spearman.Correlations'!AC36,0)","v":0.24926156585544},{"$f":"IF(NRRs!AD36<$B$66,'Spearman.Correlations'!AD36,0)","v":0.342355772520794},{"$f":"IF(NRRs!AE36<$B$66,'Spearman.Correlations'!AE36,0)","v":-0.0640705751953009},{"$f":"IF(NRRs!AF36<$B$66,'Spearman.Correlations'!AF36,0)","v":0},{"$f":"IF(NRRs!AG36<$B$66,'Spearman.Correlations'!AG36,0)","v":0.231212369976242},{"$f":"IF(NRRs!AH36<$B$66,'Spearman.Correlations'!AH36,0)","v":0.172872093571738},{"$f":"IF(NRRs!AI36<$B$66,'Spearman.Correlations'!AI36,0)","v":0.309099459118245},{"$f":"IF(NRRs!AJ36<$B$66,'Spearman.Correlations'!AJ36,0)","v":0},{"$f":"IF(NRRs!AK36<$B$66,'Spearman.Correlations'!AK36,0)","v":0},{"$f":"IF(NRRs!AL36<$B$66,'Spearman.Correlations'!AL36,0)","v":-0.229074714499651},{"$f":"IF(NRRs!AM36<$B$66,'Spearman.Correlations'!AM36,0)","v":0.437721126072714},{"$f":"IF(NRRs!AN36<$B$66,'Spearman.Correlations'!AN36,0)","v":0},{"$f":"IF(NRRs!AO36<$B$66,'Spearman.Correlations'!AO36,0)","v":0.37123940032325},{"$f":"IF(NRRs!AP36<$B$66,'Spearman.Correlations'!AP36,0)","v":-0.105028517092196},{"$f":"IF(NRRs!AQ36<$B$66,'Spearman.Correlations'!AQ36,0)","v":0},{"$f":"IF(NRRs!AR36<$B$66,'Spearman.Correlations'!AR36,0)","v":0.407794074869737},{"$f":"IF(NRRs!AS36<$B$66,'Spearman.Correlations'!AS36,0)","v":0},{"$f":"IF(NRRs!AT36<$B$66,'Spearman.Correlations'!AT36,0)","v":0},{"$f":"IF(NRRs!AU36<$B$66,'Spearman.Correlations'!AU36,0)","v":0},{"$f":"IF(NRRs!AV36<$B$66,'Spearman.Correlations'!AV36,0)","v":0},{"$f":"IF(NRRs!AW36<$B$66,'Spearman.Correlations'!AW36,0)","v":0},{"$f":"IF(NRRs!AX36<$B$66,'Spearman.Correlations'!AX36,0)","v":0},{"$f":"IF(NRRs!AY36<$B$66,'Spearman.Correlations'!AY36,0)","v":0},{"$f":"IF(NRRs!AZ36<$B$66,'Spearman.Correlations'!AZ36,0)","v":0},{"$f":"IF(NRRs!BA36<$B$66,'Spearman.Correlations'!BA36,0)","v":0},{"$f":"IF(NRRs!BB36<$B$66,'Spearman.Correlations'!BB36,0)","v":0},{"$f":"IF(NRRs!BC36<$B$66,'Spearman.Correlations'!BC36,0)","v":0},{"$f":"IF(NRRs!BD36<$B$66,'Spearman.Correlations'!BD36,0)","v":0},{"$f":"IF(NRRs!BE36<$B$66,'Spearman.Correlations'!BE36,0)","v":-0.194947996246471},{"$f":"IF(NRRs!BF36<$B$66,'Spearman.Correlations'!BF36,0)","v":0},{"$f":"IF(NRRs!BG36<$B$66,'Spearman.Correlations'!BG36,0)","v":0},{"$f":"IF(NRRs!BH36<$B$66,'Spearman.Correlations'!BH36,0)","v":0}]
["Oleic Acid ",{"$f":"IF(NRRs!B37<$B$66,'Spearman.Correlations'!B37,0)","v":0},{"$f":"IF(NRRs!C37<$B$66,'Spearman.Correlations'!C37,0)","v":0},{"$f":"IF(NRRs!D37<$B$66,'Spearman.Correlations'!D37,0)","v":0},{"$f":"IF(NRRs!E37<$B$66,'Spearman.Correlations'!E37,0)","v":0},{"$f":"IF(NRRs!F37<$B$66,'Spearman.Correlations'!F37,0)","v":0},{"$f":"IF(NRRs!G37<$B$66,'Spearman.Correlations'!G37,0)","v":0},{"$f":"IF(NRRs!H37<$B$66,'Spearman.Correlations'!H37,0)","v":0},{"$f":"IF(NRRs!I37<$B$66,'Spearman.Correlations'!I37,0)","v":0},{"$f":"IF(NRRs!J37<$B$66,'Spearman.Correlations'!J37,0)","v":0},{"$f":"IF(NRRs!K37<$B$66,'Spearman.Correlations'!K37,0)","v":0.214115334108748},{"$f":"IF(NRRs!L37<$B$66,'Spearman.Correlations'!L37,0)","v":0},{"$f":"IF(NRRs!M37<$B$66,'Spearman.Correlations'!M37,0)","v":0.267588672097602},{"$f":"IF(NRRs!N37<$B$66,'Spearman.Correlations'!N37,0)","v":0},{"$f":"IF(NRRs!O37<$B$66,'Spearman.Correlations'!O37,0)","v":0},{"$f":"IF(NRRs!P37<$B$66,'Spearman.Correlations'!P37,0)","v":0},{"$f":"IF(NRRs!Q37<$B$66,'Spearman.Correlations'!Q37,0)","v":0},{"$f":"IF(NRRs!R37<$B$66,'Spearman.Correlations'!R37,0)","v":0},{"$f":"IF(NRRs!S37<$B$66,'Spearman.Correlations'!S37,0)","v":0},{"$f":"IF(NRRs!T37<$B$66,'Spearman.Correlations'!T37,0)","v":0},{"$f":"IF(NRRs!U37<$B$66,'Spearman.Correlations'!U37,0)","v":0},{"$f":"IF(NRRs!V37<$B$66,'Spearman.Correlations'!V37,0)","v":0},{"$f":"IF(NRRs!W37<$B$66,'Spearman.Correlations'!W37,0)","v":0},{"$f":"IF(NRRs!X37<$B$66,'Spearman.Correlations'!X37,0)","v":0},{"$f":"IF(NRRs!Y37<$B$66,'Spearman.Correlations'!Y37,0)","v":0},{"$f":"IF(NRRs!Z37<$B$66,'Spearman.Correlations'!Z37,0)","v":0},{"$f":"IF(NRRs!AA37<$B$66,'Spearman.Correlations'!AA37,0)","v":0},{"$f":"IF(NRRs!AB37<$B$66,'Spearman.Correlations'!AB37,0)","v":0},{"$f":"IF(NRRs!AC37<$B$66,'Spearman.Correlations'!AC37,0)","v":0},{"$f":"IF(NRRs!AD37<$B$66,'Spearman.Correlations'!AD37,0)","v":0},{"$f":"IF(NRRs!AE37<$B$66,'Spearman.Correlations'!AE37,0)","v":0},{"$f":"IF(NRRs!AF37<$B$66,'Spearman.Correlations'!AF37,0)","v":0},{"$f":"IF(NRRs!AG37<$B$66,'Spearman.Correlations'!AG37,0)","v":0.44144108702521},{"$f":"IF(NRRs!AH37<$B$66,'Spearman.Correlations'!AH37,0)","v":0},{"$f":"IF(NRRs!AI37<$B$66,'Spearman.Correlations'!AI37,0)","v":0},{"$f":"IF(NRRs!AJ37<$B$66,'Spearman.Correlations'!AJ37,0)","v":0},{"$f":"IF(NRRs!AK37<$B$66,'Spearman.Correlations'!AK37,0)","v":0},{"$f":"IF(NRRs!AL37<$B$66,'Spearman.Correlations'!AL37,0)","v":0.214572604762889},{"$f":"IF(NRRs!AM37<$B$66,'Spearman.Correlations'!AM37,0)","v":0},{"$f":"IF(NRRs!AN37<$B$66,'Spearman.Correlations'!AN37,0)","v":0},{"$f":"IF(NRRs!AO37<$B$66,'Spearman.Correlations'!AO37,0)","v":0},{"$f":"IF(NRRs!AP37<$B$66,'Spearman.Correlations'!AP37,0)","v":0.385988349248407},{"$f":"IF(NRRs!AQ37<$B$66,'Spearman.Correlations'!AQ37,0)","v":0},{"$f":"IF(NRRs!AR37<$B$66,'Spearman.Correlations'!AR37,0)","v":0},{"$f":"IF(NRRs!AS37<$B$66,'Spearman.Correlations'!AS37,0)","v":0},{"$f":"IF(NRRs!AT37<$B$66,'Spearman.Correlations'!AT37,0)","v":0},{"$f":"IF(NRRs!AU37<$B$66,'Spearman.Correlations'!AU37,0)","v":0},{"$f":"IF(NRRs!AV37<$B$66,'Spearman.Correlations'!AV37,0)","v":0},{"$f":"IF(NRRs!AW37<$B$66,'Spearman.Correlations'!AW37,0)","v":0},{"$f":"IF(NRRs!AX37<$B$66,'Spearman.Correlations'!AX37,0)","v":0},{"$f":"IF(NRRs!AY37<$B$66,'Spearman.Correlations'!AY37,0)","v":0},{"$f":"IF(NRRs!AZ37<$B$66,'Spearman.Correlations'!AZ37,0)","v":0},{"$f":"IF(NRRs!BA37<$B$66,'Spearman.Correlations'!BA37,0)","v":0},{"$f":"IF(NRRs!BB37<$B$66,'Spearman.Correlations'!BB37,0)","v":0},{"$f":"IF(NRRs!BC37<$B$66,'Spearman.Correlations'!BC37,0)","v":0},{"$f":"IF(NRRs!BD37<$B$66,'Spearman.Correlations'!BD37,0)","v":0},{"$f":"IF(NRRs!BE37<$B$66,'Spearman.Correlations'!BE37,0)","v":0},{"$f":"IF(NRRs!BF37<$B$66,'Spearman.Correlations'!BF37,0)","v":0},{"$f":"IF(NRRs!BG37<$B$66,'Spearman.Correlations'!BG37,0)","v":0},{"$f":"IF(NRRs!BH37<$B$66,'Spearman.Correlations'!BH37,0)","v":0}]
["Palmitic Acid ",{"$f":"IF(NRRs!B38<$B$66,'Spearman.Correlations'!B38,0)","v":-0.167587258101853},{"$f":"IF(NRRs!C38<$B$66,'Spearman.Correlations'!C38,0)","v":0},{"$f":"IF(NRRs!D38<$B$66,'Spearman.Correlations'!D38,0)","v":0},{"$f":"IF(NRRs!E38<$B$66,'Spearman.Correlations'!E38,0)","v":0},{"$f":"IF(NRRs!F38<$B$66,'Spearman.Correlations'!F38,0)","v":0},{"$f":"IF(NRRs!G38<$B$66,'Spearman.Correlations'!G38,0)","v":0},{"$f":"IF(NRRs!H38<$B$66,'Spearman.Correlations'!H38,0)","v":0},{"$f":"IF(NRRs!I38<$B$66,'Spearman.Correlations'!I38,0)","v":0},{"$f":"IF(NRRs!J38<$B$66,'Spearman.Correlations'!J38,0)","v":0},{"$f":"IF(NRRs!K38<$B$66,'Spearman.Correlations'!K38,0)","v":0},{"$f":"IF(NRRs!L38<$B$66,'Spearman.Correlations'!L38,0)","v":0},{"$f":"IF(NRRs!M38<$B$66,'Spearman.Correlations'!M38,0)","v":0},{"$f":"IF(NRRs!N38<$B$66,'Spearman.Correlations'!N38,0)","v":0},{"$f":"IF(NRRs!O38<$B$66,'Spearman.Correlations'!O38,0)","v":0},{"$f":"IF(NRRs!P38<$B$66,'Spearman.Correlations'!P38,0)","v":0},{"$f":"IF(NRRs!Q38<$B$66,'Spearman.Correlations'!Q38,0)","v":0},{"$f":"IF(NRRs!R38<$B$66,'Spearman.Correlations'!R38,0)","v":0},{"$f":"IF(NRRs!S38<$B$66,'Spearman.Correlations'!S38,0)","v":0.29177749689869},{"$f":"IF(NRRs!T38<$B$66,'Spearman.Correlations'!T38,0)","v":0},{"$f":"IF(NRRs!U38<$B$66,'Spearman.Correlations'!U38,0)","v":0},{"$f":"IF(NRRs!V38<$B$66,'Spearman.Correlations'!V38,0)","v":0},{"$f":"IF(NRRs!W38<$B$66,'Spearman.Correlations'!W38,0)","v":0},{"$f":"IF(NRRs!X38<$B$66,'Spearman.Correlations'!X38,0)","v":0},{"$f":"IF(NRRs!Y38<$B$66,'Spearman.Correlations'!Y38,0)","v":0},{"$f":"IF(NRRs!Z38<$B$66,'Spearman.Correlations'!Z38,0)","v":0},{"$f":"IF(NRRs!AA38<$B$66,'Spearman.Correlations'!AA38,0)","v":0.277306723852119},{"$f":"IF(NRRs!AB38<$B$66,'Spearman.Correlations'!AB38,0)","v":0},{"$f":"IF(NRRs!AC38<$B$66,'Spearman.Correlations'!AC38,0)","v":-0.138516492762414},{"$f":"IF(NRRs!AD38<$B$66,'Spearman.Correlations'!AD38,0)","v":-0.223044679790826},{"$f":"IF(NRRs!AE38<$B$66,'Spearman.Correlations'!AE38,0)","v":0.186846322561496},{"$f":"IF(NRRs!AF38<$B$66,'Spearman.Correlations'!AF38,0)","v":0},{"$f":"IF(NRRs!AG38<$B$66,'Spearman.Correlations'!AG38,0)","v":0},{"$f":"IF(NRRs!AH38<$B$66,'Spearman.Correlations'!AH38,0)","v":0},{"$f":"IF(NRRs!AI38<$B$66,'Spearman.Correlations'!AI38,0)","v":0},{"$f":"IF(NRRs!AJ38<$B$66,'Spearman.Correlations'!AJ38,0)","v":-0.229074714499651},{"$f":"IF(NRRs!AK38<$B$66,'Spearman.Correlations'!AK38,0)","v":0.214572604762889},{"$f":"IF(NRRs!AL38<$B$66,'Spearman.Correlations'!AL38,0)","v":0},{"$f":"IF(NRRs!AM38<$B$66,'Spearman.Correlations'!AM38,0)","v":0},{"$f":"IF(NRRs!AN38<$B$66,'Spearman.Correlations'!AN38,0)","v":0},{"$f":"IF(NRRs!AO38<$B$66,'Spearman.Correlations'!AO38,0)","v":-0.247942808007417},{"$f":"IF(NRRs!AP38<$B$66,'Spearman.Correlations'!AP38,0)","v":0.409785286856213},{"$f":"IF(NRRs!AQ38<$B$66,'Spearman.Correlations'!AQ38,0)","v":0},{"$f":"IF(NRRs!AR38<$B$66,'Spearman.Correlations'!AR38,0)","v":-0.144208727113338},{"$f":"IF(NRRs!AS38<$B$66,'Spearman.Correlations'!AS38,0)","v":0},{"$f":"IF(NRRs!AT38<$B$66,'Spearman.Correlations'!AT38,0)","v":0.290423534024514},{"$f":"IF(NRRs!AU38<$B$66,'Spearman.Correlations'!AU38,0)","v":0},{"$f":"IF(NRRs!AV38<$B$66,'Spearman.Correlations'!AV38,0)","v":0},{"$f":"IF(NRRs!AW38<$B$66,'Spearman.Correlations'!AW38,0)","v":0},{"$f":"IF(NRRs!AX38<$B$66,'Spearman.Correlations'!AX38,0)","v":0},{"$f":"IF(NRRs!AY38<$B$66,'Spearman.Correlations'!AY38,0)","v":0},{"$f":"IF(NRRs!AZ38<$B$66,'Spearman.Correlations'!AZ38,0)","v":0},{"$f":"IF(NRRs!BA38<$B$66,'Spearman.Correlations'!BA38,0)","v":0},{"$f":"IF(NRRs!BB38<$B$66,'Spearman.Correlations'!BB38,0)","v":0},{"$f":"IF(NRRs!BC38<$B$66,'Spearman.Correlations'!BC38,0)","v":0},{"$f":"IF(NRRs!BD38<$B$66,'Spearman.Correlations'!BD38,0)","v":0},{"$f":"IF(NRRs!BE38<$B$66,'Spearman.Correlations'!BE38,0)","v":0},{"$f":"IF(NRRs!BF38<$B$66,'Spearman.Correlations'!BF38,0)","v":0},{"$f":"IF(NRRs!BG38<$B$66,'Spearman.Correlations'!BG38,0)","v":0},{"$f":"IF(NRRs!BH38<$B$66,'Spearman.Correlations'!BH38,0)","v":0}]
["Phenylalanine ",{"$f":"IF(NRRs!B39<$B$66,'Spearman.Correlations'!B39,0)","v":-0.140130134854147},{"$f":"IF(NRRs!C39<$B$66,'Spearman.Correlations'!C39,0)","v":0},{"$f":"IF(NRRs!D39<$B$66,'Spearman.Correlations'!D39,0)","v":-0.0664309075156632},{"$f":"IF(NRRs!E39<$B$66,'Spearman.Correlations'!E39,0)","v":0.260582295083035},{"$f":"IF(NRRs!F39<$B$66,'Spearman.Correlations'!F39,0)","v":0},{"$f":"IF(NRRs!G39<$B$66,'Spearman.Correlations'!G39,0)","v":0},{"$f":"IF(NRRs!H39<$B$66,'Spearman.Correlations'!H39,0)","v":-0.0406594856644706},{"$f":"IF(NRRs!I39<$B$66,'Spearman.Correlations'!I39,0)","v":0},{"$f":"IF(NRRs!J39<$B$66,'Spearman.Correlations'!J39,0)","v":-0.162420281426332},{"$f":"IF(NRRs!K39<$B$66,'Spearman.Correlations'!K39,0)","v":0},{"$f":"IF(NRRs!L39<$B$66,'Spearman.Correlations'!L39,0)","v":0},{"$f":"IF(NRRs!M39<$B$66,'Spearman.Correlations'!M39,0)","v":0},{"$f":"IF(NRRs!N39<$B$66,'Spearman.Correlations'!N39,0)","v":0},{"$f":"IF(NRRs!O39<$B$66,'Spearman.Correlations'!O39,0)","v":0.391763517634134},{"$f":"IF(NRRs!P39<$B$66,'Spearman.Correlations'!P39,0)","v":0},{"$f":"IF(NRRs!Q39<$B$66,'Spearman.Correlations'!Q39,0)","v":0.375187756875027},{"$f":"IF(NRRs!R39<$B$66,'Spearman.Correlations'!R39,0)","v":0.68772180256515},{"$f":"IF(NRRs!S39<$B$66,'Spearman.Correlations'!S39,0)","v":0},{"$f":"IF(NRRs!T39<$B$66,'Spearman.Correlations'!T39,0)","v":0},{"$f":"IF(NRRs!U39<$B$66,'Spearman.Correlations'!U39,0)","v":0},{"$f":"IF(NRRs!V39<$B$66,'Spearman.Correlations'!V39,0)","v":0},{"$f":"IF(NRRs!W39<$B$66,'Spearman.Correlations'!W39,0)","v":0.267099065969172},{"$f":"IF(NRRs!X39<$B$66,'Spearman.Correlations'!X39,0)","v":0.655021515334927},{"$f":"IF(NRRs!Y39<$B$66,'Spearman.Correlations'!Y39,0)","v":0},{"$f":"IF(NRRs!Z39<$B$66,'Spearman.Correlations'!Z39,0)","v":0.445276317394433},{"$f":"IF(NRRs!AA39<$B$66,'Spearman.Correlations'!AA39,0)","v":0.347381510271189},{"$f":"IF(NRRs!AB39<$B$66,'Spearman.Correlations'!AB39,0)","v":0},{"$f":"IF(NRRs!AC39<$B$66,'Spearman.Correlations'!AC39,0)","v":0},{"$f":"IF(NRRs!AD39<$B$66,'Spearman.Correlations'!AD39,0)","v":0.322719701778901},{"$f":"IF(NRRs!AE39<$B$66,'Spearman.Correlations'!AE39,0)","v":-0.169388812377724},{"$f":"IF(NRRs!AF39<$B$66,'Spearman.Correlations'!AF39,0)","v":0.291953554715995},{"$f":"IF(NRRs!AG39<$B$66,'Spearman.Correlations'!AG39,0)","v":0.277357853065098},{"$f":"IF(NRRs!AH39<$B$66,'Spearman.Correlations'!AH39,0)","v":0.293216930031407},{"$f":"IF(NRRs!AI39<$B$66,'Spearman.Correlations'!AI39,0)","v":0.283679668010244},{"$f":"IF(NRRs!AJ39<$B$66,'Spearman.Correlations'!AJ39,0)","v":0.437721126072714},{"$f":"IF(NRRs!AK39<$B$66,'Spearman.Correlations'!AK39,0)","v":0},{"$f":"IF(NRRs!AL39<$B$66,'Spearman.Correlations'!AL39,0)","v":0},{"$f":"IF(NRRs!AM39<$B$66,'Spearman.Correlations'!AM39,0)","v":0},{"$f":"IF(NRRs!AN39<$B$66,'Spearman.Correlations'!AN39,0)","v":0.152121848721569},{"$f":"IF(NRRs!AO39<$B$66,'Spearman.Correlations'!AO39,0)","v":0.554169865854541},{"$f":"IF(NRRs!AP39<$B$66,'Spearman.Correlations'!AP39,0)","v":0},{"$f":"IF(NRRs!AQ39<$B$66,'Spearman.Correlations'!AQ39,0)","v":0.238467627187039},{"$f":"IF(NRRs!AR39<$B$66,'Spearman.Correlations'!AR39,0)","v":0.498664101764227},{"$f":"IF(NRRs!AS39<$B$66,'Spearman.Correlations'!AS39,0)","v":0},{"$f":"IF(NRRs!AT39<$B$66,'Spearman.Correlations'!AT39,0)","v":0},{"$f":"IF(NRRs!AU39<$B$66,'Spearman.Correlations'!AU39,0)","v":0},{"$f":"IF(NRRs!AV39<$B$66,'Spearman.Correlations'!AV39,0)","v":0},{"$f":"IF(NRRs!AW39<$B$66,'Spearman.Correlations'!AW39,0)","v":-0.0224964941828159},{"$f":"IF(NRRs!AX39<$B$66,'Spearman.Correlations'!AX39,0)","v":0},{"$f":"IF(NRRs!AY39<$B$66,'Spearman.Correlations'!AY39,0)","v":0},{"$f":"IF(NRRs!AZ39<$B$66,'Spearman.Correlations'!AZ39,0)","v":0},{"$f":"IF(NRRs!BA39<$B$66,'Spearman.Correlations'!BA39,0)","v":0},{"$f":"IF(NRRs!BB39<$B$66,'Spearman.Correlations'!BB39,0)","v":0},{"$f":"IF(NRRs!BC39<$B$66,'Spearman.Correlations'!BC39,0)","v":0},{"$f":"IF(NRRs!BD39<$B$66,'Spearman.Correlations'!BD39,0)","v":0},{"$f":"IF(NRRs!BE39<$B$66,'Spearman.Correlations'!BE39,0)","v":0},{"$f":"IF(NRRs!BF39<$B$66,'Spearman.Correlations'!BF39,0)","v":0},{"$f":"IF(NRRs!BG39<$B$66,'Spearman.Correlations'!BG39,0)","v":0},{"$f":"IF(NRRs!BH39<$B$66,'Spearman.Correlations'!BH39,0)","v":0}]
["Proline ",{"$f":"IF(NRRs!B40<$B$66,'Spearman.Correlations'!B40,0)","v":0},{"$f":"IF(NRRs!C40<$B$66,'Spearman.Correlations'!C40,0)","v":0},{"$f":"IF(NRRs!D40<$B$66,'Spearman.Correlations'!D40,0)","v":0},{"$f":"IF(NRRs!E40<$B$66,'Spearman.Correlations'!E40,0)","v":0},{"$f":"IF(NRRs!F40<$B$66,'Spearman.Correlations'!F40,0)","v":0},{"$f":"IF(NRRs!G40<$B$66,'Spearman.Correlations'!G40,0)","v":0},{"$f":"IF(NRRs!H40<$B$66,'Spearman.Correlations'!H40,0)","v":0},{"$f":"IF(NRRs!I40<$B$66,'Spearman.Correlations'!I40,0)","v":0},{"$f":"IF(NRRs!J40<$B$66,'Spearman.Correlations'!J40,0)","v":0},{"$f":"IF(NRRs!K40<$B$66,'Spearman.Correlations'!K40,0)","v":-0.180268407517835},{"$f":"IF(NRRs!L40<$B$66,'Spearman.Correlations'!L40,0)","v":-0.155650684553376},{"$f":"IF(NRRs!M40<$B$66,'Spearman.Correlations'!M40,0)","v":0},{"$f":"IF(NRRs!N40<$B$66,'Spearman.Correlations'!N40,0)","v":0},{"$f":"IF(NRRs!O40<$B$66,'Spearman.Correlations'!O40,0)","v":0.23575000197152},{"$f":"IF(NRRs!P40<$B$66,'Spearman.Correlations'!P40,0)","v":-0.137858103156219},{"$f":"IF(NRRs!Q40<$B$66,'Spearman.Correlations'!Q40,0)","v":0.35245519374153},{"$f":"IF(NRRs!R40<$B$66,'Spearman.Correlations'!R40,0)","v":0},{"$f":"IF(NRRs!S40<$B$66,'Spearman.Correlations'!S40,0)","v":-0.141167735830081},{"$f":"IF(NRRs!T40<$B$66,'Spearman.Correlations'!T40,0)","v":-0.109569219618109},{"$f":"IF(NRRs!U40<$B$66,'Spearman.Correlations'!U40,0)","v":-0.151696497283328},{"$f":"IF(NRRs!V40<$B$66,'Spearman.Correlations'!V40,0)","v":-0.17640550315855},{"$f":"IF(NRRs!W40<$B$66,'Spearman.Correlations'!W40,0)","v":0},{"$f":"IF(NRRs!X40<$B$66,'Spearman.Correlations'!X40,0)","v":0},{"$f":"IF(NRRs!Y40<$B$66,'Spearman.Correlations'!Y40,0)","v":0.17189564479925},{"$f":"IF(NRRs!Z40<$B$66,'Spearman.Correlations'!Z40,0)","v":0},{"$f":"IF(NRRs!AA40<$B$66,'Spearman.Correlations'!AA40,0)","v":-0.197543812569121},{"$f":"IF(NRRs!AB40<$B$66,'Spearman.Correlations'!AB40,0)","v":0},{"$f":"IF(NRRs!AC40<$B$66,'Spearman.Correlations'!AC40,0)","v":0},{"$f":"IF(NRRs!AD40<$B$66,'Spearman.Correlations'!AD40,0)","v":0.437711869507516},{"$f":"IF(NRRs!AE40<$B$66,'Spearman.Correlations'!AE40,0)","v":0},{"$f":"IF(NRRs!AF40<$B$66,'Spearman.Correlations'!AF40,0)","v":0.459767219508434},{"$f":"IF(NRRs!AG40<$B$66,'Spearman.Correlations'!AG40,0)","v":0},{"$f":"IF(NRRs!AH40<$B$66,'Spearman.Correlations'!AH40,0)","v":0.156042243999407},{"$f":"IF(NRRs!AI40<$B$66,'Spearman.Correlations'!AI40,0)","v":0},{"$f":"IF(NRRs!AJ40<$B$66,'Spearman.Correlations'!AJ40,0)","v":0},{"$f":"IF(NRRs!AK40<$B$66,'Spearman.Correlations'!AK40,0)","v":0},{"$f":"IF(NRRs!AL40<$B$66,'Spearman.Correlations'!AL40,0)","v":0},{"$f":"IF(NRRs!AM40<$B$66,'Spearman.Correlations'!AM40,0)","v":0.152121848721569},{"$f":"IF(NRRs!AN40<$B$66,'Spearman.Correlations'!AN40,0)","v":0},{"$f":"IF(NRRs!AO40<$B$66,'Spearman.Correlations'!AO40,0)","v":0.355790127271676},{"$f":"IF(NRRs!AP40<$B$66,'Spearman.Correlations'!AP40,0)","v":0},{"$f":"IF(NRRs!AQ40<$B$66,'Spearman.Correlations'!AQ40,0)","v":0},{"$f":"IF(NRRs!AR40<$B$66,'Spearman.Correlations'!AR40,0)","v":0.322173820728334},{"$f":"IF(NRRs!AS40<$B$66,'Spearman.Correlations'!AS40,0)","v":0},{"$f":"IF(NRRs!AT40<$B$66,'Spearman.Correlations'!AT40,0)","v":0},{"$f":"IF(NRRs!AU40<$B$66,'Spearman.Correlations'!AU40,0)","v":0.147145153212206},{"$f":"IF(NRRs!AV40<$B$66,'Spearman.Correlations'!AV40,0)","v":0},{"$f":"IF(NRRs!AW40<$B$66,'Spearman.Correlations'!AW40,0)","v":0},{"$f":"IF(NRRs!AX40<$B$66,'Spearman.Correlations'!AX40,0)","v":0},{"$f":"IF(NRRs!AY40<$B$66,'Spearman.Correlations'!AY40,0)","v":0},{"$f":"IF(NRRs!AZ40<$B$66,'Spearman.Correlations'!AZ40,0)","v":0},{"$f":"IF(NRRs!BA40<$B$66,'Spearman.Correlations'!BA40,0)","v":0},{"$f":"IF(NRRs!BB40<$B$66,'Spearman.Correlations'!BB40,0)","v":0},{"$f":"IF(NRRs!BC40<$B$66,'Spearman.Correlations'!BC40,0)","v":0},{"$f":"IF(NRRs!BD40<$B$66,'Spearman.Correlations'!BD40,0)","v":0},{"$f":"IF(NRRs!BE40<$B$66,'Spearman.Correlations'!BE40,0)","v":0},{"$f":"IF(NRRs!BF40<$B$66,'Spearman.Correlations'!BF40,0)","v":0},{"$f":"IF(NRRs!BG40<$B$66,'Spearman.Correlations'!BG40,0)","v":0},{"$f":"IF(NRRs!BH40<$B$66,'Spearman.Correlations'!BH40,0)","v":0}]
["Serine ",{"$f":"IF(NRRs!B41<$B$66,'Spearman.Correlations'!B41,0)","v":0},{"$f":"IF(NRRs!C41<$B$66,'Spearman.Correlations'!C41,0)","v":0},{"$f":"IF(NRRs!D41<$B$66,'Spearman.Correlations'!D41,0)","v":0},{"$f":"IF(NRRs!E41<$B$66,'Spearman.Correlations'!E41,0)","v":0.320767678458013},{"$f":"IF(NRRs!F41<$B$66,'Spearman.Correlations'!F41,0)","v":0},{"$f":"IF(NRRs!G41<$B$66,'Spearman.Correlations'!G41,0)","v":0},{"$f":"IF(NRRs!H41<$B$66,'Spearman.Correlations'!H41,0)","v":0},{"$f":"IF(NRRs!I41<$B$66,'Spearman.Correlations'!I41,0)","v":0},{"$f":"IF(NRRs!J41<$B$66,'Spearman.Correlations'!J41,0)","v":0},{"$f":"IF(NRRs!K41<$B$66,'Spearman.Correlations'!K41,0)","v":0},{"$f":"IF(NRRs!L41<$B$66,'Spearman.Correlations'!L41,0)","v":0},{"$f":"IF(NRRs!M41<$B$66,'Spearman.Correlations'!M41,0)","v":-0.0797187579831613},{"$f":"IF(NRRs!N41<$B$66,'Spearman.Correlations'!N41,0)","v":0},{"$f":"IF(NRRs!O41<$B$66,'Spearman.Correlations'!O41,0)","v":0.264424991090545},{"$f":"IF(NRRs!P41<$B$66,'Spearman.Correlations'!P41,0)","v":0},{"$f":"IF(NRRs!Q41<$B$66,'Spearman.Correlations'!Q41,0)","v":0.318811577976081},{"$f":"IF(NRRs!R41<$B$66,'Spearman.Correlations'!R41,0)","v":0.614268903904169},{"$f":"IF(NRRs!S41<$B$66,'Spearman.Correlations'!S41,0)","v":-0.173973794674022},{"$f":"IF(NRRs!T41<$B$66,'Spearman.Correlations'!T41,0)","v":0},{"$f":"IF(NRRs!U41<$B$66,'Spearman.Correlations'!U41,0)","v":0},{"$f":"IF(NRRs!V41<$B$66,'Spearman.Correlations'!V41,0)","v":0},{"$f":"IF(NRRs!W41<$B$66,'Spearman.Correlations'!W41,0)","v":0.295206215949615},{"$f":"IF(NRRs!X41<$B$66,'Spearman.Correlations'!X41,0)","v":0.430624003800505},{"$f":"IF(NRRs!Y41<$B$66,'Spearman.Correlations'!Y41,0)","v":0},{"$f":"IF(NRRs!Z41<$B$66,'Spearman.Correlations'!Z41,0)","v":0.339075884151543},{"$f":"IF(NRRs!AA41<$B$66,'Spearman.Correlations'!AA41,0)","v":0},{"$f":"IF(NRRs!AB41<$B$66,'Spearman.Correlations'!AB41,0)","v":0},{"$f":"IF(NRRs!AC41<$B$66,'Spearman.Correlations'!AC41,0)","v":0.200931953507297},{"$f":"IF(NRRs!AD41<$B$66,'Spearman.Correlations'!AD41,0)","v":0.623525141674453},{"$f":"IF(NRRs!AE41<$B$66,'Spearman.Correlations'!AE41,0)","v":-0.213319692981164},{"$f":"IF(NRRs!AF41<$B$66,'Spearman.Correlations'!AF41,0)","v":0.263453778757009},{"$f":"IF(NRRs!AG41<$B$66,'Spearman.Correlations'!AG41,0)","v":0},{"$f":"IF(NRRs!AH41<$B$66,'Spearman.Correlations'!AH41,0)","v":0},{"$f":"IF(NRRs!AI41<$B$66,'Spearman.Correlations'!AI41,0)","v":0.190606583983332},{"$f":"IF(NRRs!AJ41<$B$66,'Spearman.Correlations'!AJ41,0)","v":0.37123940032325},{"$f":"IF(NRRs!AK41<$B$66,'Spearman.Correlations'!AK41,0)","v":0},{"$f":"IF(NRRs!AL41<$B$66,'Spearman.Correlations'!AL41,0)","v":-0.247942808007417},{"$f":"IF(NRRs!AM41<$B$66,'Spearman.Correlations'!AM41,0)","v":0.554169865854541},{"$f":"IF(NRRs!AN41<$B$66,'Spearman.Correlations'!AN41,0)","v":0.355790127271676},{"$f":"IF(NRRs!AO41<$B$66,'Spearman.Correlations'!AO41,0)","v":0},{"$f":"IF(NRRs!AP41<$B$66,'Spearman.Correlations'!AP41,0)","v":-0.13871455027616},{"$f":"IF(NRRs!AQ41<$B$66,'Spearman.Correlations'!AQ41,0)","v":0.276587120782728},{"$f":"IF(NRRs!AR41<$B$66,'Spearman.Correlations'!AR41,0)","v":0.658818578510298},{"$f":"IF(NRRs!AS41<$B$66,'Spearman.Correlations'!AS41,0)","v":0},{"$f":"IF(NRRs!AT41<$B$66,'Spearman.Correlations'!AT41,0)","v":0},{"$f":"IF(NRRs!AU41<$B$66,'Spearman.Correlations'!AU41,0)","v":0},{"$f":"IF(NRRs!AV41<$B$66,'Spearman.Correlations'!AV41,0)","v":0},{"$f":"IF(NRRs!AW41<$B$66,'Spearman.Correlations'!AW41,0)","v":-0.139661678694993},{"$f":"IF(NRRs!AX41<$B$66,'Spearman.Correlations'!AX41,0)","v":0},{"$f":"IF(NRRs!AY41<$B$66,'Spearman.Correlations'!AY41,0)","v":-0.107760095835692},{"$f":"IF(NRRs!AZ41<$B$66,'Spearman.Correlations'!AZ41,0)","v":0},{"$f":"IF(NRRs!BA41<$B$66,'Spearman.Correlations'!BA41,0)","v":0},{"$f":"IF(NRRs!BB41<$B$66,'Spearman.Correlations'!BB41,0)","v":0},{"$f":"IF(NRRs!BC41<$B$66,'Spearman.Correlations'!BC41,0)","v":0},{"$f":"IF(NRRs!BD41<$B$66,'Spearman.Correlations'!BD41,0)","v":0},{"$f":"IF(NRRs!BE41<$B$66,'Spearman.Correlations'!BE41,0)","v":0},{"$f":"IF(NRRs!BF41<$B$66,'Spearman.Correlations'!BF41,0)","v":0},{"$f":"IF(NRRs!BG41<$B$66,'Spearman.Correlations'!BG41,0)","v":0},{"$f":"IF(NRRs!BH41<$B$66,'Spearman.Correlations'!BH41,0)","v":0}]
["Stearic Acid ",{"$f":"IF(NRRs!B42<$B$66,'Spearman.Correlations'!B42,0)","v":0},{"$f":"IF(NRRs!C42<$B$66,'Spearman.Correlations'!C42,0)","v":0},{"$f":"IF(NRRs!D42<$B$66,'Spearman.Correlations'!D42,0)","v":0},{"$f":"IF(NRRs!E42<$B$66,'Spearman.Correlations'!E42,0)","v":0},{"$f":"IF(NRRs!F42<$B$66,'Spearman.Correlations'!F42,0)","v":0},{"$f":"IF(NRRs!G42<$B$66,'Spearman.Correlations'!G42,0)","v":0},{"$f":"IF(NRRs!H42<$B$66,'Spearman.Correlations'!H42,0)","v":0},{"$f":"IF(NRRs!I42<$B$66,'Spearman.Correlations'!I42,0)","v":0},{"$f":"IF(NRRs!J42<$B$66,'Spearman.Correlations'!J42,0)","v":0},{"$f":"IF(NRRs!K42<$B$66,'Spearman.Correlations'!K42,0)","v":0},{"$f":"IF(NRRs!L42<$B$66,'Spearman.Correlations'!L42,0)","v":0},{"$f":"IF(NRRs!M42<$B$66,'Spearman.Correlations'!M42,0)","v":0},{"$f":"IF(NRRs!N42<$B$66,'Spearman.Correlations'!N42,0)","v":0},{"$f":"IF(NRRs!O42<$B$66,'Spearman.Correlations'!O42,0)","v":0},{"$f":"IF(NRRs!P42<$B$66,'Spearman.Correlations'!P42,0)","v":0},{"$f":"IF(NRRs!Q42<$B$66,'Spearman.Correlations'!Q42,0)","v":0},{"$f":"IF(NRRs!R42<$B$66,'Spearman.Correlations'!R42,0)","v":0},{"$f":"IF(NRRs!S42<$B$66,'Spearman.Correlations'!S42,0)","v":0.25018878556809},{"$f":"IF(NRRs!T42<$B$66,'Spearman.Correlations'!T42,0)","v":0},{"$f":"IF(NRRs!U42<$B$66,'Spearman.Correlations'!U42,0)","v":-0.13604117702647},{"$f":"IF(NRRs!V42<$B$66,'Spearman.Correlations'!V42,0)","v":0},{"$f":"IF(NRRs!W42<$B$66,'Spearman.Correlations'!W42,0)","v":-0.0652278442549658},{"$f":"IF(NRRs!X42<$B$66,'Spearman.Correlations'!X42,0)","v":0},{"$f":"IF(NRRs!Y42<$B$66,'Spearman.Correlations'!Y42,0)","v":0.216223834455195},{"$f":"IF(NRRs!Z42<$B$66,'Spearman.Correlations'!Z42,0)","v":0},{"$f":"IF(NRRs!AA42<$B$66,'Spearman.Correlations'!AA42,0)","v":0.253508399846369},{"$f":"IF(NRRs!AB42<$B$66,'Spearman.Correlations'!AB42,0)","v":0},{"$f":"IF(NRRs!AC42<$B$66,'Spearman.Correlations'!AC42,0)","v":0},{"$f":"IF(NRRs!AD42<$B$66,'Spearman.Correlations'!AD42,0)","v":-0.126061922094817},{"$f":"IF(NRRs!AE42<$B$66,'Spearman.Correlations'!AE42,0)","v":0.169437944560213},{"$f":"IF(NRRs!AF42<$B$66,'Spearman.Correlations'!AF42,0)","v":0},{"$f":"IF(NRRs!AG42<$B$66,'Spearman.Correlations'!AG42,0)","v":0},{"$f":"IF(NRRs!AH42<$B$66,'Spearman.Correlations'!AH42,0)","v":0},{"$f":"IF(NRRs!AI42<$B$66,'Spearman.Correlations'!AI42,0)","v":-0.115404568182894},{"$f":"IF(NRRs!AJ42<$B$66,'Spearman.Correlations'!AJ42,0)","v":-0.105028517092196},{"$f":"IF(NRRs!AK42<$B$66,'Spearman.Correlations'!AK42,0)","v":0.385988349248407},{"$f":"IF(NRRs!AL42<$B$66,'Spearman.Correlations'!AL42,0)","v":0.409785286856213},{"$f":"IF(NRRs!AM42<$B$66,'Spearman.Correlations'!AM42,0)","v":0},{"$f":"IF(NRRs!AN42<$B$66,'Spearman.Correlations'!AN42,0)","v":0},{"$f":"IF(NRRs!AO42<$B$66,'Spearman.Correlations'!AO42,0)","v":-0.13871455027616},{"$f":"IF(NRRs!AP42<$B$66,'Spearman.Correlations'!AP42,0)","v":0},{"$f":"IF(NRRs!AQ42<$B$66,'Spearman.Correlations'!AQ42,0)","v":0},{"$f":"IF(NRRs!AR42<$B$66,'Spearman.Correlations'!AR42,0)","v":0},{"$f":"IF(NRRs!AS42<$B$66,'Spearman.Correlations'!AS42,0)","v":0},{"$f":"IF(NRRs!AT42<$B$66,'Spearman.Correlations'!AT42,0)","v":0.241329117547642},{"$f":"IF(NRRs!AU42<$B$66,'Spearman.Correlations'!AU42,0)","v":0},{"$f":"IF(NRRs!AV42<$B$66,'Spearman.Correlations'!AV42,0)","v":0},{"$f":"IF(NRRs!AW42<$B$66,'Spearman.Correlations'!AW42,0)","v":0},{"$f":"IF(NRRs!AX42<$B$66,'Spearman.Correlations'!AX42,0)","v":0},{"$f":"IF(NRRs!AY42<$B$66,'Spearman.Correlations'!AY42,0)","v":0},{"$f":"IF(NRRs!AZ42<$B$66,'Spearman.Correlations'!AZ42,0)","v":0},{"$f":"IF(NRRs!BA42<$B$66,'Spearman.Correlations'!BA42,0)","v":0},{"$f":"IF(NRRs!BB42<$B$66,'Spearman.Correlations'!BB42,0)","v":0},{"$f":"IF(NRRs!BC42<$B$66,'Spearman.Correlations'!BC42,0)","v":0},{"$f":"IF(NRRs!BD42<$B$66,'Spearman.Correlations'!BD42,0)","v":0},{"$f":"IF(NRRs!BE42<$B$66,'Spearman.Correlations'!BE42,0)","v":0},{"$f":"IF(NRRs!BF42<$B$66,'Spearman.Correlations'!BF42,0)","v":0},{"$f":"IF(NRRs!BG42<$B$66,'Spearman.Correlations'!BG42,0)","v":0},{"$f":"IF(NRRs!BH42<$B$66,'Spearman.Correlations'!BH42,0)","v":0}]
["Succinic Acid ",{"$f":"IF(NRRs!B43<$B$66,'Spearman.Correlations'!B43,0)","v":0},{"$f":"IF(NRRs!C43<$B$66,'Spearman.Correlations'!C43,0)","v":0},{"$f":"IF(NRRs!D43<$B$66,'Spearman.Correlations'!D43,0)","v":0},{"$f":"IF(NRRs!E43<$B$66,'Spearman.Correlations'!E43,0)","v":0},{"$f":"IF(NRRs!F43<$B$66,'Spearman.Correlations'!F43,0)","v":-0.167604046381488},{"$f":"IF(NRRs!G43<$B$66,'Spearman.Correlations'!G43,0)","v":0},{"$f":"IF(NRRs!H43<$B$66,'Spearman.Correlations'!H43,0)","v":-0.231939532456639},{"$f":"IF(NRRs!I43<$B$66,'Spearman.Correlations'!I43,0)","v":0},{"$f":"IF(NRRs!J43<$B$66,'Spearman.Correlations'!J43,0)","v":-0.212047460485785},{"$f":"IF(NRRs!K43<$B$66,'Spearman.Correlations'!K43,0)","v":0},{"$f":"IF(NRRs!L43<$B$66,'Spearman.Correlations'!L43,0)","v":0.248462545197205},{"$f":"IF(NRRs!M43<$B$66,'Spearman.Correlations'!M43,0)","v":0},{"$f":"IF(NRRs!N43<$B$66,'Spearman.Correlations'!N43,0)","v":0},{"$f":"IF(NRRs!O43<$B$66,'Spearman.Correlations'!O43,0)","v":0},{"$f":"IF(NRRs!P43<$B$66,'Spearman.Correlations'!P43,0)","v":0},{"$f":"IF(NRRs!Q43<$B$66,'Spearman.Correlations'!Q43,0)","v":0},{"$f":"IF(NRRs!R43<$B$66,'Spearman.Correlations'!R43,0)","v":0.411011280083698},{"$f":"IF(NRRs!S43<$B$66,'Spearman.Correlations'!S43,0)","v":0},{"$f":"IF(NRRs!T43<$B$66,'Spearman.Correlations'!T43,0)","v":0},{"$f":"IF(NRRs!U43<$B$66,'Spearman.Correlations'!U43,0)","v":0.268168778757827},{"$f":"IF(NRRs!V43<$B$66,'Spearman.Correlations'!V43,0)","v":0.222215561320907},{"$f":"IF(NRRs!W43<$B$66,'Spearman.Correlations'!W43,0)","v":0.320960654838366},{"$f":"IF(NRRs!X43<$B$66,'Spearman.Correlations'!X43,0)","v":0.385594367781134},{"$f":"IF(NRRs!Y43<$B$66,'Spearman.Correlations'!Y43,0)","v":-0.194838622563789},{"$f":"IF(NRRs!Z43<$B$66,'Spearman.Correlations'!Z43,0)","v":0.232117974666},{"$f":"IF(NRRs!AA43<$B$66,'Spearman.Correlations'!AA43,0)","v":0.257963168764881},{"$f":"IF(NRRs!AB43<$B$66,'Spearman.Correlations'!AB43,0)","v":0},{"$f":"IF(NRRs!AC43<$B$66,'Spearman.Correlations'!AC43,0)","v":0},{"$f":"IF(NRRs!AD43<$B$66,'Spearman.Correlations'!AD43,0)","v":0},{"$f":"IF(NRRs!AE43<$B$66,'Spearman.Correlations'!AE43,0)","v":0},{"$f":"IF(NRRs!AF43<$B$66,'Spearman.Correlations'!AF43,0)","v":0},{"$f":"IF(NRRs!AG43<$B$66,'Spearman.Correlations'!AG43,0)","v":0},{"$f":"IF(NRRs!AH43<$B$66,'Spearman.Correlations'!AH43,0)","v":0},{"$f":"IF(NRRs!AI43<$B$66,'Spearman.Correlations'!AI43,0)","v":0.408896876042843},{"$f":"IF(NRRs!AJ43<$B$66,'Spearman.Correlations'!AJ43,0)","v":0},{"$f":"IF(NRRs!AK43<$B$66,'Spearman.Correlations'!AK43,0)","v":0},{"$f":"IF(NRRs!AL43<$B$66,'Spearman.Correlations'!AL43,0)","v":0},{"$f":"IF(NRRs!AM43<$B$66,'Spearman.Correlations'!AM43,0)","v":0.238467627187039},{"$f":"IF(NRRs!AN43<$B$66,'Spearman.Correlations'!AN43,0)","v":0},{"$f":"IF(NRRs!AO43<$B$66,'Spearman.Correlations'!AO43,0)","v":0.276587120782728},{"$f":"IF(NRRs!AP43<$B$66,'Spearman.Correlations'!AP43,0)","v":0},{"$f":"IF(NRRs!AQ43<$B$66,'Spearman.Correlations'!AQ43,0)","v":0},{"$f":"IF(NRRs!AR43<$B$66,'Spearman.Correlations'!AR43,0)","v":0},{"$f":"IF(NRRs!AS43<$B$66,'Spearman.Correlations'!AS43,0)","v":0},{"$f":"IF(NRRs!AT43<$B$66,'Spearman.Correlations'!AT43,0)","v":0},{"$f":"IF(NRRs!AU43<$B$66,'Spearman.Correlations'!AU43,0)","v":0},{"$f":"IF(NRRs!AV43<$B$66,'Spearman.Correlations'!AV43,0)","v":-0.0790963777695376},{"$f":"IF(NRRs!AW43<$B$66,'Spearman.Correlations'!AW43,0)","v":0},{"$f":"IF(NRRs!AX43<$B$66,'Spearman.Correlations'!AX43,0)","v":0},{"$f":"IF(NRRs!AY43<$B$66,'Spearman.Correlations'!AY43,0)","v":-0.16378899958165},{"$f":"IF(NRRs!AZ43<$B$66,'Spearman.Correlations'!AZ43,0)","v":0},{"$f":"IF(NRRs!BA43<$B$66,'Spearman.Correlations'!BA43,0)","v":0},{"$f":"IF(NRRs!BB43<$B$66,'Spearman.Correlations'!BB43,0)","v":0},{"$f":"IF(NRRs!BC43<$B$66,'Spearman.Correlations'!BC43,0)","v":0},{"$f":"IF(NRRs!BD43<$B$66,'Spearman.Correlations'!BD43,0)","v":0},{"$f":"IF(NRRs!BE43<$B$66,'Spearman.Correlations'!BE43,0)","v":0},{"$f":"IF(NRRs!BF43<$B$66,'Spearman.Correlations'!BF43,0)","v":0.183961513886716},{"$f":"IF(NRRs!BG43<$B$66,'Spearman.Correlations'!BG43,0)","v":0},{"$f":"IF(NRRs!BH43<$B$66,'Spearman.Correlations'!BH43,0)","v":0}]
["Threonine ",{"$f":"IF(NRRs!B44<$B$66,'Spearman.Correlations'!B44,0)","v":0},{"$f":"IF(NRRs!C44<$B$66,'Spearman.Correlations'!C44,0)","v":0},{"$f":"IF(NRRs!D44<$B$66,'Spearman.Correlations'!D44,0)","v":0},{"$f":"IF(NRRs!E44<$B$66,'Spearman.Correlations'!E44,0)","v":0.230110701238932},{"$f":"IF(NRRs!F44<$B$66,'Spearman.Correlations'!F44,0)","v":0},{"$f":"IF(NRRs!G44<$B$66,'Spearman.Correlations'!G44,0)","v":0},{"$f":"IF(NRRs!H44<$B$66,'Spearman.Correlations'!H44,0)","v":-0.135895323428187},{"$f":"IF(NRRs!I44<$B$66,'Spearman.Correlations'!I44,0)","v":0},{"$f":"IF(NRRs!J44<$B$66,'Spearman.Correlations'!J44,0)","v":0},{"$f":"IF(NRRs!K44<$B$66,'Spearman.Correlations'!K44,0)","v":0},{"$f":"IF(NRRs!L44<$B$66,'Spearman.Correlations'!L44,0)","v":0},{"$f":"IF(NRRs!M44<$B$66,'Spearman.Correlations'!M44,0)","v":0},{"$f":"IF(NRRs!N44<$B$66,'Spearman.Correlations'!N44,0)","v":0},{"$f":"IF(NRRs!O44<$B$66,'Spearman.Correlations'!O44,0)","v":0.255335118065451},{"$f":"IF(NRRs!P44<$B$66,'Spearman.Correlations'!P44,0)","v":0},{"$f":"IF(NRRs!Q44<$B$66,'Spearman.Correlations'!Q44,0)","v":0.420701141544228},{"$f":"IF(NRRs!R44<$B$66,'Spearman.Correlations'!R44,0)","v":0.342625130800499},{"$f":"IF(NRRs!S44<$B$66,'Spearman.Correlations'!S44,0)","v":-0.170892164643855},{"$f":"IF(NRRs!T44<$B$66,'Spearman.Correlations'!T44,0)","v":0},{"$f":"IF(NRRs!U44<$B$66,'Spearman.Correlations'!U44,0)","v":0},{"$f":"IF(NRRs!V44<$B$66,'Spearman.Correlations'!V44,0)","v":0},{"$f":"IF(NRRs!W44<$B$66,'Spearman.Correlations'!W44,0)","v":0},{"$f":"IF(NRRs!X44<$B$66,'Spearman.Correlations'!X44,0)","v":0.327517657559193},{"$f":"IF(NRRs!Y44<$B$66,'Spearman.Correlations'!Y44,0)","v":0},{"$f":"IF(NRRs!Z44<$B$66,'Spearman.Correlations'!Z44,0)","v":0.204746953075526},{"$f":"IF(NRRs!AA44<$B$66,'Spearman.Correlations'!AA44,0)","v":0},{"$f":"IF(NRRs!AB44<$B$66,'Spearman.Correlations'!AB44,0)","v":0},{"$f":"IF(NRRs!AC44<$B$66,'Spearman.Correlations'!AC44,0)","v":0},{"$f":"IF(NRRs!AD44<$B$66,'Spearman.Correlations'!AD44,0)","v":0.489686944672695},{"$f":"IF(NRRs!AE44<$B$66,'Spearman.Correlations'!AE44,0)","v":-0.163845351031397},{"$f":"IF(NRRs!AF44<$B$66,'Spearman.Correlations'!AF44,0)","v":0.283824269561983},{"$f":"IF(NRRs!AG44<$B$66,'Spearman.Correlations'!AG44,0)","v":0},{"$f":"IF(NRRs!AH44<$B$66,'Spearman.Correlations'!AH44,0)","v":0.183107121694062},{"$f":"IF(NRRs!AI44<$B$66,'Spearman.Correlations'!AI44,0)","v":0},{"$f":"IF(NRRs!AJ44<$B$66,'Spearman.Correlations'!AJ44,0)","v":0.407794074869737},{"$f":"IF(NRRs!AK44<$B$66,'Spearman.Correlations'!AK44,0)","v":0},{"$f":"IF(NRRs!AL44<$B$66,'Spearman.Correlations'!AL44,0)","v":-0.144208727113338},{"$f":"IF(NRRs!AM44<$B$66,'Spearman.Correlations'!AM44,0)","v":0.498664101764227},{"$f":"IF(NRRs!AN44<$B$66,'Spearman.Correlations'!AN44,0)","v":0.322173820728334},{"$f":"IF(NRRs!AO44<$B$66,'Spearman.Correlations'!AO44,0)","v":0.658818578510298},{"$f":"IF(NRRs!AP44<$B$66,'Spearman.Correlations'!AP44,0)","v":0},{"$f":"IF(NRRs!AQ44<$B$66,'Spearman.Correlations'!AQ44,0)","v":0},{"$f":"IF(NRRs!AR44<$B$66,'Spearman.Correlations'!AR44,0)","v":0},{"$f":"IF(NRRs!AS44<$B$66,'Spearman.Correlations'!AS44,0)","v":0},{"$f":"IF(NRRs!AT44<$B$66,'Spearman.Correlations'!AT44,0)","v":0},{"$f":"IF(NRRs!AU44<$B$66,'Spearman.Correlations'!AU44,0)","v":0.127793437714388},{"$f":"IF(NRRs!AV44<$B$66,'Spearman.Correlations'!AV44,0)","v":0},{"$f":"IF(NRRs!AW44<$B$66,'Spearman.Correlations'!AW44,0)","v":-0.149993162096542},{"$f":"IF(NRRs!AX44<$B$66,'Spearman.Correlations'!AX44,0)","v":0},{"$f":"IF(NRRs!AY44<$B$66,'Spearman.Correlations'!AY44,0)","v":-0.140112077219902},{"$f":"IF(NRRs!AZ44<$B$66,'Spearman.Correlations'!AZ44,0)","v":0},{"$f":"IF(NRRs!BA44<$B$66,'Spearman.Correlations'!BA44,0)","v":0},{"$f":"IF(NRRs!BB44<$B$66,'Spearman.Correlations'!BB44,0)","v":0},{"$f":"IF(NRRs!BC44<$B$66,'Spearman.Correlations'!BC44,0)","v":0},{"$f":"IF(NRRs!BD44<$B$66,'Spearman.Correlations'!BD44,0)","v":0},{"$f":"IF(NRRs!BE44<$B$66,'Spearman.Correlations'!BE44,0)","v":0},{"$f":"IF(NRRs!BF44<$B$66,'Spearman.Correlations'!BF44,0)","v":0},{"$f":"IF(NRRs!BG44<$B$66,'Spearman.Correlations'!BG44,0)","v":0},{"$f":"IF(NRRs!BH44<$B$66,'Spearman.Correlations'!BH44,0)","v":0}]
["Tyrosine ",{"$f":"IF(NRRs!B45<$B$66,'Spearman.Correlations'!B45,0)","v":-0.0827818161201691},{"$f":"IF(NRRs!C45<$B$66,'Spearman.Correlations'!C45,0)","v":0},{"$f":"IF(NRRs!D45<$B$66,'Spearman.Correlations'!D45,0)","v":0},{"$f":"IF(NRRs!E45<$B$66,'Spearman.Correlations'!E45,0)","v":0},{"$f":"IF(NRRs!F45<$B$66,'Spearman.Correlations'!F45,0)","v":0},{"$f":"IF(NRRs!G45<$B$66,'Spearman.Correlations'!G45,0)","v":0},{"$f":"IF(NRRs!H45<$B$66,'Spearman.Correlations'!H45,0)","v":-0.0822466824727951},{"$f":"IF(NRRs!I45<$B$66,'Spearman.Correlations'!I45,0)","v":0},{"$f":"IF(NRRs!J45<$B$66,'Spearman.Correlations'!J45,0)","v":-0.0836476121238534},{"$f":"IF(NRRs!K45<$B$66,'Spearman.Correlations'!K45,0)","v":-0.0947733659757618},{"$f":"IF(NRRs!L45<$B$66,'Spearman.Correlations'!L45,0)","v":0.563982164363004},{"$f":"IF(NRRs!M45<$B$66,'Spearman.Correlations'!M45,0)","v":0},{"$f":"IF(NRRs!N45<$B$66,'Spearman.Correlations'!N45,0)","v":0.678940673107555},{"$f":"IF(NRRs!O45<$B$66,'Spearman.Correlations'!O45,0)","v":0},{"$f":"IF(NRRs!P45<$B$66,'Spearman.Correlations'!P45,0)","v":0},{"$f":"IF(NRRs!Q45<$B$66,'Spearman.Correlations'!Q45,0)","v":0.261407943634106},{"$f":"IF(NRRs!R45<$B$66,'Spearman.Correlations'!R45,0)","v":0},{"$f":"IF(NRRs!S45<$B$66,'Spearman.Correlations'!S45,0)","v":0},{"$f":"IF(NRRs!T45<$B$66,'Spearman.Correlations'!T45,0)","v":0},{"$f":"IF(NRRs!U45<$B$66,'Spearman.Correlations'!U45,0)","v":0},{"$f":"IF(NRRs!V45<$B$66,'Spearman.Correlations'!V45,0)","v":0},{"$f":"IF(NRRs!W45<$B$66,'Spearman.Correlations'!W45,0)","v":0},{"$f":"IF(NRRs!X45<$B$66,'Spearman.Correlations'!X45,0)","v":0},{"$f":"IF(NRRs!Y45<$B$66,'Spearman.Correlations'!Y45,0)","v":0},{"$f":"IF(NRRs!Z45<$B$66,'Spearman.Correlations'!Z45,0)","v":0},{"$f":"IF(NRRs!AA45<$B$66,'Spearman.Correlations'!AA45,0)","v":0},{"$f":"IF(NRRs!AB45<$B$66,'Spearman.Correlations'!AB45,0)","v":0.767194977084475},{"$f":"IF(NRRs!AC45<$B$66,'Spearman.Correlations'!AC45,0)","v":0.186077539125129},{"$f":"IF(NRRs!AD45<$B$66,'Spearman.Correlations'!AD45,0)","v":0},{"$f":"IF(NRRs!AE45<$B$66,'Spearman.Correlations'!AE45,0)","v":-0.134156314883708},{"$f":"IF(NRRs!AF45<$B$66,'Spearman.Correlations'!AF45,0)","v":0},{"$f":"IF(NRRs!AG45<$B$66,'Spearman.Correlations'!AG45,0)","v":0},{"$f":"IF(NRRs!AH45<$B$66,'Spearman.Correlations'!AH45,0)","v":0.349678272428562},{"$f":"IF(NRRs!AI45<$B$66,'Spearman.Correlations'!AI45,0)","v":0},{"$f":"IF(NRRs!AJ45<$B$66,'Spearman.Correlations'!AJ45,0)","v":0},{"$f":"IF(NRRs!AK45<$B$66,'Spearman.Correlations'!AK45,0)","v":0},{"$f":"IF(NRRs!AL45<$B$66,'Spearman.Correlations'!AL45,0)","v":0},{"$f":"IF(NRRs!AM45<$B$66,'Spearman.Correlations'!AM45,0)","v":0},{"$f":"IF(NRRs!AN45<$B$66,'Spearman.Correlations'!AN45,0)","v":0},{"$f":"IF(NRRs!AO45<$B$66,'Spearman.Correlations'!AO45,0)","v":0},{"$f":"IF(NRRs!AP45<$B$66,'Spearman.Correlations'!AP45,0)","v":0},{"$f":"IF(NRRs!AQ45<$B$66,'Spearman.Correlations'!AQ45,0)","v":0},{"$f":"IF(NRRs!AR45<$B$66,'Spearman.Correlations'!AR45,0)","v":0},{"$f":"IF(NRRs!AS45<$B$66,'Spearman.Correlations'!AS45,0)","v":0},{"$f":"IF(NRRs!AT45<$B$66,'Spearman.Correlations'!AT45,0)","v":0},{"$f":"IF(NRRs!AU45<$B$66,'Spearman.Correlations'!AU45,0)","v":0},{"$f":"IF(NRRs!AV45<$B$66,'Spearman.Correlations'!AV45,0)","v":0},{"$f":"IF(NRRs!AW45<$B$66,'Spearman.Correlations'!AW45,0)","v":0},{"$f":"IF(NRRs!AX45<$B$66,'Spearman.Correlations'!AX45,0)","v":0},{"$f":"IF(NRRs!AY45<$B$66,'Spearman.Correlations'!AY45,0)","v":0},{"$f":"IF(NRRs!AZ45<$B$66,'Spearman.Correlations'!AZ45,0)","v":0},{"$f":"IF(NRRs!BA45<$B$66,'Spearman.Correlations'!BA45,0)","v":0},{"$f":"IF(NRRs!BB45<$B$66,'Spearman.Correlations'!BB45,0)","v":0},{"$f":"IF(NRRs!BC45<$B$66,'Spearman.Correlations'!BC45,0)","v":0},{"$f":"IF(NRRs!BD45<$B$66,'Spearman.Correlations'!BD45,0)","v":0},{"$f":"IF(NRRs!BE45<$B$66,'Spearman.Correlations'!BE45,0)","v":0},{"$f":"IF(NRRs!BF45<$B$66,'Spearman.Correlations'!BF45,0)","v":0},{"$f":"IF(NRRs!BG45<$B$66,'Spearman.Correlations'!BG45,0)","v":0},{"$f":"IF(NRRs!BH45<$B$66,'Spearman.Correlations'!BH45,0)","v":0}]
["Valine ",{"$f":"IF(NRRs!B46<$B$66,'Spearman.Correlations'!B46,0)","v":0},{"$f":"IF(NRRs!C46<$B$66,'Spearman.Correlations'!C46,0)","v":-0.110368250811396},{"$f":"IF(NRRs!D46<$B$66,'Spearman.Correlations'!D46,0)","v":0},{"$f":"IF(NRRs!E46<$B$66,'Spearman.Correlations'!E46,0)","v":0},{"$f":"IF(NRRs!F46<$B$66,'Spearman.Correlations'!F46,0)","v":-0.0477351457019118},{"$f":"IF(NRRs!G46<$B$66,'Spearman.Correlations'!G46,0)","v":-0.0865822341848298},{"$f":"IF(NRRs!H46<$B$66,'Spearman.Correlations'!H46,0)","v":0},{"$f":"IF(NRRs!I46<$B$66,'Spearman.Correlations'!I46,0)","v":-0.0900354035839359},{"$f":"IF(NRRs!J46<$B$66,'Spearman.Correlations'!J46,0)","v":0},{"$f":"IF(NRRs!K46<$B$66,'Spearman.Correlations'!K46,0)","v":0},{"$f":"IF(NRRs!L46<$B$66,'Spearman.Correlations'!L46,0)","v":0},{"$f":"IF(NRRs!M46<$B$66,'Spearman.Correlations'!M46,0)","v":0},{"$f":"IF(NRRs!N46<$B$66,'Spearman.Correlations'!N46,0)","v":0},{"$f":"IF(NRRs!O46<$B$66,'Spearman.Correlations'!O46,0)","v":0},{"$f":"IF(NRRs!P46<$B$66,'Spearman.Correlations'!P46,0)","v":0},{"$f":"IF(NRRs!Q46<$B$66,'Spearman.Correlations'!Q46,0)","v":0},{"$f":"IF(NRRs!R46<$B$66,'Spearman.Correlations'!R46,0)","v":0},{"$f":"IF(NRRs!S46<$B$66,'Spearman.Correlations'!S46,0)","v":0},{"$f":"IF(NRRs!T46<$B$66,'Spearman.Correlations'!T46,0)","v":0},{"$f":"IF(NRRs!U46<$B$66,'Spearman.Correlations'!U46,0)","v":0},{"$f":"IF(NRRs!V46<$B$66,'Spearman.Correlations'!V46,0)","v":0},{"$f":"IF(NRRs!W46<$B$66,'Spearman.Correlations'!W46,0)","v":0},{"$f":"IF(NRRs!X46<$B$66,'Spearman.Correlations'!X46,0)","v":0},{"$f":"IF(NRRs!Y46<$B$66,'Spearman.Correlations'!Y46,0)","v":0},{"$f":"IF(NRRs!Z46<$B$66,'Spearman.Correlations'!Z46,0)","v":0},{"$f":"IF(NRRs!AA46<$B$66,'Spearman.Correlations'!AA46,0)","v":0},{"$f":"IF(NRRs!AB46<$B$66,'Spearman.Correlations'!AB46,0)","v":0},{"$f":"IF(NRRs!AC46<$B$66,'Spearman.Correlations'!AC46,0)","v":0},{"$f":"IF(NRRs!AD46<$B$66,'Spearman.Correlations'!AD46,0)","v":0},{"$f":"IF(NRRs!AE46<$B$66,'Spearman.Correlations'!AE46,0)","v":0.215232560349507},{"$f":"IF(NRRs!AF46<$B$66,'Spearman.Correlations'!AF46,0)","v":0.444225725286365},{"$f":"IF(NRRs!AG46<$B$66,'Spearman.Correlations'!AG46,0)","v":0},{"$f":"IF(NRRs!AH46<$B$66,'Spearman.Correlations'!AH46,0)","v":0},{"$f":"IF(NRRs!AI46<$B$66,'Spearman.Correlations'!AI46,0)","v":0},{"$f":"IF(NRRs!AJ46<$B$66,'Spearman.Correlations'!AJ46,0)","v":0},{"$f":"IF(NRRs!AK46<$B$66,'Spearman.Correlations'!AK46,0)","v":0},{"$f":"IF(NRRs!AL46<$B$66,'Spearman.Correlations'!AL46,0)","v":0.290423534024514},{"$f":"IF(NRRs!AM46<$B$66,'Spearman.Correlations'!AM46,0)","v":0},{"$f":"IF(NRRs!AN46<$B$66,'Spearman.Correlations'!AN46,0)","v":0},{"$f":"IF(NRRs!AO46<$B$66,'Spearman.Correlations'!AO46,0)","v":0},{"$f":"IF(NRRs!AP46<$B$66,'Spearman.Correlations'!AP46,0)","v":0.241329117547642},{"$f":"IF(NRRs!AQ46<$B$66,'Spearman.Correlations'!AQ46,0)","v":0},{"$f":"IF(NRRs!AR46<$B$66,'Spearman.Correlations'!AR46,0)","v":0},{"$f":"IF(NRRs!AS46<$B$66,'Spearman.Correlations'!AS46,0)","v":0},{"$f":"IF(NRRs!AT46<$B$66,'Spearman.Correlations'!AT46,0)","v":0},{"$f":"IF(NRRs!AU46<$B$66,'Spearman.Correlations'!AU46,0)","v":0.171739618598197},{"$f":"IF(NRRs!AV46<$B$66,'Spearman.Correlations'!AV46,0)","v":0},{"$f":"IF(NRRs!AW46<$B$66,'Spearman.Correlations'!AW46,0)","v":0},{"$f":"IF(NRRs!AX46<$B$66,'Spearman.Correlations'!AX46,0)","v":0},{"$f":"IF(NRRs!AY46<$B$66,'Spearman.Correlations'!AY46,0)","v":0},{"$f":"IF(NRRs!AZ46<$B$66,'Spearman.Correlations'!AZ46,0)","v":0},{"$f":"IF(NRRs!BA46<$B$66,'Spearman.Correlations'!BA46,0)","v":0},{"$f":"IF(NRRs!BB46<$B$66,'Spearman.Correlations'!BB46,0)","v":0},{"$f":"IF(NRRs!BC46<$B$66,'Spearman.Correlations'!BC46,0)","v":0},{"$f":"IF(NRRs!BD46<$B$66,'Spearman.Correlations'!BD46,0)","v":0},{"$f":"IF(NRRs!BE46<$B$66,'Spearman.Correlations'!BE46,0)","v":0},{"$f":"IF(NRRs!BF46<$B$66,'Spearman.Correlations'!BF46,0)","v":0},{"$f":"IF(NRRs!BG46<$B$66,'Spearman.Correlations'!BG46,0)","v":0},{"$f":"IF(NRRs!BH46<$B$66,'Spearman.Correlations'!BH46,0)","v":0}]
["Sex",{"$f":"IF(NRRs!B47<$B$66,'Spearman.Correlations'!B47,0)","v":0},{"$f":"IF(NRRs!C47<$B$66,'Spearman.Correlations'!C47,0)","v":-0.215167523968159},{"$f":"IF(NRRs!D47<$B$66,'Spearman.Correlations'!D47,0)","v":0},{"$f":"IF(NRRs!E47<$B$66,'Spearman.Correlations'!E47,0)","v":0},{"$f":"IF(NRRs!F47<$B$66,'Spearman.Correlations'!F47,0)","v":0},{"$f":"IF(NRRs!G47<$B$66,'Spearman.Correlations'!G47,0)","v":0},{"$f":"IF(NRRs!H47<$B$66,'Spearman.Correlations'!H47,0)","v":-0.301474004103982},{"$f":"IF(NRRs!I47<$B$66,'Spearman.Correlations'!I47,0)","v":-0.281183729246404},{"$f":"IF(NRRs!J47<$B$66,'Spearman.Correlations'!J47,0)","v":0},{"$f":"IF(NRRs!K47<$B$66,'Spearman.Correlations'!K47,0)","v":0},{"$f":"IF(NRRs!L47<$B$66,'Spearman.Correlations'!L47,0)","v":0},{"$f":"IF(NRRs!M47<$B$66,'Spearman.Correlations'!M47,0)","v":0},{"$f":"IF(NRRs!N47<$B$66,'Spearman.Correlations'!N47,0)","v":0},{"$f":"IF(NRRs!O47<$B$66,'Spearman.Correlations'!O47,0)","v":0},{"$f":"IF(NRRs!P47<$B$66,'Spearman.Correlations'!P47,0)","v":0},{"$f":"IF(NRRs!Q47<$B$66,'Spearman.Correlations'!Q47,0)","v":0.123781100472616},{"$f":"IF(NRRs!R47<$B$66,'Spearman.Correlations'!R47,0)","v":0},{"$f":"IF(NRRs!S47<$B$66,'Spearman.Correlations'!S47,0)","v":-0.113683788795329},{"$f":"IF(NRRs!T47<$B$66,'Spearman.Correlations'!T47,0)","v":0},{"$f":"IF(NRRs!U47<$B$66,'Spearman.Correlations'!U47,0)","v":0},{"$f":"IF(NRRs!V47<$B$66,'Spearman.Correlations'!V47,0)","v":0},{"$f":"IF(NRRs!W47<$B$66,'Spearman.Correlations'!W47,0)","v":0},{"$f":"IF(NRRs!X47<$B$66,'Spearman.Correlations'!X47,0)","v":0},{"$f":"IF(NRRs!Y47<$B$66,'Spearman.Correlations'!Y47,0)","v":0},{"$f":"IF(NRRs!Z47<$B$66,'Spearman.Correlations'!Z47,0)","v":0},{"$f":"IF(NRRs!AA47<$B$66,'Spearman.Correlations'!AA47,0)","v":0},{"$f":"IF(NRRs!AB47<$B$66,'Spearman.Correlations'!AB47,0)","v":0},{"$f":"IF(NRRs!AC47<$B$66,'Spearman.Correlations'!AC47,0)","v":0},{"$f":"IF(NRRs!AD47<$B$66,'Spearman.Correlations'!AD47,0)","v":0.236510256791055},{"$f":"IF(NRRs!AE47<$B$66,'Spearman.Correlations'!AE47,0)","v":0},{"$f":"IF(NRRs!AF47<$B$66,'Spearman.Correlations'!AF47,0)","v":0.180412463044586},{"$f":"IF(NRRs!AG47<$B$66,'Spearman.Correlations'!AG47,0)","v":0},{"$f":"IF(NRRs!AH47<$B$66,'Spearman.Correlations'!AH47,0)","v":0},{"$f":"IF(NRRs!AI47<$B$66,'Spearman.Correlations'!AI47,0)","v":0},{"$f":"IF(NRRs!AJ47<$B$66,'Spearman.Correlations'!AJ47,0)","v":0},{"$f":"IF(NRRs!AK47<$B$66,'Spearman.Correlations'!AK47,0)","v":0},{"$f":"IF(NRRs!AL47<$B$66,'Spearman.Correlations'!AL47,0)","v":0},{"$f":"IF(NRRs!AM47<$B$66,'Spearman.Correlations'!AM47,0)","v":0},{"$f":"IF(NRRs!AN47<$B$66,'Spearman.Correlations'!AN47,0)","v":0.147145153212206},{"$f":"IF(NRRs!AO47<$B$66,'Spearman.Correlations'!AO47,0)","v":0},{"$f":"IF(NRRs!AP47<$B$66,'Spearman.Correlations'!AP47,0)","v":0},{"$f":"IF(NRRs!AQ47<$B$66,'Spearman.Correlations'!AQ47,0)","v":0},{"$f":"IF(NRRs!AR47<$B$66,'Spearman.Correlations'!AR47,0)","v":0.127793437714388},{"$f":"IF(NRRs!AS47<$B$66,'Spearman.Correlations'!AS47,0)","v":0},{"$f":"IF(NRRs!AT47<$B$66,'Spearman.Correlations'!AT47,0)","v":0.171739618598197},{"$f":"IF(NRRs!AU47<$B$66,'Spearman.Correlations'!AU47,0)","v":0},{"$f":"IF(NRRs!AV47<$B$66,'Spearman.Correlations'!AV47,0)","v":-0.21212785192771},{"$f":"IF(NRRs!AW47<$B$66,'Spearman.Correlations'!AW47,0)","v":-0.126823206675428},{"$f":"IF(NRRs!AX47<$B$66,'Spearman.Correlations'!AX47,0)","v":0},{"$f":"IF(NRRs!AY47<$B$66,'Spearman.Correlations'!AY47,0)","v":0},{"$f":"IF(NRRs!AZ47<$B$66,'Spearman.Correlations'!AZ47,0)","v":0},{"$f":"IF(NRRs!BA47<$B$66,'Spearman.Correlations'!BA47,0)","v":0},{"$f":"IF(NRRs!BB47<$B$66,'Spearman.Correlations'!BB47,0)","v":0},{"$f":"IF(NRRs!BC47<$B$66,'Spearman.Correlations'!BC47,0)","v":0},{"$f":"IF(NRRs!BD47<$B$66,'Spearman.Correlations'!BD47,0)","v":0},{"$f":"IF(NRRs!BE47<$B$66,'Spearman.Correlations'!BE47,0)","v":-0.252485575090203},{"$f":"IF(NRRs!BF47<$B$66,'Spearman.Correlations'!BF47,0)","v":0.178891519246892},{"$f":"IF(NRRs!BG47<$B$66,'Spearman.Correlations'!BG47,0)","v":0},{"$f":"IF(NRRs!BH47<$B$66,'Spearman.Correlations'!BH47,0)","v":-0.310101351628727}]
["Age",{"$f":"IF(NRRs!B48<$B$66,'Spearman.Correlations'!B48,0)","v":0},{"$f":"IF(NRRs!C48<$B$66,'Spearman.Correlations'!C48,0)","v":0},{"$f":"IF(NRRs!D48<$B$66,'Spearman.Correlations'!D48,0)","v":0},{"$f":"IF(NRRs!E48<$B$66,'Spearman.Correlations'!E48,0)","v":0},{"$f":"IF(NRRs!F48<$B$66,'Spearman.Correlations'!F48,0)","v":0},{"$f":"IF(NRRs!G48<$B$66,'Spearman.Correlations'!G48,0)","v":0},{"$f":"IF(NRRs!H48<$B$66,'Spearman.Correlations'!H48,0)","v":0.245318109773017},{"$f":"IF(NRRs!I48<$B$66,'Spearman.Correlations'!I48,0)","v":0},{"$f":"IF(NRRs!J48<$B$66,'Spearman.Correlations'!J48,0)","v":0.19105688932721},{"$f":"IF(NRRs!K48<$B$66,'Spearman.Correlations'!K48,0)","v":0},{"$f":"IF(NRRs!L48<$B$66,'Spearman.Correlations'!L48,0)","v":-0.113141571272861},{"$f":"IF(NRRs!M48<$B$66,'Spearman.Correlations'!M48,0)","v":0},{"$f":"IF(NRRs!N48<$B$66,'Spearman.Correlations'!N48,0)","v":0},{"$f":"IF(NRRs!O48<$B$66,'Spearman.Correlations'!O48,0)","v":0},{"$f":"IF(NRRs!P48<$B$66,'Spearman.Correlations'!P48,0)","v":0},{"$f":"IF(NRRs!Q48<$B$66,'Spearman.Correlations'!Q48,0)","v":0},{"$f":"IF(NRRs!R48<$B$66,'Spearman.Correlations'!R48,0)","v":0},{"$f":"IF(NRRs!S48<$B$66,'Spearman.Correlations'!S48,0)","v":0},{"$f":"IF(NRRs!T48<$B$66,'Spearman.Correlations'!T48,0)","v":0.207068614714413},{"$f":"IF(NRRs!U48<$B$66,'Spearman.Correlations'!U48,0)","v":0},{"$f":"IF(NRRs!V48<$B$66,'Spearman.Correlations'!V48,0)","v":0},{"$f":"IF(NRRs!W48<$B$66,'Spearman.Correlations'!W48,0)","v":0},{"$f":"IF(NRRs!X48<$B$66,'Spearman.Correlations'!X48,0)","v":-0.108541947055395},{"$f":"IF(NRRs!Y48<$B$66,'Spearman.Correlations'!Y48,0)","v":0},{"$f":"IF(NRRs!Z48<$B$66,'Spearman.Correlations'!Z48,0)","v":0},{"$f":"IF(NRRs!AA48<$B$66,'Spearman.Correlations'!AA48,0)","v":0},{"$f":"IF(NRRs!AB48<$B$66,'Spearman.Correlations'!AB48,0)","v":0},{"$f":"IF(NRRs!AC48<$B$66,'Spearman.Correlations'!AC48,0)","v":0},{"$f":"IF(NRRs!AD48<$B$66,'Spearman.Correlations'!AD48,0)","v":0},{"$f":"IF(NRRs!AE48<$B$66,'Spearman.Correlations'!AE48,0)","v":0},{"$f":"IF(NRRs!AF48<$B$66,'Spearman.Correlations'!AF48,0)","v":0},{"$f":"IF(NRRs!AG48<$B$66,'Spearman.Correlations'!AG48,0)","v":0},{"$f":"IF(NRRs!AH48<$B$66,'Spearman.Correlations'!AH48,0)","v":0},{"$f":"IF(NRRs!AI48<$B$66,'Spearman.Correlations'!AI48,0)","v":0},{"$f":"IF(NRRs!AJ48<$B$66,'Spearman.Correlations'!AJ48,0)","v":0},{"$f":"IF(NRRs!AK48<$B$66,'Spearman.Correlations'!AK48,0)","v":0},{"$f":"IF(NRRs!AL48<$B$66,'Spearman.Correlations'!AL48,0)","v":0},{"$f":"IF(NRRs!AM48<$B$66,'Spearman.Correlations'!AM48,0)","v":0},{"$f":"IF(NRRs!AN48<$B$66,'Spearman.Correlations'!AN48,0)","v":0},{"$f":"IF(NRRs!AO48<$B$66,'Spearman.Correlations'!AO48,0)","v":0},{"$f":"IF(NRRs!AP48<$B$66,'Spearman.Correlations'!AP48,0)","v":0},{"$f":"IF(NRRs!AQ48<$B$66,'Spearman.Correlations'!AQ48,0)","v":-0.0790963777695376},{"$f":"IF(NRRs!AR48<$B$66,'Spearman.Correlations'!AR48,0)","v":0},{"$f":"IF(NRRs!AS48<$B$66,'Spearman.Correlations'!AS48,0)","v":0},{"$f":"IF(NRRs!AT48<$B$66,'Spearman.Correlations'!AT48,0)","v":0},{"$f":"IF(NRRs!AU48<$B$66,'Spearman.Correlations'!AU48,0)","v":-0.21212785192771},{"$f":"IF(NRRs!AV48<$B$66,'Spearman.Correlations'!AV48,0)","v":0},{"$f":"IF(NRRs!AW48<$B$66,'Spearman.Correlations'!AW48,0)","v":0.128480384856188},{"$f":"IF(NRRs!AX48<$B$66,'Spearman.Correlations'!AX48,0)","v":0.188530956370451},{"$f":"IF(NRRs!AY48<$B$66,'Spearman.Correlations'!AY48,0)","v":0.311175180876423},{"$f":"IF(NRRs!AZ48<$B$66,'Spearman.Correlations'!AZ48,0)","v":0},{"$f":"IF(NRRs!BA48<$B$66,'Spearman.Correlations'!BA48,0)","v":0.177626761450748},{"$f":"IF(NRRs!BB48<$B$66,'Spearman.Correlations'!BB48,0)","v":0},{"$f":"IF(NRRs!BC48<$B$66,'Spearman.Correlations'!BC48,0)","v":0.313157789275796},{"$f":"IF(NRRs!BD48<$B$66,'Spearman.Correlations'!BD48,0)","v":0},{"$f":"IF(NRRs!BE48<$B$66,'Spearman.Correlations'!BE48,0)","v":-0.27955038163487},{"$f":"IF(NRRs!BF48<$B$66,'Spearman.Correlations'!BF48,0)","v":-0.280167650451159},{"$f":"IF(NRRs!BG48<$B$66,'Spearman.Correlations'!BG48,0)","v":0},{"$f":"IF(NRRs!BH48<$B$66,'Spearman.Correlations'!BH48,0)","v":0.405894919967219}]
["BMI",{"$f":"IF(NRRs!B49<$B$66,'Spearman.Correlations'!B49,0)","v":0},{"$f":"IF(NRRs!C49<$B$66,'Spearman.Correlations'!C49,0)","v":0},{"$f":"IF(NRRs!D49<$B$66,'Spearman.Correlations'!D49,0)","v":0},{"$f":"IF(NRRs!E49<$B$66,'Spearman.Correlations'!E49,0)","v":-0.164835724207131},{"$f":"IF(NRRs!F49<$B$66,'Spearman.Correlations'!F49,0)","v":0},{"$f":"IF(NRRs!G49<$B$66,'Spearman.Correlations'!G49,0)","v":0},{"$f":"IF(NRRs!H49<$B$66,'Spearman.Correlations'!H49,0)","v":0},{"$f":"IF(NRRs!I49<$B$66,'Spearman.Correlations'!I49,0)","v":0},{"$f":"IF(NRRs!J49<$B$66,'Spearman.Correlations'!J49,0)","v":0},{"$f":"IF(NRRs!K49<$B$66,'Spearman.Correlations'!K49,0)","v":0},{"$f":"IF(NRRs!L49<$B$66,'Spearman.Correlations'!L49,0)","v":0},{"$f":"IF(NRRs!M49<$B$66,'Spearman.Correlations'!M49,0)","v":0},{"$f":"IF(NRRs!N49<$B$66,'Spearman.Correlations'!N49,0)","v":0},{"$f":"IF(NRRs!O49<$B$66,'Spearman.Correlations'!O49,0)","v":0},{"$f":"IF(NRRs!P49<$B$66,'Spearman.Correlations'!P49,0)","v":0},{"$f":"IF(NRRs!Q49<$B$66,'Spearman.Correlations'!Q49,0)","v":-0.0727672095821386},{"$f":"IF(NRRs!R49<$B$66,'Spearman.Correlations'!R49,0)","v":-0.135268203843654},{"$f":"IF(NRRs!S49<$B$66,'Spearman.Correlations'!S49,0)","v":0},{"$f":"IF(NRRs!T49<$B$66,'Spearman.Correlations'!T49,0)","v":0},{"$f":"IF(NRRs!U49<$B$66,'Spearman.Correlations'!U49,0)","v":0},{"$f":"IF(NRRs!V49<$B$66,'Spearman.Correlations'!V49,0)","v":0},{"$f":"IF(NRRs!W49<$B$66,'Spearman.Correlations'!W49,0)","v":0},{"$f":"IF(NRRs!X49<$B$66,'Spearman.Correlations'!X49,0)","v":-0.0589144228909387},{"$f":"IF(NRRs!Y49<$B$66,'Spearman.Correlations'!Y49,0)","v":0},{"$f":"IF(NRRs!Z49<$B$66,'Spearman.Correlations'!Z49,0)","v":-0.0843217245073443},{"$f":"IF(NRRs!AA49<$B$66,'Spearman.Correlations'!AA49,0)","v":0},{"$f":"IF(NRRs!AB49<$B$66,'Spearman.Correlations'!AB49,0)","v":0},{"$f":"IF(NRRs!AC49<$B$66,'Spearman.Correlations'!AC49,0)","v":0},{"$f":"IF(NRRs!AD49<$B$66,'Spearman.Correlations'!AD49,0)","v":0},{"$f":"IF(NRRs!AE49<$B$66,'Spearman.Correlations'!AE49,0)","v":0},{"$f":"IF(NRRs!AF49<$B$66,'Spearman.Correlations'!AF49,0)","v":0},{"$f":"IF(NRRs!AG49<$B$66,'Spearman.Correlations'!AG49,0)","v":0},{"$f":"IF(NRRs!AH49<$B$66,'Spearman.Correlations'!AH49,0)","v":0},{"$f":"IF(NRRs!AI49<$B$66,'Spearman.Correlations'!AI49,0)","v":0},{"$f":"IF(NRRs!AJ49<$B$66,'Spearman.Correlations'!AJ49,0)","v":0},{"$f":"IF(NRRs!AK49<$B$66,'Spearman.Correlations'!AK49,0)","v":0},{"$f":"IF(NRRs!AL49<$B$66,'Spearman.Correlations'!AL49,0)","v":0},{"$f":"IF(NRRs!AM49<$B$66,'Spearman.Correlations'!AM49,0)","v":-0.0224964941828159},{"$f":"IF(NRRs!AN49<$B$66,'Spearman.Correlations'!AN49,0)","v":0},{"$f":"IF(NRRs!AO49<$B$66,'Spearman.Correlations'!AO49,0)","v":-0.139661678694993},{"$f":"IF(NRRs!AP49<$B$66,'Spearman.Correlations'!AP49,0)","v":0},{"$f":"IF(NRRs!AQ49<$B$66,'Spearman.Correlations'!AQ49,0)","v":0},{"$f":"IF(NRRs!AR49<$B$66,'Spearman.Correlations'!AR49,0)","v":-0.149993162096542},{"$f":"IF(NRRs!AS49<$B$66,'Spearman.Correlations'!AS49,0)","v":0},{"$f":"IF(NRRs!AT49<$B$66,'Spearman.Correlations'!AT49,0)","v":0},{"$f":"IF(NRRs!AU49<$B$66,'Spearman.Correlations'!AU49,0)","v":-0.126823206675428},{"$f":"IF(NRRs!AV49<$B$66,'Spearman.Correlations'!AV49,0)","v":0.128480384856188},{"$f":"IF(NRRs!AW49<$B$66,'Spearman.Correlations'!AW49,0)","v":0},{"$f":"IF(NRRs!AX49<$B$66,'Spearman.Correlations'!AX49,0)","v":0.163678403208196},{"$f":"IF(NRRs!AY49<$B$66,'Spearman.Correlations'!AY49,0)","v":0.258433009289027},{"$f":"IF(NRRs!AZ49<$B$66,'Spearman.Correlations'!AZ49,0)","v":0},{"$f":"IF(NRRs!BA49<$B$66,'Spearman.Correlations'!BA49,0)","v":0.182780495384426},{"$f":"IF(NRRs!BB49<$B$66,'Spearman.Correlations'!BB49,0)","v":0},{"$f":"IF(NRRs!BC49<$B$66,'Spearman.Correlations'!BC49,0)","v":0.337968110733046},{"$f":"IF(NRRs!BD49<$B$66,'Spearman.Correlations'!BD49,0)","v":0},{"$f":"IF(NRRs!BE49<$B$66,'Spearman.Correlations'!BE49,0)","v":0},{"$f":"IF(NRRs!BF49<$B$66,'Spearman.Correlations'!BF49,0)","v":0},{"$f":"IF(NRRs!BG49<$B$66,'Spearman.Correlations'!BG49,0)","v":0},{"$f":"IF(NRRs!BH49<$B$66,'Spearman.Correlations'!BH49,0)","v":0.184498090857032}]
["NAFLD.Category",{"$f":"IF(NRRs!B50<$B$66,'Spearman.Correlations'!B50,0)","v":0},{"$f":"IF(NRRs!C50<$B$66,'Spearman.Correlations'!C50,0)","v":0},{"$f":"IF(NRRs!D50<$B$66,'Spearman.Correlations'!D50,0)","v":0},{"$f":"IF(NRRs!E50<$B$66,'Spearman.Correlations'!E50,0)","v":-0.148823757643726},{"$f":"IF(NRRs!F50<$B$66,'Spearman.Correlations'!F50,0)","v":0},{"$f":"IF(NRRs!G50<$B$66,'Spearman.Correlations'!G50,0)","v":-0.11658169475598},{"$f":"IF(NRRs!H50<$B$66,'Spearman.Correlations'!H50,0)","v":0},{"$f":"IF(NRRs!I50<$B$66,'Spearman.Correlations'!I50,0)","v":0},{"$f":"IF(NRRs!J50<$B$66,'Spearman.Correlations'!J50,0)","v":0},{"$f":"IF(NRRs!K50<$B$66,'Spearman.Correlations'!K50,0)","v":0},{"$f":"IF(NRRs!L50<$B$66,'Spearman.Correlations'!L50,0)","v":0},{"$f":"IF(NRRs!M50<$B$66,'Spearman.Correlations'!M50,0)","v":0},{"$f":"IF(NRRs!N50<$B$66,'Spearman.Correlations'!N50,0)","v":0},{"$f":"IF(NRRs!O50<$B$66,'Spearman.Correlations'!O50,0)","v":0},{"$f":"IF(NRRs!P50<$B$66,'Spearman.Correlations'!P50,0)","v":0},{"$f":"IF(NRRs!Q50<$B$66,'Spearman.Correlations'!Q50,0)","v":0},{"$f":"IF(NRRs!R50<$B$66,'Spearman.Correlations'!R50,0)","v":0},{"$f":"IF(NRRs!S50<$B$66,'Spearman.Correlations'!S50,0)","v":0},{"$f":"IF(NRRs!T50<$B$66,'Spearman.Correlations'!T50,0)","v":0},{"$f":"IF(NRRs!U50<$B$66,'Spearman.Correlations'!U50,0)","v":0},{"$f":"IF(NRRs!V50<$B$66,'Spearman.Correlations'!V50,0)","v":0},{"$f":"IF(NRRs!W50<$B$66,'Spearman.Correlations'!W50,0)","v":0},{"$f":"IF(NRRs!X50<$B$66,'Spearman.Correlations'!X50,0)","v":0},{"$f":"IF(NRRs!Y50<$B$66,'Spearman.Correlations'!Y50,0)","v":0},{"$f":"IF(NRRs!Z50<$B$66,'Spearman.Correlations'!Z50,0)","v":-0.0622258113102989},{"$f":"IF(NRRs!AA50<$B$66,'Spearman.Correlations'!AA50,0)","v":0},{"$f":"IF(NRRs!AB50<$B$66,'Spearman.Correlations'!AB50,0)","v":0},{"$f":"IF(NRRs!AC50<$B$66,'Spearman.Correlations'!AC50,0)","v":0},{"$f":"IF(NRRs!AD50<$B$66,'Spearman.Correlations'!AD50,0)","v":0},{"$f":"IF(NRRs!AE50<$B$66,'Spearman.Correlations'!AE50,0)","v":0},{"$f":"IF(NRRs!AF50<$B$66,'Spearman.Correlations'!AF50,0)","v":0},{"$f":"IF(NRRs!AG50<$B$66,'Spearman.Correlations'!AG50,0)","v":0},{"$f":"IF(NRRs!AH50<$B$66,'Spearman.Correlations'!AH50,0)","v":0},{"$f":"IF(NRRs!AI50<$B$66,'Spearman.Correlations'!AI50,0)","v":0},{"$f":"IF(NRRs!AJ50<$B$66,'Spearman.Correlations'!AJ50,0)","v":0},{"$f":"IF(NRRs!AK50<$B$66,'Spearman.Correlations'!AK50,0)","v":0},{"$f":"IF(NRRs!AL50<$B$66,'Spearman.Correlations'!AL50,0)","v":0},{"$f":"IF(NRRs!AM50<$B$66,'Spearman.Correlations'!AM50,0)","v":0},{"$f":"IF(NRRs!AN50<$B$66,'Spearman.Correlations'!AN50,0)","v":0},{"$f":"IF(NRRs!AO50<$B$66,'Spearman.Correlations'!AO50,0)","v":0},{"$f":"IF(NRRs!AP50<$B$66,'Spearman.Correlations'!AP50,0)","v":0},{"$f":"IF(NRRs!AQ50<$B$66,'Spearman.Correlations'!AQ50,0)","v":0},{"$f":"IF(NRRs!AR50<$B$66,'Spearman.Correlations'!AR50,0)","v":0},{"$f":"IF(NRRs!AS50<$B$66,'Spearman.Correlations'!AS50,0)","v":0},{"$f":"IF(NRRs!AT50<$B$66,'Spearman.Correlations'!AT50,0)","v":0},{"$f":"IF(NRRs!AU50<$B$66,'Spearman.Correlations'!AU50,0)","v":0},{"$f":"IF(NRRs!AV50<$B$66,'Spearman.Correlations'!AV50,0)","v":0.188530956370451},{"$f":"IF(NRRs!AW50<$B$66,'Spearman.Correlations'!AW50,0)","v":0.163678403208196},{"$f":"IF(NRRs!AX50<$B$66,'Spearman.Correlations'!AX50,0)","v":0},{"$f":"IF(NRRs!AY50<$B$66,'Spearman.Correlations'!AY50,0)","v":0.279709921081779},{"$f":"IF(NRRs!AZ50<$B$66,'Spearman.Correlations'!AZ50,0)","v":0.1980184092051},{"$f":"IF(NRRs!BA50<$B$66,'Spearman.Correlations'!BA50,0)","v":0.764406141504808},{"$f":"IF(NRRs!BB50<$B$66,'Spearman.Correlations'!BB50,0)","v":0.339439526820953},{"$f":"IF(NRRs!BC50<$B$66,'Spearman.Correlations'!BC50,0)","v":0.564276185178755},{"$f":"IF(NRRs!BD50<$B$66,'Spearman.Correlations'!BD50,0)","v":0.585779343644006},{"$f":"IF(NRRs!BE50<$B$66,'Spearman.Correlations'!BE50,0)","v":0},{"$f":"IF(NRRs!BF50<$B$66,'Spearman.Correlations'!BF50,0)","v":0},{"$f":"IF(NRRs!BG50<$B$66,'Spearman.Correlations'!BG50,0)","v":0.308681381707556},{"$f":"IF(NRRs!BH50<$B$66,'Spearman.Correlations'!BH50,0)","v":0}]
["T2DM",{"$f":"IF(NRRs!B51<$B$66,'Spearman.Correlations'!B51,0)","v":0},{"$f":"IF(NRRs!C51<$B$66,'Spearman.Correlations'!C51,0)","v":0},{"$f":"IF(NRRs!D51<$B$66,'Spearman.Correlations'!D51,0)","v":0},{"$f":"IF(NRRs!E51<$B$66,'Spearman.Correlations'!E51,0)","v":-0.122918251975447},{"$f":"IF(NRRs!F51<$B$66,'Spearman.Correlations'!F51,0)","v":0},{"$f":"IF(NRRs!G51<$B$66,'Spearman.Correlations'!G51,0)","v":-0.235501179674507},{"$f":"IF(NRRs!H51<$B$66,'Spearman.Correlations'!H51,0)","v":0.35289123494398},{"$f":"IF(NRRs!I51<$B$66,'Spearman.Correlations'!I51,0)","v":-0.154613246423033},{"$f":"IF(NRRs!J51<$B$66,'Spearman.Correlations'!J51,0)","v":0.272964727206589},{"$f":"IF(NRRs!K51<$B$66,'Spearman.Correlations'!K51,0)","v":0},{"$f":"IF(NRRs!L51<$B$66,'Spearman.Correlations'!L51,0)","v":0},{"$f":"IF(NRRs!M51<$B$66,'Spearman.Correlations'!M51,0)","v":0.214446450441903},{"$f":"IF(NRRs!N51<$B$66,'Spearman.Correlations'!N51,0)","v":0},{"$f":"IF(NRRs!O51<$B$66,'Spearman.Correlations'!O51,0)","v":0},{"$f":"IF(NRRs!P51<$B$66,'Spearman.Correlations'!P51,0)","v":0},{"$f":"IF(NRRs!Q51<$B$66,'Spearman.Correlations'!Q51,0)","v":0},{"$f":"IF(NRRs!R51<$B$66,'Spearman.Correlations'!R51,0)","v":-0.119475184067633},{"$f":"IF(NRRs!S51<$B$66,'Spearman.Correlations'!S51,0)","v":0},{"$f":"IF(NRRs!T51<$B$66,'Spearman.Correlations'!T51,0)","v":0},{"$f":"IF(NRRs!U51<$B$66,'Spearman.Correlations'!U51,0)","v":0},{"$f":"IF(NRRs!V51<$B$66,'Spearman.Correlations'!V51,0)","v":0},{"$f":"IF(NRRs!W51<$B$66,'Spearman.Correlations'!W51,0)","v":0},{"$f":"IF(NRRs!X51<$B$66,'Spearman.Correlations'!X51,0)","v":0},{"$f":"IF(NRRs!Y51<$B$66,'Spearman.Correlations'!Y51,0)","v":0},{"$f":"IF(NRRs!Z51<$B$66,'Spearman.Correlations'!Z51,0)","v":0},{"$f":"IF(NRRs!AA51<$B$66,'Spearman.Correlations'!AA51,0)","v":0},{"$f":"IF(NRRs!AB51<$B$66,'Spearman.Correlations'!AB51,0)","v":0},{"$f":"IF(NRRs!AC51<$B$66,'Spearman.Correlations'!AC51,0)","v":-0.143804550848433},{"$f":"IF(NRRs!AD51<$B$66,'Spearman.Correlations'!AD51,0)","v":0},{"$f":"IF(NRRs!AE51<$B$66,'Spearman.Correlations'!AE51,0)","v":0},{"$f":"IF(NRRs!AF51<$B$66,'Spearman.Correlations'!AF51,0)","v":0},{"$f":"IF(NRRs!AG51<$B$66,'Spearman.Correlations'!AG51,0)","v":0},{"$f":"IF(NRRs!AH51<$B$66,'Spearman.Correlations'!AH51,0)","v":0},{"$f":"IF(NRRs!AI51<$B$66,'Spearman.Correlations'!AI51,0)","v":0},{"$f":"IF(NRRs!AJ51<$B$66,'Spearman.Correlations'!AJ51,0)","v":0},{"$f":"IF(NRRs!AK51<$B$66,'Spearman.Correlations'!AK51,0)","v":0},{"$f":"IF(NRRs!AL51<$B$66,'Spearman.Correlations'!AL51,0)","v":0},{"$f":"IF(NRRs!AM51<$B$66,'Spearman.Correlations'!AM51,0)","v":0},{"$f":"IF(NRRs!AN51<$B$66,'Spearman.Correlations'!AN51,0)","v":0},{"$f":"IF(NRRs!AO51<$B$66,'Spearman.Correlations'!AO51,0)","v":-0.107760095835692},{"$f":"IF(NRRs!AP51<$B$66,'Spearman.Correlations'!AP51,0)","v":0},{"$f":"IF(NRRs!AQ51<$B$66,'Spearman.Correlations'!AQ51,0)","v":-0.16378899958165},{"$f":"IF(NRRs!AR51<$B$66,'Spearman.Correlations'!AR51,0)","v":-0.140112077219902},{"$f":"IF(NRRs!AS51<$B$66,'Spearman.Correlations'!AS51,0)","v":0},{"$f":"IF(NRRs!AT51<$B$66,'Spearman.Correlations'!AT51,0)","v":0},{"$f":"IF(NRRs!AU51<$B$66,'Spearman.Correlations'!AU51,0)","v":0},{"$f":"IF(NRRs!AV51<$B$66,'Spearman.Correlations'!AV51,0)","v":0.311175180876423},{"$f":"IF(NRRs!AW51<$B$66,'Spearman.Correlations'!AW51,0)","v":0.258433009289027},{"$f":"IF(NRRs!AX51<$B$66,'Spearman.Correlations'!AX51,0)","v":0.279709921081779},{"$f":"IF(NRRs!AY51<$B$66,'Spearman.Correlations'!AY51,0)","v":0},{"$f":"IF(NRRs!AZ51<$B$66,'Spearman.Correlations'!AZ51,0)","v":0},{"$f":"IF(NRRs!BA51<$B$66,'Spearman.Correlations'!BA51,0)","v":0.283137224086587},{"$f":"IF(NRRs!BB51<$B$66,'Spearman.Correlations'!BB51,0)","v":0},{"$f":"IF(NRRs!BC51<$B$66,'Spearman.Correlations'!BC51,0)","v":0.36919865107484},{"$f":"IF(NRRs!BD51<$B$66,'Spearman.Correlations'!BD51,0)","v":0.201574554070663},{"$f":"IF(NRRs!BE51<$B$66,'Spearman.Correlations'!BE51,0)","v":0},{"$f":"IF(NRRs!BF51<$B$66,'Spearman.Correlations'!BF51,0)","v":0},{"$f":"IF(NRRs!BG51<$B$66,'Spearman.Correlations'!BG51,0)","v":0},{"$f":"IF(NRRs!BH51<$B$66,'Spearman.Correlations'!BH51,0)","v":0.253161950933678}]
["Steatosis",{"$f":"IF(NRRs!B52<$B$66,'Spearman.Correlations'!B52,0)","v":0},{"$f":"IF(NRRs!C52<$B$66,'Spearman.Correlations'!C52,0)","v":0},{"$f":"IF(NRRs!D52<$B$66,'Spearman.Correlations'!D52,0)","v":0},{"$f":"IF(NRRs!E52<$B$66,'Spearman.Correlations'!E52,0)","v":-0.132394664622358},{"$f":"IF(NRRs!F52<$B$66,'Spearman.Correlations'!F52,0)","v":0},{"$f":"IF(NRRs!G52<$B$66,'Spearman.Correlations'!G52,0)","v":0},{"$f":"IF(NRRs!H52<$B$66,'Spearman.Correlations'!H52,0)","v":0},{"$f":"IF(NRRs!I52<$B$66,'Spearman.Correlations'!I52,0)","v":0},{"$f":"IF(NRRs!J52<$B$66,'Spearman.Correlations'!J52,0)","v":0},{"$f":"IF(NRRs!K52<$B$66,'Spearman.Correlations'!K52,0)","v":0},{"$f":"IF(NRRs!L52<$B$66,'Spearman.Correlations'!L52,0)","v":0},{"$f":"IF(NRRs!M52<$B$66,'Spearman.Correlations'!M52,0)","v":0},{"$f":"IF(NRRs!N52<$B$66,'Spearman.Correlations'!N52,0)","v":0},{"$f":"IF(NRRs!O52<$B$66,'Spearman.Correlations'!O52,0)","v":0},{"$f":"IF(NRRs!P52<$B$66,'Spearman.Correlations'!P52,0)","v":0},{"$f":"IF(NRRs!Q52<$B$66,'Spearman.Correlations'!Q52,0)","v":-0.154148962372714},{"$f":"IF(NRRs!R52<$B$66,'Spearman.Correlations'!R52,0)","v":0},{"$f":"IF(NRRs!S52<$B$66,'Spearman.Correlations'!S52,0)","v":0},{"$f":"IF(NRRs!T52<$B$66,'Spearman.Correlations'!T52,0)","v":0},{"$f":"IF(NRRs!U52<$B$66,'Spearman.Correlations'!U52,0)","v":0},{"$f":"IF(NRRs!V52<$B$66,'Spearman.Correlations'!V52,0)","v":0},{"$f":"IF(NRRs!W52<$B$66,'Spearman.Correlations'!W52,0)","v":0},{"$f":"IF(NRRs!X52<$B$66,'Spearman.Correlations'!X52,0)","v":0},{"$f":"IF(NRRs!Y52<$B$66,'Spearman.Correlations'!Y52,0)","v":-0.0840867142208434},{"$f":"IF(NRRs!Z52<$B$66,'Spearman.Correlations'!Z52,0)","v":0},{"$f":"IF(NRRs!AA52<$B$66,'Spearman.Correlations'!AA52,0)","v":0},{"$f":"IF(NRRs!AB52<$B$66,'Spearman.Correlations'!AB52,0)","v":0},{"$f":"IF(NRRs!AC52<$B$66,'Spearman.Correlations'!AC52,0)","v":0},{"$f":"IF(NRRs!AD52<$B$66,'Spearman.Correlations'!AD52,0)","v":0},{"$f":"IF(NRRs!AE52<$B$66,'Spearman.Correlations'!AE52,0)","v":0},{"$f":"IF(NRRs!AF52<$B$66,'Spearman.Correlations'!AF52,0)","v":0},{"$f":"IF(NRRs!AG52<$B$66,'Spearman.Correlations'!AG52,0)","v":0},{"$f":"IF(NRRs!AH52<$B$66,'Spearman.Correlations'!AH52,0)","v":0},{"$f":"IF(NRRs!AI52<$B$66,'Spearman.Correlations'!AI52,0)","v":0},{"$f":"IF(NRRs!AJ52<$B$66,'Spearman.Correlations'!AJ52,0)","v":0},{"$f":"IF(NRRs!AK52<$B$66,'Spearman.Correlations'!AK52,0)","v":0},{"$f":"IF(NRRs!AL52<$B$66,'Spearman.Correlations'!AL52,0)","v":0},{"$f":"IF(NRRs!AM52<$B$66,'Spearman.Correlations'!AM52,0)","v":0},{"$f":"IF(NRRs!AN52<$B$66,'Spearman.Correlations'!AN52,0)","v":0},{"$f":"IF(NRRs!AO52<$B$66,'Spearman.Correlations'!AO52,0)","v":0},{"$f":"IF(NRRs!AP52<$B$66,'Spearman.Correlations'!AP52,0)","v":0},{"$f":"IF(NRRs!AQ52<$B$66,'Spearman.Correlations'!AQ52,0)","v":0},{"$f":"IF(NRRs!AR52<$B$66,'Spearman.Correlations'!AR52,0)","v":0},{"$f":"IF(NRRs!AS52<$B$66,'Spearman.Correlations'!AS52,0)","v":0},{"$f":"IF(NRRs!AT52<$B$66,'Spearman.Correlations'!AT52,0)","v":0},{"$f":"IF(NRRs!AU52<$B$66,'Spearman.Correlations'!AU52,0)","v":0},{"$f":"IF(NRRs!AV52<$B$66,'Spearman.Correlations'!AV52,0)","v":0},{"$f":"IF(NRRs!AW52<$B$66,'Spearman.Correlations'!AW52,0)","v":0},{"$f":"IF(NRRs!AX52<$B$66,'Spearman.Correlations'!AX52,0)","v":0.1980184092051},{"$f":"IF(NRRs!AY52<$B$66,'Spearman.Correlations'!AY52,0)","v":0},{"$f":"IF(NRRs!AZ52<$B$66,'Spearman.Correlations'!AZ52,0)","v":0},{"$f":"IF(NRRs!BA52<$B$66,'Spearman.Correlations'!BA52,0)","v":0.178363018005463},{"$f":"IF(NRRs!BB52<$B$66,'Spearman.Correlations'!BB52,0)","v":0.301873184307355},{"$f":"IF(NRRs!BC52<$B$66,'Spearman.Correlations'!BC52,0)","v":0.131536189381492},{"$f":"IF(NRRs!BD52<$B$66,'Spearman.Correlations'!BD52,0)","v":0.687804101406353},{"$f":"IF(NRRs!BE52<$B$66,'Spearman.Correlations'!BE52,0)","v":0},{"$f":"IF(NRRs!BF52<$B$66,'Spearman.Correlations'!BF52,0)","v":0.315182775532192},{"$f":"IF(NRRs!BG52<$B$66,'Spearman.Correlations'!BG52,0)","v":0.289645839832434},{"$f":"IF(NRRs!BH52<$B$66,'Spearman.Correlations'!BH52,0)","v":-0.1590501611717}]
["Ballooning",{"$f":"IF(NRRs!B53<$B$66,'Spearman.Correlations'!B53,0)","v":0},{"$f":"IF(NRRs!C53<$B$66,'Spearman.Correlations'!C53,0)","v":0},{"$f":"IF(NRRs!D53<$B$66,'Spearman.Correlations'!D53,0)","v":0},{"$f":"IF(NRRs!E53<$B$66,'Spearman.Correlations'!E53,0)","v":-0.159557390201019},{"$f":"IF(NRRs!F53<$B$66,'Spearman.Correlations'!F53,0)","v":0},{"$f":"IF(NRRs!G53<$B$66,'Spearman.Correlations'!G53,0)","v":-0.126721029212539},{"$f":"IF(NRRs!H53<$B$66,'Spearman.Correlations'!H53,0)","v":0},{"$f":"IF(NRRs!I53<$B$66,'Spearman.Correlations'!I53,0)","v":0},{"$f":"IF(NRRs!J53<$B$66,'Spearman.Correlations'!J53,0)","v":0},{"$f":"IF(NRRs!K53<$B$66,'Spearman.Correlations'!K53,0)","v":0},{"$f":"IF(NRRs!L53<$B$66,'Spearman.Correlations'!L53,0)","v":0},{"$f":"IF(NRRs!M53<$B$66,'Spearman.Correlations'!M53,0)","v":0},{"$f":"IF(NRRs!N53<$B$66,'Spearman.Correlations'!N53,0)","v":0},{"$f":"IF(NRRs!O53<$B$66,'Spearman.Correlations'!O53,0)","v":0},{"$f":"IF(NRRs!P53<$B$66,'Spearman.Correlations'!P53,0)","v":0},{"$f":"IF(NRRs!Q53<$B$66,'Spearman.Correlations'!Q53,0)","v":0},{"$f":"IF(NRRs!R53<$B$66,'Spearman.Correlations'!R53,0)","v":-0.0582550247362797},{"$f":"IF(NRRs!S53<$B$66,'Spearman.Correlations'!S53,0)","v":0},{"$f":"IF(NRRs!T53<$B$66,'Spearman.Correlations'!T53,0)","v":0},{"$f":"IF(NRRs!U53<$B$66,'Spearman.Correlations'!U53,0)","v":0},{"$f":"IF(NRRs!V53<$B$66,'Spearman.Correlations'!V53,0)","v":0},{"$f":"IF(NRRs!W53<$B$66,'Spearman.Correlations'!W53,0)","v":0},{"$f":"IF(NRRs!X53<$B$66,'Spearman.Correlations'!X53,0)","v":0},{"$f":"IF(NRRs!Y53<$B$66,'Spearman.Correlations'!Y53,0)","v":0},{"$f":"IF(NRRs!Z53<$B$66,'Spearman.Correlations'!Z53,0)","v":-0.0337554099885458},{"$f":"IF(NRRs!AA53<$B$66,'Spearman.Correlations'!AA53,0)","v":0},{"$f":"IF(NRRs!AB53<$B$66,'Spearman.Correlations'!AB53,0)","v":0},{"$f":"IF(NRRs!AC53<$B$66,'Spearman.Correlations'!AC53,0)","v":0},{"$f":"IF(NRRs!AD53<$B$66,'Spearman.Correlations'!AD53,0)","v":0},{"$f":"IF(NRRs!AE53<$B$66,'Spearman.Correlations'!AE53,0)","v":0},{"$f":"IF(NRRs!AF53<$B$66,'Spearman.Correlations'!AF53,0)","v":0},{"$f":"IF(NRRs!AG53<$B$66,'Spearman.Correlations'!AG53,0)","v":0},{"$f":"IF(NRRs!AH53<$B$66,'Spearman.Correlations'!AH53,0)","v":0},{"$f":"IF(NRRs!AI53<$B$66,'Spearman.Correlations'!AI53,0)","v":0},{"$f":"IF(NRRs!AJ53<$B$66,'Spearman.Correlations'!AJ53,0)","v":0},{"$f":"IF(NRRs!AK53<$B$66,'Spearman.Correlations'!AK53,0)","v":0},{"$f":"IF(NRRs!AL53<$B$66,'Spearman.Correlations'!AL53,0)","v":0},{"$f":"IF(NRRs!AM53<$B$66,'Spearman.Correlations'!AM53,0)","v":0},{"$f":"IF(NRRs!AN53<$B$66,'Spearman.Correlations'!AN53,0)","v":0},{"$f":"IF(NRRs!AO53<$B$66,'Spearman.Correlations'!AO53,0)","v":0},{"$f":"IF(NRRs!AP53<$B$66,'Spearman.Correlations'!AP53,0)","v":0},{"$f":"IF(NRRs!AQ53<$B$66,'Spearman.Correlations'!AQ53,0)","v":0},{"$f":"IF(NRRs!AR53<$B$66,'Spearman.Correlations'!AR53,0)","v":0},{"$f":"IF(NRRs!AS53<$B$66,'Spearman.Correlations'!AS53,0)","v":0},{"$f":"IF(NRRs!AT53<$B$66,'Spearman.Correlations'!AT53,0)","v":0},{"$f":"IF(NRRs!AU53<$B$66,'Spearman.Correlations'!AU53,0)","v":0},{"$f":"IF(NRRs!AV53<$B$66,'Spearman.Correlations'!AV53,0)","v":0.177626761450748},{"$f":"IF(NRRs!AW53<$B$66,'Spearman.Correlations'!AW53,0)","v":0.182780495384426},{"$f":"IF(NRRs!AX53<$B$66,'Spearman.Correlations'!AX53,0)","v":0.764406141504808},{"$f":"IF(NRRs!AY53<$B$66,'Spearman.Correlations'!AY53,0)","v":0.283137224086587},{"$f":"IF(NRRs!AZ53<$B$66,'Spearman.Correlations'!AZ53,0)","v":0.178363018005463},{"$f":"IF(NRRs!BA53<$B$66,'Spearman.Correlations'!BA53,0)","v":0},{"$f":"IF(NRRs!BB53<$B$66,'Spearman.Correlations'!BB53,0)","v":0.414131482823549},{"$f":"IF(NRRs!BC53<$B$66,'Spearman.Correlations'!BC53,0)","v":0.549855612050851},{"$f":"IF(NRRs!BD53<$B$66,'Spearman.Correlations'!BD53,0)","v":0.705185762803661},{"$f":"IF(NRRs!BE53<$B$66,'Spearman.Correlations'!BE53,0)","v":0},{"$f":"IF(NRRs!BF53<$B$66,'Spearman.Correlations'!BF53,0)","v":0},{"$f":"IF(NRRs!BG53<$B$66,'Spearman.Correlations'!BG53,0)","v":0.345333392258924},{"$f":"IF(NRRs!BH53<$B$66,'Spearman.Correlations'!BH53,0)","v":0}]
["Inflammation",{"$f":"IF(NRRs!B54<$B$66,'Spearman.Correlations'!B54,0)","v":0},{"$f":"IF(NRRs!C54<$B$66,'Spearman.Correlations'!C54,0)","v":0},{"$f":"IF(NRRs!D54<$B$66,'Spearman.Correlations'!D54,0)","v":0},{"$f":"IF(NRRs!E54<$B$66,'Spearman.Correlations'!E54,0)","v":-0.083492071202391},{"$f":"IF(NRRs!F54<$B$66,'Spearman.Correlations'!F54,0)","v":0},{"$f":"IF(NRRs!G54<$B$66,'Spearman.Correlations'!G54,0)","v":-0.0604554226103109},{"$f":"IF(NRRs!H54<$B$66,'Spearman.Correlations'!H54,0)","v":0},{"$f":"IF(NRRs!I54<$B$66,'Spearman.Correlations'!I54,0)","v":0},{"$f":"IF(NRRs!J54<$B$66,'Spearman.Correlations'!J54,0)","v":0},{"$f":"IF(NRRs!K54<$B$66,'Spearman.Correlations'!K54,0)","v":0},{"$f":"IF(NRRs!L54<$B$66,'Spearman.Correlations'!L54,0)","v":0},{"$f":"IF(NRRs!M54<$B$66,'Spearman.Correlations'!M54,0)","v":0},{"$f":"IF(NRRs!N54<$B$66,'Spearman.Correlations'!N54,0)","v":0},{"$f":"IF(NRRs!O54<$B$66,'Spearman.Correlations'!O54,0)","v":0},{"$f":"IF(NRRs!P54<$B$66,'Spearman.Correlations'!P54,0)","v":0},{"$f":"IF(NRRs!Q54<$B$66,'Spearman.Correlations'!Q54,0)","v":0},{"$f":"IF(NRRs!R54<$B$66,'Spearman.Correlations'!R54,0)","v":0},{"$f":"IF(NRRs!S54<$B$66,'Spearman.Correlations'!S54,0)","v":0},{"$f":"IF(NRRs!T54<$B$66,'Spearman.Correlations'!T54,0)","v":0},{"$f":"IF(NRRs!U54<$B$66,'Spearman.Correlations'!U54,0)","v":0},{"$f":"IF(NRRs!V54<$B$66,'Spearman.Correlations'!V54,0)","v":0},{"$f":"IF(NRRs!W54<$B$66,'Spearman.Correlations'!W54,0)","v":0},{"$f":"IF(NRRs!X54<$B$66,'Spearman.Correlations'!X54,0)","v":0},{"$f":"IF(NRRs!Y54<$B$66,'Spearman.Correlations'!Y54,0)","v":0},{"$f":"IF(NRRs!Z54<$B$66,'Spearman.Correlations'!Z54,0)","v":0},{"$f":"IF(NRRs!AA54<$B$66,'Spearman.Correlations'!AA54,0)","v":0},{"$f":"IF(NRRs!AB54<$B$66,'Spearman.Correlations'!AB54,0)","v":0},{"$f":"IF(NRRs!AC54<$B$66,'Spearman.Correlations'!AC54,0)","v":0},{"$f":"IF(NRRs!AD54<$B$66,'Spearman.Correlations'!AD54,0)","v":0},{"$f":"IF(NRRs!AE54<$B$66,'Spearman.Correlations'!AE54,0)","v":0},{"$f":"IF(NRRs!AF54<$B$66,'Spearman.Correlations'!AF54,0)","v":0},{"$f":"IF(NRRs!AG54<$B$66,'Spearman.Correlations'!AG54,0)","v":0},{"$f":"IF(NRRs!AH54<$B$66,'Spearman.Correlations'!AH54,0)","v":0},{"$f":"IF(NRRs!AI54<$B$66,'Spearman.Correlations'!AI54,0)","v":0},{"$f":"IF(NRRs!AJ54<$B$66,'Spearman.Correlations'!AJ54,0)","v":0},{"$f":"IF(NRRs!AK54<$B$66,'Spearman.Correlations'!AK54,0)","v":0},{"$f":"IF(NRRs!AL54<$B$66,'Spearman.Correlations'!AL54,0)","v":0},{"$f":"IF(NRRs!AM54<$B$66,'Spearman.Correlations'!AM54,0)","v":0},{"$f":"IF(NRRs!AN54<$B$66,'Spearman.Correlations'!AN54,0)","v":0},{"$f":"IF(NRRs!AO54<$B$66,'Spearman.Correlations'!AO54,0)","v":0},{"$f":"IF(NRRs!AP54<$B$66,'Spearman.Correlations'!AP54,0)","v":0},{"$f":"IF(NRRs!AQ54<$B$66,'Spearman.Correlations'!AQ54,0)","v":0},{"$f":"IF(NRRs!AR54<$B$66,'Spearman.Correlations'!AR54,0)","v":0},{"$f":"IF(NRRs!AS54<$B$66,'Spearman.Correlations'!AS54,0)","v":0},{"$f":"IF(NRRs!AT54<$B$66,'Spearman.Correlations'!AT54,0)","v":0},{"$f":"IF(NRRs!AU54<$B$66,'Spearman.Correlations'!AU54,0)","v":0},{"$f":"IF(NRRs!AV54<$B$66,'Spearman.Correlations'!AV54,0)","v":0},{"$f":"IF(NRRs!AW54<$B$66,'Spearman.Correlations'!AW54,0)","v":0},{"$f":"IF(NRRs!AX54<$B$66,'Spearman.Correlations'!AX54,0)","v":0.339439526820953},{"$f":"IF(NRRs!AY54<$B$66,'Spearman.Correlations'!AY54,0)","v":0},{"$f":"IF(NRRs!AZ54<$B$66,'Spearman.Correlations'!AZ54,0)","v":0.301873184307355},{"$f":"IF(NRRs!BA54<$B$66,'Spearman.Correlations'!BA54,0)","v":0.414131482823549},{"$f":"IF(NRRs!BB54<$B$66,'Spearman.Correlations'!BB54,0)","v":0},{"$f":"IF(NRRs!BC54<$B$66,'Spearman.Correlations'!BC54,0)","v":0.383075224491526},{"$f":"IF(NRRs!BD54<$B$66,'Spearman.Correlations'!BD54,0)","v":0.750636183383208},{"$f":"IF(NRRs!BE54<$B$66,'Spearman.Correlations'!BE54,0)","v":0},{"$f":"IF(NRRs!BF54<$B$66,'Spearman.Correlations'!BF54,0)","v":0.273959105538007},{"$f":"IF(NRRs!BG54<$B$66,'Spearman.Correlations'!BG54,0)","v":0.364265742062086},{"$f":"IF(NRRs!BH54<$B$66,'Spearman.Correlations'!BH54,0)","v":0}]
["Fibrosis",{"$f":"IF(NRRs!B55<$B$66,'Spearman.Correlations'!B55,0)","v":0},{"$f":"IF(NRRs!C55<$B$66,'Spearman.Correlations'!C55,0)","v":0},{"$f":"IF(NRRs!D55<$B$66,'Spearman.Correlations'!D55,0)","v":0},{"$f":"IF(NRRs!E55<$B$66,'Spearman.Correlations'!E55,0)","v":-0.193134126506306},{"$f":"IF(NRRs!F55<$B$66,'Spearman.Correlations'!F55,0)","v":0},{"$f":"IF(NRRs!G55<$B$66,'Spearman.Correlations'!G55,0)","v":-0.117588077328861},{"$f":"IF(NRRs!H55<$B$66,'Spearman.Correlations'!H55,0)","v":0},{"$f":"IF(NRRs!I55<$B$66,'Spearman.Correlations'!I55,0)","v":-0.0867998642826168},{"$f":"IF(NRRs!J55<$B$66,'Spearman.Correlations'!J55,0)","v":0},{"$f":"IF(NRRs!K55<$B$66,'Spearman.Correlations'!K55,0)","v":0},{"$f":"IF(NRRs!L55<$B$66,'Spearman.Correlations'!L55,0)","v":0},{"$f":"IF(NRRs!M55<$B$66,'Spearman.Correlations'!M55,0)","v":0.196191411655242},{"$f":"IF(NRRs!N55<$B$66,'Spearman.Correlations'!N55,0)","v":0},{"$f":"IF(NRRs!O55<$B$66,'Spearman.Correlations'!O55,0)","v":0},{"$f":"IF(NRRs!P55<$B$66,'Spearman.Correlations'!P55,0)","v":0},{"$f":"IF(NRRs!Q55<$B$66,'Spearman.Correlations'!Q55,0)","v":0},{"$f":"IF(NRRs!R55<$B$66,'Spearman.Correlations'!R55,0)","v":0},{"$f":"IF(NRRs!S55<$B$66,'Spearman.Correlations'!S55,0)","v":0},{"$f":"IF(NRRs!T55<$B$66,'Spearman.Correlations'!T55,0)","v":0},{"$f":"IF(NRRs!U55<$B$66,'Spearman.Correlations'!U55,0)","v":0},{"$f":"IF(NRRs!V55<$B$66,'Spearman.Correlations'!V55,0)","v":0},{"$f":"IF(NRRs!W55<$B$66,'Spearman.Correlations'!W55,0)","v":0},{"$f":"IF(NRRs!X55<$B$66,'Spearman.Correlations'!X55,0)","v":0},{"$f":"IF(NRRs!Y55<$B$66,'Spearman.Correlations'!Y55,0)","v":0},{"$f":"IF(NRRs!Z55<$B$66,'Spearman.Correlations'!Z55,0)","v":-0.0989597446910559},{"$f":"IF(NRRs!AA55<$B$66,'Spearman.Correlations'!AA55,0)","v":0},{"$f":"IF(NRRs!AB55<$B$66,'Spearman.Correlations'!AB55,0)","v":0},{"$f":"IF(NRRs!AC55<$B$66,'Spearman.Correlations'!AC55,0)","v":0},{"$f":"IF(NRRs!AD55<$B$66,'Spearman.Correlations'!AD55,0)","v":0},{"$f":"IF(NRRs!AE55<$B$66,'Spearman.Correlations'!AE55,0)","v":0},{"$f":"IF(NRRs!AF55<$B$66,'Spearman.Correlations'!AF55,0)","v":0},{"$f":"IF(NRRs!AG55<$B$66,'Spearman.Correlations'!AG55,0)","v":0},{"$f":"IF(NRRs!AH55<$B$66,'Spearman.Correlations'!AH55,0)","v":0},{"$f":"IF(NRRs!AI55<$B$66,'Spearman.Correlations'!AI55,0)","v":0},{"$f":"IF(NRRs!AJ55<$B$66,'Spearman.Correlations'!AJ55,0)","v":0},{"$f":"IF(NRRs!AK55<$B$66,'Spearman.Correlations'!AK55,0)","v":0},{"$f":"IF(NRRs!AL55<$B$66,'Spearman.Correlations'!AL55,0)","v":0},{"$f":"IF(NRRs!AM55<$B$66,'Spearman.Correlations'!AM55,0)","v":0},{"$f":"IF(NRRs!AN55<$B$66,'Spearman.Correlations'!AN55,0)","v":0},{"$f":"IF(NRRs!AO55<$B$66,'Spearman.Correlations'!AO55,0)","v":0},{"$f":"IF(NRRs!AP55<$B$66,'Spearman.Correlations'!AP55,0)","v":0},{"$f":"IF(NRRs!AQ55<$B$66,'Spearman.Correlations'!AQ55,0)","v":0},{"$f":"IF(NRRs!AR55<$B$66,'Spearman.Correlations'!AR55,0)","v":0},{"$f":"IF(NRRs!AS55<$B$66,'Spearman.Correlations'!AS55,0)","v":0},{"$f":"IF(NRRs!AT55<$B$66,'Spearman.Correlations'!AT55,0)","v":0},{"$f":"IF(NRRs!AU55<$B$66,'Spearman.Correlations'!AU55,0)","v":0},{"$f":"IF(NRRs!AV55<$B$66,'Spearman.Correlations'!AV55,0)","v":0.313157789275796},{"$f":"IF(NRRs!AW55<$B$66,'Spearman.Correlations'!AW55,0)","v":0.337968110733046},{"$f":"IF(NRRs!AX55<$B$66,'Spearman.Correlations'!AX55,0)","v":0.564276185178755},{"$f":"IF(NRRs!AY55<$B$66,'Spearman.Correlations'!AY55,0)","v":0.36919865107484},{"$f":"IF(NRRs!AZ55<$B$66,'Spearman.Correlations'!AZ55,0)","v":0.131536189381492},{"$f":"IF(NRRs!BA55<$B$66,'Spearman.Correlations'!BA55,0)","v":0.549855612050851},{"$f":"IF(NRRs!BB55<$B$66,'Spearman.Correlations'!BB55,0)","v":0.383075224491526},{"$f":"IF(NRRs!BC55<$B$66,'Spearman.Correlations'!BC55,0)","v":0},{"$f":"IF(NRRs!BD55<$B$66,'Spearman.Correlations'!BD55,0)","v":0.480050973166405},{"$f":"IF(NRRs!BE55<$B$66,'Spearman.Correlations'!BE55,0)","v":-0.183737627722702},{"$f":"IF(NRRs!BF55<$B$66,'Spearman.Correlations'!BF55,0)","v":0},{"$f":"IF(NRRs!BG55<$B$66,'Spearman.Correlations'!BG55,0)","v":0.379146951780568},{"$f":"IF(NRRs!BH55<$B$66,'Spearman.Correlations'!BH55,0)","v":0.245810486866802}]
["NAS",{"$f":"IF(NRRs!B56<$B$66,'Spearman.Correlations'!B56,0)","v":0},{"$f":"IF(NRRs!C56<$B$66,'Spearman.Correlations'!C56,0)","v":0},{"$f":"IF(NRRs!D56<$B$66,'Spearman.Correlations'!D56,0)","v":0},{"$f":"IF(NRRs!E56<$B$66,'Spearman.Correlations'!E56,0)","v":-0.160642734597934},{"$f":"IF(NRRs!F56<$B$66,'Spearman.Correlations'!F56,0)","v":0},{"$f":"IF(NRRs!G56<$B$66,'Spearman.Correlations'!G56,0)","v":-0.0769566765104882},{"$f":"IF(NRRs!H56<$B$66,'Spearman.Correlations'!H56,0)","v":0},{"$f":"IF(NRRs!I56<$B$66,'Spearman.Correlations'!I56,0)","v":0},{"$f":"IF(NRRs!J56<$B$66,'Spearman.Correlations'!J56,0)","v":0},{"$f":"IF(NRRs!K56<$B$66,'Spearman.Correlations'!K56,0)","v":0},{"$f":"IF(NRRs!L56<$B$66,'Spearman.Correlations'!L56,0)","v":0},{"$f":"IF(NRRs!M56<$B$66,'Spearman.Correlations'!M56,0)","v":0},{"$f":"IF(NRRs!N56<$B$66,'Spearman.Correlations'!N56,0)","v":0},{"$f":"IF(NRRs!O56<$B$66,'Spearman.Correlations'!O56,0)","v":0},{"$f":"IF(NRRs!P56<$B$66,'Spearman.Correlations'!P56,0)","v":0},{"$f":"IF(NRRs!Q56<$B$66,'Spearman.Correlations'!Q56,0)","v":-0.113627749335172},{"$f":"IF(NRRs!R56<$B$66,'Spearman.Correlations'!R56,0)","v":0},{"$f":"IF(NRRs!S56<$B$66,'Spearman.Correlations'!S56,0)","v":0},{"$f":"IF(NRRs!T56<$B$66,'Spearman.Correlations'!T56,0)","v":0},{"$f":"IF(NRRs!U56<$B$66,'Spearman.Correlations'!U56,0)","v":0},{"$f":"IF(NRRs!V56<$B$66,'Spearman.Correlations'!V56,0)","v":0},{"$f":"IF(NRRs!W56<$B$66,'Spearman.Correlations'!W56,0)","v":0},{"$f":"IF(NRRs!X56<$B$66,'Spearman.Correlations'!X56,0)","v":0},{"$f":"IF(NRRs!Y56<$B$66,'Spearman.Correlations'!Y56,0)","v":0},{"$f":"IF(NRRs!Z56<$B$66,'Spearman.Correlations'!Z56,0)","v":0},{"$f":"IF(NRRs!AA56<$B$66,'Spearman.Correlations'!AA56,0)","v":0},{"$f":"IF(NRRs!AB56<$B$66,'Spearman.Correlations'!AB56,0)","v":0},{"$f":"IF(NRRs!AC56<$B$66,'Spearman.Correlations'!AC56,0)","v":0},{"$f":"IF(NRRs!AD56<$B$66,'Spearman.Correlations'!AD56,0)","v":0},{"$f":"IF(NRRs!AE56<$B$66,'Spearman.Correlations'!AE56,0)","v":0},{"$f":"IF(NRRs!AF56<$B$66,'Spearman.Correlations'!AF56,0)","v":0},{"$f":"IF(NRRs!AG56<$B$66,'Spearman.Correlations'!AG56,0)","v":0},{"$f":"IF(NRRs!AH56<$B$66,'Spearman.Correlations'!AH56,0)","v":0},{"$f":"IF(NRRs!AI56<$B$66,'Spearman.Correlations'!AI56,0)","v":0},{"$f":"IF(NRRs!AJ56<$B$66,'Spearman.Correlations'!AJ56,0)","v":0},{"$f":"IF(NRRs!AK56<$B$66,'Spearman.Correlations'!AK56,0)","v":0},{"$f":"IF(NRRs!AL56<$B$66,'Spearman.Correlations'!AL56,0)","v":0},{"$f":"IF(NRRs!AM56<$B$66,'Spearman.Correlations'!AM56,0)","v":0},{"$f":"IF(NRRs!AN56<$B$66,'Spearman.Correlations'!AN56,0)","v":0},{"$f":"IF(NRRs!AO56<$B$66,'Spearman.Correlations'!AO56,0)","v":0},{"$f":"IF(NRRs!AP56<$B$66,'Spearman.Correlations'!AP56,0)","v":0},{"$f":"IF(NRRs!AQ56<$B$66,'Spearman.Correlations'!AQ56,0)","v":0},{"$f":"IF(NRRs!AR56<$B$66,'Spearman.Correlations'!AR56,0)","v":0},{"$f":"IF(NRRs!AS56<$B$66,'Spearman.Correlations'!AS56,0)","v":0},{"$f":"IF(NRRs!AT56<$B$66,'Spearman.Correlations'!AT56,0)","v":0},{"$f":"IF(NRRs!AU56<$B$66,'Spearman.Correlations'!AU56,0)","v":0},{"$f":"IF(NRRs!AV56<$B$66,'Spearman.Correlations'!AV56,0)","v":0},{"$f":"IF(NRRs!AW56<$B$66,'Spearman.Correlations'!AW56,0)","v":0},{"$f":"IF(NRRs!AX56<$B$66,'Spearman.Correlations'!AX56,0)","v":0.585779343644006},{"$f":"IF(NRRs!AY56<$B$66,'Spearman.Correlations'!AY56,0)","v":0.201574554070663},{"$f":"IF(NRRs!AZ56<$B$66,'Spearman.Correlations'!AZ56,0)","v":0.687804101406353},{"$f":"IF(NRRs!BA56<$B$66,'Spearman.Correlations'!BA56,0)","v":0.705185762803661},{"$f":"IF(NRRs!BB56<$B$66,'Spearman.Correlations'!BB56,0)","v":0.750636183383208},{"$f":"IF(NRRs!BC56<$B$66,'Spearman.Correlations'!BC56,0)","v":0.480050973166405},{"$f":"IF(NRRs!BD56<$B$66,'Spearman.Correlations'!BD56,0)","v":0},{"$f":"IF(NRRs!BE56<$B$66,'Spearman.Correlations'!BE56,0)","v":0},{"$f":"IF(NRRs!BF56<$B$66,'Spearman.Correlations'!BF56,0)","v":0.330249889503055},{"$f":"IF(NRRs!BG56<$B$66,'Spearman.Correlations'!BG56,0)","v":0.452216147364359},{"$f":"IF(NRRs!BH56<$B$66,'Spearman.Correlations'!BH56,0)","v":0}]
["Platelets",{"$f":"IF(NRRs!B57<$B$66,'Spearman.Correlations'!B57,0)","v":0},{"$f":"IF(NRRs!C57<$B$66,'Spearman.Correlations'!C57,0)","v":0},{"$f":"IF(NRRs!D57<$B$66,'Spearman.Correlations'!D57,0)","v":0},{"$f":"IF(NRRs!E57<$B$66,'Spearman.Correlations'!E57,0)","v":0},{"$f":"IF(NRRs!F57<$B$66,'Spearman.Correlations'!F57,0)","v":0},{"$f":"IF(NRRs!G57<$B$66,'Spearman.Correlations'!G57,0)","v":0},{"$f":"IF(NRRs!H57<$B$66,'Spearman.Correlations'!H57,0)","v":0},{"$f":"IF(NRRs!I57<$B$66,'Spearman.Correlations'!I57,0)","v":0.198990086657604},{"$f":"IF(NRRs!J57<$B$66,'Spearman.Correlations'!J57,0)","v":0},{"$f":"IF(NRRs!K57<$B$66,'Spearman.Correlations'!K57,0)","v":0},{"$f":"IF(NRRs!L57<$B$66,'Spearman.Correlations'!L57,0)","v":0},{"$f":"IF(NRRs!M57<$B$66,'Spearman.Correlations'!M57,0)","v":0},{"$f":"IF(NRRs!N57<$B$66,'Spearman.Correlations'!N57,0)","v":0},{"$f":"IF(NRRs!O57<$B$66,'Spearman.Correlations'!O57,0)","v":0},{"$f":"IF(NRRs!P57<$B$66,'Spearman.Correlations'!P57,0)","v":0},{"$f":"IF(NRRs!Q57<$B$66,'Spearman.Correlations'!Q57,0)","v":0},{"$f":"IF(NRRs!R57<$B$66,'Spearman.Correlations'!R57,0)","v":0},{"$f":"IF(NRRs!S57<$B$66,'Spearman.Correlations'!S57,0)","v":0.140404733246501},{"$f":"IF(NRRs!T57<$B$66,'Spearman.Correlations'!T57,0)","v":-0.153441051175877},{"$f":"IF(NRRs!U57<$B$66,'Spearman.Correlations'!U57,0)","v":0},{"$f":"IF(NRRs!V57<$B$66,'Spearman.Correlations'!V57,0)","v":0},{"$f":"IF(NRRs!W57<$B$66,'Spearman.Correlations'!W57,0)","v":0},{"$f":"IF(NRRs!X57<$B$66,'Spearman.Correlations'!X57,0)","v":0},{"$f":"IF(NRRs!Y57<$B$66,'Spearman.Correlations'!Y57,0)","v":0},{"$f":"IF(NRRs!Z57<$B$66,'Spearman.Correlations'!Z57,0)","v":0},{"$f":"IF(NRRs!AA57<$B$66,'Spearman.Correlations'!AA57,0)","v":0},{"$f":"IF(NRRs!AB57<$B$66,'Spearman.Correlations'!AB57,0)","v":0},{"$f":"IF(NRRs!AC57<$B$66,'Spearman.Correlations'!AC57,0)","v":0},{"$f":"IF(NRRs!AD57<$B$66,'Spearman.Correlations'!AD57,0)","v":0},{"$f":"IF(NRRs!AE57<$B$66,'Spearman.Correlations'!AE57,0)","v":0},{"$f":"IF(NRRs!AF57<$B$66,'Spearman.Correlations'!AF57,0)","v":0},{"$f":"IF(NRRs!AG57<$B$66,'Spearman.Correlations'!AG57,0)","v":0},{"$f":"IF(NRRs!AH57<$B$66,'Spearman.Correlations'!AH57,0)","v":0},{"$f":"IF(NRRs!AI57<$B$66,'Spearman.Correlations'!AI57,0)","v":0},{"$f":"IF(NRRs!AJ57<$B$66,'Spearman.Correlations'!AJ57,0)","v":-0.194947996246471},{"$f":"IF(NRRs!AK57<$B$66,'Spearman.Correlations'!AK57,0)","v":0},{"$f":"IF(NRRs!AL57<$B$66,'Spearman.Correlations'!AL57,0)","v":0},{"$f":"IF(NRRs!AM57<$B$66,'Spearman.Correlations'!AM57,0)","v":0},{"$f":"IF(NRRs!AN57<$B$66,'Spearman.Correlations'!AN57,0)","v":0},{"$f":"IF(NRRs!AO57<$B$66,'Spearman.Correlations'!AO57,0)","v":0},{"$f":"IF(NRRs!AP57<$B$66,'Spearman.Correlations'!AP57,0)","v":0},{"$f":"IF(NRRs!AQ57<$B$66,'Spearman.Correlations'!AQ57,0)","v":0},{"$f":"IF(NRRs!AR57<$B$66,'Spearman.Correlations'!AR57,0)","v":0},{"$f":"IF(NRRs!AS57<$B$66,'Spearman.Correlations'!AS57,0)","v":0},{"$f":"IF(NRRs!AT57<$B$66,'Spearman.Correlations'!AT57,0)","v":0},{"$f":"IF(NRRs!AU57<$B$66,'Spearman.Correlations'!AU57,0)","v":-0.252485575090203},{"$f":"IF(NRRs!AV57<$B$66,'Spearman.Correlations'!AV57,0)","v":-0.27955038163487},{"$f":"IF(NRRs!AW57<$B$66,'Spearman.Correlations'!AW57,0)","v":0},{"$f":"IF(NRRs!AX57<$B$66,'Spearman.Correlations'!AX57,0)","v":0},{"$f":"IF(NRRs!AY57<$B$66,'Spearman.Correlations'!AY57,0)","v":0},{"$f":"IF(NRRs!AZ57<$B$66,'Spearman.Correlations'!AZ57,0)","v":0},{"$f":"IF(NRRs!BA57<$B$66,'Spearman.Correlations'!BA57,0)","v":0},{"$f":"IF(NRRs!BB57<$B$66,'Spearman.Correlations'!BB57,0)","v":0},{"$f":"IF(NRRs!BC57<$B$66,'Spearman.Correlations'!BC57,0)","v":-0.183737627722702},{"$f":"IF(NRRs!BD57<$B$66,'Spearman.Correlations'!BD57,0)","v":0},{"$f":"IF(NRRs!BE57<$B$66,'Spearman.Correlations'!BE57,0)","v":0},{"$f":"IF(NRRs!BF57<$B$66,'Spearman.Correlations'!BF57,0)","v":0},{"$f":"IF(NRRs!BG57<$B$66,'Spearman.Correlations'!BG57,0)","v":0},{"$f":"IF(NRRs!BH57<$B$66,'Spearman.Correlations'!BH57,0)","v":0}]
["ALT",{"$f":"IF(NRRs!B58<$B$66,'Spearman.Correlations'!B58,0)","v":0},{"$f":"IF(NRRs!C58<$B$66,'Spearman.Correlations'!C58,0)","v":0},{"$f":"IF(NRRs!D58<$B$66,'Spearman.Correlations'!D58,0)","v":0},{"$f":"IF(NRRs!E58<$B$66,'Spearman.Correlations'!E58,0)","v":0},{"$f":"IF(NRRs!F58<$B$66,'Spearman.Correlations'!F58,0)","v":0},{"$f":"IF(NRRs!G58<$B$66,'Spearman.Correlations'!G58,0)","v":0},{"$f":"IF(NRRs!H58<$B$66,'Spearman.Correlations'!H58,0)","v":0},{"$f":"IF(NRRs!I58<$B$66,'Spearman.Correlations'!I58,0)","v":0},{"$f":"IF(NRRs!J58<$B$66,'Spearman.Correlations'!J58,0)","v":0},{"$f":"IF(NRRs!K58<$B$66,'Spearman.Correlations'!K58,0)","v":0},{"$f":"IF(NRRs!L58<$B$66,'Spearman.Correlations'!L58,0)","v":0},{"$f":"IF(NRRs!M58<$B$66,'Spearman.Correlations'!M58,0)","v":0},{"$f":"IF(NRRs!N58<$B$66,'Spearman.Correlations'!N58,0)","v":0},{"$f":"IF(NRRs!O58<$B$66,'Spearman.Correlations'!O58,0)","v":0},{"$f":"IF(NRRs!P58<$B$66,'Spearman.Correlations'!P58,0)","v":0},{"$f":"IF(NRRs!Q58<$B$66,'Spearman.Correlations'!Q58,0)","v":0},{"$f":"IF(NRRs!R58<$B$66,'Spearman.Correlations'!R58,0)","v":0},{"$f":"IF(NRRs!S58<$B$66,'Spearman.Correlations'!S58,0)","v":0},{"$f":"IF(NRRs!T58<$B$66,'Spearman.Correlations'!T58,0)","v":0},{"$f":"IF(NRRs!U58<$B$66,'Spearman.Correlations'!U58,0)","v":0},{"$f":"IF(NRRs!V58<$B$66,'Spearman.Correlations'!V58,0)","v":0},{"$f":"IF(NRRs!W58<$B$66,'Spearman.Correlations'!W58,0)","v":0},{"$f":"IF(NRRs!X58<$B$66,'Spearman.Correlations'!X58,0)","v":0.193971098814907},{"$f":"IF(NRRs!Y58<$B$66,'Spearman.Correlations'!Y58,0)","v":0},{"$f":"IF(NRRs!Z58<$B$66,'Spearman.Correlations'!Z58,0)","v":0},{"$f":"IF(NRRs!AA58<$B$66,'Spearman.Correlations'!AA58,0)","v":0},{"$f":"IF(NRRs!AB58<$B$66,'Spearman.Correlations'!AB58,0)","v":0},{"$f":"IF(NRRs!AC58<$B$66,'Spearman.Correlations'!AC58,0)","v":0},{"$f":"IF(NRRs!AD58<$B$66,'Spearman.Correlations'!AD58,0)","v":0},{"$f":"IF(NRRs!AE58<$B$66,'Spearman.Correlations'!AE58,0)","v":-0.135507332512734},{"$f":"IF(NRRs!AF58<$B$66,'Spearman.Correlations'!AF58,0)","v":0},{"$f":"IF(NRRs!AG58<$B$66,'Spearman.Correlations'!AG58,0)","v":0},{"$f":"IF(NRRs!AH58<$B$66,'Spearman.Correlations'!AH58,0)","v":0},{"$f":"IF(NRRs!AI58<$B$66,'Spearman.Correlations'!AI58,0)","v":0},{"$f":"IF(NRRs!AJ58<$B$66,'Spearman.Correlations'!AJ58,0)","v":0},{"$f":"IF(NRRs!AK58<$B$66,'Spearman.Correlations'!AK58,0)","v":0},{"$f":"IF(NRRs!AL58<$B$66,'Spearman.Correlations'!AL58,0)","v":0},{"$f":"IF(NRRs!AM58<$B$66,'Spearman.Correlations'!AM58,0)","v":0},{"$f":"IF(NRRs!AN58<$B$66,'Spearman.Correlations'!AN58,0)","v":0},{"$f":"IF(NRRs!AO58<$B$66,'Spearman.Correlations'!AO58,0)","v":0},{"$f":"IF(NRRs!AP58<$B$66,'Spearman.Correlations'!AP58,0)","v":0},{"$f":"IF(NRRs!AQ58<$B$66,'Spearman.Correlations'!AQ58,0)","v":0.183961513886716},{"$f":"IF(NRRs!AR58<$B$66,'Spearman.Correlations'!AR58,0)","v":0},{"$f":"IF(NRRs!AS58<$B$66,'Spearman.Correlations'!AS58,0)","v":0},{"$f":"IF(NRRs!AT58<$B$66,'Spearman.Correlations'!AT58,0)","v":0},{"$f":"IF(NRRs!AU58<$B$66,'Spearman.Correlations'!AU58,0)","v":0.178891519246892},{"$f":"IF(NRRs!AV58<$B$66,'Spearman.Correlations'!AV58,0)","v":-0.280167650451159},{"$f":"IF(NRRs!AW58<$B$66,'Spearman.Correlations'!AW58,0)","v":0},{"$f":"IF(NRRs!AX58<$B$66,'Spearman.Correlations'!AX58,0)","v":0},{"$f":"IF(NRRs!AY58<$B$66,'Spearman.Correlations'!AY58,0)","v":0},{"$f":"IF(NRRs!AZ58<$B$66,'Spearman.Correlations'!AZ58,0)","v":0.315182775532192},{"$f":"IF(NRRs!BA58<$B$66,'Spearman.Correlations'!BA58,0)","v":0},{"$f":"IF(NRRs!BB58<$B$66,'Spearman.Correlations'!BB58,0)","v":0.273959105538007},{"$f":"IF(NRRs!BC58<$B$66,'Spearman.Correlations'!BC58,0)","v":0},{"$f":"IF(NRRs!BD58<$B$66,'Spearman.Correlations'!BD58,0)","v":0.330249889503055},{"$f":"IF(NRRs!BE58<$B$66,'Spearman.Correlations'!BE58,0)","v":0},{"$f":"IF(NRRs!BF58<$B$66,'Spearman.Correlations'!BF58,0)","v":0},{"$f":"IF(NRRs!BG58<$B$66,'Spearman.Correlations'!BG58,0)","v":0.729392477347165},{"$f":"IF(NRRs!BH58<$B$66,'Spearman.Correlations'!BH58,0)","v":-0.603502988091771}]
["AST",{"$f":"IF(NRRs!B59<$B$66,'Spearman.Correlations'!B59,0)","v":0},{"$f":"IF(NRRs!C59<$B$66,'Spearman.Correlations'!C59,0)","v":0},{"$f":"IF(NRRs!D59<$B$66,'Spearman.Correlations'!D59,0)","v":0},{"$f":"IF(NRRs!E59<$B$66,'Spearman.Correlations'!E59,0)","v":-0.0708096507800276},{"$f":"IF(NRRs!F59<$B$66,'Spearman.Correlations'!F59,0)","v":0},{"$f":"IF(NRRs!G59<$B$66,'Spearman.Correlations'!G59,0)","v":0},{"$f":"IF(NRRs!H59<$B$66,'Spearman.Correlations'!H59,0)","v":0},{"$f":"IF(NRRs!I59<$B$66,'Spearman.Correlations'!I59,0)","v":0},{"$f":"IF(NRRs!J59<$B$66,'Spearman.Correlations'!J59,0)","v":0},{"$f":"IF(NRRs!K59<$B$66,'Spearman.Correlations'!K59,0)","v":0},{"$f":"IF(NRRs!L59<$B$66,'Spearman.Correlations'!L59,0)","v":0},{"$f":"IF(NRRs!M59<$B$66,'Spearman.Correlations'!M59,0)","v":0},{"$f":"IF(NRRs!N59<$B$66,'Spearman.Correlations'!N59,0)","v":0},{"$f":"IF(NRRs!O59<$B$66,'Spearman.Correlations'!O59,0)","v":0},{"$f":"IF(NRRs!P59<$B$66,'Spearman.Correlations'!P59,0)","v":0},{"$f":"IF(NRRs!Q59<$B$66,'Spearman.Correlations'!Q59,0)","v":-0.0837195115037809},{"$f":"IF(NRRs!R59<$B$66,'Spearman.Correlations'!R59,0)","v":0},{"$f":"IF(NRRs!S59<$B$66,'Spearman.Correlations'!S59,0)","v":0},{"$f":"IF(NRRs!T59<$B$66,'Spearman.Correlations'!T59,0)","v":0},{"$f":"IF(NRRs!U59<$B$66,'Spearman.Correlations'!U59,0)","v":0},{"$f":"IF(NRRs!V59<$B$66,'Spearman.Correlations'!V59,0)","v":0},{"$f":"IF(NRRs!W59<$B$66,'Spearman.Correlations'!W59,0)","v":0},{"$f":"IF(NRRs!X59<$B$66,'Spearman.Correlations'!X59,0)","v":0},{"$f":"IF(NRRs!Y59<$B$66,'Spearman.Correlations'!Y59,0)","v":0},{"$f":"IF(NRRs!Z59<$B$66,'Spearman.Correlations'!Z59,0)","v":0},{"$f":"IF(NRRs!AA59<$B$66,'Spearman.Correlations'!AA59,0)","v":0},{"$f":"IF(NRRs!AB59<$B$66,'Spearman.Correlations'!AB59,0)","v":0},{"$f":"IF(NRRs!AC59<$B$66,'Spearman.Correlations'!AC59,0)","v":0},{"$f":"IF(NRRs!AD59<$B$66,'Spearman.Correlations'!AD59,0)","v":0},{"$f":"IF(NRRs!AE59<$B$66,'Spearman.Correlations'!AE59,0)","v":-0.116787127041983},{"$f":"IF(NRRs!AF59<$B$66,'Spearman.Correlations'!AF59,0)","v":0},{"$f":"IF(NRRs!AG59<$B$66,'Spearman.Correlations'!AG59,0)","v":0},{"$f":"IF(NRRs!AH59<$B$66,'Spearman.Correlations'!AH59,0)","v":0},{"$f":"IF(NRRs!AI59<$B$66,'Spearman.Correlations'!AI59,0)","v":0},{"$f":"IF(NRRs!AJ59<$B$66,'Spearman.Correlations'!AJ59,0)","v":0},{"$f":"IF(NRRs!AK59<$B$66,'Spearman.Correlations'!AK59,0)","v":0},{"$f":"IF(NRRs!AL59<$B$66,'Spearman.Correlations'!AL59,0)","v":0},{"$f":"IF(NRRs!AM59<$B$66,'Spearman.Correlations'!AM59,0)","v":0},{"$f":"IF(NRRs!AN59<$B$66,'Spearman.Correlations'!AN59,0)","v":0},{"$f":"IF(NRRs!AO59<$B$66,'Spearman.Correlations'!AO59,0)","v":0},{"$f":"IF(NRRs!AP59<$B$66,'Spearman.Correlations'!AP59,0)","v":0},{"$f":"IF(NRRs!AQ59<$B$66,'Spearman.Correlations'!AQ59,0)","v":0},{"$f":"IF(NRRs!AR59<$B$66,'Spearman.Correlations'!AR59,0)","v":0},{"$f":"IF(NRRs!AS59<$B$66,'Spearman.Correlations'!AS59,0)","v":0},{"$f":"IF(NRRs!AT59<$B$66,'Spearman.Correlations'!AT59,0)","v":0},{"$f":"IF(NRRs!AU59<$B$66,'Spearman.Correlations'!AU59,0)","v":0},{"$f":"IF(NRRs!AV59<$B$66,'Spearman.Correlations'!AV59,0)","v":0},{"$f":"IF(NRRs!AW59<$B$66,'Spearman.Correlations'!AW59,0)","v":0},{"$f":"IF(NRRs!AX59<$B$66,'Spearman.Correlations'!AX59,0)","v":0.308681381707556},{"$f":"IF(NRRs!AY59<$B$66,'Spearman.Correlations'!AY59,0)","v":0},{"$f":"IF(NRRs!AZ59<$B$66,'Spearman.Correlations'!AZ59,0)","v":0.289645839832434},{"$f":"IF(NRRs!BA59<$B$66,'Spearman.Correlations'!BA59,0)","v":0.345333392258924},{"$f":"IF(NRRs!BB59<$B$66,'Spearman.Correlations'!BB59,0)","v":0.364265742062086},{"$f":"IF(NRRs!BC59<$B$66,'Spearman.Correlations'!BC59,0)","v":0.379146951780568},{"$f":"IF(NRRs!BD59<$B$66,'Spearman.Correlations'!BD59,0)","v":0.452216147364359},{"$f":"IF(NRRs!BE59<$B$66,'Spearman.Correlations'!BE59,0)","v":0},{"$f":"IF(NRRs!BF59<$B$66,'Spearman.Correlations'!BF59,0)","v":0.729392477347165},{"$f":"IF(NRRs!BG59<$B$66,'Spearman.Correlations'!BG59,0)","v":0},{"$f":"IF(NRRs!BH59<$B$66,'Spearman.Correlations'!BH59,0)","v":0}]
["AST.ALT.Ratio",{"$f":"IF(NRRs!B60<$B$66,'Spearman.Correlations'!B60,0)","v":0},{"$f":"IF(NRRs!C60<$B$66,'Spearman.Correlations'!C60,0)","v":0},{"$f":"IF(NRRs!D60<$B$66,'Spearman.Correlations'!D60,0)","v":0},{"$f":"IF(NRRs!E60<$B$66,'Spearman.Correlations'!E60,0)","v":0},{"$f":"IF(NRRs!F60<$B$66,'Spearman.Correlations'!F60,0)","v":0},{"$f":"IF(NRRs!G60<$B$66,'Spearman.Correlations'!G60,0)","v":0},{"$f":"IF(NRRs!H60<$B$66,'Spearman.Correlations'!H60,0)","v":0.189261204777671},{"$f":"IF(NRRs!I60<$B$66,'Spearman.Correlations'!I60,0)","v":0},{"$f":"IF(NRRs!J60<$B$66,'Spearman.Correlations'!J60,0)","v":0},{"$f":"IF(NRRs!K60<$B$66,'Spearman.Correlations'!K60,0)","v":0},{"$f":"IF(NRRs!L60<$B$66,'Spearman.Correlations'!L60,0)","v":0},{"$f":"IF(NRRs!M60<$B$66,'Spearman.Correlations'!M60,0)","v":0},{"$f":"IF(NRRs!N60<$B$66,'Spearman.Correlations'!N60,0)","v":0},{"$f":"IF(NRRs!O60<$B$66,'Spearman.Correlations'!O60,0)","v":0},{"$f":"IF(NRRs!P60<$B$66,'Spearman.Correlations'!P60,0)","v":0},{"$f":"IF(NRRs!Q60<$B$66,'Spearman.Correlations'!Q60,0)","v":0},{"$f":"IF(NRRs!R60<$B$66,'Spearman.Correlations'!R60,0)","v":0},{"$f":"IF(NRRs!S60<$B$66,'Spearman.Correlations'!S60,0)","v":0},{"$f":"IF(NRRs!T60<$B$66,'Spearman.Correlations'!T60,0)","v":0},{"$f":"IF(NRRs!U60<$B$66,'Spearman.Correlations'!U60,0)","v":0},{"$f":"IF(NRRs!V60<$B$66,'Spearman.Correlations'!V60,0)","v":0},{"$f":"IF(NRRs!W60<$B$66,'Spearman.Correlations'!W60,0)","v":0},{"$f":"IF(NRRs!X60<$B$66,'Spearman.Correlations'!X60,0)","v":0},{"$f":"IF(NRRs!Y60<$B$66,'Spearman.Correlations'!Y60,0)","v":0},{"$f":"IF(NRRs!Z60<$B$66,'Spearman.Correlations'!Z60,0)","v":0},{"$f":"IF(NRRs!AA60<$B$66,'Spearman.Correlations'!AA60,0)","v":0},{"$f":"IF(NRRs!AB60<$B$66,'Spearman.Correlations'!AB60,0)","v":0},{"$f":"IF(NRRs!AC60<$B$66,'Spearman.Correlations'!AC60,0)","v":0},{"$f":"IF(NRRs!AD60<$B$66,'Spearman.Correlations'!AD60,0)","v":-0.186501238436716},{"$f":"IF(NRRs!AE60<$B$66,'Spearman.Correlations'!AE60,0)","v":0},{"$f":"IF(NRRs!AF60<$B$66,'Spearman.Correlations'!AF60,0)","v":-0.135304870904716},{"$f":"IF(NRRs!AG60<$B$66,'Spearman.Correlations'!AG60,0)","v":0},{"$f":"IF(NRRs!AH60<$B$66,'Spearman.Correlations'!AH60,0)","v":0},{"$f":"IF(NRRs!AI60<$B$66,'Spearman.Correlations'!AI60,0)","v":0},{"$f":"IF(NRRs!AJ60<$B$66,'Spearman.Correlations'!AJ60,0)","v":0},{"$f":"IF(NRRs!AK60<$B$66,'Spearman.Correlations'!AK60,0)","v":0},{"$f":"IF(NRRs!AL60<$B$66,'Spearman.Correlations'!AL60,0)","v":0},{"$f":"IF(NRRs!AM60<$B$66,'Spearman.Correlations'!AM60,0)","v":0},{"$f":"IF(NRRs!AN60<$B$66,'Spearman.Correlations'!AN60,0)","v":0},{"$f":"IF(NRRs!AO60<$B$66,'Spearman.Correlations'!AO60,0)","v":0},{"$f":"IF(NRRs!AP60<$B$66,'Spearman.Correlations'!AP60,0)","v":0},{"$f":"IF(NRRs!AQ60<$B$66,'Spearman.Correlations'!AQ60,0)","v":0},{"$f":"IF(NRRs!AR60<$B$66,'Spearman.Correlations'!AR60,0)","v":0},{"$f":"IF(NRRs!AS60<$B$66,'Spearman.Correlations'!AS60,0)","v":0},{"$f":"IF(NRRs!AT60<$B$66,'Spearman.Correlations'!AT60,0)","v":0},{"$f":"IF(NRRs!AU60<$B$66,'Spearman.Correlations'!AU60,0)","v":-0.310101351628727},{"$f":"IF(NRRs!AV60<$B$66,'Spearman.Correlations'!AV60,0)","v":0.405894919967219},{"$f":"IF(NRRs!AW60<$B$66,'Spearman.Correlations'!AW60,0)","v":0.184498090857032},{"$f":"IF(NRRs!AX60<$B$66,'Spearman.Correlations'!AX60,0)","v":0},{"$f":"IF(NRRs!AY60<$B$66,'Spearman.Correlations'!AY60,0)","v":0.253161950933678},{"$f":"IF(NRRs!AZ60<$B$66,'Spearman.Correlations'!AZ60,0)","v":-0.1590501611717},{"$f":"IF(NRRs!BA60<$B$66,'Spearman.Correlations'!BA60,0)","v":0},{"$f":"IF(NRRs!BB60<$B$66,'Spearman.Correlations'!BB60,0)","v":0},{"$f":"IF(NRRs!BC60<$B$66,'Spearman.Correlations'!BC60,0)","v":0.245810486866802},{"$f":"IF(NRRs!BD60<$B$66,'Spearman.Correlations'!BD60,0)","v":0},{"$f":"IF(NRRs!BE60<$B$66,'Spearman.Correlations'!BE60,0)","v":0},{"$f":"IF(NRRs!BF60<$B$66,'Spearman.Correlations'!BF60,0)","v":-0.603502988091771},{"$f":"IF(NRRs!BG60<$B$66,'Spearman.Correlations'!BG60,0)","v":0},{"$f":"IF(NRRs!BH60<$B$66,'Spearman.Correlations'!BH60,0)","v":0}]
["Connections to clinical variables",{"$f":"COUNTIFS(B47:B60,\"<>0\")","v":0},{"$f":"COUNTIFS(C47:C60,\"<>0\")","v":1},{"$f":"COUNTIFS(D47:D60,\"<>0\")","v":0},{"$f":"COUNTIFS(E47:E60,\"<>0\")","v":9},{"$f":"COUNTIFS(F47:F60,\"<>0\")","v":0},{"$f":"COUNTIFS(G47:G60,\"<>0\")","v":6},{"$f":"COUNTIFS(H47:H60,\"<>0\")","v":4},{"$f":"COUNTIFS(I47:I60,\"<>0\")","v":4},{"$f":"COUNTIFS(J47:J60,\"<>0\")","v":2},{"$f":"COUNTIFS(K47:K60,\"<>0\")","v":0},{"$f":"COUNTIFS(L47:L60,\"<>0\")","v":1},{"$f":"COUNTIFS(M47:M60,\"<>0\")","v":2},{"$f":"COUNTIFS(N47:N60,\"<>0\")","v":0},{"$f":"COUNTIFS(O47:O60,\"<>0\")","v":0},{"$f":"COUNTIFS(P47:P60,\"<>0\")","v":0},{"$f":"COUNTIFS(Q47:Q60,\"<>0\")","v":5},{"$f":"COUNTIFS(R47:R60,\"<>0\")","v":3},{"$f":"COUNTIFS(S47:S60,\"<>0\")","v":2},{"$f":"COUNTIFS(T47:T60,\"<>0\")","v":2},{"$f":"COUNTIFS(U47:U60,\"<>0\")","v":0},{"$f":"COUNTIFS(V47:V60,\"<>0\")","v":0},{"$f":"COUNTIFS(W47:W60,\"<>0\")","v":0},{"$f":"COUNTIFS(X47:X60,\"<>0\")","v":3},{"$f":"COUNTIFS(Y47:Y60,\"<>0\")","v":1},{"$f":"COUNTIFS(Z47:Z60,\"<>0\")","v":4},{"$f":"COUNTIFS(AA47:AA60,\"<>0\")","v":0},{"$f":"COUNTIFS(AB47:AB60,\"<>0\")","v":0},{"$f":"COUNTIFS(AC47:AC60,\"<>0\")","v":1},{"$f":"COUNTIFS(AD47:AD60,\"<>0\")","v":2},{"$f":"COUNTIFS(AE47:AE60,\"<>0\")","v":2},{"$f":"COUNTIFS(AF47:AF60,\"<>0\")","v":2},{"$f":"COUNTIFS(AG47:AG60,\"<>0\")","v":0},{"$f":"COUNTIFS(AH47:AH60,\"<>0\")","v":0},{"$f":"COUNTIFS(AI47:AI60,\"<>0\")","v":0},{"$f":"COUNTIFS(AJ47:AJ60,\"<>0\")","v":1},{"$f":"COUNTIFS(AK47:AK60,\"<>0\")","v":0},{"$f":"COUNTIFS(AL47:AL60,\"<>0\")","v":0},{"$f":"COUNTIFS(AM47:AM60,\"<>0\")","v":1},{"$f":"COUNTIFS(AN47:AN60,\"<>0\")","v":1},{"$f":"COUNTIFS(AO47:AO60,\"<>0\")","v":2},{"$f":"COUNTIFS(AP47:AP60,\"<>0\")","v":0},{"$f":"COUNTIFS(AQ47:AQ60,\"<>0\")","v":3},{"$f":"COUNTIFS(AR47:AR60,\"<>0\")","v":3},{"$f":"COUNTIFS(AS47:AS60,\"<>0\")","v":0},{"$f":"COUNTIFS(AT47:AT60,\"<>0\")","v":1},{"$f":"COUNTIFS(AU47:AU60,\"<>0\")","v":5},{"$f":"COUNTIFS(AV47:AV60,\"<>0\")","v":9},{"$f":"COUNTIFS(AW47:AW60,\"<>0\")","v":7},{"$f":"COUNTIFS(AX47:AX60,\"<>0\")","v":9},{"$f":"COUNTIFS(AY47:AY60,\"<>0\")","v":7},{"$f":"COUNTIFS(AZ47:AZ60,\"<>0\")","v":8},{"$f":"COUNTIFS(BA47:BA60,\"<>0\")","v":9},{"$f":"COUNTIFS(BB47:BB60,\"<>0\")","v":7},{"$f":"COUNTIFS(BC47:BC60,\"<>0\")","v":11},{"$f":"COUNTIFS(BD47:BD60,\"<>0\")","v":8},{"$f":"COUNTIFS(BE47:BE60,\"<>0\")","v":3},{"$f":"COUNTIFS(BF47:BF60,\"<>0\")","v":7},{"$f":"COUNTIFS(BG47:BG60,\"<>0\")","v":7},{"$f":"COUNTIFS(BH47:BH60,\"<>0\")","v":7}]
["Connections to metabolites",{"$f":"COUNTIFS(B11:B46,\"<>0\")","v":13},{"$f":"COUNTIFS(C11:C46,\"<>0\")","v":4},{"$f":"COUNTIFS(D11:D46,\"<>0\")","v":11},{"$f":"COUNTIFS(E11:E46,\"<>0\")","v":9},{"$f":"COUNTIFS(F11:F46,\"<>0\")","v":2},{"$f":"COUNTIFS(G11:G46,\"<>0\")","v":3},{"$f":"COUNTIFS(H11:H46,\"<>0\")","v":11},{"$f":"COUNTIFS(I11:I46,\"<>0\")","v":2},{"$f":"COUNTIFS(J11:J46,\"<>0\")","v":12},{"$f":"COUNTIFS(K11:K46,\"<>0\")","v":10},{"$f":"COUNTIFS(L11:L46,\"<>0\")","v":5},{"$f":"COUNTIFS(M11:M46,\"<>0\")","v":4},{"$f":"COUNTIFS(N11:N46,\"<>0\")","v":3},{"$f":"COUNTIFS(O11:O46,\"<>0\")","v":14},{"$f":"COUNTIFS(P11:P46,\"<>0\")","v":11},{"$f":"COUNTIFS(Q11:Q46,\"<>0\")","v":16},{"$f":"COUNTIFS(R11:R46,\"<>0\")","v":16},{"$f":"COUNTIFS(S11:S46,\"<>0\")","v":9},{"$f":"COUNTIFS(T11:T46,\"<>0\")","v":11},{"$f":"COUNTIFS(U11:U46,\"<>0\")","v":12},{"$f":"COUNTIFS(V11:V46,\"<>0\")","v":11},{"$f":"COUNTIFS(W11:W46,\"<>0\")","v":17},{"$f":"COUNTIFS(X11:X46,\"<>0\")","v":13},{"$f":"COUNTIFS(Y11:Y46,\"<>0\")","v":9},{"$f":"COUNTIFS(Z11:Z46,\"<>0\")","v":14},{"$f":"COUNTIFS(AA11:AA46,\"<>0\")","v":13},{"$f":"COUNTIFS(AB11:AB46,\"<>0\")","v":4},{"$f":"COUNTIFS(AC11:AC46,\"<>0\")","v":11},{"$f":"COUNTIFS(AD11:AD46,\"<>0\")","v":17},{"$f":"COUNTIFS(AE11:AE46,\"<>0\")","v":11},{"$f":"COUNTIFS(AF11:AF46,\"<>0\")","v":11},{"$f":"COUNTIFS(AG11:AG46,\"<>0\")","v":8},{"$f":"COUNTIFS(AH11:AH46,\"<>0\")","v":11},{"$f":"COUNTIFS(AI11:AI46,\"<>0\")","v":17},{"$f":"COUNTIFS(AJ11:AJ46,\"<>0\")","v":19},{"$f":"COUNTIFS(AK11:AK46,\"<>0\")","v":5},{"$f":"COUNTIFS(AL11:AL46,\"<>0\")","v":11},{"$f":"COUNTIFS(AM11:AM46,\"<>0\")","v":18},{"$f":"COUNTIFS(AN11:AN46,\"<>0\")","v":17},{"$f":"COUNTIFS(AO11:AO46,\"<>0\")","v":20},{"$f":"COUNTIFS(AP11:AP46,\"<>0\")","v":13},{"$f":"COUNTIFS(AQ11:AQ46,\"<>0\")","v":12},{"$f":"COUNTIFS(AR11:AR46,\"<>0\")","v":15},{"$f":"COUNTIFS(AS11:AS46,\"<>0\")","v":8},{"$f":"COUNTIFS(AT11:AT46,\"<>0\")","v":4},{"$f":"COUNTIFS(AU11:AU46,\"<>0\")","v":7},{"$f":"COUNTIFS(AV11:AV46,\"<>0\")","v":4},{"$f":"COUNTIFS(AW11:AW46,\"<>0\")","v":7},{"$f":"COUNTIFS(AX11:AX46,\"<>0\")","v":1},{"$f":"COUNTIFS(AY11:AY46,\"<>0\")","v":6},{"$f":"COUNTIFS(AZ11:AZ46,\"<>0\")","v":2},{"$f":"COUNTIFS(BA11:BA46,\"<>0\")","v":2},{"$f":"COUNTIFS(BB11:BB46,\"<>0\")","v":0},{"$f":"COUNTIFS(BC11:BC46,\"<>0\")","v":2},{"$f":"COUNTIFS(BD11:BD46,\"<>0\")","v":1},{"$f":"COUNTIFS(BE11:BE46,\"<>0\")","v":3},{"$f":"COUNTIFS(BF11:BF46,\"<>0\")","v":3},{"$f":"COUNTIFS(BG11:BG46,\"<>0\")","v":2},{"$f":"COUNTIFS(BH11:BH46,\"<>0\")","v":2}]
["Connections to LCs",{"$f":"COUNTIFS(B2:B10,\"<>0\")","v":7},{"$f":"COUNTIFS(C2:C10,\"<>0\")","v":8},{"$f":"COUNTIFS(D2:D10,\"<>0\")","v":7},{"$f":"COUNTIFS(E2:E10,\"<>0\")","v":4},{"$f":"COUNTIFS(F2:F10,\"<>0\")","v":8},{"$f":"COUNTIFS(G2:G10,\"<>0\")","v":8},{"$f":"COUNTIFS(H2:H10,\"<>0\")","v":7},{"$f":"COUNTIFS(I2:I10,\"<>0\")","v":8},{"$f":"COUNTIFS(J2:J10,\"<>0\")","v":7},{"$f":"COUNTIFS(K2:K10,\"<>0\")","v":0},{"$f":"COUNTIFS(L2:L10,\"<>0\")","v":2},{"$f":"COUNTIFS(M2:M10,\"<>0\")","v":1},{"$f":"COUNTIFS(N2:N10,\"<>0\")","v":4},{"$f":"COUNTIFS(O2:O10,\"<>0\")","v":1},{"$f":"COUNTIFS(P2:P10,\"<>0\")","v":2},{"$f":"COUNTIFS(Q2:Q10,\"<>0\")","v":3},{"$f":"COUNTIFS(R2:R10,\"<>0\")","v":5},{"$f":"COUNTIFS(S2:S10,\"<>0\")","v":1},{"$f":"COUNTIFS(T2:T10,\"<>0\")","v":2},{"$f":"COUNTIFS(U2:U10,\"<>0\")","v":0},{"$f":"COUNTIFS(V2:V10,\"<>0\")","v":0},{"$f":"COUNTIFS(W2:W10,\"<>0\")","v":0},{"$f":"COUNTIFS(X2:X10,\"<>0\")","v":6},{"$f":"COUNTIFS(Y2:Y10,\"<>0\")","v":0},{"$f":"COUNTIFS(Z2:Z10,\"<>0\")","v":3},{"$f":"COUNTIFS(AA2:AA10,\"<>0\")","v":5},{"$f":"COUNTIFS(AB2:AB10,\"<>0\")","v":6},{"$f":"COUNTIFS(AC2:AC10,\"<>0\")","v":0},{"$f":"COUNTIFS(AD2:AD10,\"<>0\")","v":3},{"$f":"COUNTIFS(AE2:AE10,\"<>0\")","v":0},{"$f":"COUNTIFS(AF2:AF10,\"<>0\")","v":0},{"$f":"COUNTIFS(AG2:AG10,\"<>0\")","v":1},{"$f":"COUNTIFS(AH2:AH10,\"<>0\")","v":3},{"$f":"COUNTIFS(AI2:AI10,\"<>0\")","v":0},{"$f":"COUNTIFS(AJ2:AJ10,\"<>0\")","v":0},{"$f":"COUNTIFS(AK2:AK10,\"<>0\")","v":0},{"$f":"COUNTIFS(AL2:AL10,\"<>0\")","v":1},{"$f":"COUNTIFS(AM2:AM10,\"<>0\")","v":5},{"$f":"COUNTIFS(AN2:AN10,\"<>0\")","v":0},{"$f":"COUNTIFS(AO2:AO10,\"<>0\")","v":1},{"$f":"COUNTIFS(AP2:AP10,\"<>0\")","v":0},{"$f":"COUNTIFS(AQ2:AQ10,\"<>0\")","v":3},{"$f":"COUNTIFS(AR2:AR10,\"<>0\")","v":2},{"$f":"COUNTIFS(AS2:AS10,\"<>0\")","v":3},{"$f":"COUNTIFS(AT2:AT10,\"<>0\")","v":4},{"$f":"COUNTIFS(AU2:AU10,\"<>0\")","v":3},{"$f":"COUNTIFS(AV2:AV10,\"<>0\")","v":2},{"$f":"COUNTIFS(AW2:AW10,\"<>0\")","v":1},{"$f":"COUNTIFS(AX2:AX10,\"<>0\")","v":2},{"$f":"COUNTIFS(AY2:AY10,\"<>0\")","v":5},{"$f":"COUNTIFS(AZ2:AZ10,\"<>0\")","v":1},{"$f":"COUNTIFS(BA2:BA10,\"<>0\")","v":2},{"$f":"COUNTIFS(BB2:BB10,\"<>0\")","v":2},{"$f":"COUNTIFS(BC2:BC10,\"<>0\")","v":3},{"$f":"COUNTIFS(BD2:BD10,\"<>0\")","v":2},{"$f":"COUNTIFS(BE2:BE10,\"<>0\")","v":1},{"$f":"COUNTIFS(BF2:BF10,\"<>0\")","v":0},{"$f":"COUNTIFS(BG2:BG10,\"<>0\")","v":1},{"$f":"COUNTIFS(BH2:BH10,\"<>0\")","v":1}]
["Variable","LC1","LC2","LC3","LC4","LC5","LC6","LC7","LC8","LC9","2-OH-Butanoic Acid","3-OH-Benzoic Acid ","3-OH-Butanoic Acid ","5-OH-1H-Indole-3-Acetic Acid ","Alanine","Arachidonic acid ","Asparagine ","Aspartic Acid ","Cholesterol ","Citric acid ","Decanoic acid ","Fructose ","Fumaric Acid ","Glutamic Acid ","Glutamine ","Glycerol-3-P ","Glycine ","Indole-3-Latic Acid ","Indole-3-Propionic Acid ","Isoleucine ","Lactic Acid","Leucine ","Linoleic Acid ","Lysine ","Malic Acid ","Methionine ","Oleic Acid ","Palmitic Acid ","Phenylalanine ","Proline ","Serine ","Stearic Acid ","Succinic Acid ","Threonine ","Tyrosine ","Valine ","Sex","Age","BMI","NAFLD.Category","T2DM","Steatosis","Ballooning","Inflammation","Fibrosis","NAS","Platelets","ALT","AST","AST.ALT.Ratio"]
[]
["NRR Threshold",0.4]